{"text_format":"1","workbook":"xlsx","n_sheets":4,"sheets":["README","Q_d","Denali_distance","TUXE_distance"],"not_rendered":{"charts":0,"images":1,"macros":1,"external_links":0,"defined_names":4,"comments":0,"pivot_tables":0},"unopened":[],"bounds":{"document_bytes":16777216,"sheet_cells":100000,"rows_first":2000,"rows_last":500,"rows_between":2000,"halvings":0,"cell_chars":16384,"cell_head_chars":4096},"cells_cut":0,"cells_raw":0,"read":"whole","date_system":"1900"}

{"sheet":"README","index":0,"n_rows":24,"n_cols":3,"rows_kept":24,"cut":false,"hidden":false,"merged":[[9,2,10,2],[0,0,0,2],[3,1,3,2],[2,1,2,2],[6,1,6,2],[5,1,5,2]]}
["Q/d Analysis"]
["Version ","Draft (July 13, 2021)"]
["Objective","This screening tool uses Q/d to identify potential sources that may affect visibility at Alaska Class I areas. Q/d is the ratio of the sum of annual emissions (in tons per year, tpy, based on potential to emit (PTE) for new facility or actual operating emissions for existing facility) of PM10, SO2, and NOx from the source to the distance (in kilometers, km) to the nearest boundary of the Class I area. A facility with Q/d exceeding an approval threshold, currently set at 10 tpy/km, may be subject to reporting and permit application. "]
["Background","The Regional Haze Rule requires Alaska to submit a 10-15 year long-term strategy (LTS) to address regional haze visibility impairment in each Class I area in Alaska. To assist the state’s efforts in establishing the LTS and to track and control current and potential new sources that may affect visibility in the Class I areas, ADEC is proposing to establish a Regional Haze Visibility Protection Area (VPA). Emitting sources within the VPA would be subject to reporting and permit application requirements to be set by the state."]
[null,null,"Class I Areas\n\nVPA is proposed for Denali National Park and Preserve and Tuxedni National Wildlife Refuge Class I areas. There is no air monitoring being conducted for the Bering Sea Wilderness Area due to its remote location and its inaccessibility. VPA is not established for the Simenof Wilderness Area due to large visibility contributions from natural sources and commercial marine emissions that are being addressed through different measures. \n "]
["Who should use this tool?","All facilities or sources located within the VPA"]
["How to use this tool?","Fill in User Input section in Tab Q_d. [Make sure to enable \"Analysis ToolPak - VBA\" in File -> Options -> Add-ins]\nThe results are populated automatically. Submit this page to ADEC.\n"]
[]
[null,"Field","Description"]
["User Input","Facility Name","Facility Information, for informational propose only\n"]
[null,"Facility ID"]
[null,"Facility State","Alaska"]
[null,"SIC","Standard Industrial Classification, for informational propose only"]
[null,"Facility Latitude","Latitude of the facility in decimal degrees"]
[null,"Facility Longitude ","Longitude of the facility in decimal degrees"]
[null,"Is this an existing facility/operation? ","Indicate whether the facility is an existing operation"]
[null,"NOx Emissions ","NOX emissions at specified facility in tons per year"]
[null,"SO2 Emissions ","SO2 emissions at specified facility in tons per year"]
[null,"PM10 Emissions","PM10 emissions at specified facility in tons per year"]
["Results","Distance to Class I Area","Shortest distance between Facility and Class I Area boundary in kilometers. "]
[null,"Q/d_NOx","Q/d_NOx divided by d_km"]
[null,"Q/d_SO2","Q/d_SO2 divided by d_km"]
[null,"Q/d_PM10","Q/d_PM10 divided by d_km"]
[null,"Q/d","Q_all_tpy divided by d_km"]

{"sheet":"Q_d","index":1,"n_rows":37,"n_cols":4,"rows_kept":37,"cut":false,"hidden":false,"merged":[[0,1,0,3],[1,1,1,3],[33,1,33,3],[10,2,10,3],[11,2,11,3],[18,1,18,3],[20,1,20,3],[26,1,26,3],[5,1,5,3],[8,2,8,3],[9,2,9,3],[6,2,6,3],[7,2,7,3],[34,1,34,3],[35,2,35,3],[36,2,36,3],[2,2,2,3],[3,2,3,3],[12,2,12,3],[13,1,13,3]]}
[null,"Q/D Analysis"]
[null,"Alaska Class I Areas"]
[null,"Completed by"]
[null,"Date"]
[]
[null,"User Inputs"]
[null,"Facility Name"]
[null,"Facility ID"]
[null,"Facility State","Alaska"]
[null,"Source Industrial Classification (SIC)"]
[null,"Facility Latitude (Latitude of the facility in decimal degrees)"]
[null,"Facility Longitude (Longitude of the facility in decimal degrees)"]
[null,"Is this an existing facility/operation? "]
[null,{"$f":"IF($C$13=\"Y\",\"Enter below actual operating emissions in tons per year\",\"Enter below potential to emit (PTE) in tons per year\")","v":"Enter below potential to emit (PTE) in tons per year"}]
[null,"NOx Emissions (NOx emissions at the facility in tons per year)",null,"tpy"]
[null,"SO2 Emissions (SO2 emissions at the facility in tons per year)",null,"tpy"]
[null,"PM10 Emissions (PM10 emissions at the facility in tons per year)",null,"tpy"]
[]
[null,"Results [ Do not modify ] "]
[null,"Q/D Threshold",10,"tpy/km"]
[null,"Denali NP and Wilderness"]
[null,"Distance to Class I Area",{"$f":"IF(OR($C$11=\"\",$C$12=\"\"),\" \",MIN(Denali_distance!J3:J14903))","v":" "},"km"]
[null,"Q/D NOx (NOx emissions divided by distance)",{"$f":"IF($C$22=\" \", \" \", $C$15/$C$22)","v":" "},"tpy/km"]
[null,"Q/D SO2 (SO2 emissions divided by distance)",{"$f":"IF($C$22=\" \", \" \", C16/$C$22)","v":" "},"tpy/km"]
[null,"Q/D PM10 (PM10 emissions divided by distance)",{"$f":"IF($C$22=\" \", \" \", C17/$C$22)","v":" "},"tpy/km"]
[null,"Q/D NOx+SO2+PM10 (all emissions divided by distance)",{"$f":"IF($C$22=\" \", \" \", SUM(C15:C17)/C$22)","v":" "},"tpy/km"]
[null,"Tuxedni Wilderness"]
[null,"Distance to Class I Area",{"$f":"IF(OR($C$11=\"\",$C$12=\"\"),\" \",MIN(TUXE_distance!J3:J96))","v":" "},"km"]
[null,"Q/D NOx (NOx emissions divided by distance)",{"$f":"IF($C$28=\" \", \" \",C15/$C$28)","v":" "},"tpy/km"]
[null,"Q/D SO2 (SO2 emissions divided by distance)",{"$f":"IF($C$28=\" \", \" \",C16/$C$28)","v":" "},"tpy/km"]
[null,"Q/D PM10 (PM10 emissions divided by distance)",{"$f":"IF($C$28=\" \", \" \",C17/$C$28)","v":" "},"tpy/km"]
[null,"Q/D NOx+SO2+PM10 (all emissions divided by distance)",{"$f":"IF($C$28=\" \", \" \",SUM(C15:C17)/C28)","v":" "},"tpy/km"]
[]
[null,"Summary"]
[null,{"$f":"\"Q/D within the approval threshold of \"&C20&\" tpy/km\"","v":"Q/D within the approval threshold of 10 tpy/km"}]
[null,"Denali NP and Wilderness",{"$f":"IF(C22=\" \",\" \",IF(MAX(C23:C26)<=$C$20,\"Yes\",\"No\"))","v":" "}]
[null,"Tuxedni Wilderness",{"$f":"IF(C28=\" \",\" \",IF(MAX(C29:C32)<=C20,\"Yes\",\"No\"))","v":" "}]

{"sheet":"Denali_distance","index":2,"n_rows":14903,"n_cols":12,"rows_kept":4500,"cut":true,"hidden":true,"merged":[],"bounds":{"rows_first":2000,"rows_last":500,"rows_between":2000,"halvings":0}}
["Denali"]
["Boundary_pt","Lat","Lon","lcpx","lcpy","facility_lat","facility_lon","facility_x","facility_y","distance","dist_xy","Difference"]
[1,62.466509969400001,-151.151805045999,{"$f":"lcpx(B3,C3,63,-115,70,60)","v":-1753.2582375770821},{"$f":"lcpy(B3,C3,63,-115,70,60)","v":456.98735505494233},{"$f":"Q_d!$C$11","v":0},{"$f":"Q_d!$C$12","v":0},{"$f":"lcpx(F3,G3,63,-115,70,60)","v":11233.589832572825},{"$f":"lcpy(F3,G3,63,-115,70,60)","v":6052.604465817868},{"$f":"SQRT((H3-D3)^2+(I3-E3)^2)","v":14141.044998422825},324.53043204297398,{"$f":"K3-J3","v":-13816.514566379852}]
[2,62.466509969000001,-151.154995528,-1753.3956734401354,457.07595426546322,{"$f":"Q_d!$C$11","v":0},{"$f":"Q_d!$C$12","v":0},{"$f":"lcpx(F4,G4,63,-115,70,60)","v":11233.589832572825},{"$f":"lcpy(F4,G4,63,-115,70,60)","v":6052.604465817868},{"$f":"SQRT((H4-D4)^2+(I4-E4)^2)","v":14141.136158632607},324.565429158744,{"$f":"K4-J4","v":-13816.570729473864}]
[3,62.466509968099899,-151.158995527,-1753.5679744309441,457.18704341694547,{"$f":"Q_d!$C$11","v":0},{"$f":"Q_d!$C$12","v":0},11233.589832572825,6052.604465817868,14141.250440994485,324.61055565400198,-13816.639885340483]
[4,62.4665099686,-151.162995526999,-1753.7402683424189,457.29814364229651,{"$f":"Q_d!$C$11","v":0},{"$f":"Q_d!$C$12","v":0},11233.589832572825,6052.604465817868,14141.364714521616,324.65521390083899,-13816.709500620778]
[5,62.466509966899899,-151.166995528,-1753.912555390328,457.40925460568496,{"$f":"Q_d!$C$11","v":0},{"$f":"Q_d!$C$12","v":0},11233.589832572825,6052.604465817868,14141.478979545258,324.69999506313502,-13816.778984482124]
[6,62.466509966499899,-151.170995527999,-1754.084835277338,457.52037657714391,{"$f":"Q_d!$C$11","v":0},{"$f":"Q_d!$C$12","v":0},11233.589832572825,6052.604465817868,14141.593235685699,324.74489909003898,-13816.84833659566]
[7,62.466509966499899,-151.174995526999,-1754.2571080569687,457.63150947243003,{"$f":"Q_d!$C$11","v":0},{"$f":"Q_d!$C$12","v":0},11233.589832572825,6052.604465817868,14141.707483025644,324.789582075841,-13816.917900949804]
[8,62.468949388699897,-151.15181522699899,-1753.112138245916,457.21496103045001,{"$f":"Q_d!$C$11","v":0},{"$f":"Q_d!$C$12","v":0},11233.589832572825,6052.604465817868,14140.820760802837,324.79400740931101,-13816.026753393526]
[9,62.466509965199897,-151.178995525999,-1754.4293738737388,457.74265316046967,{"$f":"Q_d!$C$11","v":0},{"$f":"Q_d!$C$12","v":0},11233.589832572825,6052.604465817868,14141.821721749882,324.83473225626602,-13816.986989493616]
[10,62.466509964799897,-151.182995527,-1754.6016326808929,457.85380790138606,{"$f":"Q_d!$C$11","v":0},{"$f":"Q_d!$C$12","v":0},11233.589832572825,6052.604465817868,14141.93595171278,324.88000514805401,-13817.055946564726]
[11,62.466509964399897,-151.184575886999,-1754.6696884696889,457.89772700198182,{"$f":"Q_d!$C$11","v":0},{"$f":"Q_d!$C$12","v":0},11233.589832572825,6052.604465817868,14141.981080432239,324.89804681622797,-13817.083033616011]
[12,62.466509964399897,-151.18857588700001,-1754.8419373847755,458.0088969768376,{"$f":"Q_d!$C$11","v":0},{"$f":"Q_d!$C$12","v":0},11233.589832572825,6052.604465817868,14142.095298142338,324.94349087187402,-13817.151807270464]
[13,62.466509962700002,-151.19257588599899,-1755.0141793155756,458.12007767785144,{"$f":"Q_d!$C$11","v":0},{"$f":"Q_d!$C$12","v":0},11233.589832572825,6052.604465817868,14142.209507244115,324.989656150776,-13817.219851093339]
[14,62.466509961900002,-151.19657588800001,-1755.1864142774964,458.23126945805507,{"$f":"Q_d!$C$11","v":0},{"$f":"Q_d!$C$12","v":0},11233.589832572825,6052.604465817868,14142.323707612275,325.035346117926,-13817.288361494349]
[15,62.466509961500002,-151.200575888,-1755.3586420844672,458.34247213136086,{"$f":"Q_d!$C$11","v":0},{"$f":"Q_d!$C$12","v":0},11233.589832572825,6052.604465817868,14142.437899149754,325.081158569671,-13817.356740580084]
[16,62.466509960700002,-151.204575887,-1755.5308628270184,458.45368565062472,{"$f":"Q_d!$C$11","v":0},{"$f":"Q_d!$C$12","v":0},11233.589832572825,6052.604465817868,14142.552081958554,325.12709345423599,-13817.424988504319]
[17,62.466509961500002,-151.208575886999,-1755.7030764702238,458.56491025725109,{"$f":"Q_d!$C$11","v":0},{"$f":"Q_d!$C$12","v":0},11233.589832572825,6052.604465817868,14142.666255911325,325.172811717093,-13817.493444194231]
[18,62.466509960700002,-151.212575885999,-1755.8752831198567,458.67614559720369,{"$f":"Q_d!$C$11","v":0},{"$f":"Q_d!$C$12","v":0},11233.589832572825,6052.604465817868,14142.780421245459,325.21993288234899,-13817.560488363109]
[19,62.472949352100002,-151.15183192200001,-1752.8725768132895,457.58816997501162,{"$f":"Q_d!$C$11","v":0},{"$f":"Q_d!$C$12","v":0},11233.589832572825,6052.604465817868,14140.453078354516,325.228100859996,-13815.224977494519]
[20,62.4665099594,-151.21576637000001,-1756.0126337817635,458.76487702214081,{"$f":"Q_d!$C$11","v":0},{"$f":"Q_d!$C$12","v":0},11233.589832572825,6052.604465817868,14142.871475733051,325.25641507739698,-13817.615060655653]
[21,62.4665099586,-151.21976636900001,-1756.1848277621866,458.87613197324117,{"$f":"Q_d!$C$11","v":0},{"$f":"Q_d!$C$12","v":0},11233.589832572825,6052.604465817868,14142.985625359934,325.30375637087201,-13817.681868989062]
[22,62.4665099574,-151.223766369,-1756.3570147609921,458.9873978237847,{"$f":"Q_d!$C$11","v":0},{"$f":"Q_d!$C$12","v":0},11233.589832572825,6052.604465817868,14143.099766314048,325.349941879509,-13817.749824434539]
[23,62.466509956899898,-151.22776637000001,-1756.5291947112983,459.09867467575623,{"$f":"Q_d!$C$11","v":0},{"$f":"Q_d!$C$12","v":0},11233.589832572825,6052.604465817868,14143.213898493841,325.396586902813,-13817.817311591029]
[24,62.466509956499898,-151.231766367999,-1756.7013674762827,459.20996236153815,{"$f":"Q_d!$C$11","v":0},{"$f":"Q_d!$C$12","v":0},11233.589832572825,6052.604465817868,14143.328021840147,325.44335400342698,-13817.884667836719]
[25,62.466509955699898,-151.235766369999,-1756.8735333867439,459.32126102893471,{"$f":"Q_d!$C$11","v":0},{"$f":"Q_d!$C$12","v":0},11233.589832572825,6052.604465817868,14143.442136598558,325.49118531997101,-13817.950951278588]
[26,62.466509954899898,-151.239766368999,-1757.0456921165805,459.43257051994897,{"$f":"Q_d!$C$11","v":0},{"$f":"Q_d!$C$12","v":0},11233.589832572825,6052.604465817868,14143.556242532246,325.53819662214698,-13818.018045910099]
[27,62.466509954400003,-151.24376636900001,-1757.2178438192411,459.54389097340254,{"$f":"Q_d!$C$11","v":0},{"$f":"Q_d!$C$12","v":0},11233.589832572825,6052.604465817868,14143.670339727467,325.58532984303798,-13818.085009884429]
[28,62.466509954000003,-151.246956853,-1757.3551505762582,459.63269032344988,{"$f":"Q_d!$C$11","v":0},{"$f":"Q_d!$C$12","v":0},11233.589832572825,6052.604465817868,14143.761339780996,325.62317933464101,-13818.138160446355]
[29,62.476949317299898,-151.151848618999,-1752.6330159119188,457.96137785150131,{"$f":"Q_d!$C$11","v":0},{"$f":"Q_d!$C$12","v":0},11233.589832572825,6052.604465817868,14140.085401164912,325.66093662120397,-13814.424464543708]
[30,62.466509953200003,-151.250956852999,-1757.5272896179924,459.74403035379646,{"$f":"Q_d!$C$11","v":0},{"$f":"Q_d!$C$12","v":0},11233.589832572825,6052.604465817868,14143.875421293091,325.671475115644,-13818.203946177448]
[31,62.466509952400003,-151.254956851999,-1757.6994215626123,459.85538126172833,{"$f":"Q_d!$C$11","v":0},{"$f":"Q_d!$C$12","v":0},11233.589832572825,6052.604465817868,14143.989494036625,325.71894990159802,-13818.270544135026]
[32,62.466509951500001,-151.258956853,-1757.8715465445475,459.9667431210064,{"$f":"Q_d!$C$11","v":0},{"$f":"Q_d!$C$12","v":0},11233.589832572825,6052.604465817868,14144.103558106121,325.76654640401603,-13818.337011702104]
[33,62.466509951100001,-151.262956852,{"$f":"lcpx(B35,C35,63,-115,70,60)","v":-1758.0436643547559},{"$f":"lcpy(B35,C35,63,-115,70,60)","v":460.07811587561628},{"$f":"Q_d!$C$11","v":0},{"$f":"Q_d!$C$12","v":0},11233.589832572825,6052.604465817868,14144.21761333193,325.81520814719499,-13818.402405184735]
[34,62.466509950700001,-151.26695685300001,-1758.2157751948203,460.18949958996518,{"$f":"Q_d!$C$11","v":0},{"$f":"Q_d!$C$12","v":0},11233.589832572825,6052.604465817868,14144.331659873953,325.86304812451499,-13818.468611749438]
[35,62.466509950300001,-151.270956853,-1758.3878789349624,460.30089418007583,{"$f":"Q_d!$C$11","v":0},{"$f":"Q_d!$C$12","v":0},11233.589832572825,6052.604465817868,14144.445697646406,325.91100965754401,-13818.534687988862]
[36,62.466509949500001,-151.274956852,-1758.5599755985991,460.4122996082624,{"$f":"Q_d!$C$11","v":0},{"$f":"Q_d!$C$12","v":0},11233.589832572825,6052.604465817868,14144.559726685904,325.95970745630501,-13818.6000192296]
[37,62.466509948199899,-151.278147335,-1758.6972384826199,460.50116666633312,{"$f":"Q_d!$C$11","v":0},{"$f":"Q_d!$C$12","v":0},11233.589832572825,6052.604465817868,14144.65067243076,325.99864819505001,-13818.652024235711]
[38,62.466509948199899,-151.282147334999,-1758.869322452445,460.61259179541821,{"$f":"Q_d!$C$11","v":0},{"$f":"Q_d!$C$12","v":0},11233.589832572825,6052.604465817868,14144.764685710861,326.046950269435,-13818.717735441427]
[39,62.4809492820999,-151.151865315999,-1752.3934555868534,458.33458440115282,{"$f":"Q_d!$C$11","v":0},{"$f":"Q_d!$C$12","v":0},11233.589832572825,6052.604465817868,14139.717729378073,326.09414787757203,-13813.623581500502]
[40,62.466509948199899,-151.286147335999,-1759.0413994058108,460.72402785429495,{"$f":"Q_d!$C$11","v":0},{"$f":"Q_d!$C$12","v":0},11233.589832572825,6052.604465817868,14144.878690277495,326.09631843981299,-13818.782371837682]
[41,62.466509947799899,-151.29014733400001,-1759.2134691940653,460.83547469384939,{"$f":"Q_d!$C$11","v":0},{"$f":"Q_d!$C$12","v":0},11233.589832572825,6052.604465817868,14144.992686053278,326.144863361359,-13818.84782269192]
[42,62.466509946999899,-151.294147334999,-1759.3855320744995,460.94693248072508,{"$f":"Q_d!$C$11","v":0},{"$f":"Q_d!$C$12","v":0},11233.589832572825,6052.604465817868,14145.106673208877,326.19352952503499,-13818.913143683842]
[43,62.466509945299897,-151.29814733500001,-1759.5575879046798,461.05840105661855,{"$f":"Q_d!$C$11","v":0},{"$f":"Q_d!$C$12","v":0},11233.589832572825,6052.604465817868,14145.220651676247,326.24326222008,-13818.977389456168]
[44,62.466509944099897,-151.30214733400001,-1759.7296365993957,461.16988055126103,{"$f":"Q_d!$C$11","v":0},{"$f":"Q_d!$C$12","v":0},11233.589832572825,6052.604465817868,14145.33462132605,326.29217090362403,-13819.042450422427]
[45,62.466509944499897,-151.306147334999,-1759.9016782206531,461.28137115015898,{"$f":"Q_d!$C$11","v":0},{"$f":"Q_d!$C$12","v":0},11233.589832572825,6052.604465817868,14145.448582142124,326.34214640619098,-13819.106435735934]
[46,62.466509943600002,-151.30933781799899,-1760.0388971628863,461.37030604343136,{"$f":"Q_d!$C$11","v":0},{"$f":"Q_d!$C$12","v":0},11233.589832572825,6052.604465817868,14145.539473475088,326.38184137142099,-13819.157632103666]
[47,62.466509942800002,-151.31333781800001,-1760.2109261153055,461.48181609521407,{"$f":"Q_d!$C$11","v":0},{"$f":"Q_d!$C$12","v":0},11233.589832572825,6052.604465817868,14145.653418655707,326.43108882886702,-13819.22232982684]
[48,62.466509942800002,-151.31733781700001,-1760.3829479115288,461.59333709193243,{"$f":"Q_d!$C$11","v":0},{"$f":"Q_d!$C$12","v":0},11233.589832572825,6052.604465817868,14145.767354990168,326.48140350408897,-13819.285951486079]
[49,62.4849492467999,-151.15188202799899,-1752.1538964647159,458.70779006981775,{"$f":"Q_d!$C$11","v":0},{"$f":"Q_d!$C$12","v":0},11233.589832572825,6052.604465817868,14139.350063393398,326.5273868713,-13812.822676522099]
[50,62.466509942000002,-151.321337817,-1760.5549627334181,461.70486894007536,{"$f":"Q_d!$C$11","v":0},{"$f":"Q_d!$C$12","v":0},11233.589832572825,6052.604465817868,14145.881282682694,326.53057021969602,-13819.350712462998]
[51,62.4665099407,-151.325337816999,-1760.7269705191518,461.81641163920449,{"$f":"Q_d!$C$11","v":0},{"$f":"Q_d!$C$12","v":0},11233.589832572825,6052.604465817868,14145.99520167688,326.58112774622998,-13819.414073930649]
[52,62.4665099403,-151.329337817999,-1760.898971226668,461.92796534704985,{"$f":"Q_d!$C$11","v":0},{"$f":"Q_d!$C$12","v":0},11233.589832572825,6052.604465817868,14146.109111871963,326.63085954177598,-13819.478252330187]
[53,62.4665099391,-151.33333781900001,-1761.0709649148316,462.0395298771432,{"$f":"Q_d!$C$11","v":0},{"$f":"Q_d!$C$12","v":0},11233.589832572825,6052.604465817868,14146.223013395926,326.681659119394,-13819.541354276531]
[53,62.466509938199898,-151.33733781800001,{"$f":"lcpx(B56,C56,63,-115,70,60)","v":-1761.242951430517},{"$f":"lcpy(B56,C56,63,-115,70,60)","v":462.15110527550269},{"$f":"Q_d!$C$11","v":0},{"$f":"Q_d!$C$12","v":0},{"$f":"lcpx(F56,G56,63,-115,70,60)","v":11233.589832572825},{"$f":"lcpy(F56,G56,63,-115,70,60)","v":6052.604465817868},{"$f":"SQRT((H56-D56)^2+(I56-E56)^2)","v":14146.336906090122},326.732900164645,-13819.604005925477]
[53,62.466509938199898,-151.34052830100001,-1761.3801263672876,462.24010802872635,{"$f":"Q_d!$C$11","v":0},{"$f":"Q_d!$C$12","v":0},11233.589832572825,6052.604465817868,14146.427742953174,326.77302686268303,-13819.65471609049]
[53,62.466509937799898,-151.34452830199899,-1761.5521002307887,462.35170311543789,{"$f":"Q_d!$C$11","v":0},{"$f":"Q_d!$C$12","v":0},11233.589832572825,6052.604465817868,14146.541619937114,326.82321712203901,-13819.718402815075]
[53,62.466509936999898,-151.34852830099899,-1761.7240669622095,462.46330900410339,{"$f":"Q_d!$C$11","v":0},{"$f":"Q_d!$C$12","v":0},11233.589832572825,6052.604465817868,14146.655488155198,326.87447569059202,-13819.781012464606]
[53,62.466509936199898,-151.35252830100001,-1761.8960266656977,462.57492581517772,{"$f":"Q_d!$C$11","v":0},{"$f":"Q_d!$C$12","v":0},11233.589832572825,6052.604465817868,14146.769347655707,326.924907073474,-13819.844440582234]
[53,62.4889492115,-151.151898743,-1751.9143380216663,459.08099453537852,{"$f":"Q_d!$C$11","v":0},{"$f":"Q_d!$C$12","v":0},11233.589832572825,6052.604465817868,14138.982402857535,326.96124197525302,-13812.021160882281]
[53,62.466509935799898,-151.356528298999,-1762.0679791873156,462.68655350160998,{"$f":"Q_d!$C$11","v":0},{"$f":"Q_d!$C$12","v":0},11233.589832572825,6052.604465817868,14146.883198316034,326.97640704032398,-13819.906791275711]
[53,62.466509935300003,-151.360528299999,-1762.2399247716173,462.79819215608541,{"$f":"Q_d!$C$11","v":0},{"$f":"Q_d!$C$12","v":0},11233.589832572825,6052.604465817868,14146.997040324421,327.02834480821298,-13819.968695516207]
[53,62.466509934100003,-151.36452830100001,-1762.4118633251912,462.90984163863004,{"$f":"Q_d!$C$11","v":0},{"$f":"Q_d!$C$12","v":0},11233.589832572825,6052.604465817868,14147.110873650576,327.07913697605301,-13820.031736674522]
[53,62.466509934900003,-151.368528300999,-1762.5837946411878,463.02150217186181,{"$f":"Q_d!$C$11","v":0},{"$f":"Q_d!$C$12","v":0},11233.589832572825,6052.604465817868,14147.224698016735,327.130998135303,-13820.093699881432]
[53,62.466509932800001,-151.37010838,-1762.6517091034366,463.06561306434605,{"$f":"Q_d!$C$11","v":0},{"$f":"Q_d!$C$12","v":0},11233.589832572825,6052.604465817868,14147.269658702096,327.15126983858698,-13820.11838886351]
[53,62.466509933300003,-151.37410837900001,-1762.8236305254582,463.17728873655324,{"$f":"Q_d!$C$11","v":0},{"$f":"Q_d!$C$12","v":0},11233.589832572825,6052.604465817868,14147.383470864763,327.20329912303703,-13820.180171741726]
[53,62.466509932000001,-151.37810837999899,-1762.9955450667267,463.28897518882741,{"$f":"Q_d!$C$11","v":0},{"$f":"Q_d!$C$12","v":0},11233.589832572825,6052.604465817868,14147.497274502652,327.25544886678301,{"$f":"K68-J68","v":-13820.241825635869}]
[53,62.466509931200001,-151.382108377999,-1763.167452372835,463.40067249501499,{"$f":"Q_d!$C$11","v":0},{"$f":"Q_d!$C$12","v":0},11233.589832572825,6052.604465817868,14147.611069261222,327.30676958474203,-13820.30429967648]
[53,62.466509931600001,-151.38610838100001,-1763.3393527446019,463.51238094313749,{"$f":"Q_d!$C$11","v":0},{"$f":"Q_d!$C$12","v":0},11233.589832572825,6052.604465817868,14147.724855303248,327.35915988406299,-13820.365695419185]
[53,62.4929491758,-151.151915457,-1751.6747801083779,459.45419765114275,{"$f":"Q_d!$C$11","v":0},{"$f":"Q_d!$C$12","v":0},11233.589832572825,6052.604465817868,14138.614747691665,327.39453574089998,-13811.220211950766]
[53,62.4665099298999,-151.390108381,-1763.5112460368246,463.62410000248974,{"$f":"Q_d!$C$11","v":0},{"$f":"Q_d!$C$12","v":0},11233.589832572825,6052.604465817868,14147.838632705205,327.41167047006701,-13820.426962235138]
[53,62.4665099294999,-151.39410837899899,-1763.683132086368,463.73583001662792,{"$f":"Q_d!$C$11","v":0},{"$f":"Q_d!$C$12","v":0},11233.589832572825,6052.604465817868,14147.952401181719,327.46335128835398,-13820.489049893366]
[53,62.466509928699899,-151.398108379999,-1763.8550112102055,463.84757096678277,{"$f":"Q_d!$C$11","v":0},{"$f":"Q_d!$C$12","v":0},11233.589832572825,6052.604465817868,14148.066161031607,327.51610208507299,-13820.550058946534]
[53,62.495388564999899,-151.15192565000001,-1751.5286853234354,459.68179596282289,{"$f":"Q_d!$C$11","v":0},{"$f":"Q_d!$C$12","v":0},11233.589832572825,6052.604465817868,14138.3905348095,327.65822209430303,-13810.732312715196]
[53,62.497827921499898,-151.151935855,-1751.3825932226137,459.90939108340444,{"$f":"Q_d!$C$11","v":0},{"$f":"Q_d!$C$12","v":0},11233.589832572825,6052.604465817868,14138.166327272676,327.92285555294802,-13810.243471719728]
[53,62.470509928200002,-151.398108382,-1763.6132759949385,464.21938039421639,{"$f":"Q_d!$C$11","v":0},{"$f":"Q_d!$C$12","v":0},11233.589832572825,6052.604465817868,14147.697215743241,327.94501872265101,-13819.752197020591]
[53,62.501827887200001,-151.151952585,-1751.1430371279419,460.28259192758742,{"$f":"Q_d!$C$11","v":0},{"$f":"Q_d!$C$12","v":0},11233.589832572825,6052.604465817868,14137.798684331277,328.35586020657502,-13809.442824124702]
[53,62.474509927500002,-151.398108385999,-1763.3715416333562,464.5911886963695,{"$f":"Q_d!$C$11","v":0},{"$f":"Q_d!$C$12","v":0},11233.589832572825,6052.604465817868,14147.328275964108,328.37397488381998,-13818.954301080288]
[53,62.505827851500001,-151.151969317999,-1750.9034817915672,460.65579144497633,{"$f":"Q_d!$C$11","v":0},{"$f":"Q_d!$C$12","v":0},11233.589832572825,6052.604465817868,14137.431046961621,328.789241364433,-13808.641805597188]
[53,62.478509927300003,-151.39810838899899,-1763.1298079533117,464.96299585626502,{"$f":"Q_d!$C$11","v":0},{"$f":"Q_d!$C$12","v":0},11233.589832572825,6052.604465817868,14146.959341543063,328.80297041389298,-13818.156371129169]
[53,62.480949240999898,-151.398108390999,-1762.9823922538778,465.18973387798087,{"$f":"Q_d!$C$11","v":0},{"$f":"Q_d!$C$12","v":0},11233.589832572825,6052.604465817868,14146.734357505826,329.06360916090301,-13817.670748344923]
[53,62.509827816300003,-151.15198605200001,-1750.6639270123283,461.02898975889366,{"$f":"Q_d!$C$11","v":0},{"$f":"Q_d!$C$12","v":0},11233.589832572825,6052.604465817868,14137.063414930462,329.22358628293898,-13807.839828647524]
[53,62.484949241000002,-151.398108393,-1762.740659731468,465.56153916333642,{"$f":"Q_d!$C$11","v":0},{"$f":"Q_d!$C$12","v":0},11233.589832572825,6052.604465817868,14146.365431780658,329.49266764830998,-13816.872764132348]
[53,62.513827780500002,-151.15200280400001,-1750.4243735862103,461.40218723971157,{"$f":"Q_d!$C$11","v":0},{"$f":"Q_d!$C$12","v":0},11233.589832572825,6052.604465817868,14136.695788822692,329.65667095479802,-13807.039117867893]
[53,62.4889492406,-151.39810839800001,-1762.4989281138703,465.93334333873054,{"$f":"Q_d!$C$11","v":0},{"$f":"Q_d!$C$12","v":0},11233.589832572825,6052.604465817868,14145.996511606714,329.92176510500099,-13816.074746501714]
[53,62.517827746599899,-151.152019553999,-1750.1848205016206,461.77538356744162,{"$f":"Q_d!$C$11","v":0},{"$f":"Q_d!$C$12","v":0},11233.589832572825,6052.604465817868,14136.328167836073,330.09013261531999,-13806.238035220753]
[53,62.492949240500003,-151.39810840000001,-1762.2571971001059,466.30514630342714,{"$f":"Q_d!$C$11","v":0},{"$f":"Q_d!$C$12","v":0},11233.589832572825,6052.604465817868,14145.627596747563,330.35058752936999,-13815.277009218193]
[53,62.5218277098,-151.152036304999,-1749.9452681749083,462.14857837972477,{"$f":"Q_d!$C$11","v":0},{"$f":"Q_d!$C$12","v":0},11233.589832572825,6052.604465817868,14135.960552496608,330.52327008548099,-13805.437282411127]
[53,62.4953885239999,-151.398108401999,-1762.1097848796164,466.53187897395537,{"$f":"Q_d!$C$11","v":0},{"$f":"Q_d!$C$12","v":0},11233.589832572825,6052.604465817868,14145.402627445517,330.61162533855298,-13814.791002106964]
[53,62.5242670365,-151.15204651900001,-1749.7991804397045,462.37616582851024,{"$f":"Q_d!$C$11","v":0},{"$f":"Q_d!$C$12","v":0},11233.589832572825,6052.604465817868,14135.736369542847,330.78801058079398,-13804.948358962052]
[53,62.499388523100002,-151.39810840499899,-1761.8680551634732,466.90368003662661,{"$f":"Q_d!$C$11","v":0},{"$f":"Q_d!$C$12","v":0},11233.589832572825,6052.604465817868,14145.033721423386,331.04050931872302,-13813.993212104662]
[53,62.526706335100002,-151.15205674699899,-1749.6530951946079,462.60375057434112,{"$f":"Q_d!$C$11","v":0},{"$f":"Q_d!$C$12","v":0},11233.589832572825,6052.604465817868,14135.512191563706,331.05182450033402,-13804.460367063373]
[53,62.503388522100003,-151.398108409,-1761.6263262442949,467.2754799674226,{"$f":"Q_d!$C$11","v":0},{"$f":"Q_d!$C$12","v":0},11233.589832572825,6052.604465817868,14144.664820863121,331.46974577176701,-13813.195075091355]
[53,62.530706299199899,-151.152073516,-1749.4135447837123,462.97694314955106,{"$f":"Q_d!$C$11","v":0},{"$f":"Q_d!$C$12","v":0},11233.589832572825,6052.604465817868,14135.144588529061,331.48537143590499,-13803.659217093156]
[53,62.507388522200003,-151.39810841100001,-1761.384597919646,467.64727879579596,{"$f":"Q_d!$C$11","v":0},{"$f":"Q_d!$C$12","v":0},11233.589832572825,6052.604465817868,14144.295925567401,331.89902050171798,-13812.396905065683]
[53,62.5347062644,-151.15209028500001,-1749.1739948436555,463.35013455949911,{"$f":"Q_d!$C$11","v":0},{"$f":"Q_d!$C$12","v":0},11233.589832572825,6052.604465817868,14134.7769907404,331.91952908046801,-13802.857461659933]
[53,62.509827775600002,-151.398108411999,-1761.2371891205648,467.87400610984378,{"$f":"Q_d!$C$11","v":0},{"$f":"Q_d!$C$12","v":0},11233.589832572825,6052.604465817868,14144.070970951867,332.16077731122903,-13811.910193640639]
[53,62.538706228099898,-151.15210705600001,-1748.9344456155513,463.72332461896895,{"$f":"Q_d!$C$11","v":0},{"$f":"Q_d!$C$12","v":0},11233.589832572825,6052.604465817868,14134.409398492719,332.35312837101401,-13802.056270121704]
[53,62.5138277759999,-151.39810841600001,-1760.9954620637191,468.24580317599111,{"$f":"Q_d!$C$11","v":0},{"$f":"Q_d!$C$12","v":0},11233.589832572825,6052.604465817868,14143.70208441226,332.58916423269102,-13811.112920179568]
[53,62.542706193400001,-151.15212384200001,-1748.6948974705983,464.09651397856305,{"$f":"Q_d!$C$11","v":0},{"$f":"Q_d!$C$12","v":0},11233.589832572825,6052.604465817868,14134.041811870013,332.78675386649599,-13801.255058003517]
[53,62.517827774399898,-151.39810841900001,-1760.7537358288396,468.61759888382494,{"$f":"Q_d!$C$11","v":0},{"$f":"Q_d!$C$12","v":0},11233.589832572825,6052.604465817868,14143.333203447961,333.01853806807799,-13810.314665379883]
[53,62.546706157700001,-151.15214063100001,-1748.4553500481434,464.46970206516335,{"$f":"Q_d!$C$11","v":0},{"$f":"Q_d!$C$12","v":0},11233.589832572825,6052.604465817868,14133.674230767941,333.22005289748,-13800.454177870461]
[53,62.521827773200002,-151.39810842099899,-1760.5120102698263,468.98939345809822,{"$f":"Q_d!$C$11","v":0},{"$f":"Q_d!$C$12","v":0},11233.589832572825,6052.604465817868,14142.964327836296,333.447633480881,-13809.516694355416]
[53,62.553145528199899,-151.12463181000001,-1746.8868968047566,464.30836283907684,{"$f":"Q_d!$C$11","v":0},{"$f":"Q_d!$C$12","v":0},11233.589832572825,6052.604465817868,14132.297387773895,333.62605240748201,-13798.671335366413]
[53,62.550706122500003,-151.152157418999,-1748.2158030850967,464.84288890940252,{"$f":"Q_d!$C$11","v":0},{"$f":"Q_d!$C$12","v":0},11233.589832572825,6052.604465817868,14133.306654933032,333.653730235404,-13799.652924697628]
[53,62.553145522900003,-151.12827237100001,-1747.0432984533754,464.40909339647533,{"$f":"Q_d!$C$11","v":0},{"$f":"Q_d!$C$12","v":0},11233.589832572825,6052.604465817868,14132.401211494347,333.66442933731997,-13798.736782157028]
[53,62.553145522400001,-151.132272368999,-1747.2151348097375,464.51978009753429,{"$f":"Q_d!$C$11","v":0},{"$f":"Q_d!$C$12","v":0},11233.589832572825,6052.604465817868,14132.515277048384,333.70598048731398,-13798.80929656107]
[53,62.5242669963,-151.398108425,-1760.3646050672844,469.21611552194918,{"$f":"Q_d!$C$11","v":0},{"$f":"Q_d!$C$12","v":0},11233.589832572825,6052.604465817868,14142.739388028307,333.70978893194001,-13809.029599096368]
[53,62.553145521200001,-151.13627237200001,-1747.3869644102679,464.63047775800442,{"$f":"Q_d!$C$11","v":0},{"$f":"Q_d!$C$12","v":0},11233.589832572825,6052.604465817868,14132.629334099411,333.74858614831601,-13798.880747951094]
[53,62.553145521200001,-151.140272369999,-1747.558786710448,464.74118627765984,{"$f":"Q_d!$C$11","v":0},{"$f":"Q_d!$C$12","v":0},11233.589832572825,6052.604465817868,14132.743382187122,333.79166656164398,-13798.951715625477]
[53,62.553145520400001,-151.14416765799899,-1747.726104437106,464.84900711069849,{"$f":"Q_d!$C$11","v":0},{"$f":"Q_d!$C$12","v":0},11233.589832572825,6052.604465817868,14132.854436481675,333.83312257773298,-13799.021313903942]
[53,62.5531455190999,-151.14816765800001,-1747.897913056082,464.95973704989592,{"$f":"Q_d!$C$11","v":0},{"$f":"Q_d!$C$12","v":0},11233.589832572825,6052.604465817868,14132.96846755281,333.87550309808501,-13799.092964454725]
[53,62.5531455182999,-151.15216765700001,-1748.0697145865547,465.07047789244552,{"$f":"Q_d!$C$11","v":0},{"$f":"Q_d!$C$12","v":0},11233.589832572825,6052.604465817868,14133.082489838373,333.91858468794402,-13799.163905150428]
[53,62.556755929200001,-151.11682006300001,-1746.3345998230745,464.42879086316316,{"$f":"Q_d!$C$11","v":0},{"$f":"Q_d!$C$12","v":0},11233.589832572825,6052.604465817868,14131.742484381162,333.93546252681801,-13797.807021854343]
[53,62.556670324599899,-151.124641064,-1746.6757125797105,464.63715470070338,{"$f":"Q_d!$C$11","v":0},{"$f":"Q_d!$C$12","v":0},11233.589832572825,6052.604465817868,14131.973404050408,334.00869558291402,-13797.964708467494]
[53,62.556756140799898,-151.12464129,-1746.6705710341234,464.64515961552206,{"$f":"Q_d!$C$11","v":0},{"$f":"Q_d!$C$12","v":0},11233.589832572825,6052.604465817868,14131.965516276206,334.017953544416,-13797.94756273179]
[53,62.528266995800003,-151.39810842700001,-1760.1228806598001,469.58790832505019,{"$f":"Q_d!$C$11","v":0},{"$f":"Q_d!$C$12","v":0},11233.589832572825,6052.604465817868,14142.370521071143,334.13831223910802,-13808.232208832036]
[53,62.5603650754,-151.109006421,-1745.7823538658301,464.54914373321299,{"$f":"Q_d!$C$11","v":0},{"$f":"Q_d!$C$12","v":0},11233.589832572825,6052.604465817868,14131.187658395029,334.246474078635,-13796.941184316394]
[53,62.5603657095999,-151.11682859499899,{"$f":"lcpx(B120,C120,63,-115,70,60)","v":-1746.1183254902296},{"$f":"lcpy(B120,C120,63,-115,70,60)","v":464.76550965855677},{"$f":"Q_d!$C$11","v":0},{"$f":"Q_d!$C$12","v":0},{"$f":"lcpx(F120,G120,63,-115,70,60)","v":11233.589832572825},{"$f":"lcpy(F120,G120,63,-115,70,60)","v":6052.604465817868},{"$f":"SQRT((H120-D120)^2+(I120-E120)^2)","v":14131.410689257467},334.327478562561,-13797.083210694906]
[53,62.532266995999898,-151.398108430999,-1759.8811570358901,469.95970011043164,{"$f":"Q_d!$C$11","v":0},{"$f":"Q_d!$C$12","v":0},11233.589832572825,6052.604465817868,14142.001659520618,334.56750455625502,-13807.434154964363]
[53,62.563584665,-151.109013185999,-1745.589458549091,464.84946541111231,{"$f":"Q_d!$C$11","v":0},{"$f":"Q_d!$C$12","v":0},11233.589832572825,6052.604465817868,14130.891727547089,334.59580737510697,-13796.295920171982]
[53,62.563974862400002,-151.109014005999,-1745.5660806794294,464.88586277663535,{"$f":"Q_d!$C$11","v":0},{"$f":"Q_d!$C$12","v":0},11233.589832572825,6052.604465817868,14130.855862518874,334.63767086507102,-13796.218191653803]
[53,62.567584664199899,-151.09337344900001,-1744.6777112723519,464.79009582268645,{"$f":"Q_d!$C$11","v":0},{"$f":"Q_d!$C$12","v":0},11233.589832572825,6052.604465817868,14130.077773075056,334.86992151580199,-13795.207851559255]
[53,62.567584659200001,-151.09372530799899,-1744.6928252772984,464.79981827361826,{"$f":"Q_d!$C$11","v":0},{"$f":"Q_d!$C$12","v":0},11233.589832572825,6052.604465817868,14130.087810278121,334.87287951400299,-13795.214930764118]
[53,62.567584658800001,-151.097725306999,-1744.8646369215608,464.91035610016615,{"$f":"Q_d!$C$11","v":0},{"$f":"Q_d!$C$12","v":0},11233.589832572825,6052.604465817868,14130.201905157361,334.91413380895102,-13795.28777134841]
[53,62.567584657600001,-151.101725307999,-1745.036441696416,465.02090479206072,{"$f":"Q_d!$C$11","v":0},{"$f":"Q_d!$C$12","v":0},11233.589832572825,6052.604465817868,14130.315991463096,334.954575542714,-13795.361415920383]
[53,62.567584658000001,-151.10572530900001,-1745.2082393713267,465.13146451736566,{"$f":"Q_d!$C$11","v":0},{"$f":"Q_d!$C$12","v":0},11233.589832572825,6052.604465817868,14130.430068917338,334.996069627689,-13795.433999289649]
[53,62.536266995200002,-151.398108433999,-1759.639434168638,470.33149063819837,{"$f":"Q_d!$C$11","v":0},{"$f":"Q_d!$C$12","v":0},11233.589832572825,6052.604465817868,14141.632803446997,334.99705077657001,-13806.635752670427]
[53,62.567584656800001,-151.10902159099899,-1745.3498075589316,465.22258154010979,{"$f":"Q_d!$C$11","v":0},{"$f":"Q_d!$C$12","v":0},11233.589832572825,6052.604465817868,14130.524070357007,335.03018001368099,-13795.493890343327]
[53,62.538706187499898,-151.39810843500001,-1759.4920323268229,470.55820725129661,{"$f":"Q_d!$C$11","v":0},{"$f":"Q_d!$C$12","v":0},11233.589832572825,6052.604465817868,14141.407878311169,335.25897119838498,-13806.148907112783]
[53,62.574804195600002,-151.077732905,-1743.5729756339638,465.03121049009405,{"$f":"Q_d!$C$11","v":0},{"$f":"Q_d!$C$12","v":0},11233.589832572825,6052.604465817868,14128.967741288099,335.49565827444002,{"$f":"K132-J132","v":-13793.472083013659}]
[53,62.575584655100002,-151.077733725999,-1743.5262172851642,465.10401114880051,{"$f":"Q_d!$C$11","v":0},{"$f":"Q_d!$C$12","v":0},11233.589832572825,6052.604465817868,14128.896004373761,335.58077222182999,-13793.31523215193]
[53,62.574805038400001,-151.09338484099899,-1744.2451241282765,465.4636064827373,{"$f":"Q_d!$C$11","v":0},{"$f":"Q_d!$C$12","v":0},11233.589832572825,6052.604465817868,14129.414111895268,335.65371791922598,-13793.760393976043]
[53,62.542706187199897,-151.398108436999,-1759.2503105739577,470.92999597105199,{"$f":"Q_d!$C$11","v":0},{"$f":"Q_d!$C$12","v":0},11233.589832572825,6052.604465817868,14141.039030874155,335.68857684615898,-13805.350454027996]
[53,62.579584652999898,-151.077737933999,-1743.2865725937452,465.47712717687045,{"$f":"Q_d!$C$11","v":0},{"$f":"Q_d!$C$12","v":0},11233.589832572825,6052.604465817868,14128.528342794887,336.01562815142898,-13792.512714643459]
[53,62.546706187600002,-151.39810844100001,-1759.0085896008375,471.30178367916642,{"$f":"Q_d!$C$11","v":0},{"$f":"Q_d!$C$12","v":0},11233.589832572825,6052.604465817868,14140.670188838936,336.11727129976498,-13804.552917539171]
[53,62.5820237605,-151.07774049899899,-1743.1404430148568,465.70464423003887,{"$f":"Q_d!$C$11","v":0},{"$f":"Q_d!$C$12","v":0},11233.589832572825,6052.604465817868,14128.304153783356,336.280261943813,-13792.023891839543]
[53,62.585634364900002,-151.062086668999,-1742.2518281262921,465.6092893562859,{"$f":"Q_d!$C$11","v":0},{"$f":"Q_d!$C$12","v":0},11233.589832572825,6052.604465817868,14127.525682345788,336.51755669652601,-13791.008125649261]
[53,62.584462837399897,-151.07774306900001,-1742.9943157345861,465.9321581395684,{"$f":"Q_d!$C$11","v":0},{"$f":"Q_d!$C$12","v":0},11233.589832572825,6052.604465817868,14128.07996974404,336.54583498388399,-13791.534134760155]
[53,62.550706187899898,-151.398108444,-1758.7668693260453,471.67357021924227,{"$f":"Q_d!$C$11","v":0},{"$f":"Q_d!$C$12","v":0},11233.589832572825,6052.604465817868,14140.301352192739,336.54695061759202,-13803.754401575146]
[53,62.585633516599898,-151.077744303,-1742.9241794049469,466.04135742856988,{"$f":"Q_d!$C$11","v":0},{"$f":"Q_d!$C$12","v":0},11233.589832572825,6052.604465817868,14127.972369277613,336.672874158284,-13791.299495119329]
[53,62.5531454780999,-151.398108446999,-1758.6194632732411,471.90029349638007,{"$f":"Q_d!$C$11","v":0},{"$f":"Q_d!$C$12","v":0},11233.589832572825,6052.604465817868,14140.076429992709,336.80895124684503,-13803.267478745864]
[53,62.5892439182999,-151.054258806999,-1741.69938974968,465.7299734810872,{"$f":"Q_d!$C$11","v":0},{"$f":"Q_d!$C$12","v":0},11233.589832572825,6052.604465817868,14126.970552671295,336.833299571167,-13790.137253100129]
[53,62.5531454768999,-151.40210844699899,-1758.7908251408662,472.01171356375153,{"$f":"Q_d!$C$11","v":0},{"$f":"Q_d!$C$12","v":0},11233.589832572825,6052.604465817868,14140.189907545233,336.85973762680499,-13803.330169918429]
[53,62.589239169800003,-151.06208856999899,-1742.0358636024212,465.9455409641846,{"$f":"Q_d!$C$11","v":0},{"$f":"Q_d!$C$12","v":0},11233.589832572825,6052.604465817868,14127.194348131927,336.90943739378901,-13790.284910738137]
[53,62.5531454768999,-151.406108445,-1758.9621797911379,472.12314454311945,{"$f":"Q_d!$C$11","v":0},{"$f":"Q_d!$C$12","v":0},11233.589832572825,6052.604465817868,14140.303376203752,336.91127044668599,-13803.392105757066]
[53,62.5531454764999,-151.41010844600001,-1759.1335275341673,472.2345864245649,{"$f":"Q_d!$C$11","v":0},{"$f":"Q_d!$C$12","v":0},11233.589832572825,6052.604465817868,14140.416836257338,336.96228892859801,-13803.45454732874]
[53,62.553145474799898,-151.414108446,-1759.304868252372,472.34603901259879,{"$f":"Q_d!$C$11","v":0},{"$f":"Q_d!$C$12","v":0},11233.589832572825,6052.604465817868,14140.530287675307,337.01437163569102,-13803.515916039616]
[53,62.553145474799898,-151.41810844700001,-1759.47620184938,472.45750264129902,{"$f":"Q_d!$C$11","v":0},{"$f":"Q_d!$C$12","v":0},11233.589832572825,6052.604465817868,14140.643730237483,337.06530560412102,-13803.578424633362]
[53,62.553145473999898,-151.421802337999,-1759.6344174941769,472.56044580509524,{"$f":"Q_d!$C$11","v":0},{"$f":"Q_d!$C$12","v":0},11233.589832572825,6052.604465817868,14140.748483648576,337.11317862848301,-13803.635305020094]
[53,62.592853056700001,-151.04642904599899,-1741.146951990926,465.85066092077432,{"$f":"Q_d!$C$11","v":0},{"$f":"Q_d!$C$12","v":0},11233.589832572825,6052.604465817868,14126.415423073324,337.14913509751102,-13789.266287975814]
[53,62.553145473599898,-151.425389566999,-1759.7880588364292,472.66042535429642,{"$f":"Q_d!$C$11","v":0},{"$f":"Q_d!$C$12","v":0},11233.589832572825,6052.604465817868,14140.850205120898,337.15956222091597,-13803.690642899983]
[53,62.553145473199898,-151.42938956699899,-1759.9593724963399,472.7719195291611,{"$f":"Q_d!$C$11","v":0},{"$f":"Q_d!$C$12","v":0},11233.589832572825,6052.604465817868,14140.963623076619,337.21113876768601,-13803.752484308932]
[53,62.592853690200002,-151.054259760999,-1741.4831292036679,466.06668810467681,{"$f":"Q_d!$C$11","v":0},{"$f":"Q_d!$C$12","v":0},11233.589832572825,6052.604465817868,14126.638761759288,337.22528748004601,-13789.413474279243]
[53,62.553145471900002,-151.433083455999,-1760.1175696899084,472.87489085827792,{"$f":"Q_d!$C$11","v":0},{"$f":"Q_d!$C$12","v":0},11233.589832572825,6052.604465817868,14141.068353745273,337.25931326503002,-13803.809040480242]
[53,62.5940237659999,-151.04642904599899,-1741.0768154683606,465.95986306487339,{"$f":"Q_d!$C$11","v":0},{"$f":"Q_d!$C$12","v":0},11233.589832572825,6052.604465817868,14126.307817163743,337.27630407427,-13789.031513089472]
[53,62.553145471500002,-151.437083457,-1760.2888698048837,472.98640593629852,{"$f":"Q_d!$C$11","v":0},{"$f":"Q_d!$C$12","v":0},11233.589832572825,6052.604465817868,14141.181754940482,337.31206145200298,-13803.869693488479]
[53,62.553145470700002,-151.441083456,-1760.4601627931513,473.09793177361189,{"$f":"Q_d!$C$11","v":0},{"$f":"Q_d!$C$12","v":0},11233.589832572825,6052.604465817868,14141.295147387069,337.36366272910902,-13803.93148465796]
[53,62.639780097600003,-150.29568214899899,-1706.0306161975864,449.74981567058876,{"$f":"Q_d!$C$11","v":0},{"$f":"Q_d!$C$12","v":0},11233.589832572825,6052.604465817868,14100.558768677018,337.40249148161303,-13763.156277195405]
[53,62.639780096300001,-150.299054506,-1706.1762732196921,449.84094310575983,{"$f":"Q_d!$C$11","v":0},{"$f":"Q_d!$C$12","v":0},11233.589832572825,6052.604465817868,14100.656224589346,337.413471510845,-13763.242753078501]
[53,62.553145469900002,-151.445083455,-1760.6314487155266,473.20946846271545,{"$f":"Q_d!$C$11","v":0},{"$f":"Q_d!$C$12","v":0},11233.589832572825,6052.604465817868,14141.408531104631,337.416642454103,-13803.991888650527]
[53,62.639780095500001,-150.30305450500001,-1706.3490326616072,449.94904076552166,{"$f":"Q_d!$C$11","v":0},{"$f":"Q_d!$C$12","v":0},11233.589832572825,6052.604465817868,14100.771810361057,337.42762713358201,-13763.344183227475]
[53,62.639780094700001,-150.307054504999,-1706.5217852979574,450.05714939698919,{"$f":"Q_d!$C$11","v":0},{"$f":"Q_d!$C$12","v":0},11233.589832572825,6052.604465817868,14100.887387525976,337.441497117648,-13763.445890408328]
[53,62.639780092999899,-150.311054503999,-1706.6945310947024,450.16526886114934,{"$f":"Q_d!$C$11","v":0},{"$f":"Q_d!$C$12","v":0},11233.589832572825,6052.604465817868,14101.002956108312,337.45501686891498,-13763.547939239397]
[53,62.639780093399899,-150.31505450500001,-1706.8672700042384,450.27339952057719,{"$f":"Q_d!$C$11","v":0},{"$f":"Q_d!$C$12","v":0},11233.589832572825,6052.604465817868,14101.118515920534,337.46865932853598,-13763.649856591997]
[53,62.553145469,-151.449083454999,-1760.8027276201476,473.32101602173498,{"$f":"Q_d!$C$11","v":0},{"$f":"Q_d!$C$12","v":0},11233.589832572825,6052.604465817868,14141.521906130454,337.46973768028403,-13804.052168450171]
[53,62.639780091799899,-150.31905450599899,-1707.0400021805362,450.38154093543699,{"$f":"Q_d!$C$11","v":0},{"$f":"Q_d!$C$12","v":0},11233.589832572825,6052.604465817868,14101.234067278901,337.48242448163103,-13763.75164279727]
[53,62.639780091799899,-150.323054503999,-1707.212727281722,450.48969336251957,{"$f":"Q_d!$C$11","v":0},{"$f":"Q_d!$C$12","v":0},11233.589832572825,6052.604465817868,14101.349609767869,337.49678261281201,-13763.852827155057]
[53,62.639780091399899,-150.32705450399899,-1707.3854456406198,450.59785674862678,{"$f":"Q_d!$C$11","v":0},{"$f":"Q_d!$C$12","v":0},11233.589832572825,6052.604465817868,14101.465143714218,337.51079257558501,-13763.954351138633]
[53,62.553145469,-151.45308345500001,-1760.9739994031256,473.43257451531781,{"$f":"Q_d!$C$11","v":0},{"$f":"Q_d!$C$12","v":0},11233.589832572825,6052.604465817868,14141.635272343789,337.52168695507498,-13804.113585388714]
[53,62.639780090499897,-150.33042686100001,-1707.5310573411684,450.68905658527638,{"$f":"Q_d!$C$11","v":0},{"$f":"Q_d!$C$12","v":0},11233.589832572825,6052.604465817868,14101.562542483223,337.523466865638,-13764.039075617586]
[53,62.639780090099897,-150.33442686000001,-1707.7037630258926,450.79724011127246,{"$f":"Q_d!$C$11","v":0},{"$f":"Q_d!$C$12","v":0},11233.589832572825,6052.604465817868,14101.678060481419,337.538171999849,-13764.13988848157]
[53,62.596462835499899,-151.046429047,-1740.9306924538182,466.18737581479763,{"$f":"Q_d!$C$11","v":0},{"$f":"Q_d!$C$12","v":0},11233.589832572825,6052.604465817868,14126.083631276435,337.542158448392,-13788.541472828043]
[53,62.639780089299897,-150.33842686099899,-1707.8764619663123,450.90543459506216,{"$f":"Q_d!$C$11","v":0},{"$f":"Q_d!$C$12","v":0},11233.589832572825,6052.604465817868,14101.793569936239,337.55253043341202,-13764.241039502827]
[53,62.639780089699897,-150.342426859,-1708.0491538518206,451.01364005134837,{"$f":"Q_d!$C$11","v":0},{"$f":"Q_d!$C$12","v":0},11233.589832572825,6052.604465817868,14101.909070557005,337.56701147031498,-13764.34205908669]
[53,62.5531454682,-151.456670682999,-1761.1275911737994,473.53263010760475,{"$f":"Q_d!$C$11","v":0},{"$f":"Q_d!$C$12","v":0},11233.589832572825,6052.604465817868,14141.736932606249,337.56919453054297,-13804.167738075706]
[53,62.639780088099897,-150.346426860999,-1708.2218391721208,451.12185636835102,{"$f":"Q_d!$C$11","v":0},{"$f":"Q_d!$C$12","v":0},11233.589832572825,6052.604465817868,14102.024562837743,337.58208228666399,-13764.442480551079]
[53,62.639780087699897,-150.35042686200001,-1708.3945175224612,451.23008371108472,{"$f":"Q_d!$C$11","v":0},{"$f":"Q_d!$C$12","v":0},11233.589832572825,6052.604465817868,14102.140046341672,337.59769238695901,-13764.542353954714]
[53,62.639780087200002,-150.35442685800001,-1708.5671888058762,451.33832184867333,{"$f":"Q_d!$C$11","v":0},{"$f":"Q_d!$C$12","v":0},11233.589832572825,6052.604465817868,14102.255521071711,337.612540886739,-13764.642980184972]
[53,62.5531454678,-151.46067068400001,-1761.2988496166479,473.64420917275675,{"$f":"Q_d!$C$11","v":0},{"$f":"Q_d!$C$12","v":0},11233.589832572825,6052.604465817868,14141.85028232592,337.62262413084801,-13804.227658195072]
[53,62.639780086000002,-150.358426860999,-1708.7398535750267,451.44657104903536,{"$f":"Q_d!$C$11","v":0},{"$f":"Q_d!$C$12","v":0},11233.589832572825,6052.604465817868,14102.370987428858,337.62797751963598,-13764.743009909222]
[53,62.639780086000002,-150.361799214,-1708.8854197159205,451.53784320332124,{"$f":"Q_d!$C$11","v":0},{"$f":"Q_d!$C$12","v":0},11233.589832572825,6052.604465817868,14102.46832888035,337.64057899636401,-13764.827749883985]
[53,62.639780084400002,-150.365799215999,{"$f":"lcpx(B184,C184,63,-115,70,60)","v":-1709.0580718244519},{"$f":"lcpy(B184,C184,63,-115,70,60)","v":451.64611249972177},{"$f":"Q_d!$C$11","v":0},{"$f":"Q_d!$C$12","v":0},{"$f":"lcpx(F184,G184,63,-115,70,60)","v":11233.589832572825},{"$f":"lcpy(F184,G184,63,-115,70,60)","v":6052.604465817868},{"$f":"SQRT((H184-D184)^2+(I184-E184)^2)","v":14102.583779322267},337.65666088646901,-13764.927118435799]
[53,62.553145466499899,-151.464364574999,-1761.456995860073,473.74725892258175,{"$f":"Q_d!$C$11","v":0},{"$f":"Q_d!$C$12","v":0},11233.589832572825,6052.604465817868,14141.95495000926,337.67132333231899,-13804.283626676941]
[53,62.6397800839,-150.36979921700001,-1709.2307169655319,451.75439281032232,{"$f":"Q_d!$C$11","v":0},{"$f":"Q_d!$C$12","v":0},11233.589832572825,6052.604465817868,14102.699220995286,337.67244411263403,-13765.026776882652]
[53,62.639780084400002,-150.373799216999,-1709.4033551441705,451.86268412517029,{"$f":"Q_d!$C$11","v":0},{"$f":"Q_d!$C$12","v":0},11233.589832572825,6052.604465817868,14102.814653908163,337.687885201705,-13765.126768706457]
[53,62.6397800823,-150.37779921500001,-1709.5759865287785,451.97098607878434,{"$f":"Q_d!$C$11","v":0},{"$f":"Q_d!$C$12","v":0},11233.589832572825,6052.604465817868,14102.930078360821,337.70433510098701,-13765.225743259834]
[53,62.6397800819,-150.381799215,-1709.7486110378431,452.07929918275568,{"$f":"Q_d!$C$11","v":0},{"$f":"Q_d!$C$12","v":0},11233.589832572825,6052.604465817868,14103.045494075495,337.72048384721899,-13765.325010228276]
[53,62.553145466499899,-151.468364573999,-1761.6282405948916,473.85885883758237,{"$f":"Q_d!$C$11","v":0},{"$f":"Q_d!$C$12","v":0},11233.589832572825,6052.604465817868,14142.068282842743,337.72402405662501,-13804.344258786119]
[53,62.6397800811,-150.385799214,-1709.9212286649652,452.18762315824142,{"$f":"Q_d!$C$11","v":0},{"$f":"Q_d!$C$12","v":0},11233.589832572825,6052.604465817868,14103.160901157253,337.73629200457498,-13765.424609152678]
[53,62.639780080599898,-150.389799216,-1710.0938395408216,452.29595817885956,{"$f":"Q_d!$C$11","v":0},{"$f":"Q_d!$C$12","v":0},11233.589832572825,6052.604465817868,14103.2762996573,337.75268398193299,-13765.523615675367]
[53,62.639780079799898,-150.393171569999,-1710.239360402011,452.38730260378861,{"$f":"Q_d!$C$11","v":0},{"$f":"Q_d!$C$12","v":0},11233.589832572825,6052.604465817868,14103.373584077859,337.76698223035299,-13765.606601847507]
[53,62.553145464899899,-151.472364575,-1761.799478441643,473.97046950854974,{"$f":"Q_d!$C$11","v":0},{"$f":"Q_d!$C$12","v":0},11233.589832572825,6052.604465817868,14142.181607149838,337.77779089217802,-13804.40381625766]
[53,62.639780079399898,-150.39717157000001,-1710.4119585346764,452.49565773403356,{"$f":"Q_d!$C$11","v":0},{"$f":"Q_d!$C$12","v":0},11233.589832572825,6052.604465817868,14103.488966584557,337.78359859087197,-13765.705367993685]
[53,62.639780079799898,-150.40117157200001,-1710.5845498414076,452.60402392802871,{"$f":"Q_d!$C$11","v":0},{"$f":"Q_d!$C$12","v":0},11233.589832572825,6052.604465817868,14103.604340434231,337.80076431677799,{"$f":"K196-J196","v":-13765.803576117452}]
[53,62.639780078999898,-150.405171569999,-1710.7571341805287,452.71240083501334,{"$f":"Q_d!$C$11","v":0},{"$f":"Q_d!$C$12","v":0},11233.589832572825,6052.604465817868,14103.719705636337,337.81716468527702,-13765.90254095106]
[53,62.553145464499899,-151.476364574,-1761.9707090588174,474.08209108342862,{"$f":"Q_d!$C$11","v":0},{"$f":"Q_d!$C$12","v":0},11233.589832572825,6052.604465817868,14142.294922558576,337.831672856468,-13804.463249702108]
[53,62.639780077700003,-150.409171571999,-1710.9297118553459,452.82078873709816,{"$f":"Q_d!$C$11","v":0},{"$f":"Q_d!$C$12","v":0},11233.589832572825,6052.604465817868,14103.835062357441,337.83414620194901,-13766.000916155492]
[53,62.643780096900002,-150.295682150999,-1705.7954404364687,450.125739663697,{"$f":"Q_d!$C$11","v":0},{"$f":"Q_d!$C$12","v":0},11233.589832572825,6052.604465817868,14100.193584500174,337.84495793928897,-13762.348626560884]
[53,62.639780076900003,-150.413171570999,-1711.1022825041609,452.92918753800359,{"$f":"Q_d!$C$11","v":0},{"$f":"Q_d!$C$12","v":0},11233.589832572825,6052.604465817868,14103.95041030402,337.85167946008499,-13766.098730843934]
[53,62.639780076900003,-150.41717157100001,-1711.2748462811937,453.03759737387736,{"$f":"Q_d!$C$11","v":0},{"$f":"Q_d!$C$12","v":0},11233.589832572825,6052.604465817868,14104.065749563777,337.86890423653898,-13766.196845327238]
[53,62.553145464099899,-151.48036457500001,-1762.1419326896419,474.19372356196482,{"$f":"Q_d!$C$11","v":0},{"$f":"Q_d!$C$12","v":0},11233.589832572825,6052.604465817868,14142.408229292772,337.88471824721501,-13804.523511045558]
[53,62.639780074900003,-150.421171571,-1711.447403307651,453.1460179543019,{"$f":"Q_d!$C$11","v":0},{"$f":"Q_d!$C$12","v":0},11233.589832572825,6052.604465817868,14104.181080363465,337.886682335957,-13766.294398027509]
[53,62.639780075700003,-150.42454392600001,-1711.5928787118205,453.23743485275872,{"$f":"Q_d!$C$11","v":0},{"$f":"Q_d!$C$12","v":0},11233.589832572825,6052.604465817868,14104.278307520804,337.90135884012,-13766.376948680685]
[53,62.639780074900003,-150.428543926,-1711.7654230064616,453.34587569390214,{"$f":"Q_d!$C$11","v":0},{"$f":"Q_d!$C$12","v":0},11233.589832572825,6052.604465817868,14104.393622280657,337.91847268978898,-13766.475149590868]
[53,62.639780074000001,-150.432543925999,-1711.9379604365083,453.45432745670814,{"$f":"Q_d!$C$11","v":0},{"$f":"Q_d!$C$12","v":0},11233.589832572825,6052.604465817868,14104.508928406081,337.93705458857198,-13766.571873817509]
[53,62.553145463200003,-151.484364572999,-1762.3131491496304,474.30536675771646,{"$f":"Q_d!$C$11","v":0},{"$f":"Q_d!$C$12","v":0},11233.589832572825,6052.604465817868,14142.521527256655,337.93852348762999,-13804.583003769025]
[53,62.639780073600001,-150.436543927,-1712.1104910091294,453.56279022425042,{"$f":"Q_d!$C$11","v":0},{"$f":"Q_d!$C$12","v":0},11233.589832572825,6052.604465817868,14104.624225870893,337.95441258400501,-13766.669813286888]
[53,62.639780073200001,-150.44054392499899,-1712.2830145804285,453.67126384058747,{"$f":"Q_d!$C$11","v":0},{"$f":"Q_d!$C$12","v":0},11233.589832572825,6052.604465817868,14104.739514605135,337.97278343233398,-13766.7667311728]
[53,62.600462835199899,-151.04642905200001,-1740.6910558800014,466.56048899197685,{"$f":"Q_d!$C$11","v":0},{"$f":"Q_d!$C$12","v":0},11233.589832572825,6052.604465817868,14125.715977730299,337.97715886136399,-13787.738818868935]
[53,62.553145463200003,-151.487951804999,-1762.466691452513,474.40549861957697,{"$f":"Q_d!$C$11","v":0},{"$f":"Q_d!$C$12","v":0},11233.589832572825,6052.604465817868,14142.6231263268,337.986836906409,-13804.63628942039]
[53,62.639780070699899,-150.444543925999,-1712.4555315325676,453.77974827099661,{"$f":"Q_d!$C$11","v":0},{"$f":"Q_d!$C$12","v":0},11233.589832572825,6052.604465817868,14104.854794973555,337.99084013179998,-13766.863954841754]
[53,62.639780071099899,-150.448543927,-1712.6280414403773,453.88824390292621,{"$f":"Q_d!$C$11","v":0},{"$f":"Q_d!$C$12","v":0},11233.589832572825,6052.604465817868,14104.970066432345,338.00945555560997,-13766.960610876735]
[53,62.639780070299899,-150.452543926,-1712.8005444587955,453.99675029686478,{"$f":"Q_d!$C$11","v":0},{"$f":"Q_d!$C$12","v":0},11233.589832572825,6052.604465817868,14105.085329298376,338.027755175518,-13767.057574122857]
[53,62.639780070299899,-150.455368819,-1712.9223659563813,454.07338669149385,{"$f":"Q_d!$C$11","v":0},{"$f":"Q_d!$C$12","v":0},11233.589832572825,6052.604465817868,14105.166725374411,338.041161035161,-13767.125564339251]
[53,62.553145462000003,-151.49195180300001,-1762.6378945134327,474.5171623617025,{"$f":"Q_d!$C$11","v":0},{"$f":"Q_d!$C$12","v":0},11233.589832572825,6052.604465817868,14142.736407755909,338.041167080283,-13804.695240675626]
[53,62.639780068699899,-150.459368818,-1713.0948572919997,454.1819116564975,{"$f":"Q_d!$C$11","v":0},{"$f":"Q_d!$C$12","v":0},11233.589832572825,6052.604465817868,14105.281973563058,338.059667623927,-13767.222305939131]
[53,62.639780067799897,-150.463368814999,-1713.2673416242305,454.29044756059966,{"$f":"Q_d!$C$11","v":0},{"$f":"Q_d!$C$12","v":0},11233.589832572825,6052.604465817868,14105.397212984595,338.07873585305498,-13767.318477131541]
[53,62.553145461200003,-151.49564569399899,-1762.7959896519815,474.62029049767625,{"$f":"Q_d!$C$11","v":0},{"$f":"Q_d!$C$12","v":0},11233.589832572825,6052.604465817868,14142.841012337245,338.09070167190299,-13804.750310665342]
[53,62.639780068299899,-150.467368816999,-1713.4398192129593,454.39899465903818,{"$f":"Q_d!$C$11","v":0},{"$f":"Q_d!$C$12","v":0},11233.589832572825,6052.604465817868,14105.512443776475,338.09837771423798,-13767.414066062238]
[53,62.639780067399897,-150.471368815999,-1713.6122898778206,454.5075524715603,{"$f":"Q_d!$C$11","v":0},{"$f":"Q_d!$C$12","v":0},11233.589832572825,6052.604465817868,14105.627665963964,338.11679778739102,-13767.510868176574]
[53,62.639780066599897,-150.475368817999,-1713.7847537882617,454.61612130130106,{"$f":"Q_d!$C$11","v":0},{"$f":"Q_d!$C$12","v":0},11233.589832572825,6052.604465817868,14105.742879582494,338.13668287986701,-13767.606196702627]
[53,62.553145460700001,-151.499645692999,-1762.9671791047842,474.73197519446194,{"$f":"Q_d!$C$11","v":0},{"$f":"Q_d!$C$12","v":0},11233.589832572825,6052.604465817868,14142.95427693379,338.14525325072901,-13804.809023683061]
[53,62.639780066199897,-150.479368816999,-1713.9572106671717,454.72470101311637,{"$f":"Q_d!$C$11","v":0},{"$f":"Q_d!$C$12","v":0},11233.589832572825,6052.604465817868,14105.858084431562,338.15534667368399,-13767.702737757878]
[53,62.639780065399897,-150.483368815999,-1714.1296606904614,454.83329161294159,{"$f":"Q_d!$C$11","v":0},{"$f":"Q_d!$C$12","v":0},11233.589832572825,6052.604465817868,14105.973280670487,338.17547491354202,-13767.797805756945]
[53,62.639780064500002,-150.486741171999,-1714.2750461125122,454.92485164311211,{"$f":"Q_d!$C$11","v":0},{"$f":"Q_d!$C$12","v":0},11233.589832572825,6052.604465817868,14106.070394679056,338.19129428180099,-13767.879100397255]
[53,62.553145460300001,-151.50364569300001,-1763.1383615184084,474.84367077371689,{"$f":"Q_d!$C$11","v":0},{"$f":"Q_d!$C$12","v":0},11233.589832572825,6052.604465817868,14143.067532816829,338.19896689670702,-13804.868565920122]
[53,62.639780064500002,-150.49074117200001,-1714.4474834508126,455.03346248075468,{"$f":"Q_d!$C$11","v":0},{"$f":"Q_d!$C$12","v":0},11233.589832572825,6052.604465817868,14106.185574936304,338.21164656025599,-13767.973928376048]
[53,62.639780063700002,-150.49474117099899,-1714.6199139119635,455.14208414044515,{"$f":"Q_d!$C$11","v":0},{"$f":"Q_d!$C$12","v":0},11233.589832572825,6052.604465817868,14106.300746590425,338.23212020740999,-13768.068626383014]
[53,62.639780062500002,-150.49874117100001,-1714.7923375580413,455.25071671369415,{"$f":"Q_d!$C$11","v":0},{"$f":"Q_d!$C$12","v":0},11233.589832572825,6052.604465817868,14106.415909662293,338.251373745916,-13768.164535916378]
[53,62.553145459100001,-151.507645693,-1763.3095369038115,474.95537712345686,{"$f":"Q_d!$C$11","v":0},{"$f":"Q_d!$C$12","v":0},11233.589832572825,6052.604465817868,14143.18078004081,338.25374774715999,-13804.92703229365]
[53,62.639780062500002,-150.50274117199899,-1714.9647542936164,455.35936035002851,{"$f":"Q_d!$C$11","v":0},{"$f":"Q_d!$C$12","v":0},11233.589832572825,6052.604465817868,14106.531064005199,338.27209033261897,-13768.25897367258]
[53,62.647780096699897,-150.295682155999,-1705.560265465256,450.50166268221301,{"$f":"Q_d!$C$11","v":0},{"$f":"Q_d!$C$12","v":0},11233.589832572825,6052.604465817868,14099.828405922508,338.28742683404499,-13761.540979088462]
[53,62.639780062100002,-150.50674117099899,-1715.1371640833695,455.46801481754028,{"$f":"Q_d!$C$11","v":0},{"$f":"Q_d!$C$12","v":0},11233.589832572825,6052.604465817868,14106.646209678949,338.292482452684,-13768.353727226266]
[53,62.553145459100001,-151.511645692,-1763.4807050963789,475.06709440101758,{"$f":"Q_d!$C$11","v":0},{"$f":"Q_d!$C$12","v":0},11233.589832572825,6052.604465817868,14143.294018392618,338.30864323868502,-13804.985375153934]
[53,62.6397800608,-150.51074116999899,-1715.3095670423399,455.57668012319937,{"$f":"Q_d!$C$11","v":0},{"$f":"Q_d!$C$12","v":0},11233.589832572825,6052.604465817868,14106.761346786589,338.31254674339198,-13768.448800043196]
[53,62.6397800604,-150.51474117199899,-1715.4819631927294,455.68535651688808,{"$f":"Q_d!$C$11","v":0},{"$f":"Q_d!$C$12","v":0},11233.589832572825,6052.604465817868,14106.876475249559,338.33318274446498,-13768.543292505094]
[53,62.6397800592,-150.518113529,-1715.6273031627197,455.77698877500825,{"$f":"Q_d!$C$11","v":0},{"$f":"Q_d!$C$12","v":0},11233.589832572825,6052.604465817868,14106.973532129738,338.35114786416699,-13768.622384265571]
[53,62.553145458700001,-151.515645691999,-1763.6518662779079,475.17882251323317,{"$f":"Q_d!$C$11","v":0},{"$f":"Q_d!$C$12","v":0},11233.589832572825,6052.604465817868,14143.40724807627,338.36270010153299,-13805.044547974736]
[53,62.6397800588,-150.52211352800001,-1715.7996864929244,455.88568521648722,{"$f":"Q_d!$C$11","v":0},{"$f":"Q_d!$C$12","v":0},11233.589832572825,6052.604465817868,14107.0886445654,338.37155637700897,-13768.71708818839]
[53,62.639780057499898,-150.526113527999,-1715.9720630327629,455.99439252159073,{"$f":"Q_d!$C$11","v":0},{"$f":"Q_d!$C$12","v":0},11233.589832572825,6052.604465817868,14107.203748462753,338.39253881993301,-13768.811209642819]
[53,62.5531454569999,-151.519232923,-1763.8053590127049,475.27903024844363,{"$f":"Q_d!$C$11","v":0},{"$f":"Q_d!$C$12","v":0},11233.589832572825,6052.604465817868,14143.508786029737,338.41246743138697,-13805.096318598351]
[53,62.604462835299898,-151.046429052999,-1740.4514198249137,466.93360098370295,{"$f":"Q_d!$C$11","v":0},{"$f":"Q_d!$C$12","v":0},11233.589832572825,6052.604465817868,14125.348329481138,338.41255083846897,-13786.935778642668]
[53,62.639780057899898,-150.530113526999,-1716.1444325416751,456.1031108793959,{"$f":"Q_d!$C$11","v":0},{"$f":"Q_d!$C$12","v":0},11233.589832572825,6052.604465817868,14107.318843526176,338.414086140042,-13768.904757386133]
[53,62.639780056699898,-150.53411352800001,-1716.316795343409,456.21184006157546,{"$f":"Q_d!$C$11","v":0},{"$f":"Q_d!$C$12","v":0},11233.589832572825,6052.604465817868,14107.433930143647,338.43485764028497,-13768.999072503362]
[53,62.639780056699898,-150.538113527999,-1716.4891511422654,456.32058024860089,{"$f":"Q_d!$C$11","v":0},{"$f":"Q_d!$C$12","v":0},11233.589832572825,6052.604465817868,14107.549007972346,338.456205409208,-13769.092802563138]
[53,62.5531454569999,-151.52323292200001,{"$f":"lcpx(B248,C248,63,-115,70,60)","v":-1763.9765066997147},{"$f":"lcpy(B248,C248,63,-115,70,60)","v":475.39077893742751},{"$f":"Q_d!$C$11","v":0},{"$f":"Q_d!$C$12","v":0},{"$f":"lcpx(F248,G248,63,-115,70,60)","v":11233.589832572825},{"$f":"lcpy(F248,G248,63,-115,70,60)","v":6052.604465817868},{"$f":"SQRT((H248-D248)^2+(I248-E248)^2)","v":14143.621999082026},338.46674143407301,-13805.155257647953]
[53,62.639780054600003,-150.542113526999,-1716.6615001328896,456.42933113072741,{"$f":"Q_d!$C$11","v":0},{"$f":"Q_d!$C$12","v":0},11233.589832572825,6052.604465817868,14107.664077314032,338.47811637534198,-13769.18596093869]
[53,62.639780055000003,-150.54611352699899,-1716.8338421286032,456.53809319310767,{"$f":"Q_d!$C$11","v":0},{"$f":"Q_d!$C$12","v":0},11233.589832572825,6052.604465817868,14107.779137805101,338.50014841946501,-13769.278989385635]
[53,62.639780054200003,-150.54948588299899,-1716.9791364829746,456.62979766779927,{"$f":"Q_d!$C$11","v":0},{"$f":"Q_d!$C$12","v":0},11233.589832572825,6052.604465817868,14107.876137422254,338.51757716993001,-13769.358560252324]
[53,62.5531454569999,-151.52692681299899,-1764.1345506763503,475.4939854620402,{"$f":"Q_d!$C$11","v":0},{"$f":"Q_d!$C$12","v":0},11233.589832572825,6052.604465817868,14143.726540519827,338.51836274122502,-13805.208177778602]
[53,62.639780053800003,-150.55348588300001,-1717.1514658251704,456.73857977819307,{"$f":"Q_d!$C$11","v":0},{"$f":"Q_d!$C$12","v":0},11233.589832572825,6052.604465817868,14107.991182041971,338.53983260467299,-13769.451349437299]
[53,62.639780053000003,-150.557485882999,-1717.3237882988781,456.8473727684941,{"$f":"Q_d!$C$11","v":0},{"$f":"Q_d!$C$12","v":0},11233.589832572825,6052.604465817868,14108.106218046863,338.56220905027101,-13769.544008996592]
[53,62.5531454557999,-151.530926811999,-1764.3056848172816,475.60575489465828,{"$f":"Q_d!$C$11","v":0},{"$f":"Q_d!$C$12","v":0},11233.589832572825,6052.604465817868,14143.839736882943,338.57285642088902,-13805.266880462053]
[53,62.639780052200003,-150.56148588299899,-1717.4961038798672,456.95617667584338,{"$f":"Q_d!$C$11","v":0},{"$f":"Q_d!$C$12","v":0},11233.589832572825,6052.604465817868,14108.221245400171,338.58426806483402,-13769.636977335336]
[53,62.639780051700001,-150.56548588300001,-1717.6684125496897,457.06499152792412,{"$f":"Q_d!$C$11","v":0},{"$f":"Q_d!$C$12","v":0},11233.589832572825,6052.604465817868,14108.336264074193,338.60688699729599,-13769.729377076896]
[53,62.553145454499898,-151.534926812999,-1764.4768119685154,475.71753521561777,{"$f":"Q_d!$C$11","v":0},{"$f":"Q_d!$C$12","v":0},11233.589832572825,6052.604465817868,14143.952924577357,338.62841812523601,-13805.324506452122]
[53,62.639780050500001,-150.569485882999,-1717.840714366718,457.17381723048766,{"$f":"Q_d!$C$11","v":0},{"$f":"Q_d!$C$12","v":0},11233.589832572825,6052.604465817868,14108.451274160097,338.62872757342899,-13769.822546586669]
[53,62.639780050900001,-150.57348588299899,-1718.0130091942267,457.28265399874772,{"$f":"Q_d!$C$11","v":0},{"$f":"Q_d!$C$12","v":0},11233.589832572825,6052.604465817868,14108.56627544724,338.65115129289001,{"$f":"K260-J260","v":-13769.91512415435}]
[53,62.639780050100001,-150.577485881,-1718.1852971111509,457.39150151541253,{"$f":"Q_d!$C$11","v":0},{"$f":"Q_d!$C$12","v":0},11233.589832572825,6052.604465817868,14108.681268134122,338.674133244627,-13770.007134889494]
[53,62.553145454499898,-151.538926812,-1764.6479318733898,475.82932644265384,{"$f":"Q_d!$C$11","v":0},{"$f":"Q_d!$C$12","v":0},11233.589832572825,6052.604465817868,14144.066103360417,338.68409408916699,-13805.38200927125]
[53,62.639780049300001,-150.580858237999,-1718.3305459238468,457.48327820090935,{"$f":"Q_d!$C$11","v":0},{"$f":"Q_d!$C$12","v":0},11233.589832572825,6052.604465817868,14108.77821056939,338.69370088326099,-13770.084509686129]
[53,62.639780048399899,-150.584858238999,-1718.5028212649872,457.59214590648753,{"$f":"Q_d!$C$11","v":0},{"$f":"Q_d!$C$12","v":0},11233.589832572825,6052.604465817868,14108.893187403453,338.71690560259901,-13770.176281800854]
[53,62.6517800958,-150.29568215800001,-1705.3250910943705,450.87758445301233,{"$f":"Q_d!$C$11","v":0},{"$f":"Q_d!$C$12","v":0},11233.589832572825,6052.604465817868,14099.463232878876,338.72989815633298,-13760.733334722543]
[53,62.553145453299898,-151.542926811999,-1764.8190448110172,475.94112842703953,{"$f":"Q_d!$C$11","v":0},{"$f":"Q_d!$C$12","v":0},11233.589832572825,6052.604465817868,14144.179273547477,338.739585742499,-13805.439687804977]
[53,62.639780046799899,-150.58885823700001,-1718.6750896209303,457.70102437888272,{"$f":"Q_d!$C$11","v":0},{"$f":"Q_d!$C$12","v":0},11233.589832572825,6052.604465817868,14109.008155562056,338.739796405736,-13770.26835915632]
[53,62.639780047599899,-150.592858237,-1718.8473510226254,457.80991404417591,{"$f":"Q_d!$C$11","v":0},{"$f":"Q_d!$C$12","v":0},11233.589832572825,6052.604465817868,14109.12311490486,338.76234246002002,-13770.360772444839]
[53,62.639780045499897,-150.596858236999,-1719.0196056971834,457.91881435085952,{"$f":"Q_d!$C$11","v":0},{"$f":"Q_d!$C$12","v":0},11233.589832572825,6052.604465817868,14109.238065859266,338.78590984277901,-13770.452156016487]
[53,62.553145452899898,-151.54692681,-1764.990150531273,476.05294127020488,{"$f":"Q_d!$C$11","v":0},{"$f":"Q_d!$C$12","v":0},11233.589832572825,6052.604465817868,14144.292434868894,338.79453603179599,-13805.497898837099]
[53,62.639780045499897,-150.600858238999,-1719.1918534339341,458.02772582152147,{"$f":"Q_d!$C$11","v":0},{"$f":"Q_d!$C$12","v":0},11233.589832572825,6052.604465817868,14109.353008024864,338.80959797060001,-13770.543410054264]
[53,62.610901879799897,-151.01545177099899,-1738.7362049566298,466.68081740404932,{"$f":"Q_d!$C$11","v":0},{"$f":"Q_d!$C$12","v":0},11233.589832572825,6052.604465817868,14123.872904762113,338.81772025235,-13785.055184509763]
[53,62.639780045499897,-150.604858237999,-1719.364094141232,458.13664812277693,{"$f":"Q_d!$C$11","v":0},{"$f":"Q_d!$C$12","v":0},11233.589832572825,6052.604465817868,14109.467941449924,338.83297423509401,-13770.63496721483]
[53,62.553145452499898,-151.550514042,-1765.1435935639859,476.15322518850735,{"$f":"Q_d!$C$11","v":0},{"$f":"Q_d!$C$12","v":0},11233.589832572825,6052.604465817868,14144.393911471894,338.84540646878997,-13805.548505003104]
[53,62.6084628354999,-151.046429058,-1740.2117846489678,467.30671198429036,{"$f":"Q_d!$C$11","v":0},{"$f":"Q_d!$C$12","v":0},11233.589832572825,6052.604465817868,14124.980686783441,338.84796395433699,-13786.132722829105]
[53,62.610901880599897,-151.01945177299899,-1738.9078975018194,466.79097804855246,{"$f":"Q_d!$C$11","v":0},{"$f":"Q_d!$C$12","v":0},11233.589832572825,6052.604465817868,14123.987031887895,338.85646212666501,-13785.13056976123]
[53,62.639780043499897,-150.60885823800001,-1719.5363281091943,458.2455811757527,{"$f":"Q_d!$C$11","v":0},{"$f":"Q_d!$C$12","v":0},11233.589832572825,6052.604465817868,14109.582866432271,338.85690431508101,-13770.725962117191]
[53,62.639780043499897,-150.61223059400001,-1719.681531210892,458.33743006997929,{"$f":"Q_d!$C$11","v":0},{"$f":"Q_d!$C$12","v":0},11233.589832572825,6052.604465817868,14109.679751542015,338.87727131957303,-13770.802480222443]
[53,62.610901878999897,-151.02345177300001,-1739.0795831254911,466.90114929118863,{"$f":"Q_d!$C$11","v":0},{"$f":"Q_d!$C$12","v":0},11233.589832572825,6052.604465817868,14124.101150489245,338.89402058608198,-13785.207129903163]
[53,62.639780043099897,-150.616230594,-1719.8537523631164,458.44638338318828,{"$f":"Q_d!$C$11","v":0},{"$f":"Q_d!$C$12","v":0},11233.589832572825,6052.604465817868,14109.794660426047,338.90142380344099,-13770.893236622605]
[53,62.553145451600003,-151.554514041,-1765.314685919577,476.26505857409074,{"$f":"Q_d!$C$11","v":0},{"$f":"Q_d!$C$12","v":0},11233.589832572825,6052.604465817868,14144.507056297934,338.901527423527,-13805.605528874408]
[53,62.639780042700004,-150.620230593999,-1720.025966612372,458.55534760698038,{"$f":"Q_d!$C$11","v":0},{"$f":"Q_d!$C$12","v":0},11233.589832572825,6052.604465817868,14109.909560654753,338.92526639659002,-13770.984294258162]
[53,62.610901878200004,-151.027451772999,-1739.2512617210932,467.01133148509007,{"$f":"Q_d!$C$11","v":0},{"$f":"Q_d!$C$12","v":0},11233.589832572825,6052.604465817868,14124.215260328854,338.931697869939,-13785.283562458915]
[53,62.639780041400002,-150.624230592999,-1720.1981739683688,458.66432262940089,{"$f":"Q_d!$C$11","v":0},{"$f":"Q_d!$C$12","v":0},11233.589832572825,6052.604465817868,14110.024452281643,338.94966063561702,-13771.074791646026]
[53,62.553145450800002,-151.558207928999,-1765.4726786641872,476.36834322960749,{"$f":"Q_d!$C$11","v":0},{"$f":"Q_d!$C$12","v":0},11233.589832572825,6052.604465817868,14144.611534641228,338.95301961923798,-13805.658515021991]
[53,62.610901878200004,-151.03145177299899,-1739.422933288065,467.12152462986933,{"$f":"Q_d!$C$11","v":0},{"$f":"Q_d!$C$12","v":0},11233.589832572825,6052.604465817868,14124.329361406571,338.96986717111002,-13785.359494235461]
[53,62.639780040600002,-150.628230594999,-1720.3703745195808,458.77330869012849,{"$f":"Q_d!$C$11","v":0},{"$f":"Q_d!$C$12","v":0},11233.589832572825,6052.604465817868,14110.139335293134,338.97417544408802,-13771.165159849046]
[53,62.639780041000002,-150.632230593,-1720.542567922497,458.88230566358243,{"$f":"Q_d!$C$11","v":0},{"$f":"Q_d!$C$12","v":0},11233.589832572825,6052.604465817868,14110.254209423863,338.99881079584901,-13771.255398628015]
[53,62.654219044900003,-150.29568216000001,-1705.1816968532603,451.10679750221607,{"$f":"Q_d!$C$11","v":0},{"$f":"Q_d!$C$12","v":0},11233.589832572825,6052.604465817868,14099.240575961272,338.999798135633,-13760.240777825638]
[53,62.610901877300002,-151.03545177199899,-1739.5945978845559,467.23172853891583,{"$f":"Q_d!$C$11","v":0},{"$f":"Q_d!$C$12","v":0},11233.589832572825,6052.604465817868,14124.44345384981,339.00778143576503,-13785.435672414045]
[53,62.553145450800002,-151.56220793099899,-1765.6437574643521,476.48019763085904,{"$f":"Q_d!$C$11","v":0},{"$f":"Q_d!$C$12","v":0},11233.589832572825,6052.604465817868,14144.724662665403,339.00935974099502,-13805.715302924407]
[53,62.639780040200002,-150.636230592999,-1720.7147545768912,458.99131348792753,{"$f":"Q_d!$C$11","v":0},{"$f":"Q_d!$C$12","v":0},11233.589832572825,6052.604465817868,14110.369075065566,339.02356666461998,-13771.345508400946]
[53,62.610901876900002,-151.03945177200001,-1739.76625551191,467.34194339752548,{"$f":"Q_d!$C$11","v":0},{"$f":"Q_d!$C$12","v":0},11233.589832572825,6052.604465817868,14124.557537586743,339.04581440566398,-13785.511723181078]
[53,62.6397800381,-150.640230591999,-1720.8869343590111,459.10033207170409,{"$f":"Q_d!$C$11","v":0},{"$f":"Q_d!$C$12","v":0},11233.589832572825,6052.604465817868,14110.483932141098,339.04844302400198,-13771.435489117097]
[53,62.553145450000002,-151.56620793100001,-1765.8148291408502,476.59206274020244,{"$f":"Q_d!$C$11","v":0},{"$f":"Q_d!$C$12","v":0},11233.589832572825,6052.604465817868,14144.837781970467,339.065813736802,-13805.771968233665]
[53,62.639780039400001,-150.643055758,-1721.0085391790312,459.17733782355799,{"$f":"Q_d!$C$11","v":0},{"$f":"Q_d!$C$12","v":0},11233.589832572825,6052.604465817868,14110.565049266401,339.06587708290499,-13771.499172183496]
[53,62.613341056800003,-151.01546464,-1738.5907412832264,466.90876332888911,{"$f":"Q_d!$C$11","v":0},{"$f":"Q_d!$C$12","v":0},11233.589832572825,6052.604465817868,14123.649150326984,339.08385843770202,-13784.565291889283]
[53,62.610901875300002,-151.04345177299899,-1739.9379062711319,467.45216904659719,{"$f":"Q_d!$C$11","v":0},{"$f":"Q_d!$C$12","v":0},11233.589832572825,6052.604465817868,14124.671612773269,339.085266026113,-13785.586346747155]
[53,62.6397800385,-150.647055757999,-1721.180707147106,459.28637515887704,{"$f":"Q_d!$C$11","v":0},{"$f":"Q_d!$C$12","v":0},11233.589832572825,6052.604465817868,14110.679891489588,339.09095925577202,-13771.588932233815]
[53,62.610901876100002,-151.046429058,-1740.0656648942252,467.5342195641183,{"$f":"Q_d!$C$11","v":0},{"$f":"Q_d!$C$12","v":0},11233.589832572825,6052.604465817868,14124.756515513673,339.11386425211202,-13785.64265126156]
[53,62.6397800381,-150.65105575600001,-1721.3528680912868,459.39542339378204,{"$f":"Q_d!$C$11","v":0},{"$f":"Q_d!$C$12","v":0},11233.589832572825,6052.604465817868,14110.794724952417,339.11616184723403,-13771.678563105183]
[53,62.5531454487,-151.570207930999,-1765.9858937602146,476.70393864087237,{"$f":"Q_d!$C$11","v":0},{"$f":"Q_d!$C$12","v":0},11233.589832572825,6052.604465817868,14144.950892584953,339.12142597158299,-13805.82946661337]
[53,62.6397800369,-150.655055755999,-1721.5250222599891,459.50448251502985,{"$f":"Q_d!$C$11","v":0},{"$f":"Q_d!$C$12","v":0},11233.589832572825,6052.604465817868,14110.909549888414,339.14105901232301,-13771.768490876091]
[53,62.6397800360999,-150.659055757999,-1721.6971695814591,459.6135526346493,{"$f":"Q_d!$C$11","v":0},{"$f":"Q_d!$C$12","v":0},11233.589832572825,6052.604465817868,14111.024366187516,339.16650289938701,-13771.857863288129]
[53,62.553145449200002,-151.57420793200001,-1766.1569512251201,476.81582557389765,{"$f":"Q_d!$C$11","v":0},{"$f":"Q_d!$C$12","v":0},11233.589832572825,6052.604465817868,14145.063994324619,339.17810737428198,-13805.885886950336]
[53,62.639780034799898,-150.66305575800001,-1721.8693099362486,459.72263355887435,{"$f":"Q_d!$C$11","v":0},{"$f":"Q_d!$C$12","v":0},11233.589832572825,6052.604465817868,14111.139173817068,339.192067124218,-13771.947106692849]
[53,62.639780034399898,-150.667055755999,-1722.0414432404739,459.83172541825024,{"$f":"Q_d!$C$11","v":0},{"$f":"Q_d!$C$12","v":0},11233.589832572825,6052.604465817868,14111.253972648525,339.21775165960798,-13772.036220988917]
[53,62.5531454483,-151.578207931999,-1766.328001643371,476.92772318587959,{"$f":"Q_d!$C$11","v":0},{"$f":"Q_d!$C$12","v":0},11233.589832572825,6052.604465817868,14145.177087428054,339.23460885057102,-13805.942478577483]
[53,62.639780034399898,-150.671055757999,-1722.2135697814317,459.94082832924414,{"$f":"Q_d!$C$11","v":0},{"$f":"Q_d!$C$12","v":0},11233.589832572825,6052.604465817868,14111.368762899707,339.24355647823199,-13772.125206421475]
[53,62.5531454479,-151.579641221999,-1766.3892911363409,476.96782124793026,{"$f":"Q_d!$C$11","v":0},{"$f":"Q_d!$C$12","v":0},11233.589832572825,6052.604465817868,14145.217609112462,339.25494151891098,-13805.962667593551]
[53,62.639780033599898,-150.67442811199899,-1722.3586822930699,460.03282009020268,{"$f":"Q_d!$C$11","v":0},{"$f":"Q_d!$C$12","v":0},11233.589832572825,6052.604465817868,14111.465534537965,339.26550404808302,-13772.200030489883]
[53,62.5531454553999,-151.580371571999,{"$f":"lcpx(B312,C312,63,-115,70,60)","v":-1766.420521110171},{"$f":"lcpy(B312,C312,63,-115,70,60)","v":476.98825494309676},{"$f":"Q_d!$C$11","v":0},{"$f":"Q_d!$C$12","v":0},{"$f":"lcpx(F312,G312,63,-115,70,60)","v":11233.589832572825},{"$f":"lcpy(F312,G312,63,-115,70,60)","v":6052.604465817868},{"$f":"SQRT((H312-D312)^2+(I312-E312)^2)","v":14145.238256276727},339.26592262265302,-13805.972333654074]
[53,62.639780032700003,-150.67842811099899,-1722.5307960176651,460.14194293291939,{"$f":"Q_d!$C$11","v":0},{"$f":"Q_d!$C$12","v":0},11233.589832572825,6052.604465817868,14111.580308826531,339.29153050731998,-13772.288778319211]
[53,62.639780032300003,-150.68242811299899,-1722.7029029280038,460.25107680808424,{"$f":"Q_d!$C$11","v":0},{"$f":"Q_d!$C$12","v":0},11233.589832572825,6052.604465817868,14111.695074496216,339.31858370858498,-13772.37649078763]
[53,62.639780031100003,-150.68642811199899,-1722.8750028424072,460.36022142986167,{"$f":"Q_d!$C$11","v":0},{"$f":"Q_d!$C$12","v":0},11233.589832572825,6052.604465817868,14111.8098314937,339.34442921609798,-13772.465402277601]
[53,62.5537693222999,-151.58177104999899,-1766.4424946816166,477.08528533403614,{"$f":"Q_d!$C$11","v":0},{"$f":"Q_d!$C$12","v":0},11233.589832572825,6052.604465817868,14145.220204776015,339.35220604262997,-13805.867998733385]
[53,62.639780030700003,-150.69042811200001,-1723.0470958373389,460.46937705676692,{"$f":"Q_d!$C$11","v":0},{"$f":"Q_d!$C$12","v":0},11233.589832572825,6052.604465817868,14111.92457978695,339.37081699668801,-13772.553762790261]
[53,62.639780030300003,-150.694428111999,-1723.2191819164461,460.57854358609802,{"$f":"Q_d!$C$11","v":0},{"$f":"Q_d!$C$12","v":0},11233.589832572825,6052.604465817868,14112.039319420226,339.397324898119,-13772.641994522108]
[53,62.639780029400001,-150.698428110999,-1723.391261065846,460.68772094340102,{"$f":"Q_d!$C$11","v":0},{"$f":"Q_d!$C$12","v":0},11233.589832572825,6052.604465817868,14112.154050410498,339.42395289224902,-13772.730097518248]
[53,62.658219044299898,-150.295682163999,-1704.9465236573947,451.48271758648389,{"$f":"Q_d!$C$11","v":0},{"$f":"Q_d!$C$12","v":0},11233.589832572825,6052.604465817868,14098.875411890189,339.44227340889603,-13759.433138481292]
[53,62.639780028200001,-150.70242811099899,-1723.5633333589728,460.79690920152598,{"$f":"Q_d!$C$11","v":0},{"$f":"Q_d!$C$12","v":0},11233.589832572825,6052.604465817868,14112.268772796528,339.45070095081502,-13772.818071845713]
[53,62.639780028200001,-150.70580046699899,-1723.7084001816995,460.88897318519275,{"$f":"Q_d!$C$11","v":0},{"$f":"Q_d!$C$12","v":0},11233.589832572825,6052.604465817868,14112.365487156709,339.47435174103998,-13772.891135415668]
[53,62.639780028200001,-150.709800467999,-1723.8804596958871,460.99818167442027,{"$f":"Q_d!$C$11","v":0},{"$f":"Q_d!$C$12","v":0},11233.589832572825,6052.604465817868,14112.480193498899,339.501321283143,-13772.978872215755]
[53,62.617341000099898,-151.01548573900001,-1738.352199341876,467.28256481291328,{"$f":"Q_d!$C$11","v":0},{"$f":"Q_d!$C$12","v":0},11233.589832572825,6052.604465817868,14123.282225361105,339.51987382331498,{"$f":"K324-J324","v":-13783.762351537789}]
[53,62.639780026099899,-150.71380046900001,-1724.0525124158048,461.10740086748865,{"$f":"Q_d!$C$11","v":0},{"$f":"Q_d!$C$12","v":0},11233.589832572825,6052.604465817868,14112.594891372428,339.528410808285,-13773.066480564143]
[53,62.639780025699899,-150.717800468999,-1724.2245580718477,461.21663109223709,{"$f":"Q_d!$C$11","v":0},{"$f":"Q_d!$C$12","v":0},11233.589832572825,6052.604465817868,14112.709580400071,339.55562028775103,-13773.15396011232]
[53,62.5551977346,-151.585622161999,-1766.520449264181,477.32554374607253,{"$f":"Q_d!$C$11","v":0},{"$f":"Q_d!$C$12","v":0},11233.589832572825,6052.604465817868,14145.197149521186,339.55882101633,-13805.638328504856]
[53,62.639780024499899,-150.72180046700001,-1724.3965967690378,461.32587208703353,{"$f":"Q_d!$C$11","v":0},{"$f":"Q_d!$C$12","v":0},11233.589832572825,6052.604465817868,14112.824260782127,339.58294969270702,-13773.241311089419]
[53,62.639780025299899,-150.725800466999,-1724.5686285121531,461.43512422259937,{"$f":"Q_d!$C$11","v":0},{"$f":"Q_d!$C$12","v":0},11233.589832572825,6052.604465817868,14112.938932376313,339.61130823634198,-13773.327624139971]
[53,62.639780022799897,-150.72980046800001,-1724.7406535726491,461.54438697533624,{"$f":"Q_d!$C$11","v":0},{"$f":"Q_d!$C$12","v":0},11233.589832572825,6052.604465817868,14113.053595639529,339.638877652426,-13773.414717987103]
[53,62.639780024099899,-150.733800465999,-1724.9126713556452,461.6536608998158,{"$f":"Q_d!$C$11","v":0},{"$f":"Q_d!$C$12","v":0},11233.589832572825,6052.604465817868,14113.168249806075,339.66656690642901,-13773.501682899645]
[53,62.639780023299899,-150.73717282499899,-1725.0576925916221,461.74579696110914,{"$f":"Q_d!$C$11","v":0},{"$f":"Q_d!$C$12","v":0},11233.589832572825,6052.604465817868,14113.264907050439,339.690103183769,-13773.57480386667]
[53,62.639780022399897,-150.74117282399899,-1725.2296977877859,461.85509079221856,{"$f":"Q_d!$C$11","v":0},{"$f":"Q_d!$C$12","v":0},11233.589832572825,6052.604465817868,14113.379545481137,339.71892344260101,-13773.660622038537]
[53,62.639780021599897,-150.745172824999,-1725.4016961395141,461.96439558425573,{"$f":"Q_d!$C$11","v":0},{"$f":"Q_d!$C$12","v":0},11233.589832572825,6052.604465817868,14113.494175296912,339.74695351099098,-13773.747221785921]
[53,62.639780020800004,-150.749172823999,-1725.5736874800548,462.07371121813276,{"$f":"Q_d!$C$11","v":0},{"$f":"Q_d!$C$12","v":0},11233.589832572825,6052.604465817868,14113.608796392042,339.775103303641,-13773.833693088402]
[53,62.639780020400003,-150.753172823,-1725.745671870985,462.1830377854867,{"$f":"Q_d!$C$11","v":0},{"$f":"Q_d!$C$12","v":0},11233.589832572825,6052.604465817868,14113.723408786978,339.80428371784802,-13773.919125069131]
[53,62.556974867000001,-151.589941619999,-1766.5972322541011,477.61125387829316,{"$f":"Q_d!$C$11","v":0},{"$f":"Q_d!$C$12","v":0},11233.589832572825,6052.604465817868,14145.155108151541,339.80978035512697,-13805.345327796414]
[53,62.639780019900002,-150.75717282400001,-1725.9176494272433,462.29237529372767,{"$f":"Q_d!$C$11","v":0},{"$f":"Q_d!$C$12","v":0},11233.589832572825,6052.604465817868,14113.838012584532,339.83267311428398,-13774.005339470248]
[53,62.639780019100002,-150.76117282300001,-1726.0896199881015,462.40172361439909,{"$f":"Q_d!$C$11","v":0},{"$f":"Q_d!$C$12","v":0},11233.589832572825,6052.604465817868,14113.952607688218,339.86118214500402,-13774.091425543214]
[53,62.662219044099899,-150.29568216600001,-1704.7113510376955,451.8586365578708,{"$f":"Q_d!$C$11","v":0},{"$f":"Q_d!$C$12","v":0},11233.589832572825,6052.604465817868,14098.510253278204,339.88475108483402,-13758.62550219337]
[53,62.639780018700002,-150.76517282399899,-1726.2615836831596,462.51108292186518,{"$f":"Q_d!$C$11","v":0},{"$f":"Q_d!$C$12","v":0},11233.589832572825,6052.604465817868,14114.067194148181,339.89072244031598,-13774.176471707866]
[53,62.639780017900001,-150.76854517800001,-1726.4065589051163,462.6032908943339,{"$f":"Q_d!$C$11","v":0},{"$f":"Q_d!$C$12","v":0},11233.589832572825,6052.604465817868,14114.16379396129,339.915050873008,-13774.248743088283]
[53,62.6397800162,-150.77254517700001,-1726.5785098209631,462.71267010434212,{"$f":"Q_d!$C$11","v":0},{"$f":"Q_d!$C$12","v":0},11233.589832572825,6052.604465817868,14114.278364513417,339.94390013206498,-13774.334464381353]
[53,62.6213409446,-151.01550683900001,-1738.1136578313324,467.65636517102757,{"$f":"Q_d!$C$11","v":0},{"$f":"Q_d!$C$12","v":0},11233.589832572825,6052.604465817868,14122.915305625895,339.95628406605402,-13782.95902155984]
[53,62.6397800162,-150.77654517900001,-1726.7504538347089,462.82206044888062,{"$f":"Q_d!$C$11","v":0},{"$f":"Q_d!$C$12","v":0},11233.589832572825,6052.604465817868,14114.392926330584,339.97378126114302,-13774.41914506944]
[53,62.6397800158,-150.78054517800001,-1726.922390812698,462.93146156699959,{"$f":"Q_d!$C$11","v":0},{"$f":"Q_d!$C$12","v":0},11233.589832572825,6052.604465817868,14114.507479433227,340.00286976730001,-13774.504609665926]
[53,62.558666298399899,-151.59253366799899,-1766.6053468099797,477.84067799272998,{"$f":"Q_d!$C$11","v":0},{"$f":"Q_d!$C$12","v":0},11233.589832572825,6052.604465817868,14145.072145171067,340.02644582443799,-13805.045699346629]
[53,62.6397800145999,-150.78454518000001,-1727.094321035966,463.04087358494735,{"$f":"Q_d!$C$11","v":0},{"$f":"Q_d!$C$12","v":0},11233.589832572825,6052.604465817868,14114.622024029613,340.03207772944,-13774.589946300173]
[53,62.6397800149999,-150.788545177999,-1727.2662440600441,463.15029653525744,{"$f":"Q_d!$C$11","v":0},{"$f":"Q_d!$C$12","v":0},11233.589832572825,6052.604465817868,14114.73655969894,340.06231819623798,-13774.674241502702]
[53,62.6397800141999,-150.79254517800001,-1727.4381603089298,463.2597303198263,{"$f":"Q_d!$C$11","v":0},{"$f":"Q_d!$C$12","v":0},11233.589832572825,6052.604465817868,14114.851086869607,340.09176521933,-13774.759321650277]
[53,62.625340893999898,-150.98417083300001,-1736.5295999674113,467.16739038415972,{"$f":"Q_d!$C$11","v":0},{"$f":"Q_d!$C$12","v":0},11233.589832572825,6052.604465817868,14121.65377772686,340.10276374207803,-13781.551013984783]
[53,62.639780012899898,-150.796545178999,-1727.6100696971171,463.36917497623153,{"$f":"Q_d!$C$11","v":0},{"$f":"Q_d!$C$12","v":0},11233.589832572825,6052.604465817868,14114.965605448422,340.12224516782197,-13774.8433602806]
[53,62.625340892799898,-150.98817083399899,-1736.7012617676205,467.27741101722813,{"$f":"Q_d!$C$11","v":0},{"$f":"Q_d!$C$12","v":0},11233.589832572825,6052.604465817868,14121.76792689269,340.13910368700601,-13781.628823205683]
[53,62.639780012499898,-150.79991753300001,-1727.7549990604143,463.4614550110914,{"$f":"Q_d!$C$11","v":0},{"$f":"Q_d!$C$12","v":0},11233.589832572825,6052.604465817868,14115.062147923965,340.14736416588602,-13774.914783758079]
[53,62.625340891999898,-150.99217083400001,-1736.8729165305381,467.38744253534105,{"$f":"Q_d!$C$11","v":0},{"$f":"Q_d!$C$12","v":0},11233.589832572825,6052.604465817868,14121.882067311102,340.175941691942,-13781.706125619161]
[53,62.639780012099898,-150.803917536,-1727.9268957004008,463.57091987887679,{"$f":"Q_d!$C$11","v":0},{"$f":"Q_d!$C$12","v":0},11233.589832572825,6052.604465817868,14115.176650504167,340.17755642752201,-13774.999094076646]
[53,62.639780011299898,-150.807917532999,-1728.0987851710045,463.6803954350612,{"$f":"Q_d!$C$11","v":0},{"$f":"Q_d!$C$12","v":0},11233.589832572825,6052.604465817868,14115.291144282299,340.20837596537802,-13775.082768316921]
[53,62.625340891999898,-150.996170831999,-1737.0445641884548,467.49748494775122,{"$f":"Q_d!$C$11","v":0},{"$f":"Q_d!$C$12","v":0},11233.589832572825,6052.604465817868,14121.99619891646,340.212518361685,-13781.783680554776]
[53,62.639780010499898,-150.811917534999,-1728.2706679205021,463.78988201771745,{"$f":"Q_d!$C$11","v":0},{"$f":"Q_d!$C$12","v":0},11233.589832572825,6052.604465817868,14115.405629536346,340.23840073983399,-13775.167228796512]
[53,62.625340890700002,-151.00017083399899,-1737.2162051239211,467.6075382231993,{"$f":"Q_d!$C$11","v":0},{"$f":"Q_d!$C$12","v":0},11233.589832572825,6052.604465817868,14122.110322072698,340.24921360967102,-13781.861108463027]
[53,62.639780009200003,-150.815917533999,-1728.4425436341669,463.89937936067827,{"$f":"Q_d!$C$11","v":0},{"$f":"Q_d!$C$12","v":0},11233.589832572825,6052.604465817868,14115.520106082904,340.269459449419,-13775.250646633485]
[53,62.625340890700002,-151.00417083400001,-1737.3878389232193,467.7176024387918,{"$f":"Q_d!$C$11","v":0},{"$f":"Q_d!$C$12","v":0},11233.589832572825,6052.604465817868,14122.224436369546,340.28640516629503,-13781.938031203252]
[53,62.639780009600003,-150.81991753400001,-1728.6144123521963,464.0088877786834,{"$f":"Q_d!$C$11","v":0},{"$f":"Q_d!$C$12","v":0},11233.589832572825,6052.604465817868,14115.634573834483,340.29972285178201,-13775.334850982701]
[53,62.625340890300002,-151.00817083300001,-1737.5594657302076,467.8276774628971,{"$f":"Q_d!$C$11","v":0},{"$f":"Q_d!$C$12","v":0},11233.589832572825,6052.604465817868,14122.338541991399,340.32333690918102,-13782.015205082218]
[53,62.560996470200003,-151.59594295400001,-1766.6095925661748,478.1522117913787,{"$f":"Q_d!$C$11","v":0},{"$f":"Q_d!$C$12","v":0},11233.589832572825,6052.604465817868,14144.953270541595,340.32368066298301,-13804.629589878612]
[53,62.666219043399899,-150.295682166999,-1704.4761790890429,452.2345543603833,{"$f":"Q_d!$C$11","v":0},{"$f":"Q_d!$C$12","v":0},11233.589832572825,6052.604465817868,14098.145100234937,340.327231154076,-13757.81786908086]
[53,62.639780008400002,-150.82391753300001,-1728.786274184451,464.11840690796998,{"$f":"Q_d!$C$11","v":0},{"$f":"Q_d!$C$12","v":0},11233.589832572825,6052.604465817868,14115.749033036192,340.33102060346999,-13775.418012432723]
[53,62.625340888300002,-151.01217083200001,-1737.7310856589856,467.9377632106507,{"$f":"Q_d!$C$11","v":0},{"$f":"Q_d!$C$12","v":0},11233.589832572825,6052.604465817868,14122.452639076822,340.360387114893,-13782.092251961929]
[53,62.639780007600002,-150.827917533,-1728.9581290970755,464.22793698986879,{"$f":"Q_d!$C$11","v":0},{"$f":"Q_d!$C$12","v":0},11233.589832572825,6052.604465817868,14115.863483561612,340.36152250511498,-13775.501961056498]
[53,62.639780007600002,-150.830742415999,-1729.0794923877779,464.30529601875332,{"$f":"Q_d!$C$11","v":0},{"$f":"Q_d!$C$12","v":0},11233.589832572825,6052.604465817868,14115.944305623059,340.38425998421201,-13775.560045638847]
[53,62.625340889100002,-151.015527939999,-1737.8751168223171,468.03016429286845,{"$f":"Q_d!$C$11","v":0},{"$f":"Q_d!$C$12","v":0},11233.589832572825,6052.604465817868,14122.54839123025,340.39233731093299,-13782.156053919316]
[53,62.639780005900001,-150.834742417,-1729.2513355563747,464.41484461997925,{"$f":"Q_d!$C$11","v":0},{"$f":"Q_d!$C$12","v":0},11233.589832572825,6052.604465817868,14116.0587414692,340.41496503532198,-13775.643776433877]
[53,62.639780005900001,-150.838742416,-1729.4231715970645,464.52440421195797,{"$f":"Q_d!$C$11","v":0},{"$f":"Q_d!$C$12","v":0},11233.589832572825,6052.604465817868,14116.173168433264,340.446705197744,-13775.72646323552]
[53,62.562038755099898,-151.597099845999,-1766.595750731215,478.28125927260044,{"$f":"Q_d!$C$11","v":0},{"$f":"Q_d!$C$12","v":0},11233.589832572825,6052.604465817868,14144.889692442825,340.45115095854698,-13804.438541484278]
[53,62.6397800055,-150.84274241700001,-1729.5950008061807,464.63397470753443,{"$f":"Q_d!$C$11","v":0},{"$f":"Q_d!$C$12","v":0},11233.589832572825,6052.604465817868,14116.287586822087,340.47856482897703,-13775.809021993111]
[53,62.6397800051,-150.846742417,{"$f":"lcpx(B376,C376,63,-115,70,60)","v":-1729.7668230303191},{"$f":"lcpy(B376,C376,63,-115,70,60)","v":464.74355606148492},{"$f":"Q_d!$C$11","v":0},{"$f":"Q_d!$C$12","v":0},{"$f":"lcpx(F376,G376,63,-115,70,60)","v":11233.589832572825},{"$f":"lcpy(F376,G376,63,-115,70,60)","v":6052.604465817868},{"$f":"SQRT((H376-D376)^2+(I376-E376)^2)","v":14116.401996512912},340.51002723855203,-13775.89196927436]
[53,62.6293408575999,-150.98418773200001,-1736.2910636387244,467.54119289552409,{"$f":"Q_d!$C$11","v":0},{"$f":"Q_d!$C$12","v":0},11233.589832572825,6052.604465817868,14121.286847325895,340.53919941909697,-13780.747647906797]
[53,62.639780002999899,-150.850742416,-1729.9386383701533,464.8531481144696,{"$f":"Q_d!$C$11","v":0},{"$f":"Q_d!$C$12","v":0},11233.589832572825,6052.604465817868,14116.516397661473,340.542124927298,-13775.974272734175]
[53,62.639780003399899,-150.854742415999,-1730.1104466604559,464.96275131337461,{"$f":"Q_d!$C$11","v":0},{"$f":"Q_d!$C$12","v":0},11233.589832572825,6052.604465817868,14116.630789939352,340.573424954149,-13776.057364985203]
[53,62.563135741300002,-151.598128578,-1766.5731058169004,478.41179312600298,{"$f":"Q_d!$C$11","v":0},{"$f":"Q_d!$C$12","v":0},11233.589832572825,6052.604465817868,14144.817438799748,340.58191337914502,-13804.235525420603]
[53,62.668657962600001,-150.29568217100001,-1704.3327882007479,452.46376224204096,{"$f":"Q_d!$C$11","v":0},{"$f":"Q_d!$C$12","v":0},11233.589832572825,6052.604465817868,14097.922458325953,340.59713667909699,-13757.325321646857]
[53,62.639780001799899,-150.858742417,-1730.2822481689577,465.07236523727261,{"$f":"Q_d!$C$11","v":0},{"$f":"Q_d!$C$12","v":0},11233.589832572825,6052.604465817868,14116.745173759244,340.60576110952599,-13776.139412649718]
[53,62.639780002199899,-150.86211477200001,-1730.427086551801,465.16478809995351,{"$f":"Q_d!$C$11","v":0},{"$f":"Q_d!$C$12","v":0},11233.589832572825,6052.604465817868,14116.841602549986,340.63244182549602,-13776.209160724491]
[53,62.639780001799899,-150.866114772,-1730.5988751453797,465.27442216841473,{"$f":"Q_d!$C$11","v":0},{"$f":"Q_d!$C$12","v":0},11233.589832572825,6052.604465817868,14116.955970250669,340.66539493321,-13776.290575317458]
[53,62.639780000099897,-150.87011476999899,-1730.7706567845185,465.38406694374498,{"$f":"Q_d!$C$11","v":0},{"$f":"Q_d!$C$12","v":0},11233.589832572825,6052.604465817868,14117.07032934259,340.69806945886802,-13776.372259883723]
[53,62.564350353000002,-151.59939596199899,-1766.5535133692506,478.5599128218455,{"$f":"Q_d!$C$11","v":0},{"$f":"Q_d!$C$12","v":0},11233.589832572825,6052.604465817868,14144.74106139192,340.72931048707801,-13804.011750904841]
[53,62.639780000099897,-150.87411477200001,-1730.9424315473912,465.49372287039068,{"$f":"Q_d!$C$11","v":0},{"$f":"Q_d!$C$12","v":0},11233.589832572825,6052.604465817868,14117.184679721846,340.72994502097902,-13776.454734700867]
[53,62.639779999300004,-150.87811477100001,-1731.1141992816802,465.60338952233906,{"$f":"Q_d!$C$11","v":0},{"$f":"Q_d!$C$12","v":0},11233.589832572825,6052.604465817868,14117.29902141737,340.76285768551702,{"$f":"K388-J388","v":-13776.536163731853}]
[53,62.639779997700003,-150.882114771999,-1731.2859602014337,465.71306703622076,{"$f":"Q_d!$C$11","v":0},{"$f":"Q_d!$C$12","v":0},11233.589832572825,6052.604465817868,14117.413354571874,340.79628459388999,-13776.617069977985]
[53,62.639779997700003,-150.886114770999,-1731.4577139910887,465.82275552621422,{"$f":"Q_d!$C$11","v":0},{"$f":"Q_d!$C$12","v":0},11233.589832572825,6052.604465817868,14117.527678850582,340.828516083968,-13776.699162766614]
[53,62.639779998100003,-150.890114772,-1731.6294608932913,465.93245498944361,{"$f":"Q_d!$C$11","v":0},{"$f":"Q_d!$C$12","v":0},11233.589832572825,6052.604465817868,14117.641994477681,340.86178527373801,-13776.780209203942]
[53,62.639779996400001,-150.89348712699899,-1731.7742534598106,466.02494961287448,{"$f":"Q_d!$C$11","v":0},{"$f":"Q_d!$C$12","v":0},11233.589832572825,6052.604465817868,14117.738366121754,340.88925100829999,-13776.849115113453]
[53,62.639779996400001,-150.89748712700001,-1731.9459875326042,466.13466906479562,{"$f":"Q_d!$C$11","v":0},{"$f":"Q_d!$C$12","v":0},11233.589832572825,6052.604465817868,14117.852665772913,340.92273937800002,-13776.929926394912]
[53,62.5660717214,-151.600375638,-1766.4908472713926,478.74698313552608,{"$f":"Q_d!$C$11","v":0},{"$f":"Q_d!$C$12","v":0},11233.589832572825,6052.604465817868,14144.609747876144,340.92751137155199,-13803.682236504592]
[53,62.639779996000001,-150.901487126999,-1732.1177146777302,466.24439935903547,{"$f":"Q_d!$C$11","v":0},{"$f":"Q_d!$C$12","v":0},11233.589832572825,6052.604465817868,14117.966956787932,340.95673919721798,-13777.010217590714]
[53,62.633340821600001,-150.98420463100001,-1736.0525277917536,467.91499421531171,{"$f":"Q_d!$C$11","v":0},{"$f":"Q_d!$C$12","v":0},11233.589832572825,6052.604465817868,14120.91992222857,340.976033741376,-13779.943888487194]
[53,62.639779995200001,-150.90548712699899,-1732.2894348946343,466.35414049524115,{"$f":"Q_d!$C$11","v":0},{"$f":"Q_d!$C$12","v":0},11233.589832572825,6052.604465817868,14118.081239166662,340.99046492240802,-13777.090774244254]
[53,62.6397799939,-150.90948712700001,-1732.4611481886063,466.46389246363697,{"$f":"Q_d!$C$11","v":0},{"$f":"Q_d!$C$12","v":0},11233.589832572825,6052.604465817868,14118.19551291803,341.02338932249199,-13777.172123595537]
[53,62.672657962800002,-150.295682174999,-1704.0976174288796,452.83967845125972,{"$f":"Q_d!$C$11","v":0},{"$f":"Q_d!$C$12","v":0},11233.589832572825,6052.604465817868,14097.557314221587,341.039620643994,-13756.517693577593]
[53,62.6397799939,-150.913487126999,-1732.6328544513563,466.57365543182732,{"$f":"Q_d!$C$11","v":0},{"$f":"Q_d!$C$12","v":0},11233.589832572825,6052.604465817868,14118.309777876482,341.05774343063899,-13777.252034445843]
[53,62.6397799926999,-150.91748712699899,-1732.8045538315987,466.68342916593656,{"$f":"Q_d!$C$11","v":0},{"$f":"Q_d!$C$12","v":0},11233.589832572825,6052.604465817868,14118.424034271342,341.09182496506702,-13777.332209306274]
[53,62.5676227931,-151.60136884299899,-1766.4390958231638,478.91863409198368,{"$f":"Q_d!$C$11","v":0},{"$f":"Q_d!$C$12","v":0},11233.589832572825,6052.604465817868,14144.494543458046,341.105951264412,-13803.388592193634]
[53,62.639779990999898,-150.92148712599899,-1732.9762462438839,466.79321370345724,{"$f":"Q_d!$C$11","v":0},{"$f":"Q_d!$C$12","v":0},11233.589832572825,6052.604465817868,14118.538282009511,341.12602528977402,-13777.412256719737]
[53,62.6397799918999,-150.92485948199899,-1733.1209927208301,466.88578053137462,{"$f":"Q_d!$C$11","v":0},{"$f":"Q_d!$C$12","v":0},11233.589832572825,6052.604465817868,14118.634596091308,341.15427445218899,-13777.480321639119]
[53,62.639779990199898,-150.92885948200001,-1733.2926723557916,466.9955851434961,{"$f":"Q_d!$C$11","v":0},{"$f":"Q_d!$C$12","v":0},11233.589832572825,6052.604465817868,14118.748827870417,341.18908221981502,-13777.559745650602]
[53,62.639779990199898,-150.93285948100001,-1733.4643448893905,467.1054007631833,{"$f":"Q_d!$C$11","v":0},{"$f":"Q_d!$C$12","v":0},11233.589832572825,6052.604465817868,14118.86305079014,341.22361936126202,-13777.639431428877]
[53,62.5687238525,-151.60264548699899,-1766.4267793561612,479.05647414379564,{"$f":"Q_d!$C$11","v":0},{"$f":"Q_d!$C$12","v":0},11233.589832572825,6052.604465817868,14144.42890773338,341.24174308105898,-13803.187164652321]
[53,62.639779990199898,-150.93685948000001,-1733.6360104654393,467.21522725870818,{"$f":"Q_d!$C$11","v":0},{"$f":"Q_d!$C$12","v":0},11233.589832572825,6052.604465817868,14118.977265034882,341.25827515534297,-13777.718989879539]
[53,62.639779989399898,-150.940859482999,-1733.8076693026624,467.32506466474524,{"$f":"Q_d!$C$11","v":0},{"$f":"Q_d!$C$12","v":0},11233.589832572825,6052.604465817868,14119.09147079202,341.29343670952699,-13777.798034082492]
[53,62.639779988199898,-150.944859481999,-1733.9793210332512,467.43491279859063,{"$f":"Q_d!$C$11","v":0},{"$f":"Q_d!$C$12","v":0},11233.589832572825,6052.604465817868,14119.205667796237,341.32740691013902,-13777.878260886098]
[53,62.569632066700002,-151.602573957999,-1766.368567364975,479.13870890009821,{"$f":"Q_d!$C$11","v":0},{"$f":"Q_d!$C$12","v":0},11233.589832572825,6052.604465817868,14144.343001484667,341.33709412397502,-13803.005907360692]
[53,62.639779988199898,-150.94885948199899,-1734.1509657754314,467.54477194646825,{"$f":"Q_d!$C$11","v":0},{"$f":"Q_d!$C$12","v":0},11233.589832572825,6052.604465817868,14119.319856043094,341.36241767364999,-13777.957438369443]
[53,62.639779987300003,-150.952859480999,-1734.3226035681794,467.65464185693963,{"$f":"Q_d!$C$11","v":0},{"$f":"Q_d!$C$12","v":0},11233.589832572825,6052.604465817868,14119.434035668064,341.39793246151902,-13778.036103206545]
[53,62.637340786300001,-150.984221531,-1735.8139924503928,468.28879440067158,{"$f":"Q_d!$C$11","v":0},{"$f":"Q_d!$C$12","v":0},11233.589832572825,6052.604465817868,14120.553002434519,341.41158049046902,-13779.14142194405]
[53,62.639779986900002,-150.95623183800001,-1734.4673041526485,467.74728050226349,{"$f":"Q_d!$C$11","v":0},{"$f":"Q_d!$C$12","v":0},11233.589832572825,6052.604465817868,14119.530292532676,341.42788565229898,-13778.102406880376]
[53,62.639779985700002,-150.96023183899899,-1734.6389292188503,467.85717048038532,{"$f":"Q_d!$C$11","v":0},{"$f":"Q_d!$C$12","v":0},11233.589832572825,6052.604465817868,14119.644456251021,341.46361727422698,-13778.180838976794]
[53,62.676657962100002,-150.295682177,-1703.8624473058467,453.21559343153513,{"$f":"Q_d!$C$11","v":0},{"$f":"Q_d!$C$12","v":0},11233.589832572825,6052.604465817868,14097.192175690227,341.48210697780303,-13755.710068712424]
[53,62.639779985300002,-150.96423183799899,-1734.8105471892034,467.96707135110501,{"$f":"Q_d!$C$11","v":0},{"$f":"Q_d!$C$12","v":0},11233.589832572825,6052.604465817868,14119.758611162177,341.49908223888298,-13778.259528923294]
[53,62.571168780800001,-151.60270083200001,-1766.2806636708394,479.28478674133885,{"$f":"Q_d!$C$11","v":0},{"$f":"Q_d!$C$12","v":0},11233.589832572825,6052.604465817868,14144.204649406349,341.50241681867999,-13802.70223258767]
[53,62.639779984400001,-150.968231836,-1734.9821581836454,468.07698302008021,{"$f":"Q_d!$C$11","v":0},{"$f":"Q_d!$C$12","v":0},11233.589832572825,6052.604465817868,14119.872757413823,341.534665569982,-13778.338091843842]
[53,62.639779984,-150.972231835,-1735.1537622274168,468.18690563512291,{"$f":"Q_d!$C$11","v":0},{"$f":"Q_d!$C$12","v":0},11233.589832572825,6052.604465817868,14119.986894970891,341.56982632545203,-13778.417068645438]
[53,62.6397799832,-150.97623183799899,-1735.3253595023355,468.29683919423996,{"$f":"Q_d!$C$11","v":0},{"$f":"Q_d!$C$12","v":0},11233.589832572825,6052.604465817868,14120.101024001377,341.60564550955502,-13778.495378491822]
[53,62.6397799828,-150.98023183800001,-1735.4969496597021,468.40678357936849,{"$f":"Q_d!$C$11","v":0},{"$f":"Q_d!$C$12","v":0},11233.589832572825,6052.604465817868,14120.215144231914,341.64196475403799,-13778.573179477875]
[53,62.572711644499897,-151.603199119999,-1766.2082535761756,479.44182426411044,{"$f":"Q_d!$C$11","v":0},{"$f":"Q_d!$C$12","v":0},11233.589832572825,6052.604465817868,14144.076219741382,341.67359492064901,-13802.402624820734]
[53,62.639779982,-150.984231837999,-1735.6685328752021,468.5167387977308,{"$f":"Q_d!$C$11","v":0},{"$f":"Q_d!$C$12","v":0},11233.589832572825,6052.604465817868,14120.329255821218,341.67801986811997,-13778.651235953097]
[53,62.5735548988999,-151.60263685199899,-1766.1330217300501,479.50430625871923,{"$f":"Q_d!$C$11","v":0},{"$f":"Q_d!$C$12","v":0},11233.589832572825,6052.604465817868,14143.98245463995,341.755746959725,-13802.226707680225]
[53,62.5746819696,-151.602052194999,-1766.0395988829812,479.592486786059,{"$f":"Q_d!$C$11","v":0},{"$f":"Q_d!$C$12","v":0},11233.589832572825,6052.604465817868,14143.861844404591,341.86736802450099,-13801.99447638009]
[53,62.680657962200002,-150.29568218099899,-1703.627277903033,453.5915074521613,{"$f":"Q_d!$C$11","v":0},{"$f":"Q_d!$C$12","v":0},11233.589832572825,6052.604465817868,14096.82704269072,341.92459567132602,-13754.902447019394]
[53,62.575874005700001,-151.60195827300001,-1765.9631958337375,479.70042001423872,{"$f":"Q_d!$C$11","v":0},{"$f":"Q_d!$C$12","v":0},11233.589832572825,6052.604465817868,14143.749094285033,341.99286482615298,-13801.756229458879]
[53,62.577410724899899,-151.602085138999,-1765.8752921877765,479.8464975303159,{"$f":"Q_d!$C$11","v":0},{"$f":"Q_d!$C$12","v":0},11233.589832572825,6052.604465817868,14143.610744890415,342.15821463761398,-13801.452530252802]
[53,62.683096850200002,-150.29568218399899,-1703.483890305992,453.82070997649362,{"$f":"Q_d!$C$11","v":0},{"$f":"Q_d!$C$12","v":0},11233.589832572825,6052.604465817868,14096.604415811447,342.19450666543401,-13754.409909146014]
[53,62.5782744816999,-151.602760985,-1765.851705466089,479.94551204603886,{"$f":"Q_d!$C$11","v":0},{"$f":"Q_d!$C$12","v":0},11233.589832572825,6052.604465817868,14143.550053503006,342.259905330729,-13801.290148172277]
[53,62.5788810496,-151.605068953,-1765.9134478870405,480.0663203422655,{"$f":"Q_d!$C$11","v":0},{"$f":"Q_d!$C$12","v":0},11233.589832572825,6052.604465817868,14143.559202741984,342.35749878745099,-13801.201703954534]
[53,62.579319333800001,-151.60751422800001,-1765.9912692253122,480.17536280970535,{"$f":"Q_d!$C$11","v":0},{"$f":"Q_d!$C$12","v":0},11233.589832572825,6052.604465817868,14143.587767263285,342.43897085028101,-13801.148796413005]
[53,62.580146749199898,-151.609433039999,-1766.0229646440564,480.30576995102638,{"$f":"Q_d!$C$11","v":0},{"$f":"Q_d!$C$12","v":0},11233.589832572825,6052.604465817868,14143.56552052997,342.55397775679,-13801.01154277318]
[53,62.687096849600003,-150.295682185999,-1703.2487219522191,454.19662212835783,{"$f":"Q_d!$C$11","v":0},{"$f":"Q_d!$C$12","v":0},11233.589832572825,6052.604465817868,14096.239291744798,342.636999200319,-13753.602292544479]
[53,62.581400075200001,-151.61305447300001,-1766.1014937174664,480.5233003627277,{"$f":"Q_d!$C$11","v":0},{"$f":"Q_d!$C$12","v":0},11233.589832572825,6052.604465817868,14143.551997049643,342.73977595983803,-13800.812221089804]
[53,62.581949713699899,-151.61536733099899,-1766.1668730993681,480.63896904688727,{"$f":"Q_d!$C$11","v":0},{"$f":"Q_d!$C$12","v":0},11233.589832572825,6052.604465817868,14143.566519936738,342.83182537506599,-13800.734694561672]
[53,62.582568303000002,-151.618418875,-1766.2596000356857,480.78169726340957,{"$f":"Q_d!$C$11","v":0},{"$f":"Q_d!$C$12","v":0},11233.589832572825,6052.604465817868,14143.595520046298,342.940639045593,-13800.654881000704]
[53,62.583768499900003,-151.61882095499899,{"$f":"lcpx(B440,C440,63,-115,70,60)","v":-1766.2038534464225},{"$f":"lcpy(B440,C440,63,-115,70,60)","v":480.90424249786929},{"$f":"Q_d!$C$11","v":0},{"$f":"Q_d!$C$12","v":0},{"$f":"lcpx(F440,G440,63,-115,70,60)","v":11233.589832572825},{"$f":"lcpy(F440,G440,63,-115,70,60)","v":6052.604465817868},{"$f":"SQRT((H440-D440)^2+(I440-E440)^2)","v":14143.49600550055},343.07460605530099,-13800.421399445249]
[53,62.691096849799898,-150.295682188999,-1703.0135542728553,454.57253329803052,{"$f":"Q_d!$C$11","v":0},{"$f":"Q_d!$C$12","v":0},11233.589832572825,6052.604465817868,14095.874173177728,343.07949407097999,-13752.794679106748]
[53,62.585307249099898,-151.61907256200001,-1766.121112532265,481.05397228193806,{"$f":"Q_d!$C$11","v":0},{"$f":"Q_d!$C$12","v":0},11233.589832572825,6052.604465817868,14143.360971081291,343.241967597204,-13800.119003484087]
[53,62.5871196408999,-151.61868268200001,-1765.9943583134871,481.21113367603766,{"$f":"Q_d!$C$11","v":0},{"$f":"Q_d!$C$12","v":0},11233.589832572825,6052.604465817868,14143.182555470879,343.429122926405,-13799.753432544474]
[53,62.695096849999899,-150.295682193,-1702.7783873138915,454.94844341205498,{"$f":"Q_d!$C$11","v":0},{"$f":"Q_d!$C$12","v":0},11233.589832572825,6052.604465817868,14095.509060181937,343.52199126839002,-13751.987068913548]
[53,62.588246785499898,-151.61809835700001,-1765.9009350891422,481.29931316331385,{"$f":"Q_d!$C$11","v":0},{"$f":"Q_d!$C$12","v":0},11233.589832572825,6052.604465817868,14143.061950034862,343.54067558005403,-13799.521274454808]
[53,62.589702290399899,-151.616744092,-1765.7546962161396,481.39641108021124,{"$f":"Q_d!$C$11","v":0},{"$f":"Q_d!$C$12","v":0},11233.589832572825,6052.604465817868,14142.889286398637,343.67600438348899,-13799.213282015147]
[53,62.5904806863999,-151.615690841,-1765.6624455914493,481.43913998560265,{"$f":"Q_d!$C$11","v":0},{"$f":"Q_d!$C$12","v":0},11233.589832572825,6052.604465817868,14142.787662943781,343.74396354554301,-13799.043699398238]
[53,62.697535707599897,-150.29568219500001,-1702.6350029527257,455.17764066779364,{"$f":"Q_d!$C$11","v":0},{"$f":"Q_d!$C$12","v":0},11233.589832572825,6052.604465817868,14095.286448248495,343.791432652124,-13751.495015596371]
[53,62.591301559199898,-151.613765946999,-1765.530406409664,481.46143616123891,{"$f":"Q_d!$C$11","v":0},{"$f":"Q_d!$C$12","v":0},11233.589832572825,6052.604465817868,14142.657517044518,343.80353383000499,-13798.853983214512]
[53,62.592250228399898,-151.612699198,-1765.4272410945889,481.51958426097463,{"$f":"Q_d!$C$11","v":0},{"$f":"Q_d!$C$12","v":0},11233.589832572825,6052.604465817868,14142.539787428874,343.889095827419,-13798.650691601455]
[53,62.593869851800001,-151.610959460999,-1765.2545951812083,481.62114227722668,{"$f":"Q_d!$C$11","v":0},{"$f":"Q_d!$C$12","v":0},11233.589832572825,6052.604465817868,14142.341095028078,344.03723216244998,-13798.303862865629]
[53,62.595211765499897,-151.609613526,-1765.1156338326016,481.70796187111273,{"$f":"Q_d!$C$11","v":0},{"$f":"Q_d!$C$12","v":0},11233.589832572825,6052.604465817868,14142.179169422388,344.160162431679,{"$f":"K452-J452","v":-13798.019006990709}]
[53,62.701535707600002,-150.29568219800001,-1702.3998370503186,455.5535489968147,{"$f":"Q_d!$C$11","v":0},{"$f":"Q_d!$C$12","v":0},11233.589832572825,6052.604465817868,14094.921344160955,344.234408641843,-13750.686935519112]
[53,62.596946928800001,-151.607988425999,-1764.9408763831032,481.82345288199622,{"$f":"Q_d!$C$11","v":0},{"$f":"Q_d!$C$12","v":0},11233.589832572825,6052.604465817868,14141.973047837317,344.32236543390502,-13797.650682403411]
[53,62.5982888176,-151.606642222999,-1764.8019154640399,481.91027291251658,{"$f":"Q_d!$C$11","v":0},{"$f":"Q_d!$C$12","v":0},11233.589832572825,6052.604465817868,14141.81112256497,344.44632701191603,-13797.364795553054]
[53,62.600597740700003,-151.60534382399899,-1764.606269065873,482.08812040688099,{"$f":"Q_d!$C$11","v":0},{"$f":"Q_d!$C$12","v":0},11233.589832572825,6052.604465817868,14141.561238107568,344.67376303542397,-13796.887475072144]
[53,62.705535707899898,-150.29568220100001,-1702.1646718047805,455.92945627576319,{"$f":"Q_d!$C$11","v":0},{"$f":"Q_d!$C$12","v":0},11233.589832572825,6052.604465817868,14094.556245584981,344.676911930578,-13749.879333654404]
[53,62.603565285899897,-151.602628366999,-1764.310157476928,482.28745978932011,{"$f":"Q_d!$C$11","v":0},{"$f":"Q_d!$C$12","v":0},11233.589832572825,6052.604465817868,14141.210545741344,344.95106321042101,-13796.259482530922]
[53,62.604842159999897,-151.60079038800001,-1764.1541786644652,482.35452863886348,{"$f":"Q_d!$C$11","v":0},{"$f":"Q_d!$C$12","v":0},11233.589832572825,6052.604465817868,14141.040758879721,345.06107336673,-13795.97968551299]
[53,62.709535707100002,-150.295682204999,-1701.9295073403837,456.30536240172705,{"$f":"Q_d!$C$11","v":0},{"$f":"Q_d!$C$12","v":0},11233.589832572825,6052.604465817868,14094.191152675805,345.11941751370603,-13749.071735162099]
[53,62.605624552199899,-151.599984073,-1764.0722581304624,482.40456540217338,{"$f":"Q_d!$C$11","v":0},{"$f":"Q_d!$C$12","v":0},11233.589832572825,6052.604465817868,14140.945751776871,345.133042157658,-13795.812709619213]
[53,62.606675037700001,-151.601638554,-1764.0790698334342,482.54822232295419,{"$f":"Q_d!$C$11","v":0},{"$f":"Q_d!$C$12","v":0},11233.589832572825,6052.604465817868,14140.895426113419,345.268564697106,-13795.626861416313]
[53,62.711974534600003,-150.29568220600001,-1701.7861261891071,456.53455443060284,{"$f":"Q_d!$C$11","v":0},{"$f":"Q_d!$C$12","v":0},11233.589832572825,6052.604465817868,14093.968555649968,345.38886395626599,-13748.579691693702]
[53,62.608035964300001,-151.60488204800001,-1764.1348250026551,482.76506754841057,{"$f":"Q_d!$C$11","v":0},{"$f":"Q_d!$C$12","v":0},11233.589832572825,6052.604465817868,14140.861260781123,345.45970093485499,-13795.401559846268]
[53,62.609407043799898,-151.60874558500001,-1764.2164005299719,483.00017817142225,{"$f":"Q_d!$C$11","v":0},{"$f":"Q_d!$C$12","v":0},11233.589832572825,6052.604465817868,14140.843637996129,345.660132437919,-13795.183505558211]
[53,62.610246714900001,-151.61141005299899,-1764.2790774546688,483.15250116180414,{"$f":"Q_d!$C$11","v":0},{"$f":"Q_d!$C$12","v":0},11233.589832572825,6052.604465817868,14140.84125463795,345.78687800435603,-13795.054376633594]
[53,62.715974532799898,-150.295682209999,-1701.5509628653201,456.91045873317398,{"$f":"Q_d!$C$11","v":0},{"$f":"Q_d!$C$12","v":0},11233.589832572825,6052.604465817868,14093.60347174319,345.83137320376198,-13747.772098539428]
[53,62.610992831200001,-151.611847896,-1764.252436878839,483.23392874461751,{"$f":"Q_d!$C$11","v":0},{"$f":"Q_d!$C$12","v":0},11233.589832572825,6052.604465817868,14140.784696782704,345.87223622892799,-13794.912460553776]
[53,62.612900785400001,-151.613808124,-1764.2201654089072,483.46563904317645,{"$f":"Q_d!$C$11","v":0},{"$f":"Q_d!$C$12","v":0},11233.589832572825,6052.604465817868,14140.663775633848,346.103393294547,-13794.560382339301]
[53,62.613440230800002,-151.615503555999,-1764.2597191755849,483.56303910047518,{"$f":"Q_d!$C$11","v":0},{"$f":"Q_d!$C$12","v":0},11233.589832572825,6052.604465817868,14140.661773141343,346.18561000278402,-13794.476163138559]
[53,62.7199745335,-150.29568221400001,-1701.3158000652986,457.28636219860437,{"$f":"Q_d!$C$11","v":0},{"$f":"Q_d!$C$12","v":0},11233.589832572825,6052.604465817868,14093.238393142399,346.274360130807,-13746.964033011593]
[53,62.613888531500002,-151.618571605,-1764.3633548123209,483.69034398791382,{"$f":"Q_d!$C$11","v":0},{"$f":"Q_d!$C$12","v":0},11233.589832572825,6052.604465817868,14140.706897385746,346.27648983435103,-13794.430407551396]
[53,62.614026490800001,-151.62005034699899,-1764.4180479641611,483.74446050849519,{"$f":"Q_d!$C$11","v":0},{"$f":"Q_d!$C$12","v":0},11233.589832572825,6052.604465817868,14140.735858548378,346.31198790252699,-13794.423870645851]
[53,62.614407767700001,-151.622503104999,-1764.4995006669883,483.84836070211577,{"$f":"Q_d!$C$11","v":0},{"$f":"Q_d!$C$12","v":0},11233.589832572825,6052.604465817868,14140.769811900149,346.38769124782698,-13794.382120652323]
[53,62.615843168799898,-151.623383915999,-1764.4498563752968,484.0060755137265,{"$f":"Q_d!$C$11","v":0},{"$f":"Q_d!$C$12","v":0},11233.589832572825,6052.604465817868,14140.662070354714,346.55340677015403,-13794.10866358456]
[53,62.617319076000001,-151.62326850700001,-1764.3552609370211,484.13970495554804,{"$f":"Q_d!$C$11","v":0},{"$f":"Q_d!$C$12","v":0},11233.589832572825,6052.604465817868,14140.522495539622,346.70810745207501,-13793.814388087547]
[53,62.7239745324,-150.295682214999,-1701.080637911429,457.66226434352347,{"$f":"Q_d!$C$11","v":0},{"$f":"Q_d!$C$12","v":0},11233.589832572825,6052.604465817868,14092.873320152137,346.71687398365799,-13746.156446168479]
[53,62.619642407000001,-151.62283850700001,-1764.1957630145127,484.34312222895824,{"$f":"Q_d!$C$11","v":0},{"$f":"Q_d!$C$12","v":0},11233.589832572825,6052.604465817868,14140.295781183795,346.95004593312802,-13793.345735250667]
[53,62.726413145099897,-150.29568221900001,-1700.9372709924519,457.89143390954769,{"$f":"Q_d!$C$11","v":0},{"$f":"Q_d!$C$12","v":0},11233.589832572825,6052.604465817868,14092.650754995297,346.98632541499302,-13745.664429580303]
[53,62.621775104900003,-151.62118175000001,-1763.9955395377569,484.49458981540329,{"$f":"Q_d!$C$11","v":0},{"$f":"Q_d!$C$12","v":0},11233.589832572825,6052.604465817868,14140.052089597801,347.15308794248102,-13792.89900165532]
[53,62.623281326399898,-151.619449669999,-1763.8301734883628,484.58586902790375,{"$f":"Q_d!$C$11","v":0},{"$f":"Q_d!$C$12","v":0},11233.589832572825,6052.604465817868,14139.86414037131,347.28855318020402,-13792.575587191106]
[53,62.7304131462,-150.295682220999,-1700.7021098279502,458.26733456865577,{"$f":"Q_d!$C$11","v":0},{"$f":"Q_d!$C$12","v":0},11233.589832572825,6052.604465817868,14092.285690736164,347.42884288153101,-13744.856847854633]
[53,62.625160437399899,-151.616198083999,-1763.5773711633863,484.6692894374828,{"$f":"Q_d!$C$11","v":0},{"$f":"Q_d!$C$12","v":0},11233.589832572825,6052.604465817868,14139.598914051638,347.44329340052002,-13792.155620651118]
[53,62.626040139799898,-151.614390568,-1763.4468623995467,484.70038068942631,{"$f":"Q_d!$C$11","v":0},{"$f":"Q_d!$C$12","v":0},11233.589832572825,6052.604465817868,14139.466706762612,347.51153073962797,-13791.955176022984]
[53,62.626962292999899,-151.61171033400001,-1763.2765671962443,484.71104080028545,{"$f":"Q_d!$C$11","v":0},{"$f":"Q_d!$C$12","v":0},11233.589832572825,6052.604465817868,14139.305973271821,347.572215727897,-13791.733757543923]
[53,62.627993838400002,-151.60877295200001,-1763.088667680654,484.72467460669986,{"$f":"Q_d!$C$11","v":0},{"$f":"Q_d!$C$12","v":0},11233.589832572825,6052.604465817868,14139.127887119796,347.64020895891701,-13791.487678160878]
[53,62.628455623000001,-151.605756073999,-1762.9319863525684,484.68325970643718,{"$f":"Q_d!$C$11","v":0},{"$f":"Q_d!$C$12","v":0},11233.589832572825,6052.604465817868,14139.00017495117,347.64723412390299,-13791.352940827268]
[53,62.630054704000003,-151.60277355599899,-1762.7077051438598,484.74829105876461,{"$f":"Q_d!$C$11","v":0},{"$f":"Q_d!$C$12","v":0},11233.589832572825,6052.604465817868,14138.768407172664,347.77603612669998,-13790.992371045964]
[53,62.7344131447,-150.29568222399899,-1700.4669495262781,458.64323394434041,{"$f":"Q_d!$C$11","v":0},{"$f":"Q_d!$C$12","v":0},11233.589832572825,6052.604465817868,14091.920632272515,347.87183825368697,-13744.048794018829]
[53,62.631163987900003,-151.60454902500001,-1762.7160398467092,484.90073858325604,{"$f":"Q_d!$C$11","v":0},{"$f":"Q_d!$C$12","v":0},11233.589832572825,6052.604465817868,14138.716035190348,347.918518272597,-13790.79751691775]
[53,62.632115232799897,-151.60708229700001,-1762.7662729994945,485.05968485084531,{"$f":"Q_d!$C$11","v":0},{"$f":"Q_d!$C$12","v":0},11233.589832572825,6052.604465817868,14138.699618809362,348.05553839868702,-13790.644080410675]
[53,62.632942680100001,-151.60900443200001,-1762.7979622041557,485.19008704607404,{"$f":"Q_d!$C$11","v":0},{"$f":"Q_d!$C$12","v":0},11233.589832572825,6052.604465817868,14138.677398440881,348.17117235204802,-13790.506226088834]
[53,62.633681079200002,-151.61242419300001,-1762.8988955131226,485.3540457693407,{"$f":"Q_d!$C$11","v":0},{"$f":"Q_d!$C$12","v":0},11233.589832572825,6052.604465817868,14138.705616102048,348.29821817660797,-13790.407397925441]
[53,62.738413145000003,-150.295682228,-1700.2317898276765,459.01913245178321,{"$f":"Q_d!$C$11","v":0},{"$f":"Q_d!$C$12","v":0},11233.589832572825,6052.604465817868,14091.555579201429,348.31436026239197,-13743.241218939038]
[53,62.634547199399897,-151.61670357899899,-1763.0286994117978,485.55385479725101,{"$f":"Q_d!$C$11","v":0},{"$f":"Q_d!$C$12","v":0},11233.589832572825,6052.604465817868,14138.746258830419,348.449900172176,-13790.296358658243]
[53,62.634924464599898,-151.61890984300001,-1763.0998213295964,485.65044643058263,{"$f":"Q_d!$C$11","v":0},{"$f":"Q_d!$C$12","v":0},11233.589832572825,6052.604465817868,14138.773603598951,348.52161806694198,-13790.25198553201]
[53,62.740851912799897,-150.295682228,-1700.0884150844975,459.2483141413345,{"$f":"Q_d!$C$11","v":0},{"$f":"Q_d!$C$12","v":0},11233.589832572825,6052.604465817868,14091.333011941129,348.58381661373699,-13742.749195327393]
[53,62.6353930293999,-151.623220680999,-1763.2550917685649,485.81427880930187,{"$f":"Q_d!$C$11","v":0},{"$f":"Q_d!$C$12","v":0},11233.589832572825,6052.604465817868,14138.851826564749,348.63234122496402,-13790.219485339785]
[53,62.6356141073,-151.626308805999,-1763.3732754311852,485.92102311980625,{"$f":"Q_d!$C$11","v":0},{"$f":"Q_d!$C$12","v":0},11233.589832572825,6052.604465817868,14138.918437491109,348.69987054915799,-13790.21856694195]
[53,62.6358858040999,-151.629020367999,-1763.4723287481588,486.02194820314071,{"$f":"Q_d!$C$11","v":0},{"$f":"Q_d!$C$12","v":0},11233.589832572825,6052.604465817868,14138.969755631264,348.76634993932498,-13790.203405691938]
[53,62.635824950100002,-151.63225477,-1763.6138672241229,486.10664822939816,{"$f":"Q_d!$C$11","v":0},{"$f":"Q_d!$C$12","v":0},11233.589832572825,6052.604465817868,14139.066516826091,348.80621063278102,-13790.26030619331]
[53,62.6365688680999,-151.63604760600001,-1763.7302884394689,486.28156781516964,{"$f":"Q_d!$C$11","v":0},{"$f":"Q_d!$C$12","v":0},11233.589832572825,6052.604465817868,14139.104672252066,348.93922690634798,-13790.165445345718]
[53,62.744851911700003,-150.295682231,-1699.8532564946295,459.62421078053831,{"$f":"Q_d!$C$11","v":0},{"$f":"Q_d!$C$12","v":0},11233.589832572825,6052.604465817868,14090.967967864526,349.02634218637399,-13741.941625678151]
[53,62.637789017000003,-151.641170087999,{"$f":"lcpx(B504,C504,63,-115,70,60)","v":-1763.8744049496881},{"$f":"lcpy(B504,C504,63,-115,70,60)","v":486.53778786142493},{"$f":"Q_d!$C$11","v":0},{"$f":"Q_d!$C$12","v":0},{"$f":"lcpx(F504,G504,63,-115,70,60)","v":11233.589832572825},{"$f":"lcpy(F504,G504,63,-115,70,60)","v":6052.604465817868},{"$f":"SQRT((H504-D504)^2+(I504-E504)^2)","v":14139.136284410506},349.14188498374102,-13789.994399426765]
[53,62.639055688100001,-151.64566821400001,-1763.9890624308277,486.78088233827293,{"$f":"Q_d!$C$11","v":0},{"$f":"Q_d!$C$12","v":0},11233.589832572825,6052.604465817868,14139.145988858805,349.34069997639801,-13789.805288882408]
[53,62.748851911300001,-150.295682236,-1699.6180986127181,460.00010647941099,{"$f":"Q_d!$C$11","v":0},{"$f":"Q_d!$C$12","v":0},11233.589832572825,6052.604465817868,14090.602929306189,349.468869968413,-13741.134059337775]
[53,62.752851912399898,-150.29568223800001,-1699.3829411755187,460.37600118022419,{"$f":"Q_d!$C$11","v":0},{"$f":"Q_d!$C$12","v":0},11233.589832572825,6052.604465817868,14090.237896047725,349.91187594164302,-13740.326020106082]
[53,62.755290648699898,-150.295682241999,-1699.2395699143342,460.60517768642103,{"$f":"Q_d!$C$11","v":0},{"$f":"Q_d!$C$12","v":0},11233.589832572825,6052.604465817868,14090.015343934123,350.18133714548497,-13739.834006788638]
[53,62.759290648399897,-150.29568224400001,-1699.0044136228432,460.98107055581522,{"$f":"Q_d!$C$11","v":0},{"$f":"Q_d!$C$12","v":0},11233.589832572825,6052.604465817868,14089.650319691231,350.623870713332,-13739.026448977898]
[53,62.7632906471,-150.29568224600001,-1698.7692580493265,461.35696227739209,{"$f":"Q_d!$C$11","v":0},{"$f":"Q_d!$C$12","v":0},11233.589832572825,6052.604465817868,14089.285301059277,351.06552710854402,-13738.219773950734]
[53,62.767290646900001,-150.29568224900001,-1698.5341031123264,461.7328530770983,{"$f":"Q_d!$C$11","v":0},{"$f":"Q_d!$C$12","v":0},11233.589832572825,6052.604465817868,14088.920287874134,351.50806506394702,-13737.412222810188]
[53,62.769729354200003,-150.29568225200001,-1698.3907349626388,461.96202451381077,{"$f":"Q_d!$C$11","v":0},{"$f":"Q_d!$C$12","v":0},11233.589832572825,6052.604465817868,14088.697750524178,351.77888661060899,-13736.918863913568]
[53,62.773729354799897,-150.295682255999,-1698.1555810787654,462.33791372549513,{"$f":"Q_d!$C$11","v":0},{"$f":"Q_d!$C$12","v":0},11233.589832572825,6052.604465817868,14088.332746174818,352.220548811394,-13736.112197363424]
[53,62.777729353200002,-150.295682257999,-1697.9204278936725,462.71380162897003,{"$f":"Q_d!$C$11","v":0},{"$f":"Q_d!$C$12","v":0},11233.589832572825,6052.604465817868,14087.967747483543,352.663092452272,-13735.30465503127]
[53,62.781729353099898,-150.29568226200001,-1697.6852753607686,463.08968868116244,{"$f":"Q_d!$C$11","v":0},{"$f":"Q_d!$C$12","v":0},11233.589832572825,6052.604465817868,14087.602754226589,353.105638234509,-13734.497115992081]
[53,62.784168030899899,-150.295682263,-1697.5419103005386,463.31885498802103,{"$f":"Q_d!$C$11","v":0},{"$f":"Q_d!$C$12","v":0},11233.589832572825,6052.604465817868,14087.380231646219,353.37558546113502,{"$f":"K516-J516","v":-13734.004646185083}]
[53,62.788168030800001,-150.295682266,-1697.3067587756464,463.69474033310689,{"$f":"Q_d!$C$11","v":0},{"$f":"Q_d!$C$12","v":0},11233.589832572825,6052.604465817868,14087.015247232668,353.81813473167199,-13733.197112500997]
[53,62.792168030200003,-150.295682271,-1697.071608017663,464.07062464334149,{"$f":"Q_d!$C$11","v":0},{"$f":"Q_d!$C$12","v":0},11233.589832572825,6052.604465817868,14086.650268432399,354.26068612252101,-13732.389582309877]
[53,62.796168028899899,-150.295682271999,-1696.83645777945,464.44650774032561,{"$f":"Q_d!$C$11","v":0},{"$f":"Q_d!$C$12","v":0},11233.589832572825,6052.604465817868,14086.285295089641,354.70323962574599,-13731.582055463896]
[53,62.798606676399899,-150.295682274999,-1696.6930960191753,464.67566896321659,{"$f":"Q_d!$C$11","v":0},{"$f":"Q_d!$C$12","v":0},11233.589832572825,6052.604465817868,14086.062787456089,354.97271497538998,-13731.090072480698]
[53,62.802606675299899,-150.295682279,-1696.4579469430473,465.0515504893192,{"$f":"Q_d!$C$11","v":0},{"$f":"Q_d!$C$12","v":0},11233.589832572825,6052.604465817868,14085.697823045897,355.41574870143199,-13730.282074344464]
[53,62.806606676500003,-150.29568228100001,-1696.2227982935126,465.42743114229916,{"$f":"Q_d!$C$11","v":0},{"$f":"Q_d!$C$12","v":0},11233.589832572825,6052.604465817868,14085.332863873567,355.858307737784,-13729.474556135783]
[53,62.8130453952,-150.10799562400001,-1687.7786154891294,461.00330396698246,{"$f":"Q_d!$C$11","v":0},{"$f":"Q_d!$C$12","v":0},11233.589832572825,6052.604465817868,14079.338270095765,356.12451295859898,-13723.213757137166]
[53,62.8130453944,-150.111552273999,-1687.9315983229394,461.09838344170339,{"$f":"Q_d!$C$11","v":0},{"$f":"Q_d!$C$12","v":0},11233.589832572825,6052.604465817868,14079.44091071617,356.13027439407603,-13723.310636322094]
[53,62.8130453935999,-150.11555227400001,-1688.1036446458959,461.20532524123246,{"$f":"Q_d!$C$11","v":0},{"$f":"Q_d!$C$12","v":0},11233.589832572825,6052.604465817868,14079.556337769951,356.13703547511,-13723.41930229484]
[53,62.8130453935999,-150.11955227499899,-1688.2756841894677,461.31227804229275,{"$f":"Q_d!$C$11","v":0},{"$f":"Q_d!$C$12","v":0},11233.589832572825,6052.604465817868,14079.671756201231,356.14391164247002,-13723.527844558761]
[53,62.813045392699898,-150.12355227500001,-1688.4477169666129,461.41924163104795,{"$f":"Q_d!$C$11","v":0},{"$f":"Q_d!$C$12","v":0},11233.589832572825,6052.604465817868,14079.787166107029,356.15090288949102,-13723.636263217539]
[53,62.813045391899898,-150.12755227400001,-1688.6197429179938,461.52621610111646,{"$f":"Q_d!$C$11","v":0},{"$f":"Q_d!$C$12","v":0},11233.589832572825,6052.604465817868,14079.902567395924,356.158009209395,-13723.744558186529]
[53,62.813045391099898,-150.131552274,-1688.7917621348297,461.63320149616993,{"$f":"Q_d!$C$11","v":0},{"$f":"Q_d!$C$12","v":0},11233.589832572825,6052.604465817868,14080.017960134501,356.16523059529499,-13723.852729539205]
[53,62.813045390299898,-150.13555227500001,-1688.9637746164251,461.74019781578681,{"$f":"Q_d!$C$11","v":0},{"$f":"Q_d!$C$12","v":0},11233.589832572825,6052.604465817868,14080.133344322501,356.17256704019098,-13723.960777282311]
[53,62.813045389899898,-150.139552275,-1689.1357802526616,461.84720504368443,{"$f":"Q_d!$C$11","v":0},{"$f":"Q_d!$C$12","v":0},11233.589832572825,6052.604465817868,14080.248719865536,356.18001853697501,-13724.068701328561]
[53,62.813045389499898,-150.14310892500001,-1689.2887155226929,461.94236100600074,{"$f":"Q_d!$C$11","v":0},{"$f":"Q_d!$C$12","v":0},11233.589832572825,6052.604465817868,14080.351300269704,356.18658708182699,-13724.164713187876]
[53,62.813045388600003,-150.14710892599899,-1689.4607084227609,462.04938879933661,{"$f":"Q_d!$C$11","v":0},{"$f":"Q_d!$C$12","v":0},11233.589832572825,6052.604465817868,14080.466659678008,356.19425590258999,-13724.272403775418]
[53,62.813045387800003,-150.15110892600001,-1689.6326944931386,462.15642747151514,{"$f":"Q_d!$C$11","v":0},{"$f":"Q_d!$C$12","v":0},11233.589832572825,6052.604465817868,14080.582010468026,356.20203975412602,-13724.379970713901]
[53,62.813045388600003,-150.155108925999,-1689.8046736880879,462.26347718991246,{"$f":"Q_d!$C$11","v":0},{"$f":"Q_d!$C$12","v":0},11233.589832572825,6052.604465817868,14080.697352531532,356.20993862889298,-13724.487413902638]
[53,62.813045386600002,-150.15910892700001,-1689.9766463078224,462.37053756693103,{"$f":"Q_d!$C$11","v":0},{"$f":"Q_d!$C$12","v":0},11233.589832572825,6052.604465817868,14080.812686298168,356.21795251923999,-13724.594733778928]
[53,62.813045387400003,-150.16310892600001,-1690.1486118944933,462.47760904871302,{"$f":"Q_d!$C$11","v":0},{"$f":"Q_d!$C$12","v":0},11233.589832572825,6052.604465817868,14080.928011170796,356.226081417405,-13724.701929753392]
[53,62.813045385400002,-150.16710892699899,-1690.3205709474628,462.58469121496637,{"$f":"Q_d!$C$11","v":0},{"$f":"Q_d!$C$12","v":0},11233.589832572825,6052.604465817868,14081.043327774807,356.23432531551401,-13724.809002459293]
[53,62.813045384500001,-150.17110892599899,-1690.4925230656706,462.69178432520175,{"$f":"Q_d!$C$11","v":0},{"$f":"Q_d!$C$12","v":0},11233.589832572825,6052.604465817868,14081.158635639284,356.242684205584,-13724.915951433699]
[53,62.8130453837,-150.17466557700001,-1690.6454108235523,462.7870167028309,{"$f":"Q_d!$C$11","v":0},{"$f":"Q_d!$C$12","v":0},11233.589832572825,6052.604465817868,14081.261155914975,356.250930026856,-13725.01022588812]
[53,62.7015902768999,-151.663965152,-1760.9654725797975,493.08807930091962,{"$f":"Q_d!$C$11","v":0},{"$f":"Q_d!$C$12","v":0},11233.589832572825,6052.604465817868,14133.884463608036,356.25815941252398,-13777.626304195512]
[53,62.8130453833,-150.178665577,-1690.8173501367655,462.89413046623258,{"$f":"Q_d!$C$11","v":0},{"$f":"Q_d!$C$12","v":0},11233.589832572825,6052.604465817868,14081.376447549868,356.259506405092,-13725.116941144777]
[53,62.8130453829,-150.18266557800001,-1690.9892827065837,463.0012551491659,{"$f":"Q_d!$C$11","v":0},{"$f":"Q_d!$C$12","v":0},11233.589832572825,6052.604465817868,14081.491730631187,356.26819775135698,-13725.223532879831]
[53,62.8130453817,-150.186665575999,-1691.1612084072453,463.10839056878331,{"$f":"Q_d!$C$11","v":0},{"$f":"Q_d!$C$12","v":0},11233.589832572825,6052.604465817868,14081.607005116295,356.27700405723601,-13725.330001059059]
[53,62.8130453817,-150.19066557599899,-1691.3331273358092,463.21553704676853,{"$f":"Q_d!$C$11","v":0},{"$f":"Q_d!$C$12","v":0},11233.589832572825,6052.604465817868,14081.722270966797,356.285925314206,-13725.43634565259]
[53,62.8130453813,-150.194665573999,-1691.5050394134216,463.32269432500379,{"$f":"Q_d!$C$11","v":0},{"$f":"Q_d!$C$12","v":0},11233.589832572825,6052.604465817868,14081.837528212984,356.29496151363099,-13725.542566699352]
[53,62.810606675199899,-150.29568228400001,-1695.9876504806007,465.80331055339775,{"$f":"Q_d!$C$11","v":0},{"$f":"Q_d!$C$12","v":0},11233.589832572825,6052.604465817868,14084.967910462081,356.30086885804798,-13728.667041604032]
[53,62.813045379999899,-150.198665575999,-1691.6769449265889,463.42986251676712,{"$f":"Q_d!$C$11","v":0},{"$f":"Q_d!$C$12","v":0},11233.589832572825,6052.604465817868,14081.952777073075,356.30460172442298,-13725.648175348651]
[53,62.813045379599899,-150.20266557599899,-1691.8488435111947,463.53704163021303,{"$f":"Q_d!$C$11","v":0},{"$f":"Q_d!$C$12","v":0},11233.589832572825,6052.604465817868,14082.068017209838,356.31473980457201,-13725.753277405267]
[53,62.813045378799899,-150.206222225999,-1692.0016836092507,463.63235038339872,{"$f":"Q_d!$C$11","v":0},{"$f":"Q_d!$C$12","v":0},11233.589832572825,6052.604465817868,14082.170477248956,356.322921367682,-13725.847555881273]
[53,62.813045378399899,-150.210222227999,-1692.1735694508295,463.73955012338592,{"$f":"Q_d!$C$11","v":0},{"$f":"Q_d!$C$12","v":0},11233.589832572825,6052.604465817868,14082.28570122673,356.33240428706398,-13725.953296939666]
[53,62.813045378399899,-150.214222226999,-1692.3454483482083,463.84676070994692,{"$f":"Q_d!$C$11","v":0},{"$f":"Q_d!$C$12","v":0},11233.589832572825,6052.604465817868,14082.400916497238,356.34200210471897,-13726.058914392519]
[53,62.813045375900003,-150.21822222700001,-1692.5173206427576,463.9539819771644,{"$f":"Q_d!$C$11","v":0},{"$f":"Q_d!$C$12","v":0},11233.589832572825,6052.604465817868,14082.516123439871,356.35258840648203,-13726.163535033389]
[53,62.813045376700003,-150.222222227,-1692.6891859504574,464.06121444317932,{"$f":"Q_d!$C$11","v":0},{"$f":"Q_d!$C$12","v":0},11233.589832572825,6052.604465817868,14082.631321496732,356.36241626888699,-13726.268905227846]
[53,62.813045375100003,-150.22622222800001,-1692.8610446480573,464.16845759838179,{"$f":"Q_d!$C$11","v":0},{"$f":"Q_d!$C$12","v":0},11233.589832572825,6052.604465817868,14082.746511216081,356.37235900108698,-13726.374152214994]
[53,62.813045374700003,-150.23022222700001,-1693.0328963947361,464.27571170043893,{"$f":"Q_d!$C$11","v":0},{"$f":"Q_d!$C$12","v":0},11233.589832572825,6052.604465817868,14082.861692183034,356.38290175876801,-13726.478790424266]
[53,62.813045374300003,-150.234222227999,-1693.2047414320252,464.3829767433017,{"$f":"Q_d!$C$11","v":0},{"$f":"Q_d!$C$12","v":0},11233.589832572825,6052.604465817868,14082.976864621913,356.39394840260599,-13726.582916219306]
[53,62.813045373900003,-150.237778878,-1693.3575338516662,464.47836191268107,{"$f":"Q_d!$C$11","v":0},{"$f":"Q_d!$C$12","v":0},11233.589832572825,6052.604465817868,14083.079264402924,356.40293576793101,-13726.676328634992]
[53,62.813045373500003,-150.241778877,-1693.5293659638282,464.5856474684565,{"$f":"Q_d!$C$11","v":0},{"$f":"Q_d!$C$12","v":0},11233.589832572825,6052.604465817868,14083.194420563897,356.413324926271,-13726.781095637627]
[53,62.813045371800001,-150.24577887800001,-1693.7011914409686,464.69294384161549,{"$f":"Q_d!$C$11","v":0},{"$f":"Q_d!$C$12","v":0},11233.589832572825,6052.604465817868,14083.309568314635,356.423828905981,-13726.885739408654]
[53,62.813045371800001,-150.249778878,-1693.8730099773925,464.80025123331188,{"$f":"Q_d!$C$11","v":0},{"$f":"Q_d!$C$12","v":0},11233.589832572825,6052.604465817868,14083.424707294937,356.435323462756,-13726.98938383218]
[53,62.813045371800001,-150.253778877999,-1694.0448217151263,464.90756951007688,{"$f":"Q_d!$C$11","v":0},{"$f":"Q_d!$C$12","v":0},11233.589832572825,6052.604465817868,14083.539837688337,356.44653956799698,-13727.09329812034]
[53,62.813045370200001,-150.257778876,-1694.2166266616784,465.01489846748564,{"$f":"Q_d!$C$11","v":0},{"$f":"Q_d!$C$12","v":0},11233.589832572825,6052.604465817868,14083.654959583047,356.45738772677998,-13727.197571856268]
[53,62.813045369800001,-150.261778878,-1694.3884249094981,465.12223852924853,{"$f":"Q_d!$C$11","v":0},{"$f":"Q_d!$C$12","v":0},11233.589832572825,6052.604465817868,14083.77007289603,356.469227251105,-13727.300845644924]
[53,62.813045369400001,-150.265778877999,-1694.5602162706632,465.22958942112382,{"$f":"Q_d!$C$11","v":0},{"$f":"Q_d!$C$12","v":0},11233.589832572825,6052.604465817868,14083.885177563803,356.480305231579,-13727.404872332225]
[53,62.8130453680999,-150.26768228700001,-1694.6419612534339,465.28067630194528,{"$f":"Q_d!$C$11","v":0},{"$f":"Q_d!$C$12","v":0},11233.589832572825,6052.604465817868,14083.939947464654,356.48609730534997,-13727.453850159305]
[53,62.8130453680999,-150.271682287999,-1694.8137425959453,465.38804332036671,{"$f":"Q_d!$C$11","v":0},{"$f":"Q_d!$C$12","v":0},11233.589832572825,6052.604465817868,14084.055039450193,356.49822151029002,-13727.556817939903]
[53,62.8130453680999,-150.27568228800001,{"$f":"lcpx(B568,C568,63,-115,70,60)","v":-1694.9855170931742},{"$f":"lcpy(B568,C568,63,-115,70,60)","v":465.4954211947379},{"$f":"Q_d!$C$11","v":0},{"$f":"Q_d!$C$12","v":0},{"$f":"lcpx(F568,G568,63,-115,70,60)","v":11233.589832572825},{"$f":"lcpy(F568,G568,63,-115,70,60)","v":6052.604465817868},{"$f":"SQRT((H568-D568)^2+(I568-E568)^2)","v":14084.17012281877},356.50958346866298,-13727.660539350107]
[53,62.8130453664999,-150.279682288,-1695.1572848812687,465.60280980101288,{"$f":"Q_d!$C$11","v":0},{"$f":"Q_d!$C$12","v":0},11233.589832572825,6052.604465817868,14084.285197744775,356.52106015774098,-13727.764137587033]
[53,62.813045365199898,-150.283682287999,-1695.3290458479073,465.71020931734029,{"$f":"Q_d!$C$11","v":0},{"$f":"Q_d!$C$12","v":0},11233.589832572825,6052.604465817868,14084.400264054646,356.53352964342599,-13727.86673441122]
[53,62.813045365199898,-150.28768228600001,-1695.5007998478739,465.81761978363693,{"$f":"Q_d!$C$11","v":0},{"$f":"Q_d!$C$12","v":0},11233.589832572825,6052.604465817868,14084.515321599454,356.54571405361099,-13727.969607545843]
[53,62.813045363999898,-150.29168228699899,-1695.672547241925,465.92504109868287,{"$f":"Q_d!$C$11","v":0},{"$f":"Q_d!$C$12","v":0},11233.589832572825,6052.604465817868,14084.630370750725,356.55841325931402,-13728.071957491411]
[53,62.817045395999898,-150.107995627999,-1687.5445870265414,461.37987928996245,{"$f":"Q_d!$C$11","v":0},{"$f":"Q_d!$C$12","v":0},11233.589832572825,6052.604465817868,14078.973935139931,356.56714337975598,-13722.406791760175]
[53,62.813045363599898,-150.29568228700001,-1695.844287740241,466.03247334269463,{"$f":"Q_d!$C$11","v":0},{"$f":"Q_d!$C$12","v":0},11233.589832572825,6052.604465817868,14084.745411210803,356.57034880230799,-13728.175062408494]
[53,62.8210453943,-150.107995630999,-1687.3105593081013,461.75645331960595,{"$f":"Q_d!$C$11","v":0},{"$f":"Q_d!$C$12","v":0},11233.589832572825,6052.604465817868,14078.609605915084,357.01064021818701,-13721.598965696898]
[53,62.8250453944,-150.10799563200001,-1687.0765320382147,462.13302643569068,{"$f":"Q_d!$C$11","v":0},{"$f":"Q_d!$C$12","v":0},11233.589832572825,6052.604465817868,14078.245281999418,357.45413760369303,-13720.791144395725]
[53,62.827483980899899,-150.10799563500001,-1686.9338585227717,462.36260251863087,{"$f":"Q_d!$C$11","v":0},{"$f":"Q_d!$C$12","v":0},11233.589832572825,6052.604465817868,14078.023175941498,357.72396155695202,-13720.299214384546]
[53,62.831483980500003,-150.107995638999,-1686.6998324386768,462.73917401404196,{"$f":"Q_d!$C$11","v":0},{"$f":"Q_d!$C$12","v":0},11233.589832572825,6052.604465817868,14077.658861057691,358.16745984664698,-13719.491401211044]
[53,62.8354839807999,-150.107995641,-1686.4658068648066,463.11574449679711,{"$f":"Q_d!$C$11","v":0},{"$f":"Q_d!$C$12","v":0},11233.589832572825,6052.604465817868,14077.294551579846,358.61009292126698,-13718.684458658579]
[53,62.839483980200001,-150.10799564600001,-1686.2317821084705,463.49231395148126,{"$f":"Q_d!$C$11","v":0},{"$f":"Q_d!$C$12","v":0},11233.589832572825,6052.604465817868,14076.930247796447,359.05359231178801,{"$f":"K580-J580","v":-13717.876655484659}]
[53,62.8419225357,-150.10799564800001,-1686.0891117644467,463.72188483518858,{"$f":"Q_d!$C$11","v":0},{"$f":"Q_d!$C$12","v":0},11233.589832572825,6052.604465817868,14076.708156694995,359.32291706625102,-13717.385239628744]
[53,62.845922536099899,-150.107995649,-1685.855087799232,464.09845263333409,{"$f":"Q_d!$C$11","v":0},{"$f":"Q_d!$C$12","v":0},11233.589832572825,6052.604465817868,14076.343861597266,359.76641731545698,-13716.577444281809]
[53,62.7233527717,-151.74729111900001,-1763.1796545385193,497.42965014142555,{"$f":"Q_d!$C$11","v":0},{"$f":"Q_d!$C$12","v":0},11233.589832572825,6052.604465817868,14134.213254859085,359.77009833086402,-13774.443156528221]
[53,62.724247632100003,-151.745433837999,-1763.0463101591492,497.46064986395049,{"$f":"Q_d!$C$11","v":0},{"$f":"Q_d!$C$12","v":0},11233.589832572825,6052.604465817868,14134.078457490537,359.83781412880899,-13774.240643361729]
[53,62.724897702699899,-151.743828261,-1762.9385655616315,497.4760149797421,{"$f":"Q_d!$C$11","v":0},{"$f":"Q_d!$C$12","v":0},11233.589832572825,6052.604465817868,14133.973344704827,359.88404090901201,-13774.089303795816]
[53,62.725722759600004,-151.742053846,-1762.8129965909029,497.50287423131795,{"$f":"Q_d!$C$11","v":0},{"$f":"Q_d!$C$12","v":0},11233.589832572825,6052.604465817868,14133.847324445753,359.94474591525801,-13773.902578530495]
[53,62.726342141799897,-151.74076185800001,-1762.7204333535435,497.5241603685281,{"$f":"Q_d!$C$11","v":0},{"$f":"Q_d!$C$12","v":0},11233.589832572825,6052.604465817868,14133.753844192073,359.992477661686,-13773.761366530387]
[53,62.7273397433,-151.738662927999,-1762.5705868012576,497.55794764105167,{"$f":"Q_d!$C$11","v":0},{"$f":"Q_d!$C$12","v":0},11233.589832572825,6052.604465817868,14133.602777254422,360.06712514474202,-13773.53565210968]
[53,62.7188094658,-151.803286404999,-1765.8324535985341,498.57396223399473,{"$f":"Q_d!$C$11","v":0},{"$f":"Q_d!$C$12","v":0},11233.589832572825,6052.604465817868,14136.20297707092,360.12011934075502,-13776.082857730165]
[53,62.727932078099897,-151.737917893999,-1762.5028852992471,497.59200411110351,{"$f":"Q_d!$C$11","v":0},{"$f":"Q_d!$C$12","v":0},11233.589832572825,6052.604465817868,14133.527138730975,360.12017735889202,-13773.406961372082]
[53,62.719116814899898,-151.804820962999,-1765.8787928648317,498.64532469303185,{"$f":"Q_d!$C$11","v":0},{"$f":"Q_d!$C$12","v":0},11233.589832572825,6052.604465817868,14136.217552267019,360.17650045776099,-13776.041051809258]
[53,62.728532874000003,-151.73771728099899,-1762.4577712298942,497.64204248232727,{"$f":"Q_d!$C$11","v":0},{"$f":"Q_d!$C$12","v":0},11233.589832572825,6052.604465817868,14133.465988389977,360.18099674469198,-13773.284991645285]
[53,62.849922536500003,-150.10799565400001,-1685.6210646391085,464.47501951927507,{"$f":"Q_d!$C$11","v":0},{"$f":"Q_d!$C$12","v":0},11233.589832572825,6052.604465817868,14075.979572137387,360.209918099155,-13715.769654038231]
[53,62.719637052400003,-151.80634014,-1765.9114863972211,498.73595880281937,{"$f":"Q_d!$C$11","v":0},{"$f":"Q_d!$C$12","v":0},11233.589832572825,6052.604465817868,14136.212007999793,360.25379470173499,-13775.958213298058]
[53,62.729623178600001,-151.73701285800001,-1762.3614584783204,497.72335065961443,{"$f":"Q_d!$C$11","v":0},{"$f":"Q_d!$C$12","v":0},11233.589832572825,6052.604465817868,14133.345469594797,360.28616918360802,-13773.059300411189]
[53,62.719984539400002,-151.80818324200001,-1765.9684578782508,498.81966662160357,{"$f":"Q_d!$C$11","v":0},{"$f":"Q_d!$C$12","v":0},11233.589832572825,6052.604465817868,14136.231511354743,360.31867407893202,-13775.912837275811]
[53,62.720363974500003,-151.80979053900001,-1766.0134749187473,498.89973623937249,{"$f":"Q_d!$C$11","v":0},{"$f":"Q_d!$C$12","v":0},11233.589832572825,6052.604465817868,14136.241451513497,360.38305424228798,-13775.858397271209]
[53,62.721111102599899,-151.81222762900001,-1766.0712418642343,499.03704223081422,{"$f":"Q_d!$C$11","v":0},{"$f":"Q_d!$C$12","v":0},11233.589832572825,6052.604465817868,14136.240631036295,360.49957397616902,-13775.741057060126]
[53,62.7218086853999,-151.813734224999,-1766.0925629153289,499.1437359098577,{"$f":"Q_d!$C$11","v":0},{"$f":"Q_d!$C$12","v":0},11233.589832572825,6052.604465817868,14136.218322528663,360.59561150130401,-13775.622711027359]
[53,62.853922535199899,-150.10799565600001,-1685.3870420817598,464.85158514773002,{"$f":"Q_d!$C$11","v":0},{"$f":"Q_d!$C$12","v":0},11233.589832572825,6052.604465817868,14075.615288267059,360.65255374806299,-13714.962734518997]
[53,62.722566711699898,-151.814535874999,-1766.0802952271747,499.2363032843291,{"$f":"Q_d!$C$11","v":0},{"$f":"Q_d!$C$12","v":0},11233.589832572825,6052.604465817868,14136.170675973633,360.688298325576,-13775.482377648057]
[53,62.724214181100002,-151.815429123999,-1766.0176225340706,499.41373511117899,{"$f":"Q_d!$C$11","v":0},{"$f":"Q_d!$C$12","v":0},11233.589832572825,6052.604465817868,14136.043338872356,360.87582170187,-13775.167517170486]
[53,62.8563610612999,-150.107995657,-1685.2443748071817,465.08115099641509,{"$f":"Q_d!$C$11","v":0},{"$f":"Q_d!$C$12","v":0},11233.589832572825,6052.604465817868,14075.393211965522,360.92324595958002,-13714.469966005941]
[53,62.725546952199899,-151.81665659199899,-1765.9883253053656,499.57139290888517,{"$f":"Q_d!$C$11","v":0},{"$f":"Q_d!$C$12","v":0},11233.589832572825,6052.604465817868,14135.954463410128,361.03567445060003,-13774.918788959527]
[53,62.7268157436,-151.81835594500001,-1765.9829361177774,499.73632705088721,{"$f":"Q_d!$C$11","v":0},{"$f":"Q_d!$C$12","v":0},11233.589832572825,6052.604465817868,14135.884717095558,361.19588885395598,-13774.688828241602]
[53,62.727702340199897,-151.82062799100001,-1766.0251504783632,499.88191362145426,{"$f":"Q_d!$C$11","v":0},{"$f":"Q_d!$C$12","v":0},11233.589832572825,6052.604465817868,14135.866349440335,361.32333576590298,-13774.543013674433]
[53,62.860361060199899,-150.10799566099899,-1685.0103533393569,465.45771506311576,{"$f":"Q_d!$C$11","v":0},{"$f":"Q_d!$C$12","v":0},11233.589832572825,6052.604465817868,14075.028937018909,361.36588252074898,-13713.66305449816]
[53,62.728025801100003,-151.82325210900001,-1766.1166605234498,499.98524344282032,{"$f":"Q_d!$C$11","v":0},{"$f":"Q_d!$C$12","v":0},11233.589832572825,6052.604465817868,14135.909915365843,361.39813635656702,-13774.511779009275]
[53,62.7279187476,-151.82559572400001,-1766.2225560195986,500.040896970429,{"$f":"Q_d!$C$11","v":0},{"$f":"Q_d!$C$12","v":0},11233.589832572825,6052.604465817868,14135.98543875498,361.42173767082602,-13774.563701084155]
[53,62.7273589566,-151.830930561999,-1766.4829031423956,500.13835311776074,{"$f":"Q_d!$C$11","v":0},{"$f":"Q_d!$C$12","v":0},11233.589832572825,6052.604465817868,14136.18658148545,361.44430703636698,-13774.742274449083]
[53,62.727687128200003,-151.82911620600001,-1766.3859478803643,500.1179541087331,{"$f":"Q_d!$C$11","v":0},{"$f":"Q_d!$C$12","v":0},11233.589832572825,6052.604465817868,14136.105430955211,361.45082175172797,-13774.654609203482]
[53,62.727947791299897,-151.82754024299899,-1766.3032210888668,500.09798158478952,{"$f":"Q_d!$C$11","v":0},{"$f":"Q_d!$C$12","v":0},11233.589832572825,6052.604465817868,14136.037198030142,361.45515110453101,-13774.582046925612]
[53,62.727629371600003,-151.832390594,-1766.5282878641137,500.20422082311825,{"$f":"Q_d!$C$11","v":0},{"$f":"Q_d!$C$12","v":0},11233.589832572825,6052.604465817868,14136.202447118909,361.49510735969801,-13774.70733975921]
[53,62.709908376599898,-151.95536108600001,-1772.8232683660624,502.01249484139134,{"$f":"Q_d!$C$11","v":0},{"$f":"Q_d!$C$12","v":0},11233.589832572825,6052.604465817868,14141.281871900555,361.56163921522398,-13779.720232685331]
[53,62.709490733099898,-151.958501734999,-1772.9818966356595,502.06209491215714,{"$f":"Q_d!$C$11","v":0},{"$f":"Q_d!$C$12","v":0},11233.589832572825,6052.604465817868,14141.408301801663,361.56930040035201,-13779.839001401311]
[53,62.710576547000002,-151.952359045999,-1772.6551703880234,501.989944603607,{"$f":"Q_d!$C$11","v":0},{"$f":"Q_d!$C$12","v":0},11233.589832572825,6052.604465817868,14141.136115608202,361.58271968250898,-13779.553395925694]
[53,62.7282912643999,-151.83390051800001,-1766.5518810350572,500.30770276097383,{"$f":"Q_d!$C$11","v":0},{"$f":"Q_d!$C$12","v":0},11233.589832572825,6052.604465817868,14136.183499054465,361.587814945415,-13774.59568410905]
[53,62.709553487100003,-151.960442806,-1773.060283013408,502.12240178953471,{"$f":"Q_d!$C$11","v":0},{"$f":"Q_d!$C$12","v":0},11233.589832572825,6052.604465817868,14141.456727380655,361.60698514409199,-13779.849742236564]
[53,62.711502924199898,-151.95003975399899,-1772.5001881252354,502.01043070853257,{"$f":"Q_d!$C$11","v":0},{"$f":"Q_d!$C$12","v":0},11233.589832572825,6052.604465817868,14140.985530333202,361.64302490854101,-13779.342505424662]
[53,62.709733564899899,-151.96315411800001,-1773.1641096079979,502.21518201108393,{"$f":"Q_d!$C$11","v":0},{"$f":"Q_d!$C$12","v":0},11233.589832572825,6052.604465817868,14141.515806809168,361.67017473106603,-13779.845632078102]
[53,62.729427171200001,-151.83623317000001,-1766.5813994739756,500.47805652426632,{"$f":"Q_d!$C$11","v":0},{"$f":"Q_d!$C$12","v":0},11233.589832572825,6052.604465817868,14136.143736087033,361.74399091069898,-13774.399745176333]
[53,62.713612759100002,-151.94600588500001,-1772.2001130846299,502.09215588544066,{"$f":"Q_d!$C$11","v":0},{"$f":"Q_d!$C$12","v":0},11233.589832572825,6052.604465817868,14140.677459488139,361.79985086370601,-13778.877608624432]
[53,62.864361060299899,-150.107995665999,-1684.7763324737236,465.83427825659464,{"$f":"Q_d!$C$11","v":0},{"$f":"Q_d!$C$12","v":0},11233.589832572825,6052.604465817868,14074.664667509593,361.80938526384301,-13712.85528224575]
[53,62.7104665435999,-151.96730681099899,-1773.2951177921088,502.3995299831472,{"$f":"Q_d!$C$11","v":0},{"$f":"Q_d!$C$12","v":0},11233.589832572825,6052.604465817868,14141.563949641282,361.81445683250399,-13779.749492808778]
[53,62.715694284900003,-151.93496881300001,-1771.605109230293,501.97477027043442,{"$f":"Q_d!$C$11","v":0},{"$f":"Q_d!$C$12","v":0},11233.589832572825,6052.604465817868,14140.176289261544,361.84054196289202,-13778.335747298652]
[53,62.7159549868,-151.93331662899899,-1771.5191567349557,501.95250593815808,{"$f":"Q_d!$C$11","v":0},{"$f":"Q_d!$C$12","v":0},11233.589832572825,6052.604465817868,14140.105975681035,361.84173385611501,-13778.26424182492]
[53,62.714430378400003,-151.94353788800001,-1772.0455022628748,502.09844033411719,{"$f":"Q_d!$C$11","v":0},{"$f":"Q_d!$C$12","v":0},11233.589832572825,6052.604465817868,14140.532790586723,361.84583453177902,-13778.686956054944]
[53,62.715349155299897,-151.93818326300001,-1771.7624143590933,502.0330740116774,{"$f":"Q_d!$C$11","v":0},{"$f":"Q_d!$C$12","v":0},11233.589832572825,6052.604465817868,14140.298081805573,361.856610267105,-13778.441471538468]
[53,62.715061719700003,-151.94045980000001,-1771.8764530454664,502.07039687539964,{"$f":"Q_d!$C$11","v":0},{"$f":"Q_d!$C$12","v":0},11233.589832572825,6052.604465817868,14140.38831704579,361.862685969415,-13778.525631076376]
[53,62.714834222900002,-151.94195395899899,-1771.9536779038276,502.09130590895938,{"$f":"Q_d!$C$11","v":0},{"$f":"Q_d!$C$12","v":0},11233.589832572825,6052.604465817868,14140.451136410866,361.86295787355698,-13778.588178537309]
[53,62.7303420418,-151.83803667999899,-1766.6019777747483,500.61315502681919,{"$f":"Q_d!$C$11","v":0},{"$f":"Q_d!$C$12","v":0},11233.589832572825,6052.604465817868,14136.109599919188,361.86803577271002,-13774.241564146478]
[53,62.7164407458,-151.93250519,{"$f":"lcpx(B632,C632,63,-115,70,60)","v":-1771.4550478038871},{"$f":"lcpy(B632,C632,63,-115,70,60)","v":501.97463284862215},{"$f":"Q_d!$C$11","v":0},{"$f":"Q_d!$C$12","v":0},{"$f":"lcpx(F632,G632,63,-115,70,60)","v":11233.589832572825},{"$f":"lcpy(F632,G632,63,-115,70,60)","v":6052.604465817868},{"$f":"SQRT((H632-D632)^2+(I632-E632)^2)","v":14140.038326796031},361.879676008476,-13778.158650787556]
[53,62.717243667799899,-151.93151641200001,-1771.3640146856724,502.021098161174,{"$f":"Q_d!$C$11","v":0},{"$f":"Q_d!$C$12","v":0},11233.589832572825,6052.604465817868,14139.936360911626,361.94881261581702,-13777.987548295809]
[53,62.730704137099899,-151.840892045999,-1766.7008911408921,500.72654801656608,{"$f":"Q_d!$C$11","v":0},{"$f":"Q_d!$C$12","v":0},11233.589832572825,6052.604465817868,14136.156030379922,361.94981498682898,-13774.206215393093]
[53,62.711264956199898,-151.971066237999,-1773.4054437419882,502.57888250185215,{"$f":"Q_d!$C$11","v":0},{"$f":"Q_d!$C$12","v":0},11233.589832572825,6052.604465817868,14141.595033571642,361.959356348195,-13779.635677223447]
[53,62.7304686887,-151.84417937000001,-1766.8546017218848,500.79675635399417,{"$f":"Q_d!$C$11","v":0},{"$f":"Q_d!$C$12","v":0},11233.589832572825,6052.604465817868,14136.269816753174,361.97494856550497,-13774.29486818767]
[53,62.7305822675999,-151.84705248,-1766.9694352560912,500.88766687668613,{"$f":"Q_d!$C$11","v":0},{"$f":"Q_d!$C$12","v":0},11233.589832572825,6052.604465817868,14136.3397204502,362.031019534238,-13774.308700915963]
[53,62.718158571499899,-151.93090910199899,-1771.2822899833284,502.08861696956137,{"$f":"Q_d!$C$11","v":0},{"$f":"Q_d!$C$12","v":0},11233.589832572825,6052.604465817868,14139.834691832659,362.03491598048902,-13777.799775852171]
[53,62.719028028799897,-151.929604326,-1771.1738019710556,502.13237093663656,{"$f":"Q_d!$C$11","v":0},{"$f":"Q_d!$C$12","v":0},11233.589832572825,6052.604465817868,14139.717736447577,362.10589596415002,-13777.611840483427]
[53,62.731296739000001,-151.84972720299899,-1767.0391507295033,501.02861222960246,{"$f":"Q_d!$C$11","v":0},{"$f":"Q_d!$C$12","v":0},11233.589832572825,6052.604465817868,14136.348482533414,362.147528402445,-13774.200954130969]
[53,62.719761066099899,-151.928697999999,-1771.0905446714848,502.17469663151087,{"$f":"Q_d!$C$11","v":0},{"$f":"Q_d!$C$12","v":0},11233.589832572825,6052.604465817868,14139.624547241461,362.168160103839,-13777.456387137623]
[53,62.731474290599898,-151.85212863300001,-1767.130075622679,501.11224612178512,{"$f":"Q_d!$C$11","v":0},{"$f":"Q_d!$C$12","v":0},11233.589832572825,6052.604465817868,14136.39925853458,362.20350137043101,-13774.195757164149]
[53,62.868361059500003,-150.107995668,-1684.5423121603355,466.21084027413463,{"$f":"Q_d!$C$11","v":0},{"$f":"Q_d!$C$12","v":0},11233.589832572825,6052.604465817868,14074.300403512207,362.25202293568998,-13712.048380576516]
[53,62.7321268695,-151.855430920999,-1767.2301514026985,501.26503546043068,{"$f":"Q_d!$C$11","v":0},{"$f":"Q_d!$C$12","v":0},11233.589832572825,6052.604465817868,14136.431293886677,362.32344529439399,{"$f":"K644-J644","v":-13774.107848592283}]
[53,62.732466866099898,-151.85680858500001,-1767.2677589335519,501.33504419562405,{"$f":"Q_d!$C$11","v":0},{"$f":"Q_d!$C$12","v":0},11233.589832572825,6052.604465817868,14136.438388295235,362.38072192240003,-13774.057666372835]
[53,62.7224159242,-151.925558322999,-1770.7950714837341,502.33200828397275,{"$f":"Q_d!$C$11","v":0},{"$f":"Q_d!$C$12","v":0},11233.589832572825,6052.604465817868,14139.291039005931,362.39798393478901,-13776.893055071143]
[53,62.7233695965,-151.922690463999,-1770.6152315291515,502.33972498299636,{"$f":"Q_d!$C$11","v":0},{"$f":"Q_d!$C$12","v":0},11233.589832572825,6052.604465817868,14139.122605118404,362.45203535502401,-13776.670569763381]
[53,62.723181095500003,-151.924416049999,-1770.6998606482327,502.37069503663315,{"$f":"Q_d!$C$11","v":0},{"$f":"Q_d!$C$12","v":0},11233.589832572825,6052.604465817868,14139.188284181519,362.45986373666199,-13776.728420444857]
[53,62.7237343972999,-151.920874902999,-1770.516002989151,502.32253004820814,{"$f":"Q_d!$C$11","v":0},{"$f":"Q_d!$C$12","v":0},11233.589832572825,6052.604465817868,14139.038091363502,362.46168379154199,-13776.57640757196]
[53,62.724170146699898,-151.91905442500001,-1770.4122255127893,502.31175871089181,{"$f":"Q_d!$C$11","v":0},{"$f":"Q_d!$C$12","v":0},11233.589832572825,6052.604465817868,14138.946872425109,362.47846536035701,-13776.468407064753]
[53,62.724567047400001,-151.91700300900001,-1770.3010433077509,502.29092493559529,{"$f":"Q_d!$C$11","v":0},{"$f":"Q_d!$C$12","v":0},11233.589832572825,6052.604465817868,14138.85279341684,362.48747734507998,-13776.36531607176]
[53,62.870799555300003,-150.107995670999,-1684.3996481282084,466.44040109666321,{"$f":"Q_d!$C$11","v":0},{"$f":"Q_d!$C$12","v":0},11233.589832572825,6052.604465817868,14074.078342168097,362.52271636409199,-13711.555625804005]
[53,62.725258953000001,-151.915709765999,-1770.2039289320155,502.31862169965871,{"$f":"Q_d!$C$11","v":0},{"$f":"Q_d!$C$12","v":0},11233.589832572825,6052.604465817868,14138.752602092278,362.54035132657901,-13776.212250765699]
[53,62.734095771299899,-151.858873899999,-1767.2557523092428,501.54351357971291,{"$f":"Q_d!$C$11","v":0},{"$f":"Q_d!$C$12","v":0},11233.589832572825,6052.604465817868,14136.345483094658,362.58413331666799,-13773.761349777989]
[53,62.726272451900002,-151.914550034999,-1770.0927967088203,502.37979155709309,{"$f":"Q_d!$C$11","v":0},{"$f":"Q_d!$C$12","v":0},11233.589832572825,6052.604465817868,14138.626378041621,362.62850868898801,-13775.997869352634]
[53,62.735333166499899,-151.86088921199899,-1767.2655372922604,501.71436937122417,{"$f":"Q_d!$C$11","v":0},{"$f":"Q_d!$C$12","v":0},11233.589832572825,6052.604465817868,14136.28739135489,362.74596098095901,-13773.541430373931]
[53,62.727768248099899,-151.912344813,-1769.9078770927567,502.45623914476892,{"$f":"Q_d!$C$11","v":0},{"$f":"Q_d!$C$12","v":0},11233.589832572825,6052.604465817868,14138.426292318412,362.75170158112201,-13775.67459073729]
[53,62.735930648599897,-151.86287196699899,-1767.3130353115232,501.82512832039038,{"$f":"Q_d!$C$11","v":0},{"$f":"Q_d!$C$12","v":0},11233.589832572825,6052.604465817868,14136.28758315819,362.839726900183,-13773.447856258006]
[53,62.735938541800003,-151.86583097299899,-1767.437916330781,501.90868791106777,{"$f":"Q_d!$C$11","v":0},{"$f":"Q_d!$C$12","v":0},11233.589832572825,6052.604465817868,14136.369624010045,362.88592511145902,-13773.483698898586]
[53,62.735762110400003,-151.86833565200001,-1767.5548104082939,501.96248779048074,{"$f":"Q_d!$C$11","v":0},{"$f":"Q_d!$C$12","v":0},11233.589832572825,6052.604465817868,14136.456005518372,362.906162175568,-13773.549843342804]
[53,62.729663295899897,-151.91073474500001,-1769.7237493689795,502.58628532762805,{"$f":"Q_d!$C$11","v":0},{"$f":"Q_d!$C$12","v":0},11233.589832572825,6052.604465817868,14138.205894457911,362.92580150217998,-13775.280092955731]
[53,62.7356566071999,-151.870835309,-1767.6671554036573,502.02271149118678,{"$f":"Q_d!$C$11","v":0},{"$f":"Q_d!$C$12","v":0},11233.589832572825,6052.604465817868,14136.535681660891,362.93330279267502,-13773.602378868216]
[53,62.874799555300001,-150.107995673999,-1684.165628820133,466.81696159208968,{"$f":"Q_d!$C$11","v":0},{"$f":"Q_d!$C$12","v":0},11233.589832572825,6052.604465817868,14073.714087003204,362.96535493625203,-13710.748732066952]
[53,62.735716867299899,-151.874958835,-1767.8381584661806,502.14373605060246,{"$f":"Q_d!$C$11","v":0},{"$f":"Q_d!$C$12","v":0},11233.589832572825,6052.604465817868,14136.645433725114,363.003535533746,-13773.641898191368]
[53,62.730989429799898,-151.90908588400001,-1769.57278824943,502.66266008776211,{"$f":"Q_d!$C$11","v":0},{"$f":"Q_d!$C$12","v":0},11233.589832572825,6052.604465817868,14138.03706992381,363.03913491660899,-13774.997935007201]
[53,62.735742656900001,-151.87916266299899,-1768.0146620011303,502.26383267380061,{"$f":"Q_d!$C$11","v":0},{"$f":"Q_d!$C$12","v":0},11233.589832572825,6052.604465817868,14136.760611160385,363.07156404488597,-13773.6890471155]
[53,62.735646027100003,-151.882284704,-1768.1528180530197,502.34232572994551,{"$f":"Q_d!$C$11","v":0},{"$f":"Q_d!$C$12","v":0},11233.589832572825,6052.604465817868,14136.856856345279,363.11044964445699,-13773.746406700822]
[53,62.735383198599898,-151.886197135999,-1768.3346109857387,502.42759509785174,{"$f":"Q_d!$C$11","v":0},{"$f":"Q_d!$C$12","v":0},11233.589832572825,6052.604465817868,14136.990575517872,363.14335126778701,-13773.847224250085]
[53,62.732347677,-151.90720104100001,-1769.409873520101,502.73539614629453,{"$f":"Q_d!$C$11","v":0},{"$f":"Q_d!$C$12","v":0},11233.589832572825,6052.604465817868,14137.858679699339,363.15280902810002,-13774.705870671238]
[53,62.733423889900003,-151.90299927800001,-1769.1660879623355,502.71714300569511,{"$f":"Q_d!$C$11","v":0},{"$f":"Q_d!$C$12","v":0},11233.589832572825,6052.604465817868,14137.641628819265,363.200125938854,-13774.441502880411]
[53,62.7354075354,-151.89032312500001,-1768.5078870814621,502.54540987320661,{"$f":"Q_d!$C$11","v":0},{"$f":"Q_d!$C$12","v":0},11233.589832572825,6052.604465817868,14137.10368625457,363.210565789322,-13773.893120465247]
[53,62.733985654100003,-151.900078933999,-1769.0080431886342,502.68725117859867,{"$f":"Q_d!$C$11","v":0},{"$f":"Q_d!$C$12","v":0},11233.589832572825,6052.604465817868,14137.508005589447,363.21334325985299,-13774.294662329594]
[53,62.734639202300002,-151.896139683,-1768.8012313690126,502.63730900008522,{"$f":"Q_d!$C$11","v":0},{"$f":"Q_d!$C$12","v":0},11233.589832572825,6052.604465817868,14137.337402121753,363.22046001980601,-13774.116942101948]
[53,62.735095497000003,-151.89330430499899,-1768.6532366460126,502.60006643590532,{"$f":"Q_d!$C$11","v":0},{"$f":"Q_d!$C$12","v":0},11233.589832572825,6052.604465817868,14137.215909230801,363.22441929473803,-13773.991489936063]
[53,62.878799555199897,-150.107995676,-1683.9316101006566,467.19352104469226,{"$f":"Q_d!$C$11","v":0},{"$f":"Q_d!$C$12","v":0},11233.589832572825,6052.604465817868,14073.349837331592,363.40885961269498,-13709.940977718898]
[53,62.882799554999899,-150.107995681999,-1683.6975921831474,467.57007958945906,{"$f":"Q_d!$C$11","v":0},{"$f":"Q_d!$C$12","v":0},11233.589832572825,6052.604465817868,14072.985593295849,363.85236480748603,-13709.133228488363]
[53,62.885238019600003,-150.107995681999,-1683.5549312231474,467.7996351813531,{"$f":"Q_d!$C$11","v":0},{"$f":"Q_d!$C$12","v":0},11233.589832572825,6052.604465817868,14072.76354683623,364.12219391023098,-13708.641352925999]
[53,62.889238019499899,-150.10799568600001,-1683.3209142171213,468.17619206805421,{"$f":"Q_d!$C$11","v":0},{"$f":"Q_d!$C$12","v":0},11233.589832572825,6052.604465817868,14072.399311602621,364.565699962297,-13707.833611640324]
[53,62.893238018799899,-150.10799568900001,-1683.0868978250396,468.55274787097551,{"$f":"Q_d!$C$11","v":0},{"$f":"Q_d!$C$12","v":0},11233.589832572825,6052.604465817868,14072.035081902948,365.00834105126899,-13707.026740851679]
[53,62.7372473588999,-152.00312603200001,-1773.1701389395939,505.87922879691405,{"$f":"Q_d!$C$11","v":0},{"$f":"Q_d!$C$12","v":0},11233.589832572825,6052.604465817868,14140.083656454897,365.21126567782602,-13774.872390777071]
[53,62.737049776600003,-152.00944741199899,-1773.4496598975495,506.03852713395099,{"$f":"Q_d!$C$11","v":0},{"$f":"Q_d!$C$12","v":0},11233.589832572825,6052.604465817868,14140.27828831005,365.29431395519902,-13774.983974354851]
[53,62.737709409099899,-152.01353181299899,-1773.5819771818656,506.21416844484793,{"$f":"Q_d!$C$11","v":0},{"$f":"Q_d!$C$12","v":0},11233.589832572825,6052.604465817868,14140.331107130083,365.43094648510498,-13774.900160644978]
[53,62.8972380198,-150.107995692,-1682.8528819542362,468.92930283502892,{"$f":"Q_d!$C$11","v":0},{"$f":"Q_d!$C$12","v":0},11233.589832572825,6052.604465817868,14071.670857555282,365.45184814691999,-13706.219009408362]
[53,62.7382121355,-152.01653628899899,-1773.6782263195537,506.3449896775287,{"$f":"Q_d!$C$11","v":0},{"$f":"Q_d!$C$12","v":0},11233.589832572825,6052.604465817868,14140.368330866011,365.53345357436098,-13774.834877291651]
[53,62.738632175699898,-152.018689542999,-1773.7435368614022,506.44426540316317,{"$f":"Q_d!$C$11","v":0},{"$f":"Q_d!$C$12","v":0},11233.589832572825,6052.604465817868,14140.389469610136,365.612853220452,-13774.776616389685]
[53,62.899676499800002,-150.107995692999,-1682.7102215032592,469.15885770333443,{"$f":"Q_d!$C$11","v":0},{"$f":"Q_d!$C$12","v":0},11233.589832572825,6052.604465817868,14071.448821841315,365.721177501385,-13705.72764433993]
[53,62.899676499800002,-150.111995694,-1682.8817571732593,469.26546879600755,{"$f":"Q_d!$C$11","v":0},{"$f":"Q_d!$C$12","v":0},11233.589832572825,6052.604465817868,14071.563974355615,365.72816448422401,-13705.835809871391]
[53,62.8996764985,-150.115995693999,-1683.0532861218278,469.37209060677924,{"$f":"Q_d!$C$11","v":0},{"$f":"Q_d!$C$12","v":0},11233.589832572825,6052.604465817868,14071.679118403999,365.73476254247402,-13705.944355861526]
[53,62.8996764977,-150.11684208400001,-1683.0895803833962,469.39465285898041,{"$f":"Q_d!$C$11","v":0},{"$f":"Q_d!$C$12","v":0},11233.589832572825,6052.604465817868,14071.703481547906,365.735815320293,-13705.967666227612]
[53,62.739900136400003,-152.023124050999,-1773.8533115032014,506.68592365213908,{"$f":"Q_d!$C$11","v":0},{"$f":"Q_d!$C$12","v":0},11233.589832572825,6052.604465817868,14140.39566712007,365.81836555454601,-13774.577301565525]
[53,62.740478514300001,-152.02386517900001,-1773.8491764446223,506.76014753263235,{"$f":"Q_d!$C$11","v":0},{"$f":"Q_d!$C$12","v":0},11233.589832572825,6052.604465817868,14140.362752629984,365.89195774162602,-13774.470794888359]
[53,62.741710459700002,-152.02565418,-1773.8492608384145,506.92415392563635,{"$f":"Q_d!$C$11","v":0},{"$f":"Q_d!$C$12","v":0},11233.589832572825,6052.604465817868,14140.298507829038,366.05068095552002,-13774.247826873518]
[53,62.9036764985999,-150.11684209000001,-1682.8555128864775,469.77117349715809,{"$f":"Q_d!$C$11","v":0},{"$f":"Q_d!$C$12","v":0},11233.589832572825,6052.604465817868,14071.339237332095,366.17930628177203,-13705.159931050322]
[53,62.743108226099899,-152.026575667,-1773.8024832416029,507.07909542373909,{"$f":"Q_d!$C$11","v":0},{"$f":"Q_d!$C$12","v":0},11233.589832572825,6052.604465817868,14140.194711926466,366.212519876096,-13773.982192050369]
[53,62.744247022400003,-152.026735126999,-1773.7393678434748,507.18871714883107,{"$f":"Q_d!$C$11","v":0},{"$f":"Q_d!$C$12","v":0},11233.589832572825,6052.604465817868,14140.093661415016,366.33386543971,-13773.759795975306]
[53,62.7449747175,-152.02801200100001,{"$f":"lcpx(B696,C696,63,-115,70,60)","v":-1773.7487159347709},{"$f":"lcpy(B696,C696,63,-115,70,60)","v":507.29177419421103},{"$f":"Q_d!$C$11","v":0},{"$f":"Q_d!$C$12","v":0},{"$f":"lcpx(F696,G696,63,-115,70,60)","v":11233.589832572825},{"$f":"lcpy(F696,G696,63,-115,70,60)","v":6052.604465817868},{"$f":"SQRT((H696-D696)^2+(I696-E696)^2)","v":14140.061844397078},366.431286527228,-13773.63055786985]
[53,62.745656378500001,-152.02851291299899,-1773.7280774738342,507.36878112466411,{"$f":"Q_d!$C$11","v":0},{"$f":"Q_d!$C$12","v":0},11233.589832572825,6052.604465817868,14140.01265953519,366.510841538146,-13773.501817997045]
[53,62.907676497499899,-150.11684209200001,-1682.621445953195,470.14769284607792,{"$f":"Q_d!$C$11","v":0},{"$f":"Q_d!$C$12","v":0},11233.589832572825,6052.604465817868,14070.974998685107,366.62193177304601,-13704.353066912061]
[53,62.747232627300001,-152.02950093800001,-1773.6731513438585,507.54206406794037,{"$f":"Q_d!$C$11","v":0},{"$f":"Q_d!$C$12","v":0},11233.589832572825,6052.604465817868,14139.894178248642,366.69308217090702,-13773.201096077735]
[53,62.7485291717,-152.030818904,-1773.6493279836955,507.69878985576679,{"$f":"Q_d!$C$11","v":0},{"$f":"Q_d!$C$12","v":0},11233.589832572825,6052.604465817868,14139.810802667474,366.85010242331902,-13772.960700244155]
[53,62.749414283199897,-152.030605495999,-1773.5860054346283,507.77451106225635,{"$f":"Q_d!$C$11","v":0},{"$f":"Q_d!$C$12","v":0},11233.589832572825,6052.604465817868,14139.722858245845,366.93950943581899,-13772.783348810026]
[53,62.911676497599899,-150.116842095999,-1682.3873796524492,470.52421136854355,{"$f":"Q_d!$C$11","v":0},{"$f":"Q_d!$C$12","v":0},11233.589832572825,6052.604465817868,14070.610765486892,367.06542384702999,-13703.545341639861]
[53,62.750755482999899,-152.02997282000001,-1773.4769799534884,507.88056324603394,{"$f":"Q_d!$C$11","v":0},{"$f":"Q_d!$C$12","v":0},11233.589832572825,6052.604465817868,14139.580977570546,367.06953885605901,-13772.511438714486]
[53,62.751642701400002,-152.02991506999899,-1773.4201096438378,507.96085228185029,{"$f":"Q_d!$C$11","v":0},{"$f":"Q_d!$C$12","v":0},11233.589832572825,6052.604465817868,14139.497177695141,367.16131861213199,-13772.335859083008]
[53,62.753113532999897,-152.03098814500001,-1773.3752335666247,508.12678409763203,{"$f":"Q_d!$C$11","v":0},{"$f":"Q_d!$C$12","v":0},11233.589832572825,6052.604465817868,14139.39082828061,367.33330130005902,-13772.05752698055]
[53,62.914114902800002,-150.11684209800001,-1682.2446928183463,470.753737045653,{"$f":"Q_d!$C$11","v":0},{"$f":"Q_d!$C$12","v":0},11233.589832572825,6052.604465817868,14070.388731146753,367.335244290552,-13703.053486856201]
[53,62.754478942900001,-152.032146105999,-1773.3404079002262,508.28536498845051,{"$f":"Q_d!$C$11","v":0},{"$f":"Q_d!$C$12","v":0},11233.589832572825,6052.604465817868,14139.296608118604,367.495990086966,-13771.800618031639]
[53,62.755510222799899,-152.032234896999,-1773.2808902988722,508.38306771908628,{"$f":"Q_d!$C$11","v":0},{"$f":"Q_d!$C$12","v":0},11233.589832572825,6052.604465817868,14139.203545908566,367.60594774568,{"$f":"K708-J708","v":-13771.597598162885}]
[53,62.756541503400001,-152.03232369700001,-1773.2213728094682,508.48077052555982,{"$f":"Q_d!$C$11","v":0},{"$f":"Q_d!$C$12","v":0},11233.589832572825,6052.604465817868,14139.110484084917,367.71468859973402,-13771.395795485183]
[53,62.918114902200003,-150.116842101,-1682.010627506736,471.1302538813552,{"$f":"Q_d!$C$11","v":0},{"$f":"Q_d!$C$12","v":0},11233.589832572825,6052.604465817868,14070.024506834367,367.77873726603599,-13702.24576956833]
[53,62.757447651500001,-152.033667557,-1773.2225713812295,508.602168569897,{"$f":"Q_d!$C$11","v":0},{"$f":"Q_d!$C$12","v":0},11233.589832572825,6052.604465817868,14139.063985410909,367.83249606444502,-13771.231489346463]
[53,62.7584300181,-152.035396222,-1773.2353502782507,508.74140902267254,{"$f":"Q_d!$C$11","v":0},{"$f":"Q_d!$C$12","v":0},11233.589832572825,6052.604465817868,14139.021144681392,367.96373439375702,-13771.057410287634]
[53,62.7594938322,-152.037899089999,-1773.2758396491488,508.90991094898664,{"$f":"Q_d!$C$11","v":0},{"$f":"Q_d!$C$12","v":0},11233.589832572825,6052.604465817868,14138.992323815344,368.116247146197,-13770.876076669147]
[53,62.922114901400001,-150.11684210300001,-1681.776562778281,471.50676968335665,{"$f":"Q_d!$C$11","v":0},{"$f":"Q_d!$C$12","v":0},11233.589832572825,6052.604465817868,14069.66028800847,368.22136483506699,-13701.438923173404]
[53,62.760734003700001,-152.040312768999,-1773.301728242333,509.09218687439216,{"$f":"Q_d!$C$11","v":0},{"$f":"Q_d!$C$12","v":0},11233.589832572825,6052.604465817868,14138.944672838976,368.28681677735898,-13770.657856061616]
[53,62.761278906100003,-152.041212779999,-1773.3063180924919,509.16776607143856,{"$f":"Q_d!$C$11","v":0},{"$f":"Q_d!$C$12","v":0},11233.589832572825,6052.604465817868,14138.91926274027,368.35814854839299,-13770.561114191876]
[53,62.762218371800003,-152.042399068999,-1773.2987886399851,509.28780780834404,{"$f":"Q_d!$C$11","v":0},{"$f":"Q_d!$C$12","v":0},11233.589832572825,6052.604465817868,14138.865271852657,368.47630480398601,-13770.388967048671]
[53,62.7638957805,-152.042992067,-1773.2209052425994,509.4593047408207,{"$f":"Q_d!$C$11","v":0},{"$f":"Q_d!$C$12","v":0},11233.589832572825,6052.604465817868,14138.726386988415,368.662391705473,-13770.063995282942]
[53,62.9261149011,-150.11684210600001,-1681.5424986766625,471.88328457252464,{"$f":"Q_d!$C$11","v":0},{"$f":"Q_d!$C$12","v":0},11233.589832572825,6052.604465817868,14069.296074661526,368.66485890846701,-13700.631215753059]
[53,62.765076338999897,-152.043617261999,-1773.1748694729479,509.58584008841217,{"$f":"Q_d!$C$11","v":0},{"$f":"Q_d!$C$12","v":0},11233.589832572825,6052.604465817868,14138.634428386906,368.795910891105,-13769.8385174958]
[53,62.766000106600004,-152.04363547700001,-1773.1189496389491,509.67162399582594,{"$f":"Q_d!$C$11","v":0},{"$f":"Q_d!$C$12","v":0},11233.589832572825,6052.604465817868,14138.54935395475,368.89323304446702,-13769.656120910282]
[53,62.928553275799899,-150.11684210799899,-1681.3998149777706,472.11280520597529,{"$f":"Q_d!$C$11","v":0},{"$f":"Q_d!$C$12","v":0},11233.589832572825,6052.604465817868,14069.074055192756,368.93468066854302,-13700.139374524213]
[53,62.7676482976999,-152.04469825800001,-1773.0626966932791,509.85361235962455,{"$f":"Q_d!$C$11","v":0},{"$f":"Q_d!$C$12","v":0},11233.589832572825,6052.604465817868,14138.426257564046,369.08346816675402,-13769.342789397291]
[53,62.768971853899899,-152.045392319999,-1773.0107873225504,509.99527754646078,{"$f":"Q_d!$C$11","v":0},{"$f":"Q_d!$C$12","v":0},11233.589832572825,6052.604465817868,14138.322966298845,369.23398425659502,-13769.088982042251]
[53,62.932553276299899,-150.116842112,-1681.1657518570589,472.48931861275287,{"$f":"Q_d!$C$11","v":0},{"$f":"Q_d!$C$12","v":0},11233.589832572825,6052.604465817868,14068.709850644829,369.378175631695,-13699.331675013134]
[53,62.770580368799898,-152.046145999999,-1772.9439049435155,510.16491883590288,{"$f":"Q_d!$C$11","v":0},{"$f":"Q_d!$C$12","v":0},11233.589832572825,6052.604465817868,14138.194934188043,369.41440735304298,-13768.780526835]
[53,62.771056348899897,-152.047206789999,-1772.9594953667256,510.23864237545558,{"$f":"Q_d!$C$11","v":0},{"$f":"Q_d!$C$12","v":0},11233.589832572825,6052.604465817868,14138.180375882437,369.48199813793298,-13768.698377744504]
[53,62.7710855614,-152.04938798000001,-1773.0498219980818,510.30258996200109,{"$f":"Q_d!$C$11","v":0},{"$f":"Q_d!$C$12","v":0},11233.589832572825,6052.604465817868,14138.2384046589,369.52130504207702,-13768.717099616822]
[53,62.771322467700003,-152.051165956999,-1773.110369876789,510.3743874355082,{"$f":"Q_d!$C$11","v":0},{"$f":"Q_d!$C$12","v":0},11233.589832572825,6052.604465817868,14138.265961500687,369.57566737137802,-13768.690294129308]
[53,62.771911127899898,-152.05268740700001,-1773.1384909362666,510.47144880339783,{"$f":"Q_d!$C$11","v":0},{"$f":"Q_d!$C$12","v":0},11233.589832572825,6052.604465817868,14138.25378396694,369.662528566258,-13768.591255400683]
[53,62.772900556300002,-152.05496285000001,-1773.1738478627692,510.62667539354652,{"$f":"Q_d!$C$11","v":0},{"$f":"Q_d!$C$12","v":0},11233.589832572825,6052.604465817868,14138.225463906527,369.803785940598,-13768.421677965929]
[53,62.9365532761,-150.11684211599899,-1680.931689387683,472.86583097149514,{"$f":"Q_d!$C$11","v":0},{"$f":"Q_d!$C$12","v":0},11233.589832572825,6052.604465817868,14068.345651652808,369.820805251678,-13698.524846401129]
[53,62.774010092399898,-152.05559326100001,-1773.13236026302,510.74678717111192,{"$f":"Q_d!$C$11","v":0},{"$f":"Q_d!$C$12","v":0},11233.589832572825,6052.604465817868,14138.140214751886,369.93023399689798,-13768.209980754988]
[53,62.7748660022,-152.05585013800001,-1773.0906671431503,510.83299900343945,{"$f":"Q_d!$C$11","v":0},{"$f":"Q_d!$C$12","v":0},11233.589832572825,6052.604465817868,14138.068065053667,370.02498885615802,-13768.043076197509]
[53,62.775831496899897,-152.056333924,-1773.051827286967,510.93569681461531,{"$f":"Q_d!$C$11","v":0},{"$f":"Q_d!$C$12","v":0},11233.589832572825,6052.604465817868,14137.992078557205,370.13351174542402,-13767.858566811781]
[53,62.776732245600002,-152.057289787,-1773.036892287389,511.04567484083236,{"$f":"Q_d!$C$11","v":0},{"$f":"Q_d!$C$12","v":0},11233.589832572825,6052.604465817868,14137.93523092049,370.24375619583299,-13767.691474724657]
[53,62.940553275299898,-150.116842117999,-1680.697627477238,473.24234224013435,{"$f":"Q_d!$C$11","v":0},{"$f":"Q_d!$C$12","v":0},11233.589832572825,6052.604465817868,14067.981458148861,370.26430129840998,-13697.717156850451]
[53,62.777731150999898,-152.057615534999,-1772.9893255265106,511.14701648798837,{"$f":"Q_d!$C$11","v":0},{"$f":"Q_d!$C$12","v":0},11233.589832572825,6052.604465817868,14137.851748361121,370.35428673771202,-13767.497461623409]
[53,62.778583943599898,-152.05763874300001,-1772.9379546067237,511.22637659660813,{"$f":"Q_d!$C$11","v":0},{"$f":"Q_d!$C$12","v":0},11233.589832572825,6052.604465817868,14137.773382197607,370.443810044114,-13767.329572153492]
[53,62.942991620500003,-150.11684212,-1680.5549468467375,473.47185793778272,{"$f":"Q_d!$C$11","v":0},{"$f":"Q_d!$C$12","v":0},11233.589832572825,6052.604465817868,14067.759453449591,370.53412435833701,-13697.225329091254]
[53,62.779647600700002,-152.05749243099899,-1772.8664826170977,511.32043829352369,{"$f":"Q_d!$C$11","v":0},{"$f":"Q_d!$C$12","v":0},11233.589832572825,6052.604465817868,14137.67076121948,370.55262691957802,-13767.118134299903]
[53,62.7805066236999,-152.057983183,-1772.834467045288,511.41350140362329,{"$f":"Q_d!$C$11","v":0},{"$f":"Q_d!$C$12","v":0},11233.589832572825,6052.604465817868,14137.60483129312,370.65068312091302,-13766.954148172206]
[53,62.781457375000002,-152.06002793900001,-1772.8624191294969,511.55866426257853,{"$f":"Q_d!$C$11","v":0},{"$f":"Q_d!$C$12","v":0},11233.589832572825,6052.604465817868,14137.573651470251,370.78400635545199,-13766.789645114799]
[53,62.782058376999899,-152.062485213,-1772.9292490620035,511.68313119036111,{"$f":"Q_d!$C$11","v":0},{"$f":"Q_d!$C$12","v":0},11233.589832572825,6052.604465817868,14137.586351901133,370.88819802333899,-13766.698153877795]
[53,62.946991620799899,-150.11684212399899,-1680.320885936206,473.84836778872796,{"$f":"Q_d!$C$11","v":0},{"$f":"Q_d!$C$12","v":0},11233.589832572825,6052.604465817868,14067.395268738266,370.97762128327901,-13696.417647454988]
[53,62.7828178436,-152.06618038900001,-1773.0385929146996,511.8569858906244,{"$f":"Q_d!$C$11","v":0},{"$f":"Q_d!$C$12","v":0},11233.589832572825,6052.604465817868,14137.61881064206,371.02933404516602,-13766.589476596893]
[53,62.783552443300003,-152.06800536700001,-1773.0705155552248,511.97602830720734,{"$f":"Q_d!$C$11","v":0},{"$f":"Q_d!$C$12","v":0},11233.589832572825,6052.604465817868,14137.601525510552,371.13653631648799,-13766.464989194064]
[53,62.7845189361,-152.068567615999,-1773.0349003847489,512.08100951900497,{"$f":"Q_d!$C$11","v":0},{"$f":"Q_d!$C$12","v":0},11233.589832572825,6052.604465817868,14137.527616729229,371.247204210348,-13766.280412518881]
[53,62.7853624388,-152.067889702999,-1772.9544961424149,512.13981472934029,{"$f":"Q_d!$C$11","v":0},{"$f":"Q_d!$C$12","v":0},11233.589832572825,6052.604465817868,14137.430598407764,371.32338377484302,-13766.107214632921]
[53,62.9509916194,-150.11684212500001,-1680.0868256034544,474.22487642395072,{"$f":"Q_d!$C$11","v":0},{"$f":"Q_d!$C$12","v":0},11233.589832572825,6052.604465817868,14067.031089582959,371.42025292786599,-13695.610836655092]
[53,62.786450235499899,-152.06688411100001,-1772.8452645139487,512.21196506411479,{"$f":"Q_d!$C$11","v":0},{"$f":"Q_d!$C$12","v":0},11233.589832572825,6052.604465817868,14137.301828748619,371.42136290202802,-13765.880465846591]
[53,62.787093192,-152.067155028999,-1772.8172198503321,512.27890748952086,{"$f":"Q_d!$C$11","v":0},{"$f":"Q_d!$C$12","v":0},11233.589832572825,6052.604465817868,14137.249792855368,371.49227424537298,-13765.757518609995]
[53,62.787912565699898,-152.06733666900001,-1772.7745748346749,512.3596234765987,{"$f":"Q_d!$C$11","v":0},{"$f":"Q_d!$C$12","v":0},11233.589832572825,6052.604465817868,14137.178926906376,371.58146743076401,-13765.597459475612]
[53,62.788730905800001,-152.06744037300001,-1772.7287040206718,512.43805554475239,{"$f":"Q_d!$C$11","v":0},{"$f":"Q_d!$C$12","v":0},11233.589832572825,6052.604465817868,14137.105988456553,371.66947809175798,-13765.436510364794]
[53,62.7899864902,-152.06837429999899,-1772.691018655682,512.58014786371905,{"$f":"Q_d!$C$11","v":0},{"$f":"Q_d!$C$12","v":0},11233.589832572825,6052.604465817868,14137.015633596669,371.81621921589101,-13765.199414380779]
[53,62.954991618800001,-150.11684213000001,-1679.8527660006664,474.60138426664116,{"$f":"Q_d!$C$11","v":0},{"$f":"Q_d!$C$12","v":0},11233.589832572825,6052.604465817868,14066.66691595587,371.86375092229599,-13694.803165033574]
[53,62.7909240522999,-152.06836119600001,-1772.632896964672,512.66630162433603,{"$f":"Q_d!$C$11","v":0},{"$f":"Q_d!$C$12","v":0},11233.589832572825,6052.604465817868,14136.928398822209,371.91426891825398,-13765.014129903955]
[53,62.791571136800002,-152.06894399800001,-1772.6177554125893,512.74237921164058,{"$f":"Q_d!$C$11","v":0},{"$f":"Q_d!$C$12","v":0},11233.589832572825,6052.604465817868,14136.8846554107,371.99160153960401,-13764.893053871096]
[53,62.791317132700001,-152.071222758,-1772.7295028636804,512.78291833187222,{"$f":"Q_d!$C$11","v":0},{"$f":"Q_d!$C$12","v":0},11233.589832572825,6052.604465817868,14136.97157927891,372.002244294305,-13764.969334984606]
[53,62.7911819987999,-152.072822946999,{"$f":"lcpx(B760,C760,63,-115,70,60)","v":-1772.8053188234035},{"$f":"lcpy(B760,C760,63,-115,70,60)","v":512.81537790300717},{"$f":"Q_d!$C$11","v":0},{"$f":"Q_d!$C$12","v":0},{"$f":"lcpx(F760,G760,63,-115,70,60)","v":11233.589832572825},{"$f":"lcpy(F760,G760,63,-115,70,60)","v":6052.604465817868},{"$f":"SQRT((H760-D760)^2+(I760-E760)^2)","v":14137.028611870453},372.01515827315399,-13765.013453597299]
[53,62.791346614299897,-152.074528856999,-1772.8671868564277,512.87846837256029,{"$f":"Q_d!$C$11","v":0},{"$f":"Q_d!$C$12","v":0},11233.589832572825,6052.604465817868,14137.060809271206,372.06063850399403,-13765.000170767213]
[53,62.958303174900003,-150.03262714900001,-1676.0536344733405,472.67511630717672,{"$f":"Q_d!$C$11","v":0},{"$f":"Q_d!$C$12","v":0},11233.589832572825,6052.604465817868,14063.943472290357,372.12161224121297,-13691.821860049144]
[53,62.791588361400002,-152.07669798800001,-1772.9438596095583,512.96168506502499,{"$f":"Q_d!$C$11","v":0},{"$f":"Q_d!$C$12","v":0},11233.589832572825,6052.604465817868,14137.098741404567,372.122000506554,-13764.976740898013]
[53,62.958303174500003,-150.03662714800001,-1676.2249473269105,472.78130558359817,{"$f":"Q_d!$C$11","v":0},{"$f":"Q_d!$C$12","v":0},11233.589832572825,6052.604465817868,14064.058594545333,372.12557100258499,-13691.933023542748]
[53,62.958303172900003,-150.04062714899899,-1676.3962536083634,472.88750565311921,{"$f":"Q_d!$C$11","v":0},{"$f":"Q_d!$C$12","v":0},11233.589832572825,6052.604465817868,14064.173708431719,372.129129150084,-13692.044579281635]
[53,62.958303172100003,-150.04462714900001,-1676.567553071869,472.99371662414751,{"$f":"Q_d!$C$11","v":0},{"$f":"Q_d!$C$12","v":0},11233.589832572825,6052.604465817868,14064.288813681065,372.133305831391,-13692.155507849675]
[53,62.958303171700003,-150.04862714800001,-1676.7388457399643,473.09993845848385,{"$f":"Q_d!$C$11","v":0},{"$f":"Q_d!$C$12","v":0},11233.589832572825,6052.604465817868,14064.403910329422,372.13759123474699,-13692.266319094675]
[53,62.958303171300003,-150.05262714700001,-1676.9101316781919,473.20617114460083,{"$f":"Q_d!$C$11","v":0},{"$f":"Q_d!$C$12","v":0},11233.589832572825,6052.604465817868,14064.518998441734,372.142338801969,-13692.376659639765]
[53,62.958303170900002,-150.053796038999,-1676.9601841271713,473.23721680875451,{"$f":"Q_d!$C$11","v":0},{"$f":"Q_d!$C$12","v":0},11233.589832572825,6052.604465817868,14064.552628257601,372.14364942855002,-13692.408978829051]
[53,62.791375872000003,-152.079463193999,-1773.0735755123194,513.01972916669365,{"$f":"Q_d!$C$11","v":0},{"$f":"Q_d!$C$12","v":0},11233.589832572825,6052.604465817868,14137.195339449749,372.14569945788702,-13765.049639991861]
[53,62.958303170000001,-150.05779604099899,-1677.1314615255606,473.34346354976014,{"$f":"Q_d!$C$11","v":0},{"$f":"Q_d!$C$12","v":0},11233.589832572825,6052.604465817868,14064.667705470869,372.14818479336901,-13692.519520677501]
[53,62.958303170000001,-150.061796039999,-1677.3027320114625,473.44972114665279,{"$f":"Q_d!$C$11","v":0},{"$f":"Q_d!$C$12","v":0},11233.589832572825,6052.604465817868,14064.78277397931,372.152828867388,{"$f":"K772-J772","v":-13692.629945111923}]
[53,62.958303169600001,-150.064340208,-1677.4116637818488,473.51731106578063,{"$f":"Q_d!$C$11","v":0},{"$f":"Q_d!$C$12","v":0},11233.589832572825,6052.604465817868,14064.855957996599,372.15621896859301,-13692.699739028005]
[53,62.958303168,-150.06834020900001,-1677.582923432474,473.62358631658708,{"$f":"Q_d!$C$11","v":0},{"$f":"Q_d!$C$12","v":0},11233.589832572825,6052.604465817868,14064.971012741347,372.16104115557198,-13692.809971585775]
[53,62.958303168,-150.072340209999,-1677.7541762562894,473.72987256773422,{"$f":"Q_d!$C$11","v":0},{"$f":"Q_d!$C$12","v":0},11233.589832572825,6052.604465817868,14065.08605880317,372.16546639633202,-13692.920592406837]
[53,62.9583031676,-150.076340208999,-1677.925422283954,473.83616957735194,{"$f":"Q_d!$C$11","v":0},{"$f":"Q_d!$C$12","v":0},11233.589832572825,6052.604465817868,14065.201096306359,372.17136945767299,-13693.029726848685]
[53,62.9583031664,-150.08034020900001,-1678.0966616666092,473.94247738707236,{"$f":"Q_d!$C$11","v":0},{"$f":"Q_d!$C$12","v":0},11233.589832572825,6052.604465817868,14065.316125373352,372.17651846536398,-13693.139606907989]
[53,62.9583031664,-150.084340209,-1678.2678942437492,474.0487961581639,{"$f":"Q_d!$C$11","v":0},{"$f":"Q_d!$C$12","v":0},11233.589832572825,6052.604465817868,14065.431145793053,372.18177615783299,-13693.249369635219]
[53,62.958303165499899,-150.085509099999,-1678.3179310791297,474.07986688526125,{"$f":"Q_d!$C$11","v":0},{"$f":"Q_d!$C$12","v":0},11233.589832572825,6052.604465817868,14065.464755846207,372.183339080351,-13693.281416765856]
[53,62.958303164699899,-150.089509101999,-1678.4891550841062,474.18619965212292,{"$f":"Q_d!$C$11","v":0},{"$f":"Q_d!$C$12","v":0},11233.589832572825,6052.604465817868,14065.579765362794,372.18909750824201,-13693.390667854552]
[53,62.958303164299899,-150.093509100999,-1678.6603722003817,474.29254322432234,{"$f":"Q_d!$C$11","v":0},{"$f":"Q_d!$C$12","v":0},11233.589832572825,6052.604465817868,14065.694766218092,372.19460507240001,-13693.500161145692]
[53,62.958303164299899,-150.09605326900001,-1678.7692699843492,474.36018788723368,{"$f":"Q_d!$C$11","v":0},{"$f":"Q_d!$C$12","v":0},11233.589832572825,6052.604465817868,14065.767907144529,372.19854650441602,-13693.569360640113]
[53,62.958303163899899,-150.100053269,-1678.9404761201006,474.46654923194092,{"$f":"Q_d!$C$11","v":0},{"$f":"Q_d!$C$12","v":0},11233.589832572825,6052.604465817868,14065.882894058481,372.204232121291,-13693.678661937191]
[53,62.958303162699899,-150.104053268999,-1679.1116755638991,474.57292134761246,{"$f":"Q_d!$C$11","v":0},{"$f":"Q_d!$C$12","v":0},11233.589832572825,6052.604465817868,14065.997872505941,372.21002639907402,-13693.787846106867]
[53,62.958303162299899,-150.108053269999,-1679.2828682643503,474.67930441109638,{"$f":"Q_d!$C$11","v":0},{"$f":"Q_d!$C$12","v":0},11233.589832572825,6052.604465817868,14066.112842369805,372.216794508254,-13693.89604786155]
[53,62.958303161099899,-150.11205327100001,-1679.4540542715652,474.78569824475335,{"$f":"Q_d!$C$11","v":0},{"$f":"Q_d!$C$12","v":0},11233.589832572825,6052.604465817868,14066.227803766727,372.22230536334001,-13694.005498403387]
[53,62.958303160600003,-150.116053270999,-1679.6252334541718,474.89210296268539,{"$f":"Q_d!$C$11","v":0},{"$f":"Q_d!$C$12","v":0},11233.589832572825,6052.604465817868,14066.342756531072,372.22929204994,-13694.113464481132]
[53,62.958303160200003,-150.11684213199899,-1679.6589918212715,474.91308884763475,{"$f":"Q_d!$C$11","v":0},{"$f":"Q_d!$C$12","v":0},11233.589832572825,6052.604465817868,14066.365425988464,372.23045626735001,-13694.134969721114]
[53,62.9607415211999,-150.032635075999,-1675.9116010664086,472.90502993684095,{"$f":"Q_d!$C$11","v":0},{"$f":"Q_d!$C$12","v":0},11233.589832572825,6052.604465817868,14063.721877934891,372.39187391375702,-13691.330004021134]
[53,62.794606398100001,-152.07947355799899,-1772.8755979813361,513.31810959470977,{"$f":"Q_d!$C$11","v":0},{"$f":"Q_d!$C$12","v":0},11233.589832572825,6052.604465817868,14136.896276497202,372.48466737303397,-13764.411609124169]
[53,62.964741499900001,-150.03264808,-1675.678603108666,473.28219028510057,{"$f":"Q_d!$C$11","v":0},{"$f":"Q_d!$C$12","v":0},11233.589832572825,6052.604465817868,14063.358368424613,372.83499242560299,-13690.52337599901]
[53,62.798606378700001,-152.07948638900001,-1772.6304660981866,513.6875579381508,{"$f":"Q_d!$C$11","v":0},{"$f":"Q_d!$C$12","v":0},11233.589832572825,6052.604465817868,14136.525986604971,372.90320450486797,-13763.622782100103]
[53,62.968741478399899,-150.032661085999,-1675.4456056935533,473.65934960227878,{"$f":"Q_d!$C$11","v":0},{"$f":"Q_d!$C$12","v":0},11233.589832572825,6052.604465817868,14062.994864400791,373.27811110886199,-13689.716753291928]
[53,62.802606357099897,-152.07949923199899,-1772.3853353839556,514.05700529722799,{"$f":"Q_d!$C$11","v":0},{"$f":"Q_d!$C$12","v":0},11233.589832572825,6052.604465817868,14136.155702380616,373.32276601487803,-13762.832936365738]
[53,62.9727414571,-150.03267409,-1675.2126086255419,474.03650782175782,{"$f":"Q_d!$C$11","v":0},{"$f":"Q_d!$C$12","v":0},11233.589832572825,6052.604465817868,14062.631365710678,373.72122996292302,-13688.910135747756]
[53,62.806606336599899,-152.079512077999,-1772.1402052552521,514.42645172545645,{"$f":"Q_d!$C$11","v":0},{"$f":"Q_d!$C$12","v":0},11233.589832572825,6052.604465817868,14135.785423266727,373.74141543184601,-13762.04400783488]
[53,62.810606314799898,-152.079524923999,-1771.8950757317975,514.79589691878391,{"$f":"Q_d!$C$11","v":0},{"$f":"Q_d!$C$12","v":0},11233.589832572825,6052.604465817868,14135.415149400864,374.16012075714298,-13761.255028643722]
[53,62.976741435800001,-150.032687108,-1674.9796125999994,474.41366535078032,{"$f":"Q_d!$C$11","v":0},{"$f":"Q_d!$C$12","v":0},11233.589832572825,6052.604465817868,14062.267872831364,374.16434898717898,-13688.103523844185]
[53,62.813045065600001,-152.079532755,-1771.7456226733143,515.02114375960082,{"$f":"Q_d!$C$11","v":0},{"$f":"Q_d!$C$12","v":0},11233.589832572825,6052.604465817868,14135.189399234103,374.41657747621099,-13760.772821757892]
[53,62.980741414800001,-150.032700126999,-1674.7466170417538,474.79082187434005,{"$f":"Q_d!$C$11","v":0},{"$f":"Q_d!$C$12","v":0},11233.589832572825,6052.604465817868,14061.904385360145,374.60746818102803,-13687.296917179117]
[53,62.815483713299898,-152.07954059400001,-1771.5961764788728,515.24638089823202,{"$f":"Q_d!$C$11","v":0},{"$f":"Q_d!$C$12","v":0},11233.589832572825,6052.604465817868,14134.963660747731,374.67183545203898,-13760.291825295692]
[53,62.984741392899899,-150.032713145999,-1674.513621977098,475.16797725461265,{"$f":"Q_d!$C$11","v":0},{"$f":"Q_d!$C$12","v":0},11233.589832572825,6052.604465817868,14061.540903376146,375.05144748420798,-13686.489455891939]
[53,62.8194836929,-152.07955345400001,-1771.3510486215837,515.61582414497707,{"$f":"Q_d!$C$11","v":0},{"$f":"Q_d!$C$12","v":0},11233.589832572825,6052.604465817868,14134.593398516146,375.090664182674,-13759.502734333473]
[53,62.987179709000003,-150.032721081999,-1674.3715925044899,475.39788399973077,{"$f":"Q_d!$C$11","v":0},{"$f":"Q_d!$C$12","v":0},11233.589832572825,6052.604465817868,14061.319333816424,375.32084988313602,-13685.998483933288]
[53,62.8234836719,-152.07956631299899,-1771.1059212806438,515.98526619857057,{"$f":"Q_d!$C$11","v":0},{"$f":"Q_d!$C$12","v":0},11233.589832572825,6052.604465817868,14134.223141435381,375.510768347593,-13758.712373087788]
[53,62.989617995700002,-150.03272902800001,-1674.2295653396018,475.62778784816555,{"$f":"Q_d!$C$11","v":0},{"$f":"Q_d!$C$12","v":0},11233.589832572825,6052.604465817868,14061.097769226351,375.59111228169297,-13685.506656944659]
[53,62.827483651100003,-152.079579171999,-1770.8607944480464,516.3547071626208,{"$f":"Q_d!$C$11","v":0},{"$f":"Q_d!$C$12","v":0},11233.589832572825,6052.604465817868,14133.852889457772,375.92970778192,-13757.923181675853]
[53,62.993617974099898,-150.03274206,-1673.9965717883149,476.00494125840987,{"$f":"Q_d!$C$11","v":0},{"$f":"Q_d!$C$12","v":0},11233.589832572825,6052.604465817868,14060.734299579282,376.034232012193,-13684.70006756709]
[53,62.8314836302999,-152.07959204599899,-1770.6156687668997,516.72414744095522,{"$f":"Q_d!$C$11","v":0},{"$f":"Q_d!$C$12","v":0},11233.589832572825,6052.604465817868,14133.482643017156,376.34966954681897,-13757.132973470338]
[53,62.997617952100001,-150.032755092999,-1673.7635787405288,476.38209360435576,{"$f":"Q_d!$C$11","v":0},{"$f":"Q_d!$C$12","v":0},11233.589832572825,6052.604465817868,14060.370835398226,376.47821181577001,-13683.892623582455]
[53,63.000010382600003,-150.03276288800001,-1673.6242232566287,476.60767203160731,{"$f":"Q_d!$C$11","v":0},{"$f":"Q_d!$C$12","v":0},11233.589832572825,6052.604465817868,14060.153446080027,376.74264357781402,-13683.410802502212]
[53,62.835483609199898,-152.079604920999,-1770.3705436644921,517.09358661484521,{"$f":"Q_d!$C$11","v":0},{"$f":"Q_d!$C$12","v":0},11233.589832572825,6052.604465817868,14133.112401750905,376.76871857679402,-13756.343683174111]
[53,63.0016179319,-150.03276812799899,-1673.530586109584,476.75924512147503,{"$f":"Q_d!$C$11","v":0},{"$f":"Q_d!$C$12","v":0},11233.589832572825,6052.604465817868,14060.007376510554,376.921331869131,-13683.086044641423]
[53,62.839483588599897,-152.07961779300001,-1770.1254189221304,517.46302464763494,{"$f":"Q_d!$C$11","v":0},{"$f":"Q_d!$C$12","v":0},11233.589832572825,6052.604465817868,14132.742165472439,377.18878937874001,-13755.553376093698]
[53,63.0056179093,-150.03278117599899,-1673.2975946099079,477.13639570731493,{"$f":"Q_d!$C$11","v":0},{"$f":"Q_d!$C$12","v":0},11233.589832572825,6052.604465817868,14059.643923613074,377.36445208842798,-13682.279471524645]
[53,62.841922205700001,-152.07962564300001,-1769.9759771634981,517.68825481283739,{"$f":"Q_d!$C$11","v":0},{"$f":"Q_d!$C$12","v":0},11233.589832572825,6052.604465817868,14132.516450759565,377.44426778664899,-13755.072182972917]
[53,62.8443607934,-152.07963349900001,-1769.8265376547201,517.91348202446989,{"$f":"Q_d!$C$11","v":0},{"$f":"Q_d!$C$12","v":0},11233.589832572825,6052.604465817868,14132.29074083836,377.70002066454799,-13754.590720173812]
[53,63.009617888500003,-150.032794222999,-1673.0646033964481,477.5135453881071,{"$f":"Q_d!$C$11","v":0},{"$f":"Q_d!$C$12","v":0},11233.589832572825,6052.604465817868,14059.280475919941,377.80757247307702,-13681.472903446864]
[53,62.8483607736,-152.079646386999,-1769.5814146804469,518.28291813717351,{"$f":"Q_d!$C$11","v":0},{"$f":"Q_d!$C$12","v":0},11233.589832572825,6052.604465817868,14131.920516282175,378.11924472578698,-13753.801271556387]
[53,63.013617866099899,-150.03280727000001,-1672.8316127094754,477.89069387179734,{"$f":"Q_d!$C$11","v":0},{"$f":"Q_d!$C$12","v":0},11233.589832572825,6052.604465817868,14058.917033767859,378.25069302249801,-13680.666340745362]
[53,63.016056122999899,-150.03281522500001,-1672.6895894227982,478.12059092199979,{"$f":"Q_d!$C$11","v":0},{"$f":"Q_d!$C$12","v":0},11233.589832572825,6052.604465817868,14058.695493896357,378.52095606452201,-13680.174537831836]
[53,62.852360752000003,-152.07965927500001,-1769.3362923301627,518.65235298595599,{"$f":"Q_d!$C$11","v":0},{"$f":"Q_d!$C$12","v":0},11233.589832572825,6052.604465817868,14131.550297005684,378.539489666534,-13753.010807339149]
[53,63.018494349400001,-150.032823186,-1672.547568333611,478.35048487023096,{"$f":"Q_d!$C$11","v":0},{"$f":"Q_d!$C$12","v":0},11233.589832572825,6052.604465817868,14058.473958975295,378.79121916433002,-13679.682739810965]
[53,62.856360731300001,-152.07967216200001,{"$f":"lcpx(B824,C824,63,-115,70,60)","v":-1769.0911703947124},{"$f":"lcpy(B824,C824,63,-115,70,60)","v":519.02178679350436},{"$f":"Q_d!$C$11","v":0},{"$f":"Q_d!$C$12","v":0},{"$f":"lcpx(F824,G824,63,-115,70,60)","v":11233.589832572825},{"$f":"lcpy(F824,G824,63,-115,70,60)","v":6052.604465817868},{"$f":"SQRT((H824-D824)^2+(I824-E824)^2)","v":14131.180082729516},378.958821431827,-13752.221261297689]
[53,63.022494328699899,-150.03283625,-1672.3145792308846,478.72763164829212,{"$f":"Q_d!$C$11","v":0},{"$f":"Q_d!$C$12","v":0},11233.589832572825,6052.604465817868,14058.11052912541,379.234340072203,-13678.876189053206]
[53,62.8603607087,-152.079685065999,-1768.8460498025759,519.39121980742721,{"$f":"Q_d!$C$11","v":0},{"$f":"Q_d!$C$12","v":0},11233.589832572825,6052.604465817868,14130.809874211342,379.37917352696098,-13751.430700684381]
[53,63.026494306700002,-150.032849311999,-1672.081590547961,479.10477720989957,{"$f":"Q_d!$C$11","v":0},{"$f":"Q_d!$C$12","v":0},11233.589832572825,6052.604465817868,14057.74710472733,379.67746114300701,-13678.069643584324]
[53,62.864360688200001,-152.079697968999,-1768.6009295492659,519.76065189411293,{"$f":"Q_d!$C$11","v":0},{"$f":"Q_d!$C$12","v":0},11233.589832572825,6052.604465817868,14130.439670579517,379.79886856729797,-13750.64080201222]
[53,63.0304942856,-150.03286237500001,-1671.8486022836755,479.4819218435141,{"$f":"Q_d!$C$11","v":0},{"$f":"Q_d!$C$12","v":0},11233.589832572825,6052.604465817868,14057.383685665927,380.120582376171,-13677.263103289757]
[53,62.8683606666999,-152.079710871,-1768.3558098240878,520.13008276919663,{"$f":"Q_d!$C$11","v":0},{"$f":"Q_d!$C$12","v":0},11233.589832572825,6052.604465817868,14130.069472119869,380.21932746771301,-13749.850144652155]
[53,62.870799225600003,-152.07971873700001,-1768.2063745643768,520.35530319290319,{"$f":"Q_d!$C$11","v":0},{"$f":"Q_d!$C$12","v":0},11233.589832572825,6052.604465817868,14129.843785735635,380.47504128654703,-13749.368744449088]
[53,63.0344942625999,-150.032875450999,-1671.6156151128448,479.85906560467947,{"$f":"Q_d!$C$11","v":0},{"$f":"Q_d!$C$12","v":0},11233.589832572825,6052.604465817868,14057.020272539026,380.56456358021501,-13676.455708958811]
[53,62.873237753200002,-152.079726609999,-1768.0569417098557,520.58052052000858,{"$f":"Q_d!$C$11","v":0},{"$f":"Q_d!$C$12","v":0},11233.589832572825,6052.604465817868,14129.618104342528,380.73103172318298,-13748.887072619345]
[53,63.038494242200002,-150.03288853000001,-1671.3826283444992,480.23620865427301,{"$f":"Q_d!$C$11","v":0},{"$f":"Q_d!$C$12","v":0},11233.589832572825,6052.604465817868,14056.656864648827,381.007685125904,-13675.649179522923]
[53,62.8772377316999,-152.07973952699899,-1767.8118237406688,520.94994939899743,{"$f":"Q_d!$C$11","v":0},{"$f":"Q_d!$C$12","v":0},11233.589832572825,6052.604465817868,14129.247917628472,381.150641721878,-13748.097275906593]
[53,63.042494219399899,-150.03290160500001,-1671.1496419704292,480.61335033757859,{"$f":"Q_d!$C$11","v":0},{"$f":"Q_d!$C$12","v":0},11233.589832572825,6052.604465817868,14056.293462247655,381.45080683228298,{"$f":"K836-J836","v":-13674.842655415372}]
[53,62.881237710100002,-152.079752444999,-1767.5667063246813,521.31937721068925,{"$f":"Q_d!$C$11","v":0},{"$f":"Q_d!$C$12","v":0},11233.589832572825,6052.604465817868,14128.877736054112,381.571270629747,-13747.306465424364]
[53,63.044932336999899,-150.03290957900001,-1671.0076295102717,480.84323020056581,{"$f":"Q_d!$C$11","v":0},{"$f":"Q_d!$C$12","v":0},11233.589832572825,6052.604465817868,14056.071959303892,381.72107055938102,-13674.350888744511]
[53,63.0466329286999,-150.032738190999,-1670.9010203780019,480.99888874116323,{"$f":"Q_d!$C$11","v":0},{"$f":"Q_d!$C$12","v":0},11233.589832572825,6052.604465817868,14055.912381642245,381.90846704413298,-13674.003914598112]
[53,62.885237689599897,-152.079765361,-1767.3215892609769,521.68880398347483,{"$f":"Q_d!$C$11","v":0},{"$f":"Q_d!$C$12","v":0},11233.589832572825,6052.604465817868,14128.507559423733,381.99098578369598,-13746.516573640038]
[53,63.047821218300001,-150.031950434999,-1670.798007120542,481.08997826258064,{"$f":"Q_d!$C$11","v":0},{"$f":"Q_d!$C$12","v":0},11233.589832572825,6052.604465817868,14055.781700149746,382.04016864329799,-13673.741531506448]
[53,63.048635627899898,-150.03136975800001,-1670.725666128732,481.15132977685471,{"$f":"Q_d!$C$11","v":0},{"$f":"Q_d!$C$12","v":0},11233.589832572825,6052.604465817868,14055.69096619339,382.12989933921602,-13673.561066854174]
[53,63.049308241699897,-150.030807839999,-1670.662405800753,481.199821442553,{"$f":"Q_d!$C$11","v":0},{"$f":"Q_d!$C$12","v":0},11233.589832572825,6052.604465817868,14055.613666536809,382.20334827680398,-13673.410318260005]
[53,63.049890566099897,-150.030415462999,-1670.6116560581165,481.24429462161106,{"$f":"Q_d!$C$11","v":0},{"$f":"Q_d!$C$12","v":0},11233.589832572825,6052.604465817868,14055.549445552706,382.268089016072,-13673.281356536634]
[53,63.051098234100003,-150.029467355999,-1670.5006730962848,481.3329729806037,{"$f":"Q_d!$C$11","v":0},{"$f":"Q_d!$C$12","v":0},11233.589832572825,6052.604465817868,14055.412403248822,382.40131398571299,-13673.011089263109]
[53,62.889237669000003,-152.079778290999,-1767.0764732947787,522.05823005607999,{"$f":"Q_d!$C$11","v":0},{"$f":"Q_d!$C$12","v":0},11233.589832572825,6052.604465817868,14128.13738829079,382.411719309175,-13745.725668981615]
[53,63.0516801343,-150.02818187700001,-1670.4118223593764,481.35377913413322,{"$f":"Q_d!$C$11","v":0},{"$f":"Q_d!$C$12","v":0},11233.589832572825,6052.604465817868,14055.322583433186,382.46399637743599,-13672.858587055751]
[53,63.0522204229,-150.027112017999,-1670.3346074368803,481.37637207436819,{"$f":"Q_d!$C$11","v":0},{"$f":"Q_d!$C$12","v":0},11233.589832572825,6052.604465817868,14055.242738067407,382.52313199204002,-13672.719606075367]
[53,63.0526760833,-150.02642111200001,-1670.2785118715437,481.40101940348131,{"$f":"Q_d!$C$11","v":0},{"$f":"Q_d!$C$12","v":0},11233.589832572825,6052.604465817868,14055.181467775255,382.57325351623803,-13672.608214259017]
[53,63.053000835200002,-150.02527471100001,-1670.2106134606115,481.40128587038907,{"$f":"Q_d!$C$11","v":0},{"$f":"Q_d!$C$12","v":0},11233.589832572825,6052.604465817868,14055.119025583155,382.60803514040299,-13672.510990442752]
[53,63.053257513600002,-150.02424240400001,-1670.1515600451426,481.39815898915913,{"$f":"Q_d!$C$11","v":0},{"$f":"Q_d!$C$12","v":0},11233.589832572825,6052.604465817868,14055.066048966481,382.63564300780899,-13672.430405958672]
[53,63.054426884100003,-150.021880420999,-1669.9824680010072,481.4458455585318,{"$f":"Q_d!$C$11","v":0},{"$f":"Q_d!$C$12","v":0},11233.589832572825,6052.604465817868,14054.891905960223,382.76251700760798,-13672.129388952615]
[53,62.893237647900001,-152.07979122200001,-1766.8313579029532,522.42765502939847,{"$f":"Q_d!$C$11","v":0},{"$f":"Q_d!$C$12","v":0},11233.589832572825,6052.604465817868,14127.767222330433,382.83153892671902,-13744.935683403713]
[53,63.055110339199899,-150.02084385699899,-1669.8983247838842,481.48281711873778,{"$f":"Q_d!$C$11","v":0},{"$f":"Q_d!$C$12","v":0},11233.589832572825,6052.604465817868,14054.800000414412,382.837308026529,-13671.962692387884]
[53,63.055389201300002,-150.01975594300001,-1669.8356057940507,481.48031563754603,{"$f":"Q_d!$C$11","v":0},{"$f":"Q_d!$C$12","v":0},11233.589832572825,6052.604465817868,14054.743410685796,382.86785443544301,-13671.875556250354]
[53,63.055643004899899,-150.01861879800001,-1669.7722480936382,481.47415272093758,{"$f":"Q_d!$C$11","v":0},{"$f":"Q_d!$C$12","v":0},11233.589832572825,6052.604465817868,14054.687685974692,382.89497360111602,-13671.792712373575]
[53,63.0556826912999,-150.017457567999,-1669.7203590397228,481.44718168517193,{"$f":"Q_d!$C$11","v":0},{"$f":"Q_d!$C$12","v":0},11233.589832572825,6052.604465817868,14054.650738652917,382.89843129738699,-13671.752307355531]
[53,63.0560286601999,-150.01709628500001,-1669.6847442230896,481.47022217624453,{"$f":"Q_d!$C$11","v":0},{"$f":"Q_d!$C$12","v":0},11233.589832572825,6052.604465817868,14054.608908285712,382.93663050823397,-13671.672277777478]
[53,63.056280591399897,-150.017640760999,-1669.6932842001665,481.50835610098557,{"$f":"Q_d!$C$11","v":0},{"$f":"Q_d!$C$12","v":0},11233.589832572825,6052.604465817868,14054.601632750089,382.964649256298,-13671.63698349379]
[53,63.056603416100003,-150.01817581500001,-1669.6972838077556,481.55291982648487,{"$f":"Q_d!$C$11","v":0},{"$f":"Q_d!$C$12","v":0},11233.589832572825,6052.604465817868,14054.587640192296,383.00038438100802,-13671.587255811288]
[53,63.057768490900003,-150.01828359800001,-1669.6338863313536,481.66553417571777,{"$f":"Q_d!$C$11","v":0},{"$f":"Q_d!$C$12","v":0},11233.589832572825,6052.604465817868,14054.484797393947,383.13021647606899,-13671.354580917878]
[53,63.058581919600002,-150.01854325400001,-1669.5974948312371,481.74903509726255,{"$f":"Q_d!$C$11","v":0},{"$f":"Q_d!$C$12","v":0},11233.589832572825,6052.604465817868,14054.418288782716,383.22079824691099,-13671.197490535804]
[53,62.897237625700001,-152.07980415399899,-1766.5862431210439,522.79707884962363,{"$f":"Q_d!$C$11","v":0},{"$f":"Q_d!$C$12","v":0},11233.589832572825,6052.604465817868,14127.397061596726,383.25237638141198,-13744.144685215315]
[53,63.059442611999899,-150.01879663700001,-1669.5580764029557,481.8368225353147,{"$f":"Q_d!$C$11","v":0},{"$f":"Q_d!$C$12","v":0},11233.589832572825,6052.604465817868,14054.347302395439,383.31549373981699,-13671.031808655622]
[53,63.060463534199897,-150.01971189899899,-1669.5375559293639,481.95720676122028,{"$f":"Q_d!$C$11","v":0},{"$f":"Q_d!$C$12","v":0},11233.589832572825,6052.604465817868,14054.280746048538,383.43016928901102,-13670.850576759527]
[53,63.060770756099899,-150.01967105099899,-1669.5178811194671,481.98507015225141,{"$f":"Q_d!$C$11","v":0},{"$f":"Q_d!$C$12","v":0},11233.589832572825,6052.604465817868,14054.251638650545,383.46446161411097,-13670.787177036435]
[53,62.899676169499898,-152.07981203700001,-1766.4368117179197,523.02229358829618,{"$f":"Q_d!$C$11","v":0},{"$f":"Q_d!$C$12","v":0},11233.589832572825,6052.604465817868,14127.171399530353,383.50857927431002,-13743.662820256042]
[53,62.899676168699898,-152.08277453400001,-1766.5613284338629,523.10517970095589,{"$f":"Q_d!$C$11","v":0},{"$f":"Q_d!$C$12","v":0},11233.589832572825,6052.604465817868,14127.253539318637,383.55633231247702,-13743.69720700616]
[53,63.062142373699899,-150.01864780099899,-1669.3941531621772,482.08723524930156,{"$f":"Q_d!$C$11","v":0},{"$f":"Q_d!$C$12","v":0},11233.589832572825,6052.604465817868,14054.09755025897,383.61507182330502,-13670.482478435664]
[53,62.899676168299898,-152.08677453300001,-1766.7294461852839,523.21710285740437,{"$f":"Q_d!$C$11","v":0},{"$f":"Q_d!$C$12","v":0},11233.589832572825,6052.604465817868,14127.364437831871,383.6210282362,-13743.743409595671]
[53,62.899676168299898,-152.090774533999,-1766.8975569050838,523.32903675732314,{"$f":"Q_d!$C$11","v":0},{"$f":"Q_d!$C$12","v":0},11233.589832572825,6052.604465817868,14127.475327686358,383.68581950470798,-13743.78950818165]
[53,62.899676166600003,-152.09477453400001,-1767.0656605956317,523.44098112268011,{"$f":"Q_d!$C$11","v":0},{"$f":"Q_d!$C$12","v":0},11233.589832572825,6052.604465817868,14127.586208993303,383.75070606970797,-13743.835502923595]
[53,63.0638613777,-150.01731544800001,-1669.236962673064,482.21395947569727,{"$f":"Q_d!$C$11","v":0},{"$f":"Q_d!$C$12","v":0},11233.589832572825,6052.604465817868,14053.903005971766,383.80423511212001,-13670.098770859646]
[53,62.899676166600003,-152.098774534,-1767.2337570892937,523.5529362945631,{"$f":"Q_d!$C$11","v":0},{"$f":"Q_d!$C$12","v":0},11233.589832572825,6052.604465817868,14127.697081465154,383.814721515472,-13743.882359949683]
[53,62.899676166200003,-152.102774533999,-1767.4018465144004,523.66490207880179,{"$f":"Q_d!$C$11","v":0},{"$f":"Q_d!$C$12","v":0},11233.589832572825,6052.604465817868,14127.807945296199,383.87979840048803,-13743.928146895711]
[53,62.899676165400003,-152.10677453400001,-1767.5699288704111,523.77687847503694,{"$f":"Q_d!$C$11","v":0},{"$f":"Q_d!$C$12","v":0},11233.589832572825,6052.604465817868,14127.918800486286,383.94497043717001,-13743.973830049115]
[53,63.0654040854999,-150.01647945100001,-1669.1112496500009,482.33720105790144,{"$f":"Q_d!$C$11","v":0},{"$f":"Q_d!$C$12","v":0},11233.589832572825,6052.604465817868,14053.738741632085,383.97477750107402,-13669.763964131011]
[53,62.899676165400003,-152.110774534,-1767.7380040827779,523.88886559342063,{"$f":"Q_d!$C$11","v":0},{"$f":"Q_d!$C$12","v":0},11233.589832572825,6052.604465817868,14128.029646923913,384.00998185594,-13744.019665067974]
[53,63.066707628700001,-150.01557008200001,-1668.9963667649129,482.43597320897197,{"$f":"Q_d!$C$11","v":0},{"$f":"Q_d!$C$12","v":0},11233.589832572825,6052.604465817868,14053.594119206427,384.11873370222298,-13669.475385504204]
[53,63.067716722500002,-150.015172919999,-1668.9205282344717,482.52054563024831,{"$f":"Q_d!$C$11","v":0},{"$f":"Q_d!$C$12","v":0},11233.589832572825,6052.604465817868,14053.490971593938,384.22981946355998,-13669.261152130377]
[53,62.902114631700002,-152.11078242400001,-1767.5884674959616,524.11399967205307,{"$f":"Q_d!$C$11","v":0},{"$f":"Q_d!$C$12","v":0},11233.589832572825,6052.604465817868,14127.80393495198,384.26683544771299,-13743.537099504267]
[53,63.068484816500003,-150.01638479900001,-1668.9274159378037,482.62494423655698,{"$f":"Q_d!$C$11","v":0},{"$f":"Q_d!$C$12","v":0},11233.589832572825,6052.604465817868,14053.455917280611,384.31552217416299,-13669.140395106448]
[53,63.069807795800003,-150.017943446,-1668.9167119075769,482.79078493017232,{"$f":"Q_d!$C$11","v":0},{"$f":"Q_d!$C$12","v":0},11233.589832572825,6052.604465817868,14053.380360972351,384.46369812636402,-13668.916662845986]
[53,63.070539948099899,-150.019580813,-1668.943843403322,482.90304234265068,{"$f":"Q_d!$C$11","v":0},{"$f":"Q_d!$C$12","v":0},11233.589832572825,6052.604465817868,14053.360779769386,384.54690492188303,-13668.813874847503]
[53,63.071209222599897,-150.020648343,-1668.9503278884131,482.99431281893294,{"$f":"Q_d!$C$11","v":0},{"$f":"Q_d!$C$12","v":0},11233.589832572825,6052.604465817868,14053.330560714208,384.62147531436602,-13668.709085399842]
[53,62.906114610499898,-152.110795370999,-1767.3431732559825,524.48330136741333,{"$f":"Q_d!$C$11","v":0},{"$f":"Q_d!$C$12","v":0},11233.589832572825,6052.604465817868,14127.433688780631,384.68627660081597,-13742.747412179815]
[53,63.072135146599898,-150.02068293299899,-1668.8977601206743,483.08245744591204,{"$f":"Q_d!$C$11","v":0},{"$f":"Q_d!$C$12","v":0},11233.589832572825,6052.604465817868,14053.247364269557,384.72420211886799,-13668.523162150688]
[53,63.073213256099898,-150.021959060999,{"$f":"lcpx(B888,C888,63,-115,70,60)","v":-1668.8892765666067},{"$f":"lcpy(B888,C888,63,-115,70,60)","v":483.21775561837467},{"$f":"Q_d!$C$11","v":0},{"$f":"Q_d!$C$12","v":0},{"$f":"lcpx(F888,G888,63,-115,70,60)","v":11233.589832572825},{"$f":"lcpy(F888,G888,63,-115,70,60)","v":6052.604465817868},{"$f":"SQRT((H888-D888)^2+(I888-E888)^2)","v":14053.185955132243},384.84425466024499,-13668.341700471998]
[53,63.074071576000001,-150.023001612999,-1668.8836531570196,483.32617269488765,{"$f":"Q_d!$C$11","v":0},{"$f":"Q_d!$C$12","v":0},11233.589832572825,6052.604465817868,14053.13782598792,384.940958220867,-13668.196867767054]
[53,63.075000788099899,-150.024034803999,-1668.8734891968761,483.44101981964559,{"$f":"Q_d!$C$11","v":0},{"$f":"Q_d!$C$12","v":0},11233.589832572825,6052.604465817868,14053.082980536878,385.04487026968599,-13668.038110267191]
[53,62.910114589700001,-152.11080831500001,-1767.0978793626616,524.85260194174543,{"$f":"Q_d!$C$11","v":0},{"$f":"Q_d!$C$12","v":0},11233.589832572825,6052.604465817868,14127.063447576651,385.10602700555,-13741.957420571101]
[53,63.076025939799898,-150.025107891,-1668.8594234457635,483.56595832521225,{"$f":"Q_d!$C$11","v":0},{"$f":"Q_d!$C$12","v":0},11233.589832572825,6052.604465817868,14053.020554388677,385.158568183287,-13667.861986205389]
[53,63.076535411099897,-150.026407277,-1668.885109767021,483.64829821559579,{"$f":"Q_d!$C$11","v":0},{"$f":"Q_d!$C$12","v":0},11233.589832572825,6052.604465817868,14053.011507658528,385.21658155899701,-13667.79492609953]
[53,63.077172513800001,-150.027163954999,-1668.8801940154176,483.72831599986785,{"$f":"Q_d!$C$11","v":0},{"$f":"Q_d!$C$12","v":0},11233.589832572825,6052.604465817868,14052.975284935919,385.28788194413698,-13667.687402991782]
[53,63.077648428499899,-150.028099808999,-1668.8923287760485,483.7978851134817,{"$f":"Q_d!$C$11","v":0},{"$f":"Q_d!$C$12","v":0},11233.589832572825,6052.604465817868,14052.958857736059,385.34103963372399,-13667.617818102335]
[53,63.078933514900001,-150.029138625999,-1668.861614323579,483.94640012068248,{"$f":"Q_d!$C$11","v":0},{"$f":"Q_d!$C$12","v":0},11233.589832572825,6052.604465817868,14052.871805868486,385.48494104958201,-13667.386864818904]
[53,62.914114568199899,-152.110821262,-1766.8525861344242,525.22190146307821,{"$f":"Q_d!$C$11","v":0},{"$f":"Q_d!$C$12","v":0},11233.589832572825,6052.604465817868,14126.693211606747,385.52557353565999,-13741.167638071087]
[53,63.080427459200003,-150.030886025999,-1668.8489216093237,484.13331663359622,{"$f":"Q_d!$C$11","v":0},{"$f":"Q_d!$C$12","v":0},11233.589832572825,6052.604465817868,14052.786084784719,385.65231114308102,-13667.133773641637]
[53,63.0824540318999,-150.033036264,-1668.8223011119414,484.38104992344824,{"$f":"Q_d!$C$11","v":0},{"$f":"Q_d!$C$12","v":0},11233.589832572825,6052.604465817868,14052.663479809469,385.87878077188901,-13666.78469903758]
[53,62.918114546399899,-152.11083422300001,-1766.6072940074498,525.59120027777544,{"$f":"Q_d!$C$11","v":0},{"$f":"Q_d!$C$12","v":0},11233.589832572825,6052.604465817868,14126.3229811371,385.94613863206303,{"$f":"K900-J900","v":-13740.376842505037}]
[53,63.083506998399898,-150.034264006,-1668.8131766089978,484.51268634953385,{"$f":"Q_d!$C$11","v":0},{"$f":"Q_d!$C$12","v":0},11233.589832572825,6052.604465817868,14052.602943082358,385.99600170468,-13666.606941377679]
[53,63.0844498810999,-150.03492789800001,-1668.7864328862593,484.6190488947891,{"$f":"Q_d!$C$11","v":0},{"$f":"Q_d!$C$12","v":0},11233.589832572825,6052.604465817868,14052.536244342156,386.10178648900302,-13666.434457853153]
[53,63.085357829099898,-150.03517570700001,-1668.7439858538135,484.71112266032333,{"$f":"Q_d!$C$11","v":0},{"$f":"Q_d!$C$12","v":0},11233.589832572825,6052.604465817868,14052.460789587489,386.20233488936799,-13666.258454698122]
[53,62.922114526000001,-152.110847180999,-1766.3620021621084,525.96049806851806,{"$f":"Q_d!$C$11","v":0},{"$f":"Q_d!$C$12","v":0},11233.589832572825,6052.604465817868,14125.952755537886,386.36578940299501,-13739.586966134892]
[53,63.086920445600001,-150.03507377099899,-1668.6484011994805,484.855618782487,{"$f":"Q_d!$C$11","v":0},{"$f":"Q_d!$C$12","v":0},11233.589832572825,6052.604465817868,14052.315775866968,386.375166388835,-13665.940609478133]
[53,63.0878298071,-150.03537401700001,-1668.6081062227256,484.94921070596729,{"$f":"Q_d!$C$11","v":0},{"$f":"Q_d!$C$12","v":0},11233.589832572825,6052.604465817868,14052.241696314341,386.47641331651698,-13665.765282997823]
[53,63.088645012299899,-150.03658096500001,-1668.6119636497378,485.05789531926712,{"$f":"Q_d!$C$11","v":0},{"$f":"Q_d!$C$12","v":0},11233.589832572825,6052.604465817868,14052.202176353692,386.56774722808899,-13665.634429125603]
[53,63.089083119599898,-150.036996318999,-1668.6040898922481,485.11013897132671,{"$f":"Q_d!$C$11","v":0},{"$f":"Q_d!$C$12","v":0},11233.589832572825,6052.604465817868,14052.174247865099,386.61689588661199,-13665.557351978487]
[53,63.089872529399898,-150.03636569099899,-1668.5311112147353,485.16783005886145,{"$f":"Q_d!$C$11","v":0},{"$f":"Q_d!$C$12","v":0},11233.589832572825,6052.604465817868,14052.084384222619,386.703173347465,-13665.381210875154]
[53,62.9261145036999,-152.11086014200001,-1766.1167110521797,526.32979470052715,{"$f":"Q_d!$C$11","v":0},{"$f":"Q_d!$C$12","v":0},11233.589832572825,6052.604465817868,14125.582535279735,386.78575016409201,-13738.796785115643]
[53,63.090837908399898,-150.034344,-1668.3885577738947,485.20533862166894,{"$f":"Q_d!$C$11","v":0},{"$f":"Q_d!$C$12","v":0},11233.589832572825,6052.604465817868,14051.938635877925,386.80886220716297,-13665.129773670762]
[53,63.091825480600001,-150.032266622999,-1668.2423388615712,485.24347268218889,{"$f":"Q_d!$C$11","v":0},{"$f":"Q_d!$C$12","v":0},11233.589832572825,6052.604465817868,14051.789274243629,386.91611162369497,-13664.873162619933]
[53,63.092410251899899,-150.03108428900001,-1668.1577955742546,485.26731757515972,{"$f":"Q_d!$C$11","v":0},{"$f":"Q_d!$C$12","v":0},11233.589832572825,6052.604465817868,14051.702202317056,386.980177839899,-13664.722024477156]
[53,63.092657490100002,-150.03057800900001,-1668.1217789343739,485.2772307614473,{"$f":"Q_d!$C$11","v":0},{"$f":"Q_d!$C$12","v":0},11233.589832572825,6052.604465817868,14051.665205544168,387.00717308210102,-13664.658032462066]
[53,63.092864118400001,-150.02944581400001,-1668.0614509450404,485.26678250823761,{"$f":"Q_d!$C$11","v":0},{"$f":"Q_d!$C$12","v":0},11233.589832572825,6052.604465817868,14051.613954329148,387.02839143401297,-13664.585562895136]
[53,62.9285529418,-152.11086804300001,-1765.9671786545737,526.55492217162737,{"$f":"Q_d!$C$11","v":0},{"$f":"Q_d!$C$12","v":0},11233.589832572825,6052.604465817868,14125.356846713084,387.04159125861298,-13738.315255454472]
[53,63.093437548099899,-150.027844014999,-1667.9596911512322,485.27848249791759,{"$f":"Q_d!$C$11","v":0},{"$f":"Q_d!$C$12","v":0},11233.589832572825,6052.604465817868,14051.515886823525,387.09086259946702,-13664.425024224058]
[53,63.094178786100002,-150.02543069500001,-1667.8135428096405,485.28455692866464,{"$f":"Q_d!$C$11","v":0},{"$f":"Q_d!$C$12","v":0},11233.589832572825,6052.604465817868,14051.379292519441,387.17070966177101,-13664.208582857671]
[53,63.0947866875999,-150.023350655999,-1667.6893877805533,485.28688062758192,{"$f":"Q_d!$C$11","v":0},{"$f":"Q_d!$C$12","v":0},11233.589832572825,6052.604465817868,14051.264377837708,387.23589593941301,-13664.028481898295]
[53,63.095242345099898,-150.02265871,-1667.6332940929092,485.31152962642136,{"$f":"Q_d!$C$11","v":0},{"$f":"Q_d!$C$12","v":0},11233.589832572825,6052.604465817868,14051.203108680123,387.28604240406003,-13663.917066276063]
[53,62.930991350500001,-152.110875950999,-1765.8176485400179,526.78004673109535,{"$f":"Q_d!$C$11","v":0},{"$f":"Q_d!$C$12","v":0},11233.589832572825,6052.604465817868,14125.131162951664,387.29867590271903,-13737.832487048945]
[53,63.095490509100003,-150.021310376,-1667.5613310363528,485.29929599375782,{"$f":"Q_d!$C$11","v":0},{"$f":"Q_d!$C$12","v":0},11233.589832572825,6052.604465817868,14051.141882432357,387.31260731481399,-13663.829275117543]
[53,63.095915436600002,-150.020359401999,-1667.4959904185489,485.31421117225818,{"$f":"Q_d!$C$11","v":0},{"$f":"Q_d!$C$12","v":0},11233.589832572825,6052.604465817868,14051.075979855101,387.35878550124499,-13663.717194353856]
[53,63.096246299299899,-150.02031536800001,-1667.4748022446774,485.3442180795646,{"$f":"Q_d!$C$11","v":0},{"$f":"Q_d!$C$12","v":0},11233.589832572825,6052.604465817868,14051.04463653098,387.395820283337,-13663.648816247643]
[53,63.096672163199898,-150.02115314400001,-1667.4856587515983,485.40646345130654,{"$f":"Q_d!$C$11","v":0},{"$f":"Q_d!$C$12","v":0},11233.589832572825,6052.604465817868,14051.029941979554,387.44343316670103,-13663.586508812852]
[53,63.097306467899898,-150.02180536500001,-1667.4764380910981,485.48344450732429,{"$f":"Q_d!$C$11","v":0},{"$f":"Q_d!$C$12","v":0},11233.589832572825,6052.604465817868,14050.990975229473,387.51417663099699,-13663.476798598476]
[53,63.097960610100003,-150.023191617999,-1667.4973461018692,485.58167981094039,{"$f":"Q_d!$C$11","v":0},{"$f":"Q_d!$C$12","v":0},11233.589832572825,6052.604465817868,14050.9712508312,387.58760019510402,-13663.383650636097]
[53,63.098386458699899,-150.02402948100001,-1667.5082022574734,485.64392516419457,{"$f":"Q_d!$C$11","v":0},{"$f":"Q_d!$C$12","v":0},11233.589832572825,6052.604465817868,14050.956556957153,387.63522808176202,-13663.32132887539]
[53,63.098899752100003,-150.02459265100001,-1667.5022445647469,485.70715311068398,{"$f":"Q_d!$C$11","v":0},{"$f":"Q_d!$C$12","v":0},11233.589832572825,6052.604465817868,14050.926036137556,387.69327946973698,-13663.23275666782]
[53,62.934991329100001,-152.110888926,-1765.5723590514081,527.14934147461145,{"$f":"Q_d!$C$11","v":0},{"$f":"Q_d!$C$12","v":0},11233.589832572825,6052.604465817868,14124.760954270487,387.718493541383,-13737.042460729104]
[53,63.099552011999897,-150.02503212400001,-1667.4829018654943,485.7802049366137,{"$f":"Q_d!$C$11","v":0},{"$f":"Q_d!$C$12","v":0},11233.589832572825,6052.604465817868,14050.87933372157,387.76622980991999,-13663.11310391165]
[53,63.100111153500002,-150.025536614,-1667.471764929144,485.84620142100312,{"$f":"Q_d!$C$11","v":0},{"$f":"Q_d!$C$12","v":0},11233.589832572825,6052.604465817868,14050.842961074286,387.82856155265301,-13663.014399521633]
[53,63.100400852699899,-150.02660315399899,-1667.5003099167934,485.90165937161737,{"$f":"Q_d!$C$11","v":0},{"$f":"Q_d!$C$12","v":0},11233.589832572825,6052.604465817868,14050.847198654583,387.86097766338901,-13662.986220991193]
[53,63.100734549599899,-150.026664049,-1667.4834256530141,485.93470246464267,{"$f":"Q_d!$C$11","v":0},{"$f":"Q_d!$C$12","v":0},11233.589832572825,6052.604465817868,14050.818604919108,387.89802920355203,-13662.920575715556]
[53,63.101548533200003,-150.025187657999,-1667.3729882720579,485.97239110369355,{"$f":"Q_d!$C$11","v":0},{"$f":"Q_d!$C$12","v":0},11233.589832572825,6052.604465817868,14050.7022728424,387.98696417792098,-13662.715308664479]
[53,62.938991308399899,-152.110901898999,-1765.3270699246079,527.51863516450385,{"$f":"Q_d!$C$11","v":0},{"$f":"Q_d!$C$12","v":0},11233.589832572825,6052.604465817868,14124.390750546378,388.13836255129399,-13736.252387995084]
[53,63.102985467899899,-150.02394408699899,-1667.2361136231241,486.07491599503464,{"$f":"Q_d!$C$11","v":0},{"$f":"Q_d!$C$12","v":0},11233.589832572825,6052.604465817868,14050.535979922382,388.14471345749303,-13662.391266464889]
[53,63.103613648900001,-150.023492148,-1667.1801862936227,486.12215949550227,{"$f":"Q_d!$C$11","v":0},{"$f":"Q_d!$C$12","v":0},11233.589832572825,6052.604465817868,14050.465912071504,388.21461541910003,-13662.251296652405]
[53,63.104195979399897,-150.023098916999,-1667.1294378765028,486.16663445799441,{"$f":"Q_d!$C$11","v":0},{"$f":"Q_d!$C$12","v":0},11233.589832572825,6052.604465817868,14050.401696226947,388.27852279516998,-13662.123173431777]
[53,63.104519759600002,-150.02279269799899,-1667.0974894389619,486.18905063179545,{"$f":"Q_d!$C$11","v":0},{"$f":"Q_d!$C$12","v":0},11233.589832572825,6052.604465817868,14050.363481231963,388.31466422091199,-13662.048817011051]
[53,63.105590368400001,-150.020281869,-1666.9280025861517,486.22361575018067,{"$f":"Q_d!$C$11","v":0},{"$f":"Q_d!$C$12","v":0},11233.589832572825,6052.604465817868,14050.194168880911,388.43042750278897,-13661.763741378121]
[53,63.1062374406999,-150.018774656999,-1666.8260079104907,486.24478379476886,{"$f":"Q_d!$C$11","v":0},{"$f":"Q_d!$C$12","v":0},11233.589832572825,6052.604465817868,14050.09213375646,388.50072834551997,-13661.59140541094]
[53,63.1067304165,-150.01770897399899,-1666.7518237009731,486.26309341676551,{"$f":"Q_d!$C$11","v":0},{"$f":"Q_d!$C$12","v":0},11233.589832572825,6052.604465817868,14050.016765922281,388.55548546507401,-13661.461280457206]
[53,62.9429912863,-152.110914874,-1765.0817814555694,527.88792772073975,{"$f":"Q_d!$C$11","v":0},{"$f":"Q_d!$C$12","v":0},11233.589832572825,6052.604465817868,14124.020552083301,388.55854232920899,-13735.462009754092]
[53,63.107283423699897,-150.01710895599899,-1666.6939807223944,486.29935278634275,{"$f":"Q_d!$C$11","v":0},{"$f":"Q_d!$C$12","v":0},11233.589832572825,6052.604465817868,14049.94929083118,388.61561659048101,-13661.333674240699]
[53,63.108053385600002,-150.016637911999,-1666.6289730758861,486.35945693118128,{"$f":"Q_d!$C$11","v":0},{"$f":"Q_d!$C$12","v":0},11233.589832572825,6052.604465817868,14049.865790553607,388.70045694982099,-13661.165333603787]
[53,63.109087568900001,-150.016289534999,-1666.5537736692957,486.44769226621111,{"$f":"Q_d!$C$11","v":0},{"$f":"Q_d!$C$12","v":0},11233.589832572825,6052.604465817868,14049.761787639833,388.814977922661,-13660.946809717172]
[53,63.1102455973,-150.01613518400001,-1666.4796151932703,486.55271704646475,{"$f":"Q_d!$C$11","v":0},{"$f":"Q_d!$C$12","v":0},11233.589832572825,6052.604465817868,14049.652089186744,388.94306858459299,-13660.709020602151]
[53,62.946991265000001,-152.110927863,-1764.8364940112151,528.2572196831934,{"$f":"Q_d!$C$11","v":0},{"$f":"Q_d!$C$12","v":0},11233.589832572825,6052.604465817868,14123.650359008072,388.979479564153,-13734.670879443918]
[53,63.111360617400003,-150.016144478,-1666.414939723727,486.65800936810956,{"$f":"Q_d!$C$11","v":0},{"$f":"Q_d!$C$12","v":0},11233.589832572825,6052.604465817868,14049.550992161259,389.06740248059799,-13660.483589680662]
[53,63.111964224600001,-150.01653779700001,-1666.3964718066502,486.72525652344939,{"$f":"Q_d!$C$11","v":0},{"$f":"Q_d!$C$12","v":0},11233.589832572825,6052.604465817868,14049.507394411874,389.13415285990999,-13660.373241551964]
[53,63.112495509299897,-150.016888125999,{"$f":"lcpx(B952,C952,63,-115,70,60)","v":-1666.3803922659968},{"$f":"lcpy(B952,C952,63,-115,70,60)","v":486.78455519190993},{"$f":"Q_d!$C$11","v":0},{"$f":"Q_d!$C$12","v":0},{"$f":"lcpx(F952,G952,63,-115,70,60)","v":11233.589832572825},{"$f":"lcpy(F952,G952,63,-115,70,60)","v":6052.604465817868},{"$f":"SQRT((H952-D952)^2+(I952-E952)^2)","v":14049.469138698747},389.19301033420402,-13660.276128364543]
[53,63.113054193399897,-150.016497802,-1666.3311577381864,486.82688738149773,{"$f":"Q_d!$C$11","v":0},{"$f":"Q_d!$C$12","v":0},11233.589832572825,6052.604465817868,14049.407162186299,389.25419411484802,-13660.15296807145]
[53,63.1136681614,-150.015520992999,-1666.2537107270477,486.85895049355941,{"$f":"Q_d!$C$11","v":0},{"$f":"Q_d!$C$12","v":0},11233.589832572825,6052.604465817868,14049.323349648126,389.32166751928901,-13660.001682128837]
[53,63.114173896799898,-150.01492710100001,-1666.1988949868289,486.89092360051609,{"$f":"Q_d!$C$11","v":0},{"$f":"Q_d!$C$12","v":0},11233.589832572825,6052.604465817868,14049.26035240634,389.377348669642,-13659.883003736697]
[53,62.950991244000001,-152.11094085299899,-1764.5912070756531,528.62651064393503,{"$f":"Q_d!$C$11","v":0},{"$f":"Q_d!$C$12","v":0},11233.589832572825,6052.604465817868,14123.28017100577,389.39950194626499,-13733.880669059505]
[53,63.1149646484999,-150.01434782300001,-1666.1280701428661,486.95013517726875,{"$f":"Q_d!$C$11","v":0},{"$f":"Q_d!$C$12","v":0},11233.589832572825,6052.604465817868,14049.17186519626,389.46476207354101,-13659.707103122719]
[53,63.1160153651999,-150.01373383500001,-1666.0405975098213,487.03292390983825,{"$f":"Q_d!$C$11","v":0},{"$f":"Q_d!$C$12","v":0},11233.589832572825,6052.604465817868,14049.058752130362,389.58029673611497,-13659.478455394248]
[53,63.116571200000003,-150.013238481999,-1665.9870591442004,487.07221992044697,{"$f":"Q_d!$C$11","v":0},{"$f":"Q_d!$C$12","v":0},11233.589832572825,6052.604465817868,14048.994026813587,389.641825239539,-13659.352201574047]
[53,63.117022557600002,-150.01238849200001,-1665.9245103792318,487.09231607441052,{"$f":"Q_d!$C$11","v":0},{"$f":"Q_d!$C$12","v":0},11233.589832572825,6052.604465817868,14048.928634346745,389.691322824873,-13659.237311521872]
[53,63.117559018400001,-150.01205364200001,-1665.8789415769904,487.13402318053249,{"$f":"Q_d!$C$11","v":0},{"$f":"Q_d!$C$12","v":0},11233.589832572825,6052.604465817868,14048.870271418124,389.75097899171402,-13659.119292426409]
[53,62.9549912226,-152.110953843,-1764.345920648964,528.99580051220209,{"$f":"Q_d!$C$11","v":0},{"$f":"Q_d!$C$12","v":0},11233.589832572825,6052.604465817868,14122.909988112262,389.819835648469,-13733.090152463794]
[53,63.118298231700003,-150.011323137999,-1665.8046876951712,487.18439406165407,{"$f":"Q_d!$C$11","v":0},{"$f":"Q_d!$C$12","v":0},11233.589832572825,6052.604465817868,14048.782138129518,389.83187547069502,-13658.950262658824]
[53,63.118717946499899,-150.011056491999,-1665.7688379147899,487.21690247725064,{"$f":"Q_d!$C$11","v":0},{"$f":"Q_d!$C$12","v":0},11233.589832572825,6052.604465817868,14048.736343175866,389.877818631683,{"$f":"K964-J964","v":-13658.858524544183}]
[53,63.1192401903999,-150.01019694300001,-1665.7017491977965,487.24342885395254,{"$f":"Q_d!$C$11","v":0},{"$f":"Q_d!$C$12","v":0},11233.589832572825,6052.604465817868,14048.66423484078,389.93538965449102,-13658.72884518629]
[53,63.119763853800002,-150.009389827999,-1665.6368122731005,487.27147354398903,{"$f":"Q_d!$C$11","v":0},{"$f":"Q_d!$C$12","v":0},11233.589832572825,6052.604465817868,14048.593500774205,389.99279637706098,-13658.600704397144]
[53,63.1202837843,-150.009320384999,-1665.6035169757829,487.31862768263909,{"$f":"Q_d!$C$11","v":0},{"$f":"Q_d!$C$12","v":0},11233.589832572825,6052.604465817868,14048.544249465409,390.05007260606902,-13658.49417685934]
[53,63.121247940799897,-150.00813842400001,-1665.4969131647026,487.37828808516588,{"$f":"Q_d!$C$11","v":0},{"$f":"Q_d!$C$12","v":0},11233.589832572825,6052.604465817868,14048.422732939911,390.15651513847598,-13658.266217801434]
[53,62.958302825700002,-152.110964596999,-1764.1428470847884,529.30153670475511,{"$f":"Q_d!$C$11","v":0},{"$f":"Q_d!$C$12","v":0},11233.589832572825,6052.604465817868,14122.603515591201,390.16818303136898,-13732.435332559833]
[53,63.121886913600001,-150.00721048700001,-1665.4201053419665,487.41401360214149,{"$f":"Q_d!$C$11","v":0},{"$f":"Q_d!$C$12","v":0},11233.589832572825,6052.604465817868,14048.338056434206,390.226448505223,-13658.111607928982]
[53,62.958302825700002,-152.11496459700001,-1764.3105722974758,529.41330669435229,{"$f":"Q_d!$C$11","v":0},{"$f":"Q_d!$C$12","v":0},11233.589832572825,6052.604465817868,14122.714169562014,390.23251968281602,-13732.481649879199]
[53,62.958302825300002,-152.118964597,-1764.4782904533483,529.5250872727911,{"$f":"Q_d!$C$11","v":0},{"$f":"Q_d!$C$12","v":0},11233.589832572825,6052.604465817868,14122.824814906508,390.29695018280597,-13732.527864723701]
[53,63.1225409754,-150.005964527,-1665.3288723718545,487.44277420263552,{"$f":"Q_d!$C$11","v":0},{"$f":"Q_d!$C$12","v":0},11233.589832572825,6052.604465817868,14048.242894063065,390.29774851643703,-13657.945145546628]
[53,63.123097485300001,-149.98456168800001,-1664.3846683746672,486.93085011982657,{"$f":"Q_d!$C$11","v":0},{"$f":"Q_d!$C$12","v":0},11233.589832572825,6052.604465817868,14047.578760183871,390.34523753339101,-13657.23352265048]
[53,63.123128203999897,-149.986558766999,-1664.4679582970111,486.98639164009364,{"$f":"Q_d!$C$11","v":0},{"$f":"Q_d!$C$12","v":0},11233.589832572825,6052.604465817868,14047.63322856318,390.35035096692297,-13657.282877596257]
[53,62.958302823700002,-152.12296459500001,-1764.6460015171103,529.63687830998242,{"$f":"Q_d!$C$11","v":0},{"$f":"Q_d!$C$12","v":0},11233.589832572825,6052.604465817868,14122.935451643272,390.36050873647503,-13732.574942906796]
[53,63.1232679823,-149.98211624199899,-1664.2705418210576,486.88245525332377,{"$f":"Q_d!$C$11","v":0},{"$f":"Q_d!$C$12","v":0},11233.589832572825,6052.604465817868,14047.493147755671,390.36301385377101,-13657.130133901901]
[53,63.123276748899897,-150.004233618,-1665.2122177634787,487.46644601390472,{"$f":"Q_d!$C$11","v":0},{"$f":"Q_d!$C$12","v":0},11233.589832572825,6052.604465817868,14048.126405796171,390.37796816034501,-13657.748437635826]
[53,63.123371591400002,-149.98852728899899,-1664.5376275203519,487.06122384751006,{"$f":"Q_d!$C$11","v":0},{"$f":"Q_d!$C$12","v":0},11233.589832572825,6052.604465817868,14047.667548566616,390.378473055315,-13657.289075511302]
[53,63.123549440399898,-149.979392509999,-1664.138088234135,486.83718771042322,{"$f":"Q_d!$C$11","v":0},{"$f":"Q_d!$C$12","v":0},11233.589832572825,6052.604465817868,14047.389469692045,390.39270085645802,-13656.996768835586]
[53,62.958302822900002,-152.126964595999,-1764.8137055747386,529.74868012963861,{"$f":"Q_d!$C$11","v":0},{"$f":"Q_d!$C$12","v":0},11233.589832572825,6052.604465817868,14123.046079725047,390.42538567567499,-13732.620694049372]
[53,63.123753960499897,-150.002589884,-1665.1143629607564,487.46805879876183,{"$f":"Q_d!$C$11","v":0},{"$f":"Q_d!$C$12","v":0},11233.589832572825,6052.604465817868,14048.035917971065,390.430082105618,-13657.605835865446]
[53,63.123862710600001,-149.990883905999,-1664.6093785871974,487.16963446453929,{"$f":"Q_d!$C$11","v":0},{"$f":"Q_d!$C$12","v":0},11233.589832572825,6052.604465817868,14047.690477541491,390.43386266178197,-13657.256614879709]
[53,63.1240134763,-149.977276111999,-1664.0208651295488,486.82514032670588,{"$f":"Q_d!$C$11","v":0},{"$f":"Q_d!$C$12","v":0},11233.589832572825,6052.604465817868,14047.28661377533,390.44343883589499,-13656.843174939435]
[53,63.124173077800002,-150.001427849999,-1665.0404162384186,487.47690405253388,{"$f":"Q_d!$C$11","v":0},{"$f":"Q_d!$C$12","v":0},11233.589832572825,6052.604465817868,14047.964517120214,390.47501009539599,-13657.489507024819]
[53,63.124343799199899,-149.992873285,-1664.6660653626445,487.26741897850843,{"$f":"Q_d!$C$11","v":0},{"$f":"Q_d!$C$12","v":0},11233.589832572825,6052.604465817868,14047.703785798936,390.48844935798002,-13657.215336440957]
[53,62.958302822500002,-152.13096459600001,-1764.9814024825603,529.86049258270668,{"$f":"Q_d!$C$11","v":0},{"$f":"Q_d!$C$12","v":0},11233.589832572825,6052.604465817868,14123.156699078099,390.49009684241599,-13732.666602235684]
[53,63.124566961900001,-149.974094266999,-1663.8530348027775,486.79345038690235,{"$f":"Q_d!$C$11","v":0},{"$f":"Q_d!$C$12","v":0},11233.589832572825,6052.604465817868,14047.145075662545,390.50244642639501,-13656.64262923615]
[53,63.1248285166999,-150.000234140999,-1664.9513354603423,487.50718317833753,{"$f":"Q_d!$C$11","v":0},{"$f":"Q_d!$C$12","v":0},11233.589832572825,6052.604465817868,14047.870729355687,390.54738703133,-13657.323342324356]
[53,62.958302822500002,-152.134964593999,-1765.1490921978088,529.97231564065578,{"$f":"Q_d!$C$11","v":0},{"$f":"Q_d!$C$12","v":0},11233.589832572825,6052.604465817868,14123.267309674422,390.554901671967,-13732.712408002455]
[53,63.125076481800001,-149.99888429000001,-1664.8793748424214,487.49495280293604,{"$f":"Q_d!$C$11","v":0},{"$f":"Q_d!$C$12","v":0},11233.589832572825,6052.604465817868,14047.809501359583,390.57329973770601,-13657.236201621878]
[53,63.125232134500003,-149.971529242,-1663.7049751903207,486.7885505418385,{"$f":"Q_d!$C$11","v":0},{"$f":"Q_d!$C$12","v":0},11233.589832572825,6052.604465817868,14047.011075709101,390.57477899628901,-13656.436296712811]
[53,63.125197905500002,-149.995497376,-1664.7280267249914,487.41708880027863,{"$f":"Q_d!$C$11","v":0},{"$f":"Q_d!$C$12","v":0},11233.589832572825,6052.604465817868,14047.701382816938,390.58505363364799,-13657.116329183291]
[53,63.125231328399899,-149.997599554999,-1664.8156197294559,487.47566694804391,{"$f":"Q_d!$C$11","v":0},{"$f":"Q_d!$C$12","v":0},11233.589832572825,6052.604465817868,14047.758602709242,390.58996162855999,-13657.168641080681]
[53,63.125347455000004,-149.99663599799899,-1664.7678035747444,487.46120258957399,{"$f":"Q_d!$C$11","v":0},{"$f":"Q_d!$C$12","v":0},11233.589832572825,6052.604465817868,14047.720428960052,390.60267936229002,-13657.117749597763]
[53,62.958302822100002,-152.138154595999,-1765.2828198430936,530.06150220747622,{"$f":"Q_d!$C$11","v":0},{"$f":"Q_d!$C$12","v":0},11233.589832572825,6052.604465817868,14123.355515551151,390.60659396635799,-13732.748921584793]
[53,62.9583028208,-152.142154597,-1765.450497028869,530.1733443249459,{"$f":"Q_d!$C$11","v":0},{"$f":"Q_d!$C$12","v":0},11233.589832572825,6052.604465817868,14123.466110776239,390.67156653383398,-13732.794544242404]
[53,62.9583028204,-152.14267765599899,-1765.4724227789027,530.18797009195123,{"$f":"Q_d!$C$11","v":0},{"$f":"Q_d!$C$12","v":0},11233.589832572825,6052.604465817868,14123.480572110249,390.68040389684199,-13732.800168213407]
[53,63.1263288954,-149.96653571600001,-1663.4282940782489,486.76035369739066,{"$f":"Q_d!$C$11","v":0},{"$f":"Q_d!$C$12","v":0},11233.589832572825,6052.604465817868,14046.768213350448,390.694330745917,-13656.073882604531]
[53,62.95830282,-152.146677654999,-1765.6400918128829,530.29982424821083,{"$f":"Q_d!$C$11","v":0},{"$f":"Q_d!$C$12","v":0},11233.589832572825,6052.604465817868,14123.591157398556,390.74451578748898,-13732.846641611068]
[53,63.126844327000001,-149.96456996800001,-1663.314500545466,486.75714873205879,{"$f":"Q_d!$C$11","v":0},{"$f":"Q_d!$C$12","v":0},11233.589832572825,6052.604465817868,14046.665004004211,390.75086749743701,-13655.914136506774]
[53,63.126988184600002,-149.96376046399899,-1663.2716266029488,486.74938298814277,{"$f":"Q_d!$C$11","v":0},{"$f":"Q_d!$C$12","v":0},11233.589832572825,6052.604465817868,14046.628716536754,390.766326805419,-13655.862389731335]
[53,62.9583028196,-152.15067765699899,-1765.8077538859188,530.41168911057321,{"$f":"Q_d!$C$11","v":0},{"$f":"Q_d!$C$12","v":0},11233.589832572825,6052.604465817868,14123.701734104543,390.80994373864098,-13732.891790365902]
[53,63.127611057400003,-149.96225414700001,-1663.1711479810212,486.76841385561465,{"$f":"Q_d!$C$11","v":0},{"$f":"Q_d!$C$12","v":0},11233.589832572825,6052.604465817868,14046.528921653882,390.83444275037903,-13655.694478903502]
[53,62.9583028188,-152.154677655,-1765.9754087285833,530.52356444597308,{"$f":"Q_d!$C$11","v":0},{"$f":"Q_d!$C$12","v":0},11233.589832572825,6052.604465817868,14123.812302071563,390.87520843998198,-13732.937093631581]
[53,63.1280563677999,-149.961193159999,-1663.0999924090959,486.78244103252746,{"$f":"Q_d!$C$11","v":0},{"$f":"Q_d!$C$12","v":0},11233.589832572825,6052.604465817868,14046.458032307566,390.88324991613501,-13655.574782391432]
[53,62.9583028176,-152.15867765600001,-1766.1430566335239,530.63545044968896,{"$f":"Q_d!$C$11","v":0},{"$f":"Q_d!$C$12","v":0},11233.589832572825,6052.604465817868,14123.922861492818,390.94056652770098,-13732.982294965117]
[53,63.128710044100004,-149.95994593399899,-1663.0087605684057,486.81120530373846,{"$f":"Q_d!$C$11","v":0},{"$f":"Q_d!$C$12","v":0},11233.589832572825,6052.604465817868,14046.362870558232,390.95578556404502,-13655.407084994187]
[53,62.9583028176,-152.16267765699899,-1766.3106973758772,530.74734718486297,{"$f":"Q_d!$C$11","v":0},{"$f":"Q_d!$C$12","v":0},11233.589832572825,6052.604465817868,14124.033412136865,391.00627275019502,-13733.02713938667]
[53,63.129568353000003,-149.95751209599899,-1662.8550508566843,486.82800916527003,{"$f":"Q_d!$C$11","v":0},{"$f":"Q_d!$C$12","v":0},11233.589832572825,6052.604465817868,14046.215084383533,391.04975111614601,-13655.165333267387]
[53,62.9583028168,-152.16667765400001,-1766.4783309105262,530.85925435485069,{"$f":"Q_d!$C$11","v":0},{"$f":"Q_d!$C$12","v":0},11233.589832572825,6052.604465817868,14124.143954078356,391.07181699785002,-13733.072137080506]
[53,62.958302815899899,-152.16986765600001,-1766.6120137728012,530.94850803353847,{"$f":"Q_d!$C$11","v":0},{"$f":"Q_d!$C$12","v":0},11233.589832572825,6052.604465817868,14124.232105210656,391.12384078319701,-13733.108264427459]
[53,63.130279928699899,-149.955782787,-1662.7399109196569,486.84954254407558,{"$f":"Q_d!$C$11","v":0},{"$f":"Q_d!$C$12","v":0},11233.589832572825,6052.604465817868,14046.100836845624,391.12794890291298,-13654.972887942711]
[53,63.130797224299897,-149.953026144999,-1662.5923240445982,486.82571308280558,{"$f":"Q_d!$C$11","v":0},{"$f":"Q_d!$C$12","v":0},11233.589832572825,6052.604465817868,14045.974773615915,391.18383538433602,-13654.790938231579]
[53,62.958302815499898,-152.173867655999,-1766.7796346636219,531.06043441333077,{"$f":"Q_d!$C$11","v":0},{"$f":"Q_d!$C$12","v":0},11233.589832572825,6052.604465817868,14124.342631619807,391.18980605327602,-13733.152825566531]
[53,62.958302815099898,-152.17439071499899,{"$f":"lcpx(B1016,C1016,63,-115,70,60)","v":-1766.801553064653},{"$f":"lcpy(B1016,C1016,63,-115,70,60)","v":531.07507119146567},{"$f":"Q_d!$C$11","v":0},{"$f":"Q_d!$C$12","v":0},{"$f":"lcpx(F1016,G1016,63,-115,70,60)","v":11233.589832572825},{"$f":"lcpy(F1016,G1016,63,-115,70,60)","v":6052.604465817868},{"$f":"SQRT((H1016-D1016)^2+(I1016-E1016)^2)","v":14124.35708396954},391.19874045937303,-13733.158343510167]
[53,63.131250785900001,-149.95054144100001,-1662.4600374235379,486.803043413865,{"$f":"Q_d!$C$11","v":0},{"$f":"Q_d!$C$12","v":0},11233.589832572825,6052.604465817868,14045.86229902129,391.233677203279,-13654.62862181801]
[53,63.131305446600003,-149.948216134999,-1662.3577815827812,486.74697135275073,{"$f":"Q_d!$C$11","v":0},{"$f":"Q_d!$C$12","v":0},11233.589832572825,6052.604465817868,14045.790633344182,391.23943385221202,-13654.551199491971]
[53,62.958302815099898,-152.178390715999,-1766.9691659541952,531.18700964386971,{"$f":"Q_d!$C$11","v":0},{"$f":"Q_d!$C$12","v":0},11233.589832572825,6052.604465817868,14124.467600569051,391.26455717966502,-13733.203043389385]
[53,63.132004306200002,-149.947752557,-1662.297317338747,486.80064934102302,{"$f":"Q_d!$C$11","v":0},{"$f":"Q_d!$C$12","v":0},11233.589832572825,6052.604465817868,14045.713848244333,391.31591497918902,-13654.397933265145]
[53,62.958302814699898,-152.18239071599899,-1767.1367717344265,531.29895865006665,{"$f":"Q_d!$C$11","v":0},{"$f":"Q_d!$C$12","v":0},11233.589832572825,6052.604465817868,14124.578108510847,391.32975187813099,-13733.248356632716]
[53,62.958302813099898,-152.186390713999,-1767.3043704120439,531.41091810788612,{"$f":"Q_d!$C$11","v":0},{"$f":"Q_d!$C$12","v":0},11233.589832572825,6052.604465817868,14124.688607841234,391.39575417344503,-13733.292853667788]
[53,63.132722841899898,-149.948866748,-1662.3029272166691,486.89772193541694,{"$f":"Q_d!$C$11","v":0},{"$f":"Q_d!$C$12","v":0},11233.589832572825,6052.604465817868,14045.680532850294,391.39614743377302,-13654.28438541652]
[53,63.133315993300002,-149.94973458000001,-1662.3053435189486,486.97648757909701,{"$f":"Q_d!$C$11","v":0},{"$f":"Q_d!$C$12","v":0},11233.589832572825,6052.604465817868,14045.651540063966,391.462054769041,-13654.189485294924]
[53,62.958302812699898,-152.19039071700001,-1767.47196213195,531.52288843403176,{"$f":"Q_d!$C$11","v":0},{"$f":"Q_d!$C$12","v":0},11233.589832572825,6052.604465817868,14124.799098530901,391.46210101617697,-13733.336997514723]
[53,62.958302811899898,-152.19439071400001,-1767.6395465310186,531.63486917262253,{"$f":"Q_d!$C$11","v":0},{"$f":"Q_d!$C$12","v":0},11233.589832572825,6052.604465817868,14124.909580424013,391.528288822148,-13733.381291601865]
[53,63.134495069800003,-149.951207898999,-1662.2994156944333,487.1264291863281,{"$f":"Q_d!$C$11","v":0},{"$f":"Q_d!$C$12","v":0},11233.589832572825,6052.604465817868,14045.586683360832,391.59329085672499,-13653.993392504108]
[53,62.958302811000003,-152.19839071499899,-1767.8071240090701,531.74686063080935,{"$f":"Q_d!$C$11","v":0},{"$f":"Q_d!$C$12","v":0},11233.589832572825,6052.604465817868,14125.020053768729,391.59456954865902,{"$f":"K1028-J1028","v":-13733.42548422007}]
[53,62.958302811000003,-152.20158071500001,-1767.9407618846737,531.83618147192601,{"$f":"Q_d!$C$11","v":0},{"$f":"Q_d!$C$12","v":0},11233.589832572825,6052.604465817868,14125.108149959575,391.64839857836699,-13733.459751381208]
[53,63.135207811900003,-149.952112303999,-1662.2964171218243,487.21742999391199,{"$f":"Q_d!$C$11","v":0},{"$f":"Q_d!$C$12","v":0},11233.589832572825,6052.604465817868,14045.547871962166,391.67258127420598,-13653.87529068796]
[53,62.958302810200003,-152.205580714999,-1768.108326560239,531.94819199397716,{"$f":"Q_d!$C$11","v":0},{"$f":"Q_d!$C$12","v":0},11233.589832572825,6052.604465817868,14125.218607685872,391.71484583175999,-13733.503761854112]
[53,62.958302809800003,-152.20572374599899,-1768.1143181874822,531.95219740058701,{"$f":"Q_d!$C$11","v":0},{"$f":"Q_d!$C$12","v":0},11233.589832572825,6052.604465817868,14125.222557279536,391.71722066434597,-13733.50533661519]
[53,63.135773864800001,-149.95372156400001,-1662.3319879534411,487.31315978583916,{"$f":"Q_d!$C$11","v":0},{"$f":"Q_d!$C$12","v":0},11233.589832572825,6052.604465817868,14045.542599775958,391.73587647035799,-13653.806723305599]
[53,62.958302809400003,-152.20972374600001,-1768.2818754881287,532.0642189547234,{"$f":"Q_d!$C$11","v":0},{"$f":"Q_d!$C$12","v":0},11233.589832572825,6052.604465817868,14125.33300599004,391.784013277724,-13733.548992712316]
[53,63.136412814000003,-149.954530683999,-1662.3292249513613,487.3946944519721,{"$f":"Q_d!$C$11","v":0},{"$f":"Q_d!$C$12","v":0},11233.589832572825,6052.604465817868,14045.507756486482,391.806637473129,-13653.701119013353]
[53,62.958302808600003,-152.213723745999,-1768.4494257160393,532.17625108707443,{"$f":"Q_d!$C$11","v":0},{"$f":"Q_d!$C$12","v":0},11233.589832572825,6052.604465817868,14125.443446068539,391.85064890082799,-13733.59279716771]
[53,63.137122077100003,-149.956173347,-1662.3578673685361,487.50480293002192,{"$f":"Q_d!$C$11","v":0},{"$f":"Q_d!$C$12","v":0},11233.589832572825,6052.604465817868,14045.490427090728,391.886076001687,-13653.604351089041]
[53,62.958302808200003,-152.21772374400001,-1768.6169687376564,532.28829381498463,{"$f":"Q_d!$C$11","v":0},{"$f":"Q_d!$C$12","v":0},11233.589832572825,6052.604465817868,14125.553877385521,391.91737721616698,-13733.636500169354]
[53,62.958302807800003,-152.221723744,-1768.7845047443648,532.4003472131094,{"$f":"Q_d!$C$11","v":0},{"$f":"Q_d!$C$12","v":0},11233.589832572825,6052.604465817868,14125.664300088176,391.98444602432801,-13733.679854063848]
[53,63.1380639132,-149.95678347,-1662.3289746755684,487.60964843361626,{"$f":"Q_d!$C$11","v":0},{"$f":"Q_d!$C$12","v":0},11233.589832572825,6052.604465817868,14045.422357503401,391.99034303538599,-13653.432014468015]
[53,62.958302807000003,-152.22572374500001,-1768.9520337182926,532.5124112161775,{"$f":"Q_d!$C$11","v":0},{"$f":"Q_d!$C$12","v":0},11233.589832572825,6052.604465817868,14125.774714185767,392.05135911127701,-13733.72335507449]
[53,63.138793053599898,-149.957422428999,-1662.3137021542932,487.69520283062548,{"$f":"Q_d!$C$11","v":0},{"$f":"Q_d!$C$12","v":0},11233.589832572825,6052.604465817868,14045.374437239778,392.07214358712099,-13653.302293652658]
[53,62.958302806100001,-152.22972374400001,-1769.1195555146414,532.62448576732731,{"$f":"Q_d!$C$11","v":0},{"$f":"Q_d!$C$12","v":0},11233.589832572825,6052.604465817868,14125.885119567436,392.11861165723798,-13733.766507910199]
[53,62.958302805700001,-152.233723744999,-1769.2870702632363,532.73657103342293,{"$f":"Q_d!$C$11","v":0},{"$f":"Q_d!$C$12","v":0},11233.589832572825,6052.604465817868,14125.995516287678,392.18570932658901,-13733.809806961088]
[53,62.958302805700001,-152.23442708100001,-1769.3165243058049,532.75628053276705,{"$f":"Q_d!$C$11","v":0},{"$f":"Q_d!$C$12","v":0},11233.589832572825,6052.604465817868,14126.014926876933,392.197947140216,-13733.816979736717]
[53,63.139953929199898,-149.957370642999,-1662.2438519577536,487.80326763957419,{"$f":"Q_d!$C$11","v":0},{"$f":"Q_d!$C$12","v":0},11233.589832572825,6052.604465817868,14045.267487460682,392.200790775592,-13653.066696685089]
[53,62.958302804500001,-152.23743680499899,-1769.4425619981218,532.84062525845775,{"$f":"Q_d!$C$11","v":0},{"$f":"Q_d!$C$12","v":0},11233.589832572825,6052.604465817868,14126.097985990631,392.24834309528899,-13733.849642895342]
[53,63.140481631999897,-149.95671954599899,-1662.1853731315286,487.83586961495666,{"$f":"Q_d!$C$11","v":0},{"$f":"Q_d!$C$12","v":0},11233.589832572825,6052.604465817868,14045.200877358262,392.25826087540798,-13652.942616482855]
[53,62.958302803700001,-152.24143680500001,-1769.6100630357405,532.95273092291563,{"$f":"Q_d!$C$11","v":0},{"$f":"Q_d!$C$12","v":0},11233.589832572825,6052.604465817868,14126.208366001241,392.31561855857802,-13733.892747442664]
[53,63.141235571800003,-149.955668903999,-1662.0966968306873,487.87928060087143,{"$f":"Q_d!$C$11","v":0},{"$f":"Q_d!$C$12","v":0},11233.589832572825,6052.604465817868,14045.102258496645,392.34209252895602,-13652.760165967689]
[53,62.958302803300001,-152.245436804999,-1769.7775569459918,533.06484723571702,{"$f":"Q_d!$C$11","v":0},{"$f":"Q_d!$C$12","v":0},11233.589832572825,6052.604465817868,14126.318737303764,392.38323145109001,-13733.935505852674]
[53,63.142072502399898,-149.954185378999,-1661.9847514872292,487.91912205963399,{"$f":"Q_d!$C$11","v":0},{"$f":"Q_d!$C$12","v":0},11233.589832572825,6052.604465817868,14044.983689135894,392.43446680687902,-13652.549222329015]
[53,62.958302803300001,-152.249436803999,-1769.945043686452,533.17697416845976,{"$f":"Q_d!$C$11","v":0},{"$f":"Q_d!$C$12","v":0},11233.589832572825,6052.604465817868,14126.429099870451,392.45166074944802,-13733.977439121003]
[53,62.9583028025,-152.25343680500001,-1770.1125234560539,533.28911169427647,{"$f":"Q_d!$C$11","v":0},{"$f":"Q_d!$C$12","v":0},11233.589832572825,6052.604465817868,14126.539453895119,392.51945693685002,-13734.019996958268]
[53,63.142945148099898,-149.95227532800001,-1661.8525636089778,487.95110735779099,{"$f":"Q_d!$C$11","v":0},{"$f":"Q_d!$C$12","v":0},11233.589832572825,6052.604465817868,14044.849646509716,392.53041952184998,-13652.319226987865]
[53,62.9583028017,-152.257436802999,-1770.2799959953281,533.40125974613693,{"$f":"Q_d!$C$11","v":0},{"$f":"Q_d!$C$12","v":0},11233.589832572825,6052.604465817868,14126.649799165321,392.58710074835602,-13734.062698416965]
[53,63.1438843371999,-149.950198032,-1661.7093800296236,487.98496948540787,{"$f":"Q_d!$C$11","v":0},{"$f":"Q_d!$C$12","v":0},11233.589832572825,6052.604465817868,14044.704764483611,392.633825472284,-13652.070939011328]
[53,62.958302801199899,-152.261436803999,-1770.4474615364416,533.51341851951383,{"$f":"Q_d!$C$11","v":0},{"$f":"Q_d!$C$12","v":0},11233.589832572825,6052.604465817868,14126.760135818598,392.65507992257,-13734.105055896029]
[53,63.144671063600001,-149.948615625,-1661.5961578453926,488.01748905372551,{"$f":"Q_d!$C$11","v":0},{"$f":"Q_d!$C$12","v":0},11233.589832572825,6052.604465817868,14044.58792380365,392.71994082551998,-13651.86798297813]
[53,62.958302799999899,-152.26543680399899,-1770.6149199728745,533.62558780971221,{"$f":"Q_d!$C$11","v":0},{"$f":"Q_d!$C$12","v":0},11233.589832572825,6052.604465817868,14126.870463837075,392.72315028528601,-13734.147313551788]
[53,62.958302800399899,-152.266140140999,-1770.6443641291235,533.64531216570322,{"$f":"Q_d!$C$11","v":0},{"$f":"Q_d!$C$12","v":0},11233.589832572825,6052.604465817868,14126.889862328275,392.735271970827,-13734.154590357448]
[53,63.145067069100001,-149.930273521,-1660.7919105227124,487.57223211427117,{"$f":"Q_d!$C$11","v":0},{"$f":"Q_d!$C$12","v":0},11233.589832572825,6052.604465817868,14044.025929157049,392.75985893672998,-13651.266070220319]
[53,63.145113311800003,-149.929371234999,-1660.7507865499967,487.55285860613913,{"$f":"Q_d!$C$11","v":0},{"$f":"Q_d!$C$12","v":0},11233.589832572825,6052.604465817868,14043.995848507311,392.76422164576002,-13651.23162686155]
[53,63.145088318299898,-149.947399512999,-1661.5200608520415,488.02482075625585,{"$f":"Q_d!$C$11","v":0},{"$f":"Q_d!$C$12","v":0},11233.589832572825,6052.604465817868,14044.515149685229,392.76546789782799,-13651.7496817874]
[53,63.145118777900002,-149.94591966799899,-1661.4552654350939,487.98874974623095,{"$f":"Q_d!$C$11","v":0},{"$f":"Q_d!$C$12","v":0},11233.589832572825,6052.604465817868,14044.469948958897,392.76856453642,-13651.701384422477]
[53,63.145187693700002,-149.931205761999,-1660.8245932927805,487.6081276900486,{"$f":"Q_d!$C$11","v":0},{"$f":"Q_d!$C$12","v":0},11233.589832572825,6052.604465817868,14044.04171274591,392.77332421257898,-13651.26838853333]
[53,63.145206177299897,-149.943061771,-1661.3284649522377,487.92178731877175,{"$f":"Q_d!$C$11","v":0},{"$f":"Q_d!$C$12","v":0},11233.589832572825,6052.604465817868,14044.380057953236,392.77750509162303,-13651.602552861614]
[53,62.958302799599899,-152.26914986400001,-1770.7703593741439,533.72972019627105,{"$f":"Q_d!$C$11","v":0},{"$f":"Q_d!$C$12","v":0},11233.589832572825,6052.604465817868,14126.972869647441,392.78621510689499,-13734.186654540546]
[53,63.145380941299898,-149.92875498199899,-1660.7089547865055,487.56188374080648,{"$f":"Q_d!$C$11","v":0},{"$f":"Q_d!$C$12","v":0},11233.589832572825,6052.604465817868,14043.953864849713,392.79383863039402,-13651.160026219319]
[53,63.145375489099898,-149.936292554999,-1661.030310413558,487.75964921379773,{"$f":"Q_d!$C$11","v":0},{"$f":"Q_d!$C$12","v":0},11233.589832572825,6052.604465817868,14044.170550972221,392.79460461925902,-13651.375946352962]
[53,63.145381774800001,-149.94082431199899,-1661.2229482075659,487.87947036082596,{"$f":"Q_d!$C$11","v":0},{"$f":"Q_d!$C$12","v":0},11233.589832572825,6052.604465817868,14044.299944334771,392.79688837107602,-13651.503055963694]
[53,63.145407742000003,-149.93402184600001,-1660.9317212597662,487.70295402144166,{"$f":"Q_d!$C$11","v":0},{"$f":"Q_d!$C$12","v":0},11233.589832572825,6052.604465817868,14044.102496715388,392.79763641345897,-13651.304860301929]
[53,63.145399147299898,-149.93887187300001,-1661.1387846420018,487.82973874327536,{"$f":"Q_d!$C$11","v":0},{"$f":"Q_d!$C$12","v":0},11233.589832572825,6052.604465817868,14044.242374535805,392.79800647406501,-13651.444368061741]
[53,63.1454202327999,-149.932755221999,-1660.8770467078787,487.67081186046426,{"$f":"Q_d!$C$11","v":0},{"$f":"Q_d!$C$12","v":0},11233.589832572825,6052.604465817868,14044.065033807512,392.798528734515,-13651.266505072997]
[53,62.958302799199899,-152.27314986299899,-1770.9378040152087,533.84190998834401,{"$f":"Q_d!$C$11","v":0},{"$f":"Q_d!$C$12","v":0},11233.589832572825,6052.604465817868,14127.083180841259,392.85446163305801,-13734.2287192082]
[53,63.145932152999897,-149.928100037999,-1660.6489634258876,487.59663079024995,{"$f":"Q_d!$C$11","v":0},{"$f":"Q_d!$C$12","v":0},11233.589832572825,6052.604465817868,14043.885015627162,392.855031813263,-13651.029983813898]
[53,62.958302797999899,-152.277149863999,-1771.1052416814425,533.9541103708757,{"$f":"Q_d!$C$11","v":0},{"$f":"Q_d!$C$12","v":0},11233.589832572825,6052.604465817868,14127.193483491632,392.92352829526499,-13734.269955196367]
[53,63.146712837000003,-149.926306898999,-1660.5271337848671,487.62308085480527,{"$f":"Q_d!$C$11","v":0},{"$f":"Q_d!$C$12","v":0},11233.589832572825,6052.604465817868,14043.762678039624,392.94129158056103,-13650.821386459063]
[53,62.958302798399899,-152.281149862999,-1771.2726720566116,534.06632145215326,{"$f":"Q_d!$C$11","v":0},{"$f":"Q_d!$C$12","v":0},11233.589832572825,6052.604465817868,14127.303777265357,392.991957455874,-13734.311819809483]
[53,63.1475778621,-149.92413318300001,{"$f":"lcpx(B1080,C1080,63,-115,70,60)","v":-1660.3841871118489},{"$f":"lcpy(B1080,C1080,63,-115,70,60)","v":487.64748005871252},{"$f":"Q_d!$C$11","v":0},{"$f":"Q_d!$C$12","v":0},{"$f":"lcpx(F1080,G1080,63,-115,70,60)","v":11233.589832572825},{"$f":"lcpy(F1080,G1080,63,-115,70,60)","v":6052.604465817868},{"$f":"SQRT((H1080-D1080)^2+(I1080-E1080)^2)","v":14043.621764831641},393.036519689964,-13650.585245141678]
[53,62.958302796799899,-152.285149864,-1771.4400955296519,534.17854301252464,{"$f":"Q_d!$C$11","v":0},{"$f":"Q_d!$C$12","v":0},11233.589832572825,6052.604465817868,14127.414062606471,393.06023715583302,-13734.353825450638]
[53,63.1479654737999,-149.922709792999,-1660.3009956988378,487.64659858133791,{"$f":"Q_d!$C$11","v":0},{"$f":"Q_d!$C$12","v":0},11233.589832572825,6052.604465817868,14043.545733022906,393.07908173292498,-13650.46665128998]
[53,62.958302795900003,-152.289149863999,-1771.6075118075855,534.29077521588215,{"$f":"Q_d!$C$11","v":0},{"$f":"Q_d!$C$12","v":0},11233.589832572825,6052.604465817868,14127.524339181462,393.12884864379998,-13734.395490537661]
[53,63.148592676299899,-149.92051566800001,-1660.171030098536,487.6480457783191,{"$f":"Q_d!$C$11","v":0},{"$f":"Q_d!$C$12","v":0},11233.589832572825,6052.604465817868,14043.425833488605,393.14880994351199,-13650.277023545093]
[53,62.958302795500003,-152.293149865,-1771.7749209859621,534.40301809956691,{"$f":"Q_d!$C$11","v":0},{"$f":"Q_d!$C$12","v":0},11233.589832572825,6052.604465817868,14127.634607063901,393.19852189193102,-13734.43608517197]
[53,62.958302795100003,-152.29714986299899,-1771.942322927388,534.51527150474067,{"$f":"Q_d!$C$11","v":0},{"$f":"Q_d!$C$12","v":0},11233.589832572825,6052.604465817868,14127.744866189554,393.26707615308902,-13734.477790036464]
[53,63.149722650999898,-149.916776712,-1659.946002814705,487.65629391496623,{"$f":"Q_d!$C$11","v":0},{"$f":"Q_d!$C$12","v":0},11233.589832572825,6052.604465817868,14043.215959828713,393.27343182701702,-13649.942528001695]
[53,62.958302794300003,-152.29785320100001,-1771.9717572886777,534.53501056519644,{"$f":"Q_d!$C$11","v":0},{"$f":"Q_d!$C$12","v":0},11233.589832572825,6052.604465817868,14127.764252728504,393.27956656429501,-13734.484686164209]
[53,62.958302793900003,-152.300862924999,-1772.0977101381345,534.61948193530316,{"$f":"Q_d!$C$11","v":0},{"$f":"Q_d!$C$12","v":0},11233.589832572825,6052.604465817868,14127.847208296827,393.33105436642001,-13734.516153930408]
[53,63.150281781899899,-149.914697066999,-1659.8248812381157,487.65434705607595,{"$f":"Q_d!$C$11","v":0},{"$f":"Q_d!$C$12","v":0},11233.589832572825,6052.604465817868,14043.105525724121,393.33564398996401,-13649.769881734157]
[53,63.150861602900001,-149.912509077999,-1659.6979425478253,487.65150836907605,{"$f":"Q_d!$C$11","v":0},{"$f":"Q_d!$C$12","v":0},11233.589832572825,6052.604465817868,14042.990104343649,393.39965381911497,-13649.590450524534]
[53,62.958302793500003,-152.304862923999,-1772.2650984070638,534.73175581796659,{"$f":"Q_d!$C$11","v":0},{"$f":"Q_d!$C$12","v":0},11233.589832572825,6052.604465817868,14127.957450723567,393.39978496308299,{"$f":"K1092-J1092","v":-13734.557665760483}]
[53,63.151027352299899,-149.911642919,-1659.6514041882224,487.64437097024302,{"$f":"Q_d!$C$11","v":0},{"$f":"Q_d!$C$12","v":0},11233.589832572825,6052.604465817868,14042.95020451764,393.41781073052601,-13649.532393787114]
[53,63.1513305179,-149.910599773,-1659.5893300651687,487.64554134202535,{"$f":"Q_d!$C$11","v":0},{"$f":"Q_d!$C$12","v":0},11233.589832572825,6052.604465817868,14042.892748682012,393.45117499506802,-13649.441573686943]
[53,62.958302793100003,-152.30886292400001,-1772.4324796046017,534.84404033314149,{"$f":"Q_d!$C$11","v":0},{"$f":"Q_d!$C$12","v":0},11233.589832572825,6052.604465817868,14128.067684503159,393.46981616002,-13734.597868343139]
[53,63.151564237000002,-149.909618843999,-1659.5339480654495,487.6417990683085,{"$f":"Q_d!$C$11","v":0},{"$f":"Q_d!$C$12","v":0},11233.589832572825,6052.604465817868,14042.8433839154,393.47714195490403,-13649.366241960497]
[53,63.151811376600001,-149.908267031999,-1659.4619886217686,487.62957548503118,{"$f":"Q_d!$C$11","v":0},{"$f":"Q_d!$C$12","v":0},11233.589832572825,6052.604465817868,14042.782160029548,393.50417521800199,-13649.277984811546]
[53,62.958302791900003,-152.312862924,-1772.5998537375442,534.95633537862705,{"$f":"Q_d!$C$11","v":0},{"$f":"Q_d!$C$12","v":0},11233.589832572825,6052.604465817868,14128.177909681979,393.538966741541,-13734.638942940439]
[53,63.152217793799899,-149.907525974999,-1659.4067736324062,487.64842704870398,{"$f":"Q_d!$C$11","v":0},{"$f":"Q_d!$C$12","v":0},11233.589832572825,6052.604465817868,14042.723995046437,393.54973505898801,-13649.174259987449]
[53,63.152442444499897,-149.90707341999899,-1659.3744249199572,487.65771955312084,{"$f":"Q_d!$C$11","v":0},{"$f":"Q_d!$C$12","v":0},11233.589832572825,6052.604465817868,14042.690612334554,393.57419007094398,-13649.116422263611]
[53,62.958302791900003,-152.316862923999,-1772.7672206817192,535.06864113804249,{"$f":"Q_d!$C$11","v":0},{"$f":"Q_d!$C$12","v":0},11233.589832572825,6052.604465817868,14128.288126074211,393.60797118960801,-13734.680154884603]
[53,63.152811802400002,-149.906706447,-1659.3373003845943,487.68290885607121,{"$f":"Q_d!$C$11","v":0},{"$f":"Q_d!$C$12","v":0},11233.589832572825,6052.604465817868,14042.646545109925,393.61488957609299,-13649.031655533832]
[53,63.153217257199898,-149.905705068999,-1659.2710556253408,487.69483037816599,{"$f":"Q_d!$C$11","v":0},{"$f":"Q_d!$C$12","v":0},11233.589832572825,6052.604465817868,14042.580999696587,393.65974884410002,-13648.921250852487]
[53,63.1532181237,-149.88974220700001,-1658.5910752099185,487.27549134012679,{"$f":"Q_d!$C$11","v":0},{"$f":"Q_d!$C$12","v":0},11233.589832572825,6052.604465817868,14042.12288627184,393.66093450709502,-13648.461951764744]
[53,62.958302791000001,-152.320862922,-1772.9345804825855,535.18095736159103,{"$f":"Q_d!$C$11","v":0},{"$f":"Q_d!$C$12","v":0},11233.589832572825,6052.604465817868,14128.398333819456,393.67730333993097,-13734.721030479524]
[53,62.958302789800001,-152.324862924,-1773.1019333533338,535.29328427244218,{"$f":"Q_d!$C$11","v":0},{"$f":"Q_d!$C$12","v":0},11233.589832572825,6052.604465817868,14128.508533027027,393.74769777739601,-13734.76083524963]
[53,62.958302789800001,-152.32886292500001,-1773.2692789914772,535.40562186781199,{"$f":"Q_d!$C$11","v":0},{"$f":"Q_d!$C$12","v":0},11233.589832572825,6052.604465817868,14128.618723419751,393.81697564350799,-13734.801747776244]
[53,62.958302789400001,-152.32956626000001,-1773.2987032841941,535.42537566269721,{"$f":"Q_d!$C$11","v":0},{"$f":"Q_d!$C$12","v":0},11233.589832572825,6052.604465817868,14128.638097745095,393.82959152658901,-13734.808506218505]
[53,62.958302789400001,-152.332575982999,-1773.42461362266,535.50991029492388,{"$f":"Q_d!$C$11","v":0},{"$f":"Q_d!$C$12","v":0},11233.589832572825,6052.604465817868,14128.721001496171,393.88162173170701,-13734.839379764464]
[53,62.958302788600001,-152.336575984999,-1773.5919456273909,535.62226828727898,{"$f":"Q_d!$C$11","v":0},{"$f":"Q_d!$C$12","v":0},11233.589832572825,6052.604465817868,14128.831175260506,393.95228174488301,-13734.878893515623]
[53,63.155886498599898,-149.886776306,-1658.3095282038335,487.44928377747055,{"$f":"Q_d!$C$11","v":0},{"$f":"Q_d!$C$12","v":0},11233.589832572825,6052.604465817868,14041.795516549324,393.957402764562,-13647.838113784763]
[53,62.958302787400001,-152.340575983999,-1773.7592704127374,535.73463675940684,{"$f":"Q_d!$C$11","v":0},{"$f":"Q_d!$C$12","v":0},11233.589832572825,6052.604465817868,14128.941340302707,394.02182608073798,-13734.919514221969]
[53,62.9583027868999,-152.344575982999,-1773.9265880355649,535.84701589631959,{"$f":"Q_d!$C$11","v":0},{"$f":"Q_d!$C$12","v":0},11233.589832572825,6052.604465817868,14129.051496603082,394.092667429882,-13734.9588291732]
[53,63.1572574692999,-149.88490001599899,-1658.1498691100021,487.5293271727146,{"$f":"Q_d!$C$11","v":0},{"$f":"Q_d!$C$12","v":0},11233.589832572825,6052.604465817868,14041.61720866623,394.10972664094402,-13647.507482025287]
[53,62.9583027856999,-152.34857598299899,-1774.0938986235292,535.95940559687733,{"$f":"Q_d!$C$11","v":0},{"$f":"Q_d!$C$12","v":0},11233.589832572825,6052.604465817868,14129.16164431885,394.16262672277799,-13734.999017596072]
[53,63.1582413540999,-149.883604265999,-1658.0374556088789,487.58810859868299,{"$f":"Q_d!$C$11","v":0},{"$f":"Q_d!$C$12","v":0},11233.589832572825,6052.604465817868,14041.490704106463,394.21891553298099,-13647.271788573482]
[53,62.9583027856999,-152.35257598300001,-1774.2612020167517,536.0718060073541,{"$f":"Q_d!$C$11","v":0},{"$f":"Q_d!$C$12","v":0},11233.589832572825,6052.604465817868,14129.271783245915,394.23244361797498,-13735.03933962794]
[53,62.9583027852999,-152.35657598399899,-1774.4284983551393,536.18421700811587,{"$f":"Q_d!$C$11","v":0},{"$f":"Q_d!$C$12","v":0},11233.589832572825,6052.604465817868,14129.38191355999,394.30355631797102,-13735.078357242019]
[53,63.159164760499898,-149.88184218500001,-1657.9087005003914,487.62894315627136,{"$f":"Q_d!$C$11","v":0},{"$f":"Q_d!$C$12","v":0},11233.589832572825,6052.604465817868,14041.356308991364,394.32094182911402,-13647.035367162251]
[53,62.958302784099899,-152.360575982,-1774.5957874956373,536.29663844961533,{"$f":"Q_d!$C$11","v":0},{"$f":"Q_d!$C$12","v":0},11233.589832572825,6052.604465817868,14129.492035187966,394.37378648180902,-13735.118248706158]
[53,62.958302783699899,-152.361279319999,-1774.6252019880644,536.31640710564307,{"$f":"Q_d!$C$11","v":0},{"$f":"Q_d!$C$12","v":0},11233.589832572825,6052.604465817868,14129.511397499458,394.38629571018299,-13735.125101789276]
[53,63.159938874399899,-149.880680675999,-1657.8142103328917,487.67146860600042,{"$f":"Q_d!$C$11","v":0},{"$f":"Q_d!$C$12","v":0},11233.589832572825,6052.604465817868,14041.252702693706,394.40706605485599,-13646.845636638849]
[53,62.958302783699899,-152.36428904300001,-1774.7510698504018,536.40100496997138,{"$f":"Q_d!$C$11","v":0},{"$f":"Q_d!$C$12","v":0},11233.589832572825,6052.604465817868,14129.594249486692,394.43983903885697,-13735.154410447834]
[53,62.958302783299899,-152.36828904199899,-1774.9183452482562,536.51344694871705,{"$f":"Q_d!$C$11","v":0},{"$f":"Q_d!$C$12","v":0},11233.589832572825,6052.604465817868,14129.704354334059,394.51024327639402,-13735.194111057664]
[53,63.1613422130999,-149.87911578800001,-1657.6659509084154,487.76276328580479,{"$f":"Q_d!$C$11","v":0},{"$f":"Q_d!$C$12","v":0},11233.589832572825,6052.604465817868,14041.08040178456,394.56299806241299,-13646.517403722148]
[53,62.958302782899899,-152.37228904400001,-1775.0856136477162,536.62589960912464,{"$f":"Q_d!$C$11","v":0},{"$f":"Q_d!$C$12","v":0},11233.589832572825,6052.604465817868,14129.814450585523,394.58073742264702,-13735.233713162876]
[53,62.958302781599897,-152.376289044,-1775.2528748945554,536.73836272731796,{"$f":"Q_d!$C$11","v":0},{"$f":"Q_d!$C$12","v":0},11233.589832572825,6052.604465817868,14129.924538186697,394.65229467089102,-13735.272243515807]
[53,62.958302781199897,-152.380289043,-1775.4201289186528,536.85083649653279,{"$f":"Q_d!$C$11","v":0},{"$f":"Q_d!$C$12","v":0},11233.589832572825,6052.604465817868,14130.034616997795,394.722739280371,-13735.311877717424]
[53,62.958302780799897,-152.38428904200001,-1775.5873758168086,536.96332086165376,{"$f":"Q_d!$C$11","v":0},{"$f":"Q_d!$C$12","v":0},11233.589832572825,6052.604465817868,14130.144687129648,394.79447689778999,-13735.350210231858]
[53,62.958302779599897,-152.38828904299899,-1775.7546157214169,537.07581580488204,{"$f":"Q_d!$C$11","v":0},{"$f":"Q_d!$C$12","v":0},11233.589832572825,6052.604465817868,14130.254748711301,394.86533087876899,-13735.389417832532]
[53,63.164337773100002,-149.87680331799899,-1657.3932721750589,487.98464247128777,{"$f":"Q_d!$C$11","v":0},{"$f":"Q_d!$C$12","v":0},11233.589832572825,6052.604465817868,14040.742116614674,394.895143272236,-13645.846973342439]
[53,62.958302778399897,-152.39228904300001,-1775.9218484570208,537.18832131505997,{"$f":"Q_d!$C$11","v":0},{"$f":"Q_d!$C$12","v":0},11233.589832572825,6052.604465817868,14130.364801585776,394.937248205331,-13735.427553380445]
[53,62.958302778799897,-152.392992378999,-1775.9512528831624,537.20810476032284,{"$f":"Q_d!$C$11","v":0},{"$f":"Q_d!$C$12","v":0},11233.589832572825,6052.604465817868,14130.384151668848,394.94988547915699,-13735.434266189692]
[53,62.958302778799897,-152.395622072999,-1776.0611908573017,537.28207559589919,{"$f":"Q_d!$C$11","v":0},{"$f":"Q_d!$C$12","v":0},11233.589832572825,6052.604465817868,14130.45649720915,394.99689602831,-13735.459601180841]
[53,62.958302777599897,-152.39962207299899,-1776.2284105249744,537.39460052825916,{"$f":"Q_d!$C$11","v":0},{"$f":"Q_d!$C$12","v":0},11233.589832572825,6052.604465817868,14130.566534170814,395.06800450681902,-13735.498529663995]
[53,63.1660497515999,-149.875248080999,-1657.2274934461036,488.10532196762779,{"$f":"Q_d!$C$11","v":0},{"$f":"Q_d!$C$12","v":0},11233.589832572825,6052.604465817868,14040.542085500114,395.085566404291,-13645.456519095824]
[53,62.958302777100002,-152.403622071999,-1776.3956229783391,537.50713609059221,{"$f":"Q_d!$C$11","v":0},{"$f":"Q_d!$C$12","v":0},11233.589832572825,6052.604465817868,14130.67656235956,395.140176500694,-13735.536385858866]
[53,62.958302777100002,-152.407622072999,-1776.56282835451,537.61968234843516,{"$f":"Q_d!$C$11","v":0},{"$f":"Q_d!$C$12","v":0},11233.589832572825,6052.604465817868,14130.786581876255,395.211464097386,-13735.575117778868]
[53,62.958302775500002,-152.411622072,-1776.7300266156196,537.73223899575078,{"$f":"Q_d!$C$11","v":0},{"$f":"Q_d!$C$12","v":0},11233.589832572825,6052.604465817868,14130.89659280568,395.283589647989,-13735.613003157692]
[53,63.1682267678,-149.875052541,-1657.0925807779281,488.30556460410344,{"$f":"Q_d!$C$11","v":0},{"$f":"Q_d!$C$12","v":0},11233.589832572825,6052.604465817868,14040.338861434901,395.32669819530201,-13645.012163239599]
[53,62.958302775500002,-152.415622071,-1776.8972176464581,537.8448063825108,{"$f":"Q_d!$C$11","v":0},{"$f":"Q_d!$C$12","v":0},11233.589832572825,6052.604465817868,14131.006594905377,395.35505663137701,-13735.651538274]
[53,63.168925418000001,-149.87458667799899,-1657.0321201150812,488.35924722382651,{"$f":"Q_d!$C$11","v":0},{"$f":"Q_d!$C$12","v":0},11233.589832572825,6052.604465817868,14040.262076605481,395.40424554372203,-13644.857831061759]
[53,62.958302774300002,-152.41962207,-1777.0644016197118,537.95738425086893,{"$f":"Q_d!$C$11","v":0},{"$f":"Q_d!$C$12","v":0},11233.589832572825,6052.604465817868,14131.116588435169,395.42758736587899,-13735.68900106929]
[53,62.958302773500002,-152.42362207100001,{"$f":"lcpx(B1144,C1144,63,-115,70,60)","v":-1777.2315785192543},{"$f":"lcpy(B1144,C1144,63,-115,70,60)","v":538.06997280376527},{"$f":"Q_d!$C$11","v":0},{"$f":"Q_d!$C$12","v":0},{"$f":"lcpx(F1144,G1144,63,-115,70,60)","v":11233.589832572825},{"$f":"lcpy(F1144,G1144,63,-115,70,60)","v":6052.604465817868},{"$f":"SQRT((H1144-D1144)^2+(I1144-E1144)^2)","v":14131.226573301215},395.50020760045101,-13735.726365700764]
[53,62.958302773100002,-152.42583873800001,-1777.3242193007454,538.1323701854767,{"$f":"Q_d!$C$11","v":0},{"$f":"Q_d!$C$12","v":0},11233.589832572825,6052.604465817868,14131.287519499043,395.53978303705401,-13735.747736461988]
[53,63.1701882785,-149.873937243,-1656.9310380815098,488.46133985960387,{"$f":"Q_d!$C$11","v":0},{"$f":"Q_d!$C$12","v":0},11233.589832572825,6052.604465817868,14040.128811479031,395.54421024836103,-13644.58460123067]
[53,63.171424564399899,-149.87318592400001,-1656.8271655576086,488.55825358510219,{"$f":"Q_d!$C$11","v":0},{"$f":"Q_d!$C$12","v":0},11233.589832572825,6052.604465817868,14039.995036948972,395.68151819866398,-13644.313518750309]
[53,63.171987406900001,-149.872105699999,-1656.7484473828254,488.58300608160062,{"$f":"Q_d!$C$11","v":0},{"$f":"Q_d!$C$12","v":0},11233.589832572825,6052.604465817868,14039.912954719332,395.74449546392901,-13644.168459255403]
[53,63.172396773400003,-149.869780542999,-1656.62564791514,488.56061592951119,{"$f":"Q_d!$C$11","v":0},{"$f":"Q_d!$C$12","v":0},11233.589832572825,6052.604465817868,14039.809083349104,395.790005861694,-13644.01907748741]
[53,63.172844379300003,-149.86882169200001,-1656.558799864614,488.57768627740916,{"$f":"Q_d!$C$11","v":0},{"$f":"Q_d!$C$12","v":0},11233.589832572825,6052.604465817868,14039.740943826995,395.83986964680503,-13643.90107418019]
[53,63.173647918999897,-149.867866254999,-1656.4714057085598,488.62842787025556,{"$f":"Q_d!$C$11","v":0},{"$f":"Q_d!$C$12","v":0},11233.589832572825,6052.604465817868,14039.640596450447,395.92917230231899,-13643.711424148127]
[53,62.962302773300003,-152.42583873999899,-1777.0765510788349,538.50006670338507,{"$f":"Q_d!$C$11","v":0},{"$f":"Q_d!$C$12","v":0},11233.589832572825,6052.604465817868,14130.916002546228,395.95402086227102,-13734.961981683957]
[53,63.174163459900001,-149.86679240199899,-1656.3957143251437,488.64889360744792,{"$f":"Q_d!$C$11","v":0},{"$f":"Q_d!$C$12","v":0},11233.589832572825,6052.604465817868,14039.562992086681,395.98635553261101,-13643.576636554069]
[53,63.175343675000001,-149.86488770400001,-1656.2460120068331,488.71027534131281,{"$f":"Q_d!$C$11","v":0},{"$f":"Q_d!$C$12","v":0},11233.589832572825,6052.604465817868,14039.40122167001,396.11782032243798,-13643.283401347573]
[53,63.176148714699899,-149.863140428999,-1656.1248253900576,488.74039559874609,{"$f":"Q_d!$C$11","v":0},{"$f":"Q_d!$C$12","v":0},11233.589832572825,6052.604465817868,14039.278021165423,396.20786439065,-13643.070156774773]
[53,63.1765549144,-149.86239815299899,-1656.0696119213369,488.75925018400085,{"$f":"Q_d!$C$11","v":0},{"$f":"Q_d!$C$12","v":0},11233.589832572825,6052.604465817868,14039.219856479542,396.25310874868802,{"$f":"K1156-J1156","v":-13642.966747730854}]
[53,63.177337690400002,-149.862395069,-1656.0239800818015,488.8330234300447,{"$f":"Q_d!$C$11","v":0},{"$f":"Q_d!$C$12","v":0},11233.589832572825,6052.604465817868,14039.14872428194,396.33971102830401,-13642.809013253636]
[53,62.966302772699898,-152.425838744999,-1776.8288836695003,538.86776228547069,{"$f":"Q_d!$C$11","v":0},{"$f":"Q_d!$C$12","v":0},11233.589832572825,6052.604465817868,14130.544490847793,396.36734820365803,-13734.177142644136]
[53,63.1779875257999,-149.86272702900001,-1656.0003392514463,488.90304146009976,{"$f":"Q_d!$C$11","v":0},{"$f":"Q_d!$C$12","v":0},11233.589832572825,6052.604465817868,14039.099270857427,396.41179853531099,-13642.687472322115]
[53,63.178619626,-149.863272531999,-1655.9868193775826,488.97698668104158,{"$f":"Q_d!$C$11","v":0},{"$f":"Q_d!$C$12","v":0},11233.589832572825,6052.604465817868,14039.057553593528,396.48198441038897,-13642.575569183138]
[53,63.1797538191,-149.86480379400001,-1655.9860746244835,489.12415698190853,{"$f":"Q_d!$C$11","v":0},{"$f":"Q_d!$C$12","v":0},11233.589832572825,6052.604465817868,14038.998547410949,396.60669041885802,-13642.391856992092]
[53,63.1811759932,-149.86645355600001,-1655.9736266200694,489.30160321342146,{"$f":"Q_d!$C$11","v":0},{"$f":"Q_d!$C$12","v":0},11233.589832572825,6052.604465817868,14038.916799725808,396.76374622815501,-13642.153053497654]
[53,62.970302773199897,-152.42583874900001,-1776.5812167868144,539.23545699548458,{"$f":"Q_d!$C$11","v":0},{"$f":"Q_d!$C$12","v":0},11233.589832572825,6052.604465817868,14130.172984115899,396.78148855131798,-13733.391495564581]
[53,63.182069498099899,-149.86701573299899,-1655.9456131005134,489.40064533529176,{"$f":"Q_d!$C$11","v":0},{"$f":"Q_d!$C$12","v":0},11233.589832572825,6052.604465817868,14038.851831738282,396.86256636271401,-13641.989265375569]
[53,63.183149178900003,-149.86660218700001,-1655.8652454775222,489.49166140794932,{"$f":"Q_d!$C$11","v":0},{"$f":"Q_d!$C$12","v":0},11233.589832572825,6052.604465817868,14038.74197653292,396.98211446990899,-13641.759862063011]
[53,62.9727410558,-152.425838749999,-1776.430246594645,539.45959236742783,{"$f":"Q_d!$C$11","v":0},{"$f":"Q_d!$C$12","v":0},11233.589832572825,6052.604465817868,14129.946527004044,397.03375173654899,-13732.912775267494]
[53,63.184153545500003,-149.86604072399899,-1655.782961809005,489.57169370778593,{"$f":"Q_d!$C$11","v":0},{"$f":"Q_d!$C$12","v":0},11233.589832572825,6052.604465817868,14038.634714819003,397.09391792118902,-13641.540796897814]
[53,63.1850752333999,-149.865068460999,-1655.6880021580428,489.63315418420962,{"$f":"Q_d!$C$11","v":0},{"$f":"Q_d!$C$12","v":0},11233.589832572825,6052.604465817868,14038.523174285232,397.19627411394401,-13641.326900171289]
[53,63.185844859299898,-149.86290329600001,-1655.5511142162486,489.6489904526702,{"$f":"Q_d!$C$11","v":0},{"$f":"Q_d!$C$12","v":0},11233.589832572825,6052.604465817868,14038.391217197588,397.282381946393,-13641.108835251194]
[53,63.186810911400002,-149.860130139999,-1655.3769362062596,489.66742499576685,{"$f":"Q_d!$C$11","v":0},{"$f":"Q_d!$C$12","v":0},11233.589832572825,6052.604465817868,14038.223993327721,397.39034860197597,-13640.833644725746]
[53,62.976741055799899,-152.425838752999,-1776.1825807232713,539.82728548564046,{"$f":"Q_d!$C$11","v":0},{"$f":"Q_d!$C$12","v":0},11233.589832572825,6052.604465817868,14129.575028490837,397.448218999657,-13732.126809491179]
[53,63.187449942199898,-149.841514418999,-1654.5474556303814,489.23976949601411,{"$f":"Q_d!$C$11","v":0},{"$f":"Q_d!$C$12","v":0},11233.589832572825,6052.604465817868,14037.631905127526,397.46770906452201,-13640.164196063004]
[53,63.187516598499897,-149.84388039500001,-1654.6442935908444,489.30806267803609,{"$f":"Q_d!$C$11","v":0},{"$f":"Q_d!$C$12","v":0},11233.589832572825,6052.604465817868,14037.693747905969,397.474570372747,-13640.219177533221]
[53,63.187525035999897,-149.83912866,-1654.4415382062346,489.18433834223151,{"$f":"Q_d!$C$11","v":0},{"$f":"Q_d!$C$12","v":0},11233.589832572825,6052.604465817868,14037.556629591425,397.47752572944199,-13640.079103861983]
[53,63.1875765582,-149.837590726,-1654.3730786767339,489.1489018270554,{"$f":"Q_d!$C$11","v":0},{"$f":"Q_d!$C$12","v":0},11233.589832572825,6052.604465817868,14037.507820629862,397.48323499237,-13640.024585637491]
[53,63.1877057608,-149.84554311599899,-1654.7040771337561,489.36948845338611,{"$f":"Q_d!$C$11","v":0},{"$f":"Q_d!$C$12","v":0},11233.589832572825,6052.604465817868,14037.724292646275,397.49435092589601,-13640.229941720379]
[53,63.1877842934,-149.85761969800001,-1655.2135180278931,489.693448464639,{"$f":"Q_d!$C$11","v":0},{"$f":"Q_d!$C$12","v":0},11233.589832572825,6052.604465817868,14038.063641309162,397.49878538808099,-13640.56485592108]
[53,63.188132733499899,-149.84807006400001,-1654.7868250502493,489.47600626754911,{"$f":"Q_d!$C$11","v":0},{"$f":"Q_d!$C$12","v":0},11233.589832572825,6052.604465817868,14037.758051990424,397.54143645788599,-13640.216615532538]
[53,63.188366238999897,-149.85553300800001,-1655.0908879521905,489.6936547758396,{"$f":"Q_d!$C$11","v":0},{"$f":"Q_d!$C$12","v":0},11233.589832572825,6052.604465817868,14037.950968971272,397.56400442947501,-13640.386964541798]
[53,63.188407528600003,-149.850248765999,-1654.8635881078608,489.55903933398668,{"$f":"Q_d!$C$11","v":0},{"$f":"Q_d!$C$12","v":0},11233.589832572825,6052.604465817868,14037.795624462513,397.57087801422199,-13640.224746448292]
[53,63.188581873799897,-149.85391947100001,-1655.0096846408428,489.67170493009098,{"$f":"Q_d!$C$11","v":0},{"$f":"Q_d!$C$12","v":0},11233.589832572825,6052.604465817868,14037.8851119846,397.58831950775402,-13640.296792476845]
[53,63.188578899299898,-149.85212518399899,-1654.9334922201097,489.62439228337371,{"$f":"Q_d!$C$11","v":0},{"$f":"Q_d!$C$12","v":0},11233.589832572825,6052.604465817868,14037.833906706312,397.58880831834199,-13640.24509838797]
[53,63.188787458,-149.83594361300001,-1654.232625746369,489.22002003374109,{"$f":"Q_d!$C$11","v":0},{"$f":"Q_d!$C$12","v":0},11233.589832572825,6052.604465817868,14037.35068339996,397.61924563707902,-13639.731437762881]
[53,63.189132906700003,-149.834734037999,-1654.1610719176108,489.22093052351966,{"$f":"Q_d!$C$11","v":0},{"$f":"Q_d!$C$12","v":0},11233.589832572825,6052.604465817868,14037.284628338142,397.65705281309903,-13639.627575525043]
[53,63.189527092399899,-149.833570406999,-1654.0886436092737,489.22764595514946,{"$f":"Q_d!$C$11","v":0},{"$f":"Q_d!$C$12","v":0},11233.589832572825,6052.604465817868,14037.215469787203,397.70185863533499,-13639.513611151868]
[53,63.190253583100002,-149.83241307399899,-1653.9971832954034,489.26588969951081,{"$f":"Q_d!$C$11","v":0},{"$f":"Q_d!$C$12","v":0},11233.589832572825,6052.604465817868,14037.116342187308,397.78249680070098,-13639.333845386607]
[53,63.190746728999898,-149.83139389600001,-1653.9251583628127,489.28573253889772,{"$f":"Q_d!$C$11","v":0},{"$f":"Q_d!$C$12","v":0},11233.589832572825,6052.604465817868,14037.0423512093,397.83778662288898,-13639.204564586411]
[53,62.9807410551999,-152.42583875700001,-1775.934915564434,540.1949776361389,{"$f":"Q_d!$C$11","v":0},{"$f":"Q_d!$C$12","v":0},11233.589832572825,6052.604465817868,14129.203535153416,397.86274946267503,-13731.340785690742]
[53,63.191103885099899,-149.829760217999,-1653.8348758355032,489.27664620338874,{"$f":"Q_d!$C$11","v":0},{"$f":"Q_d!$C$12","v":0},11233.589832572825,6052.604465817868,14036.963063404772,397.87867435815099,-13639.08438904662]
[53,63.191630897899898,-149.828261101999,-1653.7404572098428,489.28711828407722,{"$f":"Q_d!$C$11","v":0},{"$f":"Q_d!$C$12","v":0},11233.589832572825,6052.604465817868,14036.872226650787,397.938097811707,-13638.934128839079]
[53,63.192289430199899,-149.827218649999,-1653.6578403702388,489.32196679238859,{"$f":"Q_d!$C$11","v":0},{"$f":"Q_d!$C$12","v":0},11233.589832572825,6052.604465817868,14036.78256395459,398.01112299155602,-13638.771440963033]
[53,63.193119319700003,-149.82636333400001,-1653.5732393697847,489.37789128027043,{"$f":"Q_d!$C$11","v":0},{"$f":"Q_d!$C$12","v":0},11233.589832572825,6052.604465817868,14036.682726430865,398.10329671707001,-13638.579429713795]
[53,63.1934870000999,-149.825942276999,-1653.5339652662474,489.40156617295179,{"$f":"Q_d!$C$11","v":0},{"$f":"Q_d!$C$12","v":0},11233.589832572825,6052.604465817868,14036.637285455792,398.14440148518901,-13638.492883970603]
[53,63.1944765151,-149.825698090999,-1653.4661088375585,489.48856338000905,{"$f":"Q_d!$C$11","v":0},{"$f":"Q_d!$C$12","v":0},11233.589832572825,6052.604465817868,14036.540506157407,398.25426401358197,-13638.286242143826]
[53,62.984741054700002,-152.42583876,-1775.68725099006,540.56266882861928,{"$f":"Q_d!$C$11","v":0},{"$f":"Q_d!$C$12","v":0},11233.589832572825,6052.604465817868,14128.832046870361,398.27614233845298,-13730.555904531908]
[53,63.1950819885,-149.825296495,-1653.4138552604024,489.53519223849071,{"$f":"Q_d!$C$11","v":0},{"$f":"Q_d!$C$12","v":0},11233.589832572825,6052.604465817868,14036.47405130185,398.32229274420399,-13638.151758557646]
[53,63.1954686618,-149.82386955800001,-1653.33066779861,489.5343207146002,{"$f":"Q_d!$C$11","v":0},{"$f":"Q_d!$C$12","v":0},11233.589832572825,6052.604465817868,14036.398021651879,398.36573772476902,-13638.03228392711]
[53,63.196100372499899,-149.821880227999,-1653.2093161509295,489.54185346245595,{"$f":"Q_d!$C$11","v":0},{"$f":"Q_d!$C$12","v":0},11233.589832572825,6052.604465817868,14036.283622402831,398.43624710736299,-13637.847375295467]
[53,62.9871793079,-152.42583876,-1775.5362839693853,540.78679940191432,{"$f":"Q_d!$C$11","v":0},{"$f":"Q_d!$C$12","v":0},11233.589832572825,6052.604465817868,14128.605603665055,398.52854402288398,-13730.077059642172]
[53,63.196940264600002,-149.81970320600001,-1653.067890547688,489.56412664220124,{"$f":"Q_d!$C$11","v":0},{"$f":"Q_d!$C$12","v":0},11233.589832572825,6052.604465817868,14036.14495109527,398.53152400280698,-13637.613427092463]
[53,63.1974331175999,-149.817838776999,-1652.9599218280516,489.56183333019226,{"$f":"Q_d!$C$11","v":0},{"$f":"Q_d!$C$12","v":0},11233.589832572825,6052.604465817868,14036.046733447587,398.58668531324503,-13637.460048134342]
[53,63.197671973200002,-149.816221157999,-1652.8772054855253,489.5420302714183,{"$f":"Q_d!$C$11","v":0},{"$f":"Q_d!$C$12","v":0},11233.589832572825,6052.604465817868,14035.978640078943,398.61444832820598,-13637.364191750738]
[53,63.1977172932,-149.814472284,-1652.8001383810767,489.50052554620333,{"$f":"Q_d!$C$11","v":0},{"$f":"Q_d!$C$12","v":0},11233.589832572825,6052.604465817868,14035.924334854739,398.62011751164698,-13637.304217343091]
[53,63.1985155409999,-149.811667112999,-1652.6344026799038,489.50244554503661,{"$f":"Q_d!$C$11","v":0},{"$f":"Q_d!$C$12","v":0},11233.589832572825,6052.604465817868,14035.771411973708,398.71058995842998,-13637.060822015279]
[53,63.199805230099898,-149.807789318999,-1652.3944910688824,489.52269324675854,{"$f":"Q_d!$C$11","v":0},{"$f":"Q_d!$C$12","v":0},11233.589832572825,6052.604465817868,14035.543124419972,398.85592915863703,-13636.687195261335]
[53,63.200497156200001,-149.805421193,-1652.2535369762786,489.52603623356208,{"$f":"Q_d!$C$11","v":0},{"$f":"Q_d!$C$12","v":0},11233.589832572825,6052.604465817868,14035.412390031823,398.93481454493201,-13636.477575486892]
[53,62.991179307899898,-152.425838763999,-1775.2886204214224,541.15448916045671,{"$f":"Q_d!$C$11","v":0},{"$f":"Q_d!$C$12","v":0},11233.589832572825,6052.604465817868,14128.234123554685,398.94323814923803,-13729.290885405446]
[53,63.200791816399899,-149.803267339,{"$f":"lcpx(B1208,C1208,63,-115,70,60)","v":-1652.1447618383861},{"$f":"lcpy(B1208,C1208,63,-115,70,60)","v":489.49749008417939},{"$f":"Q_d!$C$11","v":0},{"$f":"Q_d!$C$12","v":0},{"$f":"lcpx(F1208,G1208,63,-115,70,60)","v":11233.589832572825},{"$f":"lcpy(F1208,G1208,63,-115,70,60)","v":6052.604465817868},{"$f":"SQRT((H1208-D1208)^2+(I1208-E1208)^2)","v":14035.3238388383},398.96872440079801,-13636.355114437501]
[53,63.200913857300002,-149.801718668999,-1652.0717631655082,489.46848746917476,{"$f":"Q_d!$C$11","v":0},{"$f":"Q_d!$C$12","v":0},11233.589832572825,6052.604465817868,14035.268314980069,398.98336511689303,-13636.284949863175]
[53,63.201430425600002,-149.800695292,-1651.9982262902176,489.49047633257442,{"$f":"Q_d!$C$11","v":0},{"$f":"Q_d!$C$12","v":0},11233.589832572825,6052.604465817868,14035.192085708011,399.04107063935101,-13636.151015068661]
[53,63.201720846400001,-149.79922845799899,-1651.9189397113271,489.47951477388051,{"$f":"Q_d!$C$11","v":0},{"$f":"Q_d!$C$12","v":0},11233.589832572825,6052.604465817868,14035.123638270525,399.07468254701399,-13636.048955723511]
[53,63.201652278399898,-149.775208792,-1650.9004501095474,488.84479061761658,{"$f":"Q_d!$C$11","v":0},{"$f":"Q_d!$C$12","v":0},11233.589832572825,6052.604465817868,14034.440194319148,399.08646503358102,-13635.353729285567]
[53,63.201698485199898,-149.775994424999,-1650.9312168391662,488.86969641194946,{"$f":"Q_d!$C$11","v":0},{"$f":"Q_d!$C$12","v":0},11233.589832572825,6052.604465817868,14034.458566579511,399.09082395489799,-13635.367742624614]
[53,63.202251717899898,-149.797041118999,-1651.7950334783479,489.47240583858002,{"$f":"Q_d!$C$11","v":0},{"$f":"Q_d!$C$12","v":0},11233.589832572825,6052.604465817868,14035.012699069068,399.134752232876,-13635.877946836192]
[53,63.2020887414999,-149.773879383999,-1650.8185406778555,488.85124518650991,{"$f":"Q_d!$C$11","v":0},{"$f":"Q_d!$C$12","v":0},11233.589832572825,6052.604465817868,14034.362437559394,399.13655080185202,-13635.225886757542]
[53,63.202507984100002,-149.79520933500001,-1651.7021964606306,489.44867821575826,{"$f":"Q_d!$C$11","v":0},{"$f":"Q_d!$C$12","v":0},11233.589832572825,6052.604465817868,14034.936871628741,399.16440526304399,-13635.772466365697]
[53,63.202378176800003,-149.776531822999,-1650.9146744716832,488.94792939910349,{"$f":"Q_d!$C$11","v":0},{"$f":"Q_d!$C$12","v":0},11233.589832572825,6052.604465817868,14034.412365585013,399.16569633424098,-13635.246669250771]
[53,63.202795191500002,-149.77203629799899,-1650.6991066496435,488.86976703087385,{"$f":"Q_d!$C$11","v":0},{"$f":"Q_d!$C$12","v":0},11233.589832572825,6052.604465817868,14034.245447043344,399.21585937059098,-13635.029587672752]
[53,63.203062381099897,-149.777227052,-1650.9045880495801,489.03071490389539,{"$f":"Q_d!$C$11","v":0},{"$f":"Q_d!$C$12","v":0},11233.589832572825,6052.604465817868,14034.370287152497,399.241013104866,-13635.129274047631]
[53,63.203302872499897,-149.79229799000001,-1651.5321573685931,489.44756649361943,{"$f":"Q_d!$C$11","v":0},{"$f":"Q_d!$C$12","v":0},11233.589832572825,6052.604465817868,14034.781201791884,399.254827930734,{"$f":"K1220-J1220","v":-13635.52637386115}]
[53,63.203227104299899,-149.770548990999,-1650.6107415447245,488.87166942788463,{"$f":"Q_d!$C$11","v":0},{"$f":"Q_d!$C$12","v":0},11233.589832572825,6052.604465817868,14034.163568368314,399.26553514421897,-13634.898033224095]
[53,63.2037857053,-149.76851548299899,-1650.4917781172426,488.87125967294924,{"$f":"Q_d!$C$11","v":0},{"$f":"Q_d!$C$12","v":0},11233.589832572825,6052.604465817868,14034.054515359472,399.32972534110201,-13634.72479001837]
[53,63.203890300600001,-149.77879982100001,-1650.9235199335535,489.15001579439831,{"$f":"Q_d!$C$11","v":0},{"$f":"Q_d!$C$12","v":0},11233.589832572825,6052.604465817868,14034.340374538489,399.33189480931702,-13635.008479729173]
[53,63.203749748600003,-149.746076501,-1649.53847325335,488.28145304512418,{"$f":"Q_d!$C$11","v":0},{"$f":"Q_d!$C$12","v":0},11233.589832572825,6052.604465817868,14033.413181933038,399.34869528521,-13634.064486647827]
[53,63.203749749799897,-149.742572021999,-1649.3892433384624,488.18989920718195,{"$f":"Q_d!$C$11","v":0},{"$f":"Q_d!$C$12","v":0},11233.589832572825,6052.604465817868,14033.31248634752,399.352151807148,-13633.960334540372]
[53,63.203749749000004,-149.738572022,-1649.2189067544598,488.08540989664971,{"$f":"Q_d!$C$11","v":0},{"$f":"Q_d!$C$12","v":0},11233.589832572825,6052.604465817868,14033.197545028641,399.35754366482098,-13633.84000136382]
[53,62.995179307900003,-152.42583876699899,-1775.0409574612777,541.52217795621254,{"$f":"Q_d!$C$11","v":0},{"$f":"Q_d!$C$12","v":0},11233.589832572825,6052.604465817868,14127.862648504399,399.35799476785201,-13728.504653736547]
[53,63.203749749799897,-149.734572022999,-1649.0485635008449,487.98093155493825,{"$f":"Q_d!$C$11","v":0},{"$f":"Q_d!$C$12","v":0},11233.589832572825,6052.604465817868,14033.082595141539,399.36165298761398,-13633.720942153925]
[53,63.203749750999897,-149.730572021999,-1648.8782135201948,487.87646399087453,{"$f":"Q_d!$C$11","v":0},{"$f":"Q_d!$C$12","v":0},11233.589832572825,6052.604465817868,14032.967636709107,399.36670164273801,-13633.60093506637]
[53,63.203749751799897,-149.72657202100001,-1648.7078569447153,487.77200718153836,{"$f":"Q_d!$C$11","v":0},{"$f":"Q_d!$C$12","v":0},11233.589832572825,6052.604465817868,14032.852669861584,399.37239360776999,-13633.480276253815]
[53,63.203749752199897,-149.72257202200001,-1648.5374938601803,487.66756117951127,{"$f":"Q_d!$C$11","v":0},{"$f":"Q_d!$C$12","v":0},11233.589832572825,6052.604465817868,14032.737694656658,399.37680258247298,-13633.360892074184]
[53,63.203749752599897,-149.71857202300001,-1648.3671241589682,487.56312597079477,{"$f":"Q_d!$C$11","v":0},{"$f":"Q_d!$C$12","v":0},11233.589832572825,6052.604465817868,14032.622711000875,399.38215006306899,-13633.240560937806]
[53,63.204065422500001,-149.74687340200001,-1649.554112250099,488.33208968829331,{"$f":"Q_d!$C$11","v":0},{"$f":"Q_d!$C$12","v":0},11233.589832572825,6052.604465817868,14033.407461439516,399.38289057619801,-13634.024570863317]
[53,63.204274897799898,-149.766544576999,-1650.3795060202094,488.86593650904524,{"$f":"Q_d!$C$11","v":0},{"$f":"Q_d!$C$12","v":0},11233.589832572825,6052.604465817868,14033.953553447473,399.385111546487,-13634.568441900985]
[53,63.203749754199897,-149.714572021999,-1648.1967476870439,487.45870161695393,{"$f":"Q_d!$C$11","v":0},{"$f":"Q_d!$C$12","v":0},11233.589832572825,6052.604465817868,14032.507718728202,399.38730378543499,-13633.120414942767]
[53,63.203749754599897,-149.71059064100001,-1648.0271578173492,487.35477396464512,{"$f":"Q_d!$C$11","v":0},{"$f":"Q_d!$C$12","v":0},11233.589832572825,6052.604465817868,14032.393253461121,399.392305088618,-13633.000948372503]
[53,63.203749754599897,-149.70659064200001,-1647.8567683241563,487.25037105034653,{"$f":"Q_d!$C$11","v":0},{"$f":"Q_d!$C$12","v":0},11233.589832572825,6052.604465817868,14032.27824452986,399.39849696387103,-13632.879747565989]
[53,63.203749755499899,-149.70259064300001,-1647.6863721649156,487.14597901607567,{"$f":"Q_d!$C$11","v":0},{"$f":"Q_d!$C$12","v":0},11233.589832572825,6052.604465817868,14032.163227067194,399.40424259263898,-13632.758984474556]
[53,63.2045910342,-149.78007378300001,-1650.9371049979191,489.24949337096632,{"$f":"Q_d!$C$11","v":0},{"$f":"Q_d!$C$12","v":0},11233.589832572825,6052.604465817868,14034.31341229188,399.40778611464202,-13634.905626177238]
[53,63.203749756299899,-149.69859064299899,-1647.5159693555643,487.04159774164236,{"$f":"Q_d!$C$11","v":0},{"$f":"Q_d!$C$12","v":0},11233.589832572825,6052.604465817868,14032.048201135216,399.409250351065,-13632.63895078415]
[53,63.203749765200001,-149.697747972999,-1647.4800696730647,487.01961020135468,{"$f":"Q_d!$C$11","v":0},{"$f":"Q_d!$C$12","v":0},11233.589832572825,6052.604465817868,14032.023967040992,399.41052061506798,-13632.613446425923]
[53,63.204729713200003,-149.789085900999,-1651.312657241763,489.49826453802098,{"$f":"Q_d!$C$11","v":0},{"$f":"Q_d!$C$12","v":0},11233.589832572825,6052.604465817868,14034.559586205347,399.416024376839,-13635.143561828509]
[53,63.204463187000002,-149.747503257999,-1649.5578798912668,488.38611571136425,{"$f":"Q_d!$C$11","v":0},{"$f":"Q_d!$C$12","v":0},11233.589832572825,6052.604465817868,14033.389498935412,399.42665409308802,-13633.962844842325]
[53,63.2039006125,-149.697703173999,-1647.4694301175084,487.03269613725024,{"$f":"Q_d!$C$11","v":0},{"$f":"Q_d!$C$12","v":0},11233.589832572825,6052.604465817868,14032.009009846248,399.42742021548702,-13632.581589630761]
[53,63.204671525499897,-149.763002212999,-1650.2057001620283,488.81080275565819,{"$f":"Q_d!$C$11","v":0},{"$f":"Q_d!$C$12","v":0},11233.589832572825,6052.604465817868,14033.815847959877,399.43276120017998,-13634.383086759697]
[53,63.205130856899899,-149.781529046,-1650.9677374891705,489.33851761282403,{"$f":"Q_d!$C$11","v":0},{"$f":"Q_d!$C$12","v":0},11233.589832572825,6052.604465817868,14034.306245294052,399.46664912605598,-13634.839596167996]
[53,63.204276160500001,-149.69731922400001,-1647.4313367000541,487.05816665911925,{"$f":"Q_d!$C$11","v":0},{"$f":"Q_d!$C$12","v":0},11233.589832572825,6052.604465817868,14031.963938498975,399.46997106165497,-13632.49396743732]
[53,63.204361731900001,-149.697062931999,-1647.4154655406728,487.05956579006715,{"$f":"Q_d!$C$11","v":0},{"$f":"Q_d!$C$12","v":0},11233.589832572825,6052.604465817868,14031.948814197316,399.479560244325,-13632.469253952991]
[53,63.205101181099899,-149.75813456,-1649.9735549729451,488.72416500663257,{"$f":"Q_d!$C$11","v":0},{"$f":"Q_d!$C$12","v":0},11233.589832572825,6052.604465817868,14033.637075350964,399.48575866981702,-13634.151316681147]
[53,63.2051265290999,-149.754063852999,-1649.7987724521233,488.62018520902575,{"$f":"Q_d!$C$11","v":0},{"$f":"Q_d!$C$12","v":0},11233.589832572825,6052.604465817868,14033.517842043346,399.49292358814,-13634.024918455205]
[53,63.2052626029,-149.752195763999,-1649.7113479768209,488.58422495453397,{"$f":"Q_d!$C$11","v":0},{"$f":"Q_d!$C$12","v":0},11233.589832572825,6052.604465817868,14033.451840138576,399.50972819194197,-13633.942111946633]
[53,63.205579635100001,-149.787275566999,-1651.1862967336003,489.53116464596587,{"$f":"Q_d!$C$11","v":0},{"$f":"Q_d!$C$12","v":0},11233.589832572825,6052.604465817868,14034.430535527843,399.51157082868002,-13634.918964699164]
[53,63.205381396600004,-149.748903974,-1649.564306044666,488.50943849691294,{"$f":"Q_d!$C$11","v":0},{"$f":"Q_d!$C$12","v":0},11233.589832572825,6052.604465817868,14033.346501545337,399.52625683176302,-13633.820244713574]
[53,63.205411685599898,-149.749956056999,-1649.6073461962956,488.53978686415212,{"$f":"Q_d!$C$11","v":0},{"$f":"Q_d!$C$12","v":0},11233.589832572825,6052.604465817868,14033.373981285646,399.52819218297901,-13633.845789102666]
[53,63.205766687999898,-149.78302358600001,-1650.9944693281045,489.43763403819685,{"$f":"Q_d!$C$11","v":0},{"$f":"Q_d!$C$12","v":0},11233.589832572825,6052.604465817868,14034.291497293525,399.535569042357,-13634.755928251168]
[53,63.204909522800001,-149.696358051999,-1647.3537316888403,487.09294020340167,{"$f":"Q_d!$C$11","v":0},{"$f":"Q_d!$C$12","v":0},11233.589832572825,6052.604465817868,14031.878906527145,399.54110173047201,-13632.337804796673]
[53,63.205887939299899,-149.786439680999,-1651.132833995453,489.53841393823541,{"$f":"Q_d!$C$11","v":0},{"$f":"Q_d!$C$12","v":0},11233.589832572825,6052.604465817868,14034.378578759874,399.54650253631303,-13634.83207622356]
[53,63.2061984431,-149.78401886699899,-1651.0117861461345,489.5044261584685,{"$f":"Q_d!$C$11","v":0},{"$f":"Q_d!$C$12","v":0},11233.589832572825,6052.604465817868,14034.280919389979,399.582904589272,-13634.698014800708]
[53,63.206216865599899,-149.785495217999,-1651.0735541875922,489.54477193926323,{"$f":"Q_d!$C$11","v":0},{"$f":"Q_d!$C$12","v":0},11233.589832572825,6052.604465817868,14034.32163475603,399.58328405978102,-13634.738350696249]
[53,63.205364481300002,-149.69580465600001,-1647.3038249037913,487.12149522834216,{"$f":"Q_d!$C$11","v":0},{"$f":"Q_d!$C$12","v":0},11233.589832572825,6052.604465817868,14031.821767366606,399.59273214236498,-13632.229035224242]
[53,63.2055300277,-149.695109833999,-1647.2646440459418,487.11901136997221,{"$f":"Q_d!$C$11","v":0},{"$f":"Q_d!$C$12","v":0},11233.589832572825,6052.604465817868,14031.786785420481,399.61239802838901,-13632.174387392093]
[53,63.205919425600001,-149.693509707999,-1647.1739418210493,487.11406403959109,{"$f":"Q_d!$C$11","v":0},{"$f":"Q_d!$C$12","v":0},11233.589832572825,6052.604465817868,14031.705485222517,399.65801720971302,-13632.047468012805]
[53,63.2061331069999,-149.691199541999,-1647.0631610200073,487.07399080258256,{"$f":"Q_d!$C$11","v":0},{"$f":"Q_d!$C$12","v":0},11233.589832572825,6052.604465817868,14031.619685897842,399.68476961225298,-13631.934916285589]
[53,63.2061655231999,-149.691686003999,-1647.0820087872939,487.08974459512638,{"$f":"Q_d!$C$11","v":0},{"$f":"Q_d!$C$12","v":0},11233.589832572825,6052.604465817868,14031.630739046497,399.68691656595399,-13631.943822480544]
[53,63.206174436799898,-149.692522109999,-1647.117111540648,487.11239879020468,{"$f":"Q_d!$C$11","v":0},{"$f":"Q_d!$C$12","v":0},11233.589832572825,6052.604465817868,14031.653976929481,399.68699948334501,-13631.966977446136]
[53,63.206307704300002,-149.690565789999,-1647.0260586615043,487.07395872734469,{"$f":"Q_d!$C$11","v":0},{"$f":"Q_d!$C$12","v":0},11233.589832572825,6052.604465817868,14031.585639651479,399.70419593744498,-13631.881443714034]
[53,63.2063095731,-149.69024576300001,-1647.0123170235886,487.06578707637573,{"$f":"Q_d!$C$11","v":0},{"$f":"Q_d!$C$12","v":0},11233.589832572825,6052.604465817868,14031.576266434051,399.70517032682898,-13631.871096107221]
[53,63.206451008499897,-149.689637879999,-1646.9782358874818,487.0632964650822,{"$f":"Q_d!$C$11","v":0},{"$f":"Q_d!$C$12","v":0},11233.589832572825,6052.604465817868,14031.545968780491,399.722120441188,-13631.823848339303]
[53,63.206713314799899,-149.68906179000001,-1646.9385148500924,487.07305867649575,{"$f":"Q_d!$C$11","v":0},{"$f":"Q_d!$C$12","v":0},11233.589832572825,6052.604465817868,14031.505633845656,399.75239877954402,-13631.753235066111]
[53,62.999179306899897,-152.425838771999,-1774.7932952749466,541.88986578320146,{"$f":"Q_d!$C$11","v":0},{"$f":"Q_d!$C$12","v":0},11233.589832572825,6052.604465817868,14127.491178688089,399.771612029918,-13727.719566658172]
[53,62.999997369699898,-152.42583877300001,-1774.7426445332796,541.96506361993988,{"$f":"Q_d!$C$11","v":0},{"$f":"Q_d!$C$12","v":0},11233.589832572825,6052.604465817868,14127.415207885333,399.85723925671198,-13727.557968628622]
[53,63.207897013100002,-149.688675525999,{"$f":"lcpx(B1272,C1272,63,-115,70,60)","v":-1646.8535633124395},{"$f":"lcpy(B1272,C1272,63,-115,70,60)","v":487.17485077457468},{"$f":"Q_d!$C$11","v":0},{"$f":"Q_d!$C$12","v":0},{"$f":"lcpx(F1272,G1272,63,-115,70,60)","v":11233.589832572825},{"$f":"lcpy(F1272,G1272,63,-115,70,60)","v":6052.604465817868},{"$f":"SQRT((H1272-D1272)^2+(I1272-E1272)^2)","v":14031.387275483678},399.88346032312899,-13631.503815160548]
[53,63.208039181700002,-149.688515182999,-1646.8385060537307,487.18410440975913,{"$f":"Q_d!$C$11","v":0},{"$f":"Q_d!$C$12","v":0},11233.589832572825,6052.604465817868,14031.369782942435,399.90004406726399,-13631.46973887517]
[53,63.208544154999899,-149.687458410999,-1646.7642681066206,487.20426473831048,{"$f":"Q_d!$C$11","v":0},{"$f":"Q_d!$C$12","v":0},11233.589832572825,6052.604465817868,14031.29363804586,399.95732183946802,-13631.336316206391]
[53,63.208761783900002,-149.68665786099899,-1646.7175726750988,487.20395276758018,{"$f":"Q_d!$C$11","v":0},{"$f":"Q_d!$C$12","v":0},11233.589832572825,6052.604465817868,14031.250896635871,399.98224291710699,-13631.268653718764]
[53,63.001617529800001,-152.42583877300001,-1774.6423315560251,542.11399154466517,{"$f":"Q_d!$C$11","v":0},{"$f":"Q_d!$C$12","v":0},11233.589832572825,6052.604465817868,14127.26474951652,400.02512427221302,-13727.239625244307]
[53,63.2092247167,-149.68569728400001,-1646.6498667882263,487.22265151624288,{"$f":"Q_d!$C$11","v":0},{"$f":"Q_d!$C$12","v":0},11233.589832572825,6052.604465817868,14031.181327741286,400.035406832945,-13631.14592090834]
[53,63.209483455399898,-149.685536571,-1646.6280496025263,487.24291340023456,{"$f":"Q_d!$C$11","v":0},{"$f":"Q_d!$C$12","v":0},11233.589832572825,6052.604465817868,14031.153263414883,400.06364580776398,-13631.089617607118]
[53,63.209745386900003,-149.685216585999,-1646.5992631188551,487.25932338743905,{"$f":"Q_d!$C$11","v":0},{"$f":"Q_d!$C$12","v":0},11233.589832572825,6052.604465817868,14031.120329294765,400.09376152722001,-13631.026567767545]
[53,63.209989546099898,-149.68467203200001,-1646.5619389979342,487.26819740482097,{"$f":"Q_d!$C$11","v":0},{"$f":"Q_d!$C$12","v":0},11233.589832572825,6052.604465817868,14031.082546945941,400.122121682868,-13630.960425263074]
[53,63.210087615699898,-149.684192010999,-1646.5358167901595,487.26494771804073,{"$f":"Q_d!$C$11","v":0},{"$f":"Q_d!$C$12","v":0},11233.589832572825,6052.604465817868,14031.059856443555,400.13303228801198,-13630.926824155544]
[53,63.2101059162,-149.683936015999,-1646.523853055674,487.26000138441213,{"$f":"Q_d!$C$11","v":0},{"$f":"Q_d!$C$12","v":0},11233.589832572825,6052.604465817868,14031.050836003506,400.136267279035,-13630.914568724471]
[53,63.210174853700003,-149.682659959999,-1646.4655066793382,487.23324003543985,{"$f":"Q_d!$C$11","v":0},{"$f":"Q_d!$C$12","v":0},11233.589832572825,6052.604465817868,14031.007890489022,400.14549772926301,-13630.862392759758]
[53,63.210191651700001,-149.68345590499899,-1646.4984406916751,487.25558399084093,{"$f":"Q_d!$C$11","v":0},{"$f":"Q_d!$C$12","v":0},11233.589832572825,6052.604465817868,14031.029260305142,400.14579543211499,{"$f":"K1284-J1284","v":-13630.883464873026}]
[53,63.210286056800001,-149.682413679999,-1646.4485816514155,487.23732780927503,{"$f":"Q_d!$C$11","v":0},{"$f":"Q_d!$C$12","v":0},11233.589832572825,6052.604465817868,14030.990732400833,400.158166731606,-13630.832565669227]
[53,63.210462482600001,-149.68217519199899,-1646.4282150508454,487.2477832382383,{"$f":"Q_d!$C$11","v":0},{"$f":"Q_d!$C$12","v":0},11233.589832572825,6052.604465817868,14030.967889331272,400.177498470366,-13630.790390860906]
[53,63.210913472999898,-149.682110434999,-1646.3993638419824,487.28871893222095,{"$f":"Q_d!$C$11","v":0},{"$f":"Q_d!$C$12","v":0},11233.589832572825,6052.604465817868,14030.925167724881,400.22768720816902,-13630.697480516712]
[53,63.211403134500003,-149.682333048999,-1646.3805164561134,487.34080304418103,{"$f":"Q_d!$C$11","v":0},{"$f":"Q_d!$C$12","v":0},11233.589832572825,6052.604465817868,14030.887207445357,400.28158824132697,-13630.605619204031]
[53,63.211577644199899,-149.682588874999,-1646.3813171857764,487.36396729460193,{"$f":"Q_d!$C$11","v":0},{"$f":"Q_d!$C$12","v":0},11233.589832572825,6052.604465817868,14030.878754554806,400.30027132766202,-13630.578483227144]
[53,63.211837338800002,-149.682652633999,-1646.3690078974646,487.39017418555977,{"$f":"Q_d!$C$11","v":0},{"$f":"Q_d!$C$12","v":0},11233.589832572825,6052.604465817868,14030.857060208305,400.32942954521798,-13630.527630663088]
[53,63.212054048600002,-149.68258814800001,-1646.3537228602409,487.4089743921968,{"$f":"Q_d!$C$11","v":0},{"$f":"Q_d!$C$12","v":0},11233.589832572825,6052.604465817868,14030.835572015176,400.354092304549,-13630.481479710626]
[53,63.212155852499897,-149.682427673999,-1646.3409973038081,487.41441167791299,{"$f":"Q_d!$C$11","v":0},{"$f":"Q_d!$C$12","v":0},11233.589832572825,6052.604465817868,14030.821733637158,400.36485490112602,-13630.456878736031]
[53,63.212541813500003,-149.68217077700001,-1646.3077242843312,487.44419119521763,{"$f":"Q_d!$C$11","v":0},{"$f":"Q_d!$C$12","v":0},11233.589832572825,6052.604465817868,14030.779378116278,400.40858844934797,-13630.370789666929]
[53,63.005617529299897,-152.42583877499899,-1774.3946702226133,542.48167783497047,{"$f":"Q_d!$C$11","v":0},{"$f":"Q_d!$C$12","v":0},11233.589832572825,6052.604465817868,14126.893287754909,400.43906911538897,-13726.454218639519]
[53,63.213004768799898,-149.682170116999,-1646.2809112432951,487.48792908916175,{"$f":"Q_d!$C$11","v":0},{"$f":"Q_d!$C$12","v":0},11233.589832572825,6052.604465817868,14030.737416286491,400.45935240670798,-13630.278063879783]
[53,63.213264460700003,-149.682425467,-1646.2767627869457,487.51913130367893,{"$f":"Q_d!$C$11","v":0},{"$f":"Q_d!$C$12","v":0},11233.589832572825,6052.604465817868,14030.721232163703,400.48830326240397,-13630.2329289013]
[53,63.214178029800003,-149.682807263,-1646.2401682938448,487.61542963900001,{"$f":"Q_d!$C$11","v":0},{"$f":"Q_d!$C$12","v":0},11233.589832572825,6052.604465817868,14030.649444128243,400.58832081077901,-13630.061123317464]
[53,63.214505354300002,-149.682806929999,-1646.2212159974579,487.64635702312808,{"$f":"Q_d!$C$11","v":0},{"$f":"Q_d!$C$12","v":0},11233.589832572825,6052.604465817868,14030.619779593255,400.62466306506798,-13629.995116528187]
[53,63.2147812884999,-149.68296601500001,-1646.2120268590716,487.6765839575537,{"$f":"Q_d!$C$11","v":0},{"$f":"Q_d!$C$12","v":0},11233.589832572825,6052.604465817868,14030.599355285278,400.65468489086697,-13629.94467039441]
[53,63.2153880977,-149.68290113800001,-1646.1741552370993,487.73224302455037,{"$f":"Q_d!$C$11","v":0},{"$f":"Q_d!$C$12","v":0},11233.589832572825,6052.604465817868,14030.542514019264,400.72235221534601,-13629.820161803918]
[53,63.216083238499898,-149.68248330500001,-1646.1161408481232,487.7870482789217,{"$f":"Q_d!$C$11","v":0},{"$f":"Q_d!$C$12","v":0},11233.589832572825,6052.604465817868,14030.467520803435,400.800152098274,-13629.667368705161]
[53,63.215779236400003,-149.65541190299899,-1644.9806026517517,487.0527554127716,{"$f":"Q_d!$C$11","v":0},{"$f":"Q_d!$C$12","v":0},11233.589832572825,6052.604465817868,14029.716401133475,400.81088893017801,-13628.905512203297]
[53,63.215777220500001,-149.654771834,-1644.9534513196013,487.03588872267028,{"$f":"Q_d!$C$11","v":0},{"$f":"Q_d!$C$12","v":0},11233.589832572825,6052.604465817868,14029.6981685794,400.81159112106502,-13628.886577458336]
[53,63.215892892500001,-149.65413113100001,-1644.9194687585998,487.03013178023821,{"$f":"Q_d!$C$11","v":0},{"$f":"Q_d!$C$12","v":0},11233.589832572825,6052.604465817868,14029.6692581179,400.826166536068,-13628.843091581832]
[53,63.215951796399899,-149.65601897900001,-1644.9964878999995,487.08488539022983,{"$f":"Q_d!$C$11","v":0},{"$f":"Q_d!$C$12","v":0},11233.589832572825,6052.604465817868,14029.718237156198,400.82876808557501,-13628.889469070622]
[53,63.216387008799899,-149.68209911400001,-1646.0822032444671,487.80574185126534,{"$f":"Q_d!$C$11","v":0},{"$f":"Q_d!$C$12","v":0},11233.589832572825,6052.604465817868,14030.428952404636,400.833851247621,-13629.595101157016]
[53,63.215993516200001,-149.653779098,-1644.898654091422,487.03047316018638,{"$f":"Q_d!$C$11","v":0},{"$f":"Q_d!$C$12","v":0},11233.589832572825,6052.604465817868,14029.650015908846,400.83774644736201,-13628.812269461485]
[53,63.2164407990999,-149.68209848999899,-1646.0790645676273,487.81080943614734,{"$f":"Q_d!$C$11","v":0},{"$f":"Q_d!$C$12","v":0},11233.589832572825,6052.604465817868,14030.424061234693,400.83967750211502,-13629.584383732577]
[53,63.009617528500002,-152.42583878100001,-1774.1470097002177,542.84936328148797,{"$f":"Q_d!$C$11","v":0},{"$f":"Q_d!$C$12","v":0},11233.589832572825,6052.604465817868,14126.521831213555,400.85382037470902,-13725.668010838846]
[53,63.216211542400004,-149.65627443400001,-1644.9923526113298,487.11609643987322,{"$f":"Q_d!$C$11","v":0},{"$f":"Q_d!$C$12","v":0},11233.589832572825,6052.604465817868,14029.702059923597,400.85767290273901,-13628.844387020858]
[53,63.2167879207,-149.65643252800001,-1644.9657625690622,487.17470390986,{"$f":"Q_d!$C$11","v":0},{"$f":"Q_d!$C$12","v":0},11233.589832572825,6052.604465817868,14029.654402439564,400.92094927553899,-13628.733453164026]
[53,63.217264079499898,-149.681040701999,-1645.9863833106658,487.86104301096657,{"$f":"Q_d!$C$11","v":0},{"$f":"Q_d!$C$12","v":0},11233.589832572825,6052.604465817868,14030.319057755756,400.93333439114201,-13629.385723364614]
[53,63.2168293147,-149.652048336999,-1644.7766016214616,487.06439983636847,{"$f":"Q_d!$C$11","v":0},{"$f":"Q_d!$C$12","v":0},11233.589832572825,6052.604465817868,14029.524519363704,400.93339427515798,-13628.591125088546]
[53,63.216819533600003,-149.65065257000001,-1644.7177053680246,487.02711520729463,{"$f":"Q_d!$C$11","v":0},{"$f":"Q_d!$C$12","v":0},11233.589832572825,6052.604465817868,14029.485246701444,400.93508397370198,-13628.550162727743]
[53,63.2169291372999,-149.65083162900001,-1644.7189974691039,487.04214169683519,{"$f":"Q_d!$C$11","v":0},{"$f":"Q_d!$C$12","v":0},11233.589832572825,6052.604465817868,14029.480471692865,400.94649061938401,-13628.53398107348]
[53,63.217020583100002,-149.656720032999,-1644.9645579822193,487.20418937478416,{"$f":"Q_d!$C$11","v":0},{"$f":"Q_d!$C$12","v":0},11233.589832572825,6052.604465817868,14029.641600109298,400.946532711033,-13628.695067398265]
[53,63.216974884899898,-149.651471579,-1644.7436155374671,487.06313733329171,{"$f":"Q_d!$C$11","v":0},{"$f":"Q_d!$C$12","v":0},11233.589832572825,6052.604465817868,14029.494740716296,400.95076446491498,-13628.543976251382]
[53,63.217451254300002,-149.680656223,-1645.959180073419,487.86871037284845,{"$f":"Q_d!$C$11","v":0},{"$f":"Q_d!$C$12","v":0},11233.589832572825,6052.604465817868,14030.291044632149,400.95399956603501,-13629.337045066115]
[53,63.2174503723,-149.670480091999,-1645.5258243978183,487.60337700225136,{"$f":"Q_d!$C$11","v":0},{"$f":"Q_d!$C$12","v":0},11233.589832572825,6052.604465817868,14029.998475557486,400.97087374645997,-13629.027601811025]
[53,63.217463312500001,-149.67095975000001,-1645.5455057868917,487.61710129227276,{"$f":"Q_d!$C$11","v":0},{"$f":"Q_d!$C$12","v":0},11233.589832572825,6052.604465817868,14030.011098752402,400.97157568211702,-13629.039523070285]
[53,63.217266189999897,-149.65729526600001,-1644.9748614815901,487.24239484637337,{"$f":"Q_d!$C$11","v":0},{"$f":"Q_d!$C$12","v":0},11233.589832572825,6052.604465817868,14029.635902615328,400.97273047552699,-13628.663172139801]
[53,63.2175486022999,-149.671919169999,-1645.581436360668,487.65016849316271,{"$f":"Q_d!$C$11","v":0},{"$f":"Q_d!$C$12","v":0},11233.589832572825,6052.604465817868,14030.030965961361,400.97935950868998,-13629.051606452671]
[53,63.217534587099898,-149.67025532100001,-1645.5113799516048,487.60547918896873,{"$f":"Q_d!$C$11","v":0},{"$f":"Q_d!$C$12","v":0},11233.589832572825,6052.604465817868,14029.984382159124,400.98024035730202,-13629.004141801823]
[53,63.217698927199898,-149.679695605999,-1645.9039402190626,487.86707674546005,{"$f":"Q_d!$C$11","v":0},{"$f":"Q_d!$C$12","v":0},11233.589832572825,6052.604465817868,14030.240983415981,400.98388994696501,-13629.257093469016]
[53,63.217813958900003,-149.67879946900001,-1645.8591202527195,487.85458837622355,{"$f":"Q_d!$C$11","v":0},{"$f":"Q_d!$C$12","v":0},11233.589832572825,6052.604465817868,14030.204792764995,400.99716875309701,-13629.207624011897]
[53,63.2178144859,-149.67831941200001,-1645.8386447427652,487.84212425974602,{"$f":"Q_d!$C$11","v":0},{"$f":"Q_d!$C$12","v":0},11233.589832572825,6052.604465817868,14030.190940265611,400.99866360999198,-13629.19227665562]
[53,63.2175108064,-149.657646266,-1644.9756698659255,487.27466451433747,{"$f":"Q_d!$C$11","v":0},{"$f":"Q_d!$C$12","v":0},11233.589832572825,6052.604465817868,14029.623843777234,400.99888257699598,-13628.624961200238]
[53,63.2177368937,-149.668590897,-1645.4287866698664,487.58122449202665,{"$f":"Q_d!$C$11","v":0},{"$f":"Q_d!$C$12","v":0},11233.589832572825,6052.604465817868,14029.918184768459,401.00582702250102,-13628.912357745958]
[53,63.2178857964999,-149.67761499100001,-1645.8045188917217,487.83050201507422,{"$f":"Q_d!$C$11","v":0},{"$f":"Q_d!$C$12","v":0},11233.589832572825,6052.604465817868,14030.164223156989,401.00729612439699,-13629.156927032593]
[53,63.217688289500003,-149.66353440399899,-1645.2162210361219,487.44486167842069,{"$f":"Q_d!$C$11","v":0},{"$f":"Q_d!$C$12","v":0},11233.589832572825,6052.604465817868,14029.777146698374,401.00805558616901,-13628.769091112204]
[53,63.217734103200002,-149.66612646300001,-1645.3239792325087,487.51673731992787,{"$f":"Q_d!$C$11","v":0},{"$f":"Q_d!$C$12","v":0},11233.589832572825,6052.604465817868,14029.847554331749,401.00874388097799,-13628.83881045077]
[53,63.217836990099897,-149.67303851700001,-1645.6124301021339,487.70660145978763,{"$f":"Q_d!$C$11","v":0},{"$f":"Q_d!$C$12","v":0},11233.589832572825,6052.604465817868,14030.037033580093,401.00911364331802,-13629.027919936774]
[53,63.217839438600002,-149.673198571999,-1645.6191053687567,487.71100454969928,{"$f":"Q_d!$C$11","v":0},{"$f":"Q_d!$C$12","v":0},11233.589832572825,6052.604465817868,14030.041414850475,401.00944546107598,-13629.0319693894]
[53,63.217807846299898,-149.666958671999,-1645.355161373953,487.5453949718999,{"$f":"Q_d!$C$11","v":0},{"$f":"Q_d!$C$12","v":0},11233.589832572825,6052.604465817868,14029.864811148815,401.01590856847503,-13628.848902580339]
[53,63.217744803999899,-149.658093688999,-1644.9811992842931,487.3084424487497,{"$f":"Q_d!$C$11","v":0},{"$f":"Q_d!$C$12","v":0},11233.589832572825,6052.604465817868,14029.615520402454,401.023949633933,-13628.591570768522]
[53,63.217820980600003,-149.662670262999,{"$f":"lcpx(B1336,C1336,63,-115,70,60)","v":-1645.1717395492951},{"$f":"lcpy(B1336,C1336,63,-115,70,60)","v":487.4348878350288},{"$f":"Q_d!$C$11","v":0},{"$f":"Q_d!$C$12","v":0},{"$f":"lcpx(F1336,G1336,63,-115,70,60)","v":11233.589832572825},{"$f":"lcpy(F1336,G1336,63,-115,70,60)","v":6052.604465817868},{"$f":"SQRT((H1336-D1336)^2+(I1336-E1336)^2)","v":14029.740270699065},401.02447768184902,-13628.715793017216]
[53,63.217801351600002,-149.66058994400001,-1645.0842618947227,487.37882714526268,{"$f":"Q_d!$C$11","v":0},{"$f":"Q_d!$C$12","v":0},11233.589832572825,6052.604465817868,14029.682207407566,401.02563438388802,-13628.656573023678]
[53,63.217803295700001,-149.660045693999,-1645.060966450757,487.36483033437571,{"$f":"Q_d!$C$11","v":0},{"$f":"Q_d!$C$12","v":0},11233.589832572825,6052.604465817868,14029.666375347178,401.02661619897498,-13628.639759148204]
[53,63.2178310725999,-149.660685792999,-1645.0866261044375,487.38413412490263,{"$f":"Q_d!$C$11","v":0},{"$f":"Q_d!$C$12","v":0},11233.589832572825,6052.604465817868,14029.682272509834,401.02954111262102,-13628.652731397213]
[53,63.217831019199899,-149.658509613999,-1644.9939314937451,487.3274292180472,{"$f":"Q_d!$C$11","v":0},{"$f":"Q_d!$C$12","v":0},11233.589832572825,6052.604465817868,14029.619676319966,401.03319425827999,-13628.586482061686]
[53,63.217873042199898,-149.659405421999,-1645.0296601924392,487.35474147622972,{"$f":"Q_d!$C$11","v":0},{"$f":"Q_d!$C$12","v":0},11233.589832572825,6052.604465817868,14029.641639532998,401.035895809838,-13628.605743723159]
[53,63.218126873400003,-149.67409431300001,-1645.6406292129486,487.76151961697678,{"$f":"Q_d!$C$11","v":0},{"$f":"Q_d!$C$12","v":0},11233.589832572825,6052.604465817868,14030.041136920177,401.039688103309,-13629.001448816869]
[53,63.218201782900003,-149.67607828600001,-1645.7207927409088,487.82031207060345,{"$f":"Q_d!$C$11","v":0},{"$f":"Q_d!$C$12","v":0},11233.589832572825,6052.604465817868,14030.091406014286,401.04505652731802,-13629.046349486967]
[53,63.218246321899898,-149.67495766900001,-1645.6704899409442,487.79531276705848,{"$f":"Q_d!$C$11","v":0},{"$f":"Q_d!$C$12","v":0},11233.589832572825,6052.604465817868,14030.055144758182,401.05162197652299,-13629.003522781659]
[53,63.218187669999899,-149.65065710299899,-1644.6388077938532,487.15657854351048,{"$f":"Q_d!$C$11","v":0},{"$f":"Q_d!$C$12","v":0},11233.589832572825,6052.604465817868,14029.361464426212,401.08625942682198,-13628.275204999391]
[53,63.013617529000001,-152.425838782,-1773.8993495130676,543.21704777993364,{"$f":"Q_d!$C$11","v":0},{"$f":"Q_d!$C$12","v":0},11233.589832572825,6052.604465817868,14126.150379495335,401.26886184327799,-13724.881517652057]
[53,63.218187689399898,-149.543107141999,-1640.0548271549749,484.35897752943674,{"$f":"Q_d!$C$11","v":0},{"$f":"Q_d!$C$12","v":0},11233.589832572825,6052.604465817868,14026.264101419971,401.318631585925,-13624.945469834045]
[53,63.218187688999897,-149.53924008800001,-1639.8899174291248,484.25853266008062,{"$f":"Q_d!$C$11","v":0},{"$f":"Q_d!$C$12","v":0},11233.589832572825,6052.604465817868,14026.152619482833,401.32806635968001,{"$f":"K1348-J1348","v":-13624.824553123153}]
[53,63.218187688999897,-149.535240087999,-1639.7193317518056,484.15464524877143,{"$f":"Q_d!$C$11","v":0},{"$f":"Q_d!$C$12","v":0},11233.589832572825,6052.604465817868,14026.037296559583,401.33793439942798,-13624.699362160156]
[53,63.218427809799898,-149.543331069999,-1640.050533811069,484.38751908177255,{"$f":"Q_d!$C$11","v":0},{"$f":"Q_d!$C$12","v":0},11233.589832572825,6052.604465817868,14026.248830279173,401.34402680244199,-13624.904803476731]
[53,63.218187689399898,-149.531240088,-1639.5487394702282,484.05076868278729,{"$f":"Q_d!$C$11","v":0},{"$f":"Q_d!$C$12","v":0},11233.589832572825,6052.604465817868,14025.921965165051,401.34846522317702,-13624.573499941875]
[53,63.220625479900001,-149.65066519000001,-1644.4982249071027,487.38726239499056,{"$f":"Q_d!$C$11","v":0},{"$f":"Q_d!$C$12","v":0},11233.589832572825,6052.604465817868,14029.140905183076,401.35616078739798,-13627.784744395678]
[53,63.218187690199898,-149.52724008800001,-1639.3781405849563,483.94690296247336,{"$f":"Q_d!$C$11","v":0},{"$f":"Q_d!$C$12","v":0},11233.589832572825,6052.604465817868,14025.806625299399,401.35853109283698,-13624.448094206562]
[53,63.218187690999898,-149.523240087,-1639.2075350771188,483.84304802444876,{"$f":"Q_d!$C$11","v":0},{"$f":"Q_d!$C$12","v":0},11233.589832572825,6052.604465817868,14025.691276970269,401.37008571765699,-13624.321191252611]
[53,63.218187691799898,-149.519242762999,-1639.0370371742868,483.73927338917656,{"$f":"Q_d!$C$11","v":0},{"$f":"Q_d!$C$12","v":0},11233.589832572825,6052.604465817868,14025.575997411983,401.38034910667898,-13624.195648305304]
[53,63.218771256300002,-149.54370249799899,-1640.0465735154235,484.42967065765106,{"$f":"Q_d!$C$11","v":0},{"$f":"Q_d!$C$12","v":0},11233.589832572825,6052.604465817868,14026.228461907294,401.38099477927398,-13624.84746712802]
[53,63.2181876930999,-149.515242763,-1638.8664185269688,483.63544013500177,{"$f":"Q_d!$C$11","v":0},{"$f":"Q_d!$C$12","v":0},11233.589832572825,6052.604465817868,14025.460632203611,401.391276888275,-13624.069355315336]
[53,63.2181876930999,-149.51124276300001,-1638.6957933766355,483.53161756723784,{"$f":"Q_d!$C$11","v":0},{"$f":"Q_d!$C$12","v":0},11233.589832572825,6052.604465817868,14025.345258678928,401.40230416503499,-13623.942954513894]
[53,63.2181876942999,-149.507242762999,-1638.5251615799625,483.42780592296822,{"$f":"Q_d!$C$11","v":0},{"$f":"Q_d!$C$12","v":0},11233.589832572825,6052.604465817868,14025.229876612046,401.41286439898698,-13623.81701221306]
[53,63.2181876946999,-149.503242763,-1638.3545232529614,483.32400501334905,{"$f":"Q_d!$C$11","v":0},{"$f":"Q_d!$C$12","v":0},11233.589832572825,6052.604465817868,14025.114486184215,401.42491399139601,-13623.689572192819]
[53,63.2192076125,-149.544007174,-1640.0344101572193,484.47888101010722,{"$f":"Q_d!$C$11","v":0},{"$f":"Q_d!$C$12","v":0},11233.589832572825,6052.604465817868,14026.197762444299,401.42825216095503,-13624.769510283344]
[53,63.2181876950999,-149.499242761999,-1638.1838783074038,483.22021488848259,{"$f":"Q_d!$C$11","v":0},{"$f":"Q_d!$C$12","v":0},11233.589832572825,6052.604465817868,14024.99908729436,401.43623901187499,-13623.562848282485]
[53,63.2181876958999,-149.495242762,-1638.0132268064367,483.11643563865618,{"$f":"Q_d!$C$11","v":0},{"$f":"Q_d!$C$12","v":0},11233.589832572825,6052.604465817868,14024.883679964376,401.44709573740801,-13623.436584226967]
[53,63.2181876970999,-149.491242763999,-1637.8425687932527,483.01266729012059,{"$f":"Q_d!$C$11","v":0},{"$f":"Q_d!$C$12","v":0},11233.589832572825,6052.604465817868,14024.768264223265,401.458619263554,-13623.309644959711]
[53,63.219524259300002,-149.54427691800001,-1640.027658023334,484.51585470303235,{"$f":"Q_d!$C$11","v":0},{"$f":"Q_d!$C$12","v":0},11233.589832572825,6052.604465817868,14026.176887356374,401.46277693081299,-13624.714110425561]
[53,63.2181876983,-149.487245438,-1637.6720182125587,482.9089790601779,{"$f":"Q_d!$C$11","v":0},{"$f":"Q_d!$C$12","v":0},11233.589832572825,6052.604465817868,14024.652917155996,401.470496293314,-13623.182420862682]
[53,63.2181876983,-149.48324543800001,-1637.5013470407491,482.80523216334814,{"$f":"Q_d!$C$11","v":0},{"$f":"Q_d!$C$12","v":0},11233.589832572825,6052.604465817868,14024.537484606926,401.48221800846898,-13623.055266598458]
[53,63.2181876987,-149.47924544,-1637.330669358869,482.70149616909112,{"$f":"Q_d!$C$11","v":0},{"$f":"Q_d!$C$12","v":0},11233.589832572825,6052.604465817868,14024.42204364757,401.494039151268,-13622.928004496302]
[53,63.2181876999,-149.475245438,-1637.1599848885721,482.59777096011294,{"$f":"Q_d!$C$11","v":0},{"$f":"Q_d!$C$12","v":0},11233.589832572825,6052.604465817868,14024.306594068843,401.50538991400799,-13622.801204154835]
[53,63.2181876999,-149.47124543800001,-1636.9892940016584,482.49405650302606,{"$f":"Q_d!$C$11","v":0},{"$f":"Q_d!$C$12","v":0},11233.589832572825,6052.604465817868,14024.191136225018,401.51823097837001,-13622.672905246647]
[53,63.220028314499899,-149.544465763999,-1640.0066519642394,484.5684629241473,{"$f":"Q_d!$C$11","v":0},{"$f":"Q_d!$C$12","v":0},11233.589832572825,6052.604465817868,14026.136723139616,401.51840660796603,-13624.618316531651]
[53,63.016055721500003,-152.425838784999,-1773.7483891346972,543.44116876163207,{"$f":"Q_d!$C$11","v":0},{"$f":"Q_d!$C$12","v":0},11233.589832572825,6052.604465817868,14125.923964382824,401.52153584334599,-13724.402428539479]
[53,63.2181877003,-149.467245439999,-1636.8185966067042,482.39035294972382,{"$f":"Q_d!$C$11","v":0},{"$f":"Q_d!$C$12","v":0},11233.589832572825,6052.604465817868,14024.075669971655,401.53034965865203,-13622.545320313004]
[53,63.218187701200002,-149.463245438999,-1636.6478924853595,482.28666018052581,{"$f":"Q_d!$C$11","v":0},{"$f":"Q_d!$C$12","v":0},11233.589832572825,6052.604465817868,14023.960195155692,401.54256773099399,-13622.417627424698]
[53,63.218187702000002,-149.459245436999,-1636.4771817581329,482.18297819085819,{"$f":"Q_d!$C$11","v":0},{"$f":"Q_d!$C$12","v":0},11233.589832572825,6052.604465817868,14023.844711889335,401.55513440746802,-13622.289577481866]
[53,63.218187702400002,-149.45524811300001,-1636.3065787830185,482.07937638292242,{"$f":"Q_d!$C$11","v":0},{"$f":"Q_d!$C$12","v":0},11233.589832572825,6052.604465817868,14023.72929755328,401.567550544114,-13622.161747009166]
[53,63.218187703200002,-149.451248112999,-1636.1358550096393,481.97571606891779,{"$f":"Q_d!$C$11","v":0},{"$f":"Q_d!$C$12","v":0},11233.589832572825,6052.604465817868,14023.613797489914,401.58006604536502,-13622.03373144455]
[53,63.2206473184999,-149.544531699999,-1639.9737779506424,484.62875696617084,{"$f":"Q_d!$C$11","v":0},{"$f":"Q_d!$C$12","v":0},11233.589832572825,6052.604465817868,14026.082615205023,401.58657549773699,-13624.496039707286]
[53,63.218187705200002,-149.44724811500001,-1635.9651246858093,481.87206673662331,{"$f":"Q_d!$C$11","v":0},{"$f":"Q_d!$C$12","v":0},11233.589832572825,6052.604465817868,14023.498288946086,401.59292805028298,-13621.905360895804]
[53,63.218187704400002,-149.44324811499899,-1635.7943878713245,481.76842790379351,{"$f":"Q_d!$C$11","v":0},{"$f":"Q_d!$C$12","v":0},11233.589832572825,6052.604465817868,14023.382772168028,401.60564156022502,-13621.777130607803]
[53,63.218187705600002,-149.43924811400001,-1635.6236443337073,481.66480005156382,{"$f":"Q_d!$C$11","v":0},{"$f":"Q_d!$C$12","v":0},11233.589832572825,6052.604465817868,14023.267246751062,401.61845440666599,-13621.648792344396]
[53,63.218187706800002,-149.435248113,-1635.4528942312045,481.56118301672814,{"$f":"Q_d!$C$11","v":0},{"$f":"Q_d!$C$12","v":0},11233.589832572825,6052.604465817868,14023.151712905033,401.632185525512,-13621.519527379522]
[53,63.221149788600002,-149.544667938,-1639.950619613516,484.6798484180872,{"$f":"Q_d!$C$11","v":0},{"$f":"Q_d!$C$12","v":0},11233.589832572825,6052.604465817868,14026.041077906644,401.64167769045002,-13624.399400216194]
[53,63.218187706800002,-149.431248113999,-1635.2821377188586,481.45757673781463,{"$f":"Q_d!$C$11","v":0},{"$f":"Q_d!$C$12","v":0},11233.589832572825,6052.604465817868,14023.036170796442,401.64462245372999,-13621.391548342712]
[53,63.218187707600002,-149.427248114999,-1635.111374597097,481.35398135295554,{"$f":"Q_d!$C$11","v":0},{"$f":"Q_d!$C$12","v":0},11233.589832572825,6052.604465817868,14022.920620187047,401.65855093598998,-13621.262069251057]
[53,63.218187708400002,-149.423250787999,-1634.9407189888882,481.25046597769824,{"$f":"Q_d!$C$11","v":0},{"$f":"Q_d!$C$12","v":0},11233.589832572825,6052.604465817868,14022.805138345619,401.67176005415098,-13621.133378291468]
[53,63.221528145000001,-149.5461971,-1639.994007782826,484.75537424106005,{"$f":"Q_d!$C$11","v":0},{"$f":"Q_d!$C$12","v":0},11233.589832572825,6052.604465817868,14026.050919672252,401.67975693330601,-13624.371162738946]
[53,63.22152638,-149.545351611,-1639.9580596605697,484.73324599573334,{"$f":"Q_d!$C$11","v":0},{"$f":"Q_d!$C$12","v":0},11233.589832572825,6052.604465817868,14026.026709448064,401.68181936702001,-13624.344890081044]
[53,63.218187708800002,-149.41925078899899,-1634.769942769612,481.14689218543617,{"$f":"Q_d!$C$11","v":0},{"$f":"Q_d!$C$12","v":0},11233.589832572825,6052.604465817868,14022.689570921742,401.68506846035399,-13621.004502461388]
[53,63.218187710499897,-149.415250786999,-1634.5991597861407,481.04332925816198,{"$f":"Q_d!$C$11","v":0},{"$f":"Q_d!$C$12","v":0},11233.589832572825,6052.604465817868,14022.573994865956,401.69871776369899,-13620.875277102257]
[53,63.221803884300002,-149.54668444500001,-1639.9988897740286,484.79412791155528,{"$f":"Q_d!$C$11","v":0},{"$f":"Q_d!$C$12","v":0},11233.589832572825,6052.604465817868,14026.04001673432,401.70975296225998,-13624.330263772059]
[53,63.218187710099897,-149.41125078900001,-1634.4283705334165,480.9397770554001,{"$f":"Q_d!$C$11","v":0},{"$f":"Q_d!$C$12","v":0},11233.589832572825,6052.604465817868,14022.458410688054,401.71222402361599,-13620.746186664437]
[53,63.218187710899898,-149.40725079000001,-1634.2575746089633,480.83623576074524,{"$f":"Q_d!$C$11","v":0},{"$f":"Q_d!$C$12","v":0},11233.589832572825,6052.604465817868,14022.342817945542,401.72664648987302,-13620.616171455669]
[53,63.222002403300003,-149.546971909999,-1639.9997011023079,484.82038182029646,{"$f":"Q_d!$C$11","v":0},{"$f":"Q_d!$C$12","v":0},11233.589832572825,6052.604465817868,14026.030339606663,401.73068854644401,-13624.299651060219]
[53,63.218187711699898,-149.403250788999,-1634.0867720397061,480.73270523503652,{"$f":"Q_d!$C$11","v":0},{"$f":"Q_d!$C$12","v":0},11233.589832572825,6052.604465817868,14022.227216718216,401.74035096937899,-13620.486865748837]
[53,63.218187712499898,-149.399250789999,-1633.9159629972203,480.62918558226829,{"$f":"Q_d!$C$11","v":0},{"$f":"Q_d!$C$12","v":0},11233.589832572825,6052.604465817868,14022.111607121991,401.754971061964,-13620.356636060027]
[53,63.222303350700003,-149.54750836400001,-1640.0052227334495,484.86279651566838,{"$f":"Q_d!$C$11","v":0},{"$f":"Q_d!$C$12","v":0},11233.589832572825,6052.604465817868,14026.018570645419,401.76204310511901,-13624.256527540301]
[53,63.222312697699898,-149.547031218999,-1639.9843402311474,484.85128729662938,{"$f":"Q_d!$C$11","v":0},{"$f":"Q_d!$C$12","v":0},11233.589832572825,6052.604465817868,14026.003972608121,401.764757331949,-13624.239215276173]
[53,63.222349182199899,-149.548241560999,-1640.0338407922341,484.88617875612999,{"$f":"Q_d!$C$11","v":0},{"$f":"Q_d!$C$12","v":0},11233.589832572825,6052.604465817868,14026.035555619661,401.766144437283,-13624.269411182378]
[53,63.218187712899898,-149.39525078899899,{"$f":"lcpx(B1400,C1400,63,-115,70,60)","v":-1633.7451473343087},{"$f":"lcpy(B1400,C1400,63,-115,70,60)","v":480.52567666140339},{"$f":"Q_d!$C$11","v":0},{"$f":"Q_d!$C$12","v":0},{"$f":"lcpx(F1400,G1400,63,-115,70,60)","v":11233.589832572825},{"$f":"lcpy(F1400,G1400,63,-115,70,60)","v":6052.604465817868},{"$f":"SQRT((H1400-D1400)^2+(I1400-E1400)^2)","v":14021.995989077628},401.76829579373202,-13620.227693283896]
[53,63.222429733799899,-149.549339591999,-1640.0760114425841,484.92232393516088,{"$f":"Q_d!$C$11","v":0},{"$f":"Q_d!$C$12","v":0},11233.589832572825,6052.604465817868,14026.059913475652,401.77174054057099,-13624.288172935081]
[53,63.218187713299898,-149.39125346500001,-1633.5744394390481,480.422247825044,{"$f":"Q_d!$C$11","v":0},{"$f":"Q_d!$C$12","v":0},11233.589832572825,6052.604465817868,14021.880439992856,401.78311306599198,-13620.097326926863]
[53,63.2226645549,-149.55004454600001,-1640.0925277575113,484.96285790237289,{"$f":"Q_d!$C$11","v":0},{"$f":"Q_d!$C$12","v":0},11233.589832572825,6052.604465817868,14026.058982795998,401.79582860079501,-13624.263154195203]
[53,63.218187714899898,-149.387253463999,-1633.4036105976463,480.31876065503729,{"$f":"Q_d!$C$11","v":0},{"$f":"Q_d!$C$12","v":0},11233.589832572825,6052.604465817868,14021.764804993483,401.79721345474701,-13619.967591538736]
[53,63.224625457899897,-149.65067846100001,-1644.2675557535356,487.76576957944735,{"$f":"Q_d!$C$11","v":0},{"$f":"Q_d!$C$12","v":0},11233.589832572825,6052.604465817868,14028.779014198788,401.79887140334199,-13626.980142795446]
[53,63.218187714899898,-149.383253464999,-1633.2327753776333,480.21528420796176,{"$f":"Q_d!$C$11","v":0},{"$f":"Q_d!$C$12","v":0},11233.589832572825,6052.604465817868,14021.649161770812,401.81222826837899,-13619.836933502433]
[53,63.222940281299898,-149.550531946999,-1640.0974096986261,485.00161158151923,{"$f":"Q_d!$C$11","v":0},{"$f":"Q_d!$C$12","v":0},11233.589832572825,6052.604465817868,14026.048080422492,401.825274995239,-13624.222805427253]
[53,63.218187715299898,-149.37925346500001,-1633.0619335367373,480.11181859618273,{"$f":"Q_d!$C$11","v":0},{"$f":"Q_d!$C$12","v":0},11233.589832572825,6052.604465817868,14021.533510057667,401.82652675128298,-13619.706983306383]
[53,63.218187716899898,-149.375253463999,-1632.8910850296011,480.00836389588221,{"$f":"Q_d!$C$11","v":0},{"$f":"Q_d!$C$12","v":0},11233.589832572825,6052.604465817868,14021.417849781936,401.84115911638497,-13619.57669066555]
[53,63.218187717299898,-149.37125346400001,-1632.720230080263,479.90491993181058,{"$f":"Q_d!$C$11","v":0},{"$f":"Q_d!$C$12","v":0},11233.589832572825,6052.604465817868,14021.302181218647,401.855655245761,-13619.446525972886]
[53,63.223261671899898,-149.55095967099899,-1640.0971139427747,485.04313626613657,{"$f":"Q_d!$C$11","v":0},{"$f":"Q_d!$C$12","v":0},11233.589832572825,6052.604465817868,14026.031325902775,401.86001444408402,-13624.171311458691]
[53,63.2181877189999,-149.367253465,-1632.5493685458048,479.80148694128229,{"$f":"Q_d!$C$11","v":0},{"$f":"Q_d!$C$12","v":0},11233.589832572825,6052.604465817868,14021.186504142124,401.87106460779103,{"$f":"K1412-J1412","v":-13619.315439534334}]
[53,63.2234933165999,-149.55155940399899,-1640.1093256580259,485.08063622795135,{"$f":"Q_d!$C$11","v":0},{"$f":"Q_d!$C$12","v":0},11233.589832572825,6052.604465817868,14026.027648970514,401.88387618813402,-13624.14377278238]
[53,63.218187717699898,-149.363253463999,-1632.3785005455115,479.6980644395021,{"$f":"Q_d!$C$11","v":0},{"$f":"Q_d!$C$12","v":0},11233.589832572825,6052.604465817868,14021.070818854307,401.88657253633102,-13619.184246317976]
[53,63.2181877185999,-149.35982842300001,-1632.2321877831064,479.6095166783889,{"$f":"Q_d!$C$11","v":0},{"$f":"Q_d!$C$12","v":0},11233.589832572825,6052.604465817868,14020.971755288923,401.89903009835598,-13619.072725190566]
[53,63.2181877206,-149.359740928999,-1632.228449990479,479.60725498289139,{"$f":"Q_d!$C$11","v":0},{"$f":"Q_d!$C$12","v":0},11233.589832572825,6052.604465817868,14020.969224412222,401.89972903947,-13619.069495372751]
[53,63.218187812499899,-149.35974092999899,-1632.2284447606421,479.607263721452,{"$f":"Q_d!$C$11","v":0},{"$f":"Q_d!$C$12","v":0},11233.589832572825,6052.604465817868,14020.969216139887,401.89972903947,-13619.069487100416]
[53,63.223794247800001,-149.55209592899899,-1640.1148469842788,485.12305088109861,{"$f":"Q_d!$C$11","v":0},{"$f":"Q_d!$C$12","v":0},11233.589832572825,6052.604465817868,14026.015880574099,401.91663670218901,-13624.099243871909]
[53,63.020055721399899,-152.425838787999,-1773.500730070718,543.80885177251503,{"$f":"Q_d!$C$11","v":0},{"$f":"Q_d!$C$12","v":0},11233.589832572825,6052.604465817868,14125.552520950678,401.93570283442102,-13723.616818116257]
[53,63.224022718699899,-149.55259042700001,-1640.1227542493064,485.1575167443857,{"$f":"Q_d!$C$11","v":0},{"$f":"Q_d!$C$12","v":0},11233.589832572825,6052.604465817868,14026.009457392014,401.94026838076297,-13624.06918901125]
[53,63.2242606923,-149.553400694999,-1640.143574632179,485.2010845981049,{"$f":"Q_d!$C$11","v":0},{"$f":"Q_d!$C$12","v":0},11233.589832572825,6052.604465817868,14026.011273665916,401.96487217292997,-13624.046401492986]
[53,63.2245474972,-149.554256549999,-1640.1635217126345,485.25045763494609,{"$f":"Q_d!$C$11","v":0},{"$f":"Q_d!$C$12","v":0},11233.589832572825,6052.604465817868,14026.009984290135,401.99417892800301,-13624.015805362131]
[53,63.224804335599899,-149.554905431999,-1640.1763727059433,485.29161833295075,{"$f":"Q_d!$C$11","v":0},{"$f":"Q_d!$C$12","v":0},11233.589832572825,6052.604465817868,14026.00544167684,402.02080188219099,-13623.984639794649]
[53,63.225039131000003,-149.55561048600001,-1640.1928887018819,485.33215236289243,{"$f":"Q_d!$C$11","v":0},{"$f":"Q_d!$C$12","v":0},11233.589832572825,6052.604465817868,14026.0045118613,402.04574319472601,-13623.958768666575]
[53,63.2255023799,-149.556810103,-1640.2173116490715,485.40715217028446,{"$f":"Q_d!$C$11","v":0},{"$f":"Q_d!$C$12","v":0},11233.589832572825,6052.604465817868,14025.99715940737,402.09377204950499,-13623.903387357865]
[53,63.226370410900003,-149.55805508500001,-1640.2203222757457,485.5216331244801,{"$f":"Q_d!$C$11","v":0},{"$f":"Q_d!$C$12","v":0},11233.589832572825,6052.604465817868,14025.954483355192,402.18643651172499,-13623.768046843466]
[53,63.226742195699899,-149.558581153999,-1640.2213050811517,485.5704797725748,{"$f":"Q_d!$C$11","v":0},{"$f":"Q_d!$C$12","v":0},11233.589832572825,6052.604465817868,14025.935997635484,402.22643179184502,-13623.709565843639]
[53,63.228625435700003,-149.65069173000001,-1644.036886893816,488.14427573479134,{"$f":"Q_d!$C$11","v":0},{"$f":"Q_d!$C$12","v":0},11233.589832572825,6052.604465817868,14028.417128562316,402.24241671534298,-13626.174711846974]
[53,63.226991106200003,-149.55896696100001,-1640.2233949858482,485.60405553421924,{"$f":"Q_d!$C$11","v":0},{"$f":"Q_d!$C$12","v":0},11233.589832572825,6052.604465817868,14025.924589351069,402.25345189320598,-13623.671137457863]
[53,63.227334516500001,-149.559338674,-1640.2194338168626,485.64620704264462,{"$f":"Q_d!$C$11","v":0},{"$f":"Q_d!$C$12","v":0},11233.589832572825,6052.604465817868,14025.904223340707,402.29046163686201,-13623.613761703846]
[53,63.227594498099897,-149.560092929999,-1640.2365888823076,485.69040198047924,{"$f":"Q_d!$C$11","v":0},{"$f":"Q_d!$C$12","v":0},11233.589832572825,6052.604465817868,14025.902428147245,402.31734655244401,-13623.585081594802]
[53,63.227901726100001,-149.560840151999,-1640.2507184262354,485.73888479015613,{"$f":"Q_d!$C$11","v":0},{"$f":"Q_d!$C$12","v":0},11233.589832572825,6052.604465817868,14025.896154249069,402.34922944253202,-13623.546924806536]
[53,63.024055720500002,-152.42583879,-1773.2530716360372,544.17653375914688,{"$f":"Q_d!$C$11","v":0},{"$f":"Q_d!$C$12","v":0},11233.589832572825,6052.604465817868,14125.18108264291,402.35067386050099,-13722.830408782409]
[53,63.228338051400002,-149.561145170999,-1640.2385540742234,485.78809507026745,{"$f":"Q_d!$C$11","v":0},{"$f":"Q_d!$C$12","v":0},11233.589832572825,6052.604465817868,14025.865457591657,402.39735432157102,-13623.468103270086]
[53,63.228664156699899,-149.56173099399899,-1640.2447142994768,485.83417083436689,{"$f":"Q_d!$C$11","v":0},{"$f":"Q_d!$C$12","v":0},11233.589832572825,6052.604465817868,14025.852824600488,402.43207326578698,-13623.420751334701]
[53,63.2290595533999,-149.562253626999,-1640.244184192743,485.88516131981942,{"$f":"Q_d!$C$11","v":0},{"$f":"Q_d!$C$12","v":0},11233.589832572825,6052.604465817868,14025.832100317666,402.47429901796198,-13623.357801299704]
[53,63.229451787099897,-149.56267099600001,-1640.2393495399226,485.93311768811191,{"$f":"Q_d!$C$11","v":0},{"$f":"Q_d!$C$12","v":0},11233.589832572825,6052.604465817868,14025.808629391267,402.51684632198902,-13623.291783069279]
[53,63.229842439400002,-149.563035740999,-1640.2323627940011,485.97955713331294,{"$f":"Q_d!$C$11","v":0},{"$f":"Q_d!$C$12","v":0},11233.589832572825,6052.604465817868,14025.783785297235,402.55886018568702,-13623.224925111548]
[53,63.2301657784,-149.56379211000001,-1640.2459481477306,486.02980108069187,{"$f":"Q_d!$C$11","v":0},{"$f":"Q_d!$C$12","v":0},11233.589832572825,6052.604465817868,14025.776313882046,402.59297504179,-13623.183338840256]
[53,63.2305986167,-149.56450924699899,-1640.2515447213252,486.08938649717948,{"$f":"Q_d!$C$11","v":0},{"$f":"Q_d!$C$12","v":0},11233.589832572825,6052.604465817868,14025.757802558674,402.63929868431802,-13623.118503874355]
[53,63.230910634700003,-149.566207622999,-1640.3059252748126,486.16303189608971,{"$f":"Q_d!$C$11","v":0},{"$f":"Q_d!$C$12","v":0},11233.589832572825,6052.604465817868,14025.778488954134,402.67032261268002,-13623.108166341455]
[53,63.2309010833999,-149.56509866900001,-1640.2592173909891,486.13331818436973,{"$f":"Q_d!$C$11","v":0},{"$f":"Q_d!$C$12","v":0},11233.589832572825,6052.604465817868,14025.747409628137,402.67125406837698,-13623.07615555976]
[53,63.232625412300003,-149.650704998999,-1643.8062184698654,488.52278082024759,{"$f":"Q_d!$C$11","v":0},{"$f":"Q_d!$C$12","v":0},11233.589832572825,6052.604465817868,14028.055248420424,402.68457697930199,-13625.370671441122]
[53,63.231387948699897,-149.56708828000001,-1640.3159215838787,486.23107341268314,{"$f":"Q_d!$C$11","v":0},{"$f":"Q_d!$C$12","v":0},11233.589832572825,6052.604465817868,14025.760660676679,402.72104378713499,-13623.039616889544]
[53,63.2316274249999,-149.567951507,-1640.3388931700138,486.27615856971624,{"$f":"Q_d!$C$11","v":0},{"$f":"Q_d!$C$12","v":0},11233.589832572825,6052.604465817868,14025.763852980652,402.74543535712399,-13623.018417623527]
[53,63.231666895300002,-149.56926753600001,-1640.3926966899132,486.31408447943704,{"$f":"Q_d!$C$11","v":0},{"$f":"Q_d!$C$12","v":0},11233.589832572825,6052.604465817868,14025.798186668128,402.74667130716301,-13623.051515360965]
[53,63.231717353400001,-149.57015892000001,-1640.4277702807306,486.34201798978711,{"$f":"Q_d!$C$11","v":0},{"$f":"Q_d!$C$12","v":0},11233.589832572825,6052.604465817868,14025.819294311626,402.75027065912599,-13623.069023652501]
[53,63.231793009299899,-149.571099430999,-1640.4634831701142,486.37361243061969,{"$f":"Q_d!$C$11","v":0},{"$f":"Q_d!$C$12","v":0},11233.589832572825,6052.604465817868,14025.839536006102,402.75580095760199,-13623.0837350485]
[53,63.028055720700003,-152.42583879399899,-1773.0054138368778,544.54421498198735,{"$f":"Q_d!$C$11","v":0},{"$f":"Q_d!$C$12","v":0},11233.589832572825,6052.604465817868,14124.809649363977,402.765935784048,-13722.043713579929]
[53,63.232004140900003,-149.572601437,-1640.5153057968625,486.4326142889422,{"$f":"Q_d!$C$11","v":0},{"$f":"Q_d!$C$12","v":0},11233.589832572825,6052.604465817868,14025.863688006872,402.77558500981598,-13623.088102997055]
[53,63.232264056299897,-149.573355926999,-1640.5324601303503,486.47680936272673,{"$f":"Q_d!$C$11","v":0},{"$f":"Q_d!$C$12","v":0},11233.589832572825,6052.604465817868,14025.86189492224,402.80253589693302,-13623.059359025307]
[53,63.232572795099898,-149.574156044999,-1640.5487410257208,486.52680924106062,{"$f":"Q_d!$C$11","v":0},{"$f":"Q_d!$C$12","v":0},11233.589832572825,6052.604465817868,14025.856996678012,402.83502295728903,-13623.021973720723]
[53,63.232917745199899,-149.574580647999,-1640.5469314216632,486.57047774911962,{"$f":"Q_d!$C$11","v":0},{"$f":"Q_d!$C$12","v":0},11233.589832572825,6052.604465817868,14025.838006136068,402.87261095413203,-13622.965395181936]
[53,63.233262693999897,-149.575005261999,-1640.5451218520452,486.61414626761234,{"$f":"Q_d!$C$11","v":0},{"$f":"Q_d!$C$12","v":0},11233.589832572825,6052.604465817868,14025.819015732073,402.90964084767103,-13622.909374884402]
[53,63.233632843999899,-149.575479016,-1640.5439515033922,486.66147572905902,{"$f":"Q_d!$C$11","v":0},{"$f":"Q_d!$C$12","v":0},11233.589832572825,6052.604465817868,14025.799159378099,402.94971827884399,-13622.849441099255]
[53,63.234229793600001,-149.575601785999,-1640.514740763894,486.72114252103893,{"$f":"Q_d!$C$11","v":0},{"$f":"Q_d!$C$12","v":0},11233.589832572825,6052.604465817868,14025.74866927834,403.01567532045198,-13622.732993957889]
[53,63.0304938831,-152.42583879700001,-1772.8544566882219,544.7683311686983,{"$f":"Q_d!$C$11","v":0},{"$f":"Q_d!$C$12","v":0},11233.589832572825,6052.604465817868,14124.583248216508,403.018743699347,-13721.56450451716]
[53,63.235022052700003,-149.575907048,-1640.4820363138979,486.80402877000506,{"$f":"Q_d!$C$11","v":0},{"$f":"Q_d!$C$12","v":0},11233.589832572825,6052.604465817868,14025.685758290134,403.10237656084303,-13622.583381729291]
[53,63.2366253908,-149.650718283,-1643.5755509401242,488.90128552117903,{"$f":"Q_d!$C$11","v":0},{"$f":"Q_d!$C$12","v":0},11233.589832572825,6052.604465817868,14027.693373922446,403.12812363937098,-13624.565250283074]
[53,63.235634745900001,-149.57576307599899,-1640.4405522140105,486.85825414718192,{"$f":"Q_d!$C$11","v":0},{"$f":"Q_d!$C$12","v":0},11233.589832572825,6052.604465817868,14025.626162176904,403.17063131259903,-13622.455530864305]
[53,63.236126157599898,-149.575531361,-1640.402327664156,486.8987256971468,{"$f":"Q_d!$C$11","v":0},{"$f":"Q_d!$C$12","v":0},11233.589832572825,6052.604465817868,14025.575015929151,403.225043529044,-13622.349972400107]
[53,63.2369006451,-149.591122974,-1641.0218364387404,487.37716075767048,{"$f":"Q_d!$C$11","v":0},{"$f":"Q_d!$C$12","v":0},11233.589832572825,6052.604465817868,14025.953820857829,403.27664129850098,-13622.677179559329]
[53,63.2369274765,-149.590431502,-1640.9908335982248,487.36172690236208,{"$f":"Q_d!$C$11","v":0},{"$f":"Q_d!$C$12","v":0},11233.589832572825,6052.604465817868,14025.931486813886,403.28065169804501,-13622.650835115841]
[53,63.236645925300003,-149.57545407800001,{"$f":"lcpx(B1464,C1464,63,-115,70,60)","v":-1640.3690467025424},{"$f":"lcpy(B1464,C1464,63,-115,70,60)","v":486.94589247178101},{"$f":"Q_d!$C$11","v":0},{"$f":"Q_d!$C$12","v":0},{"$f":"lcpx(F1464,G1464,63,-115,70,60)","v":11233.589832572825},{"$f":"lcpy(F1464,G1464,63,-115,70,60)","v":6052.604465817868},{"$f":"SQRT((H1464-D1464)^2+(I1464-E1464)^2)","v":14025.525750585392},403.28246183661298,-13622.243288748779]
[53,63.236773540100003,-149.577338959,-1640.4419844224617,487.00693765507776,{"$f":"Q_d!$C$11","v":0},{"$f":"Q_d!$C$12","v":0},11233.589832572825,6052.604465817868,14025.568475840782,403.29220749352402,-13622.276268347259]
[53,63.237080096500002,-149.59236561700001,-1641.0644098584746,487.42643390869625,{"$f":"Q_d!$C$11","v":0},{"$f":"Q_d!$C$12","v":0},11233.589832572825,6052.604465817868,14025.973349076301,403.29333558713802,-13622.680013489164]
[53,63.236897928799898,-149.583084925999,-1640.6795895701762,487.16800762327011,{"$f":"Q_d!$C$11","v":0},{"$f":"Q_d!$C$12","v":0},11233.589832572825,6052.604465817868,14025.722659603958,403.29410490112502,-13622.428554702834]
[53,63.237044094200002,-149.58956806699899,-1640.9473233662791,487.35031749761993,{"$f":"Q_d!$C$11","v":0},{"$f":"Q_d!$C$12","v":0},11233.589832572825,6052.604465817868,14025.896075297731,403.29550916914502,-13622.600566128585]
[53,63.2369545962,-149.584187095,-1640.7232709739149,487.20200946850127,{"$f":"Q_d!$C$11","v":0},{"$f":"Q_d!$C$12","v":0},11233.589832572825,6052.604465817868,14025.74926302673,403.29773484610598,-13622.451528180623]
[53,63.2369247208999,-149.582393445999,-1640.6485866892706,487.15257378757224,{"$f":"Q_d!$C$11","v":0},{"$f":"Q_d!$C$12","v":0},11233.589832572825,6052.604465817868,14025.700326133729,403.29814970688801,-13622.40217642684]
[53,63.2368538622,-149.57685105600001,-1640.4165642828179,487.00186015202917,{"$f":"Q_d!$C$11","v":0},{"$f":"Q_d!$C$12","v":0},11233.589832572825,6052.604465817868,14025.547157614721,403.302600370986,-13622.244557243735]
[53,63.237072663600003,-149.585756124,-1640.7832956840564,487.25395283795342,{"$f":"Q_d!$C$11","v":0},{"$f":"Q_d!$C$12","v":0},11233.589832572825,6052.604465817868,14025.783749149587,403.30654366746802,-13622.477205482119]
[53,63.236871167799897,-149.575843665999,-1640.372648627141,486.97732420420425,{"$f":"Q_d!$C$11","v":0},{"$f":"Q_d!$C$12","v":0},11233.589832572825,6052.604465817868,14025.51658395551,403.30731060321699,-13622.209273352293]
[53,63.236934202699899,-149.57794970200001,-1640.458733104176,487.03800582624035,{"$f":"Q_d!$C$11","v":0},{"$f":"Q_d!$C$12","v":0},11233.589832572825,6052.604465817868,14025.571521046613,403.30979296937397,-13622.261728077239]
[53,63.237042866899898,-149.581582631999,-1640.6072284620132,487.14268183526792,{"$f":"Q_d!$C$11","v":0},{"$f":"Q_d!$C$12","v":0},11233.589832572825,6052.604465817868,14025.66628846305,403.312760665962,-13622.353527797088]
[53,63.237294229,-149.593180058,-1641.0867409530163,487.46785830154613,{"$f":"Q_d!$C$11","v":0},{"$f":"Q_d!$C$12","v":0},11233.589832572825,6052.604465817868,14025.977410976157,403.31510539775201,{"$f":"K1476-J1476","v":-13622.662305578404}]
[53,63.2369625336,-149.576517590999,-1640.3960878805221,487.003477434243,{"$f":"Q_d!$C$11","v":0},{"$f":"Q_d!$C$12","v":0},11233.589832572825,6052.604465817868,14025.527720621703,403.31544246408401,-13622.21227815762]
[53,63.237204863300001,-149.587799031,-1640.8626890828018,487.31954977256282,{"$f":"Q_d!$C$11","v":0},{"$f":"Q_d!$C$12","v":0},11233.589832572825,6052.604465817868,14025.830596764183,403.31721083286197,-13622.513385931321]
[53,63.237225389300001,-149.586896942999,-1640.8230779536341,487.29804776122182,{"$f":"Q_d!$C$11","v":0},{"$f":"Q_d!$C$12","v":0},11233.589832572825,6052.604465817868,14025.802769096423,403.32155174252699,-13622.481217353896]
[53,63.2372662119,-149.589059179,-1640.9128266199407,487.35810316645529,{"$f":"Q_d!$C$11","v":0},{"$f":"Q_d!$C$12","v":0},11233.589832572825,6052.604465817868,14025.8613210942,403.32167505478799,-13622.539646039413]
[53,63.237173611300001,-149.580399739,-1640.5492926629161,487.12431434467317,{"$f":"Q_d!$C$11","v":0},{"$f":"Q_d!$C$12","v":0},11233.589832572825,6052.604465817868,14025.620397414434,403.33024065646202,-13622.290156757972]
[53,63.237189355600002,-149.580926253,-1640.5708137027491,487.13948466479633,{"$f":"Q_d!$C$11","v":0},{"$f":"Q_d!$C$12","v":0},11233.589832572825,6052.604465817868,14025.634131922587,403.33094567364901,-13622.303186248937]
[53,63.237212991500002,-149.57854289400001,-1640.4679177183132,487.07979350987398,{"$f":"Q_d!$C$11","v":0},{"$f":"Q_d!$C$12","v":0},11233.589832572825,6052.604465817868,14025.563369644027,403.33875636863797,-13622.22461327539]
[53,63.237656394200002,-149.594184130999,-1641.10860343888,487.52821452246599,{"$f":"Q_d!$C$11","v":0},{"$f":"Q_d!$C$12","v":0},11233.589832572825,6052.604465817868,14025.973531308775,403.353484136433,-13622.620047172342]
[53,63.237409868699899,-149.580364648,-1640.5341649880597,487.14575355058605,{"$f":"Q_d!$C$11","v":0},{"$f":"Q_d!$C$12","v":0},11233.589832572825,6052.604465817868,14025.598004453315,403.35603802348101,-13622.241966429834]
[53,63.237531154099898,-149.578865823,-1640.4633165053851,487.11828402925676,{"$f":"Q_d!$C$11","v":0},{"$f":"Q_d!$C$12","v":0},11233.589832572825,6052.604465817868,14025.543872697792,403.373330129794,-13622.170542567997]
[53,63.237595728400002,-149.58023127000001,-1640.517758451808,487.15987111399454,{"$f":"Q_d!$C$11","v":0},{"$f":"Q_d!$C$12","v":0},11233.589832572825,6052.604465817868,14025.577342911651,403.37714805005999,-13622.200194861591]
[53,63.237699684900001,-149.57973985199899,-1640.4908256535907,487.1569374122123,{"$f":"Q_d!$C$11","v":0},{"$f":"Q_d!$C$12","v":0},11233.589832572825,6052.604465817868,14025.553785357501,403.38974938513201,-13622.164035972368]
[53,63.237712285999898,-149.579367773,-1640.4742480710104,487.14846196517692,{"$f":"Q_d!$C$11","v":0},{"$f":"Q_d!$C$12","v":0},11233.589832572825,6052.604465817868,14025.541931894957,403.39205789529302,-13622.149873999664]
[53,63.238039039500002,-149.595079427,-1641.1246490823021,487.58768056315193,{"$f":"Q_d!$C$11","v":0},{"$f":"Q_d!$C$12","v":0},11233.589832572825,6052.604465817868,14025.964665730016,403.39355281164302,-13622.571112918373]
[53,63.238256296400003,-149.595999221,-1641.1512840872454,487.63213918427709,{"$f":"Q_d!$C$11","v":0},{"$f":"Q_d!$C$12","v":0},11233.589832572825,6052.604465817868,14025.971474989356,403.41587226087103,-13622.555602728484]
[53,63.034493882500001,-152.425838798999,-1772.6067998512635,545.1360107829405,{"$f":"Q_d!$C$11","v":0},{"$f":"Q_d!$C$12","v":0},11233.589832572825,6052.604465817868,14124.211823124309,403.434103244879,-13720.77771987943]
[53,63.2384782532,-149.597076993,-1641.1843753387734,487.68114899338934,{"$f":"Q_d!$C$11","v":0},{"$f":"Q_d!$C$12","v":0},11233.589832572825,6052.604465817868,14025.982405052506,403.438176470695,-13622.54422858181]
[53,63.238714417899899,-149.59783535700001,-1641.2030413823345,487.72320031777645,{"$f":"Q_d!$C$11","v":0},{"$f":"Q_d!$C$12","v":0},11233.589832572825,6052.604465817868,14025.982854914675,403.462472461814,-13622.520382452862]
[53,63.2388371523,-149.598769172,-1641.2357275207057,487.75908334419319,{"$f":"Q_d!$C$11","v":0},{"$f":"Q_d!$C$12","v":0},11233.589832572825,6052.604465817868,14025.998621619647,403.47454885407501,-13622.524072765571]
[53,63.2389346864,-149.599653832999,-1641.2677743711777,487.79130537564288,{"$f":"Q_d!$C$11","v":0},{"$f":"Q_d!$C$12","v":0},11233.589832572825,6052.604465817868,14026.015254152366,403.483308111996,-13622.53194604037]
[53,63.232610010999899,-149.359781910999,-1631.4027557545662,480.97563543926663,{"$f":"Q_d!$C$11","v":0},{"$f":"Q_d!$C$12","v":0},11233.589832572825,6052.604465817868,14019.667689400658,403.4929967992,-13616.174692601458]
[53,63.239177108299899,-149.60062285199899,-1641.2950485057584,487.83942504149036,{"$f":"Q_d!$C$11","v":0},{"$f":"Q_d!$C$12","v":0},11233.589832572825,6052.604465817868,14026.021198475099,403.50759027929001,-13622.513608195808]
[53,63.2396337282999,-149.601613108999,-1641.3108593346562,487.90835691257962,{"$f":"Q_d!$C$11","v":0},{"$f":"Q_d!$C$12","v":0},11233.589832572825,6052.604465817868,14026.008363427758,403.55656081025302,-13622.451802617505]
[53,63.2406253678,-149.65073156700001,-1643.3448838611996,489.2797891272121,{"$f":"Q_d!$C$11","v":0},{"$f":"Q_d!$C$12","v":0},11233.589832572825,6052.604465817868,14027.331504943448,403.57083682793501,-13623.760668115512]
[53,63.240082510100002,-149.60234010900001,-1641.3159096973798,487.96970364226763,{"$f":"Q_d!$C$11","v":0},{"$f":"Q_d!$C$12","v":0},11233.589832572825,6052.604465817868,14025.988660652603,403.60445638396999,-13622.384204268634]
[53,63.2403123819999,-149.60288792,-1641.3259671001736,488.00568665485207,{"$f":"Q_d!$C$11","v":0},{"$f":"Q_d!$C$12","v":0},11233.589832572825,6052.604465817868,14025.983616906586,403.62824504982302,-13622.355371856762]
[53,63.240477636999898,-149.603656849999,-1641.3491713415353,488.04130622831326,{"$f":"Q_d!$C$11","v":0},{"$f":"Q_d!$C$12","v":0},11233.589832572825,6052.604465817868,14025.990785380423,403.645358909278,-13622.345426471145]
[53,63.240642890700002,-149.60442578499899,-1641.3723752476569,488.07692597376899,{"$f":"Q_d!$C$11","v":0},{"$f":"Q_d!$C$12","v":0},11233.589832572825,6052.604465817868,14025.997953603483,403.66164559566403,-13622.336308007818]
[53,63.240783760500001,-149.60916511100001,-1641.5660606965962,488.21346347895269,{"$f":"Q_d!$C$11","v":0},{"$f":"Q_d!$C$12","v":0},11233.589832572825,6052.604465817868,14026.1215773606,403.667632006828,-13622.453945353773]
[53,63.240818171500003,-149.61032361900001,-1641.6134059536316,488.24683933539791,{"$f":"Q_d!$C$11","v":0},{"$f":"Q_d!$C$12","v":0},11233.589832572825,6052.604465817868,14026.151796867016,403.66894477529399,-13622.482852091722]
[53,63.240805113999897,-149.609684251999,-1641.5869341006453,488.22898066597782,{"$f":"Q_d!$C$11","v":0},{"$f":"Q_d!$C$12","v":0},11233.589832572825,6052.604465817868,14026.134582016803,403.66981691724197,-13622.464765099561]
[53,63.240912510599898,-149.61110305700001,-1641.6411481968053,488.27602754662121,{"$f":"Q_d!$C$11","v":0},{"$f":"Q_d!$C$12","v":0},11233.589832572825,6052.604465817868,14026.165683362085,403.67832802368702,-13622.487355338399]
[53,63.240836462399898,-149.605349219,-1641.4005227029756,488.11924076678451,{"$f":"Q_d!$C$11","v":0},{"$f":"Q_d!$C$12","v":0},11233.589832572825,6052.604465817868,14026.007003714802,403.68180303055499,-13622.325200684247]
[53,63.240922853000001,-149.60665872499899,-1641.451298540783,488.16145558233075,{"$f":"Q_d!$C$11","v":0},{"$f":"Q_d!$C$12","v":0},11233.589832572825,6052.604465817868,14026.036865131444,403.68834442054401,-13622.348520710901]
[53,63.2411550789,-149.61767860699899,-1641.9071286602464,488.46995232240488,{"$f":"Q_d!$C$11","v":0},{"$f":"Q_d!$C$12","v":0},11233.589832572825,6052.604465817868,14026.332909317154,403.69112973782302,-13622.641779579331]
[53,63.2411711021999,-149.616618437,-1641.8610620994659,488.44389815903833,{"$f":"Q_d!$C$11","v":0},{"$f":"Q_d!$C$12","v":0},11233.589832572825,6052.604465817868,14026.300957979154,403.69503215298499,-13622.605925826168]
[53,63.2415176059,-149.63634849799899,-1642.6810508889675,488.98986124263638,{"$f":"Q_d!$C$11","v":0},{"$f":"Q_d!$C$12","v":0},11233.589832572825,6052.604465817868,14026.837110786193,403.695250386971,-13623.141860399222]
[53,63.2413246716999,-149.625005420999,-1642.2092878903309,488.67654261473535,{"$f":"Q_d!$C$11","v":0},{"$f":"Q_d!$C$12","v":0},11233.589832572825,6052.604465817868,14026.528327605492,403.69589901806,-13622.832428587433]
[53,63.241357401499897,-149.626111307,-1642.254480572818,488.70840206219327,{"$f":"Q_d!$C$11","v":0},{"$f":"Q_d!$C$12","v":0},11233.589832572825,6052.604465817868,14026.557175039101,403.69760010805101,-13622.85957493105]
[53,63.241031294700001,-149.607912094,-1641.4984095202769,488.20429742917213,{"$f":"Q_d!$C$11","v":0},{"$f":"Q_d!$C$12","v":0},11233.589832572825,6052.604465817868,14026.063113919321,403.69795154917398,-13622.365162370146]
[53,63.2411933656999,-149.61576890500001,-1641.8236036152603,488.42391231301326,{"$f":"Q_d!$C$11","v":0},{"$f":"Q_d!$C$12","v":0},11233.589832572825,6052.604465817868,14026.274501262775,403.69949061771098,-13622.575010645063]
[53,63.241578851900002,-149.636815528,-1642.6973933631391,489.00780319468458,{"$f":"Q_d!$C$11","v":0},{"$f":"Q_d!$C$12","v":0},11233.589832572825,6052.604465817868,14026.844996261758,403.70139945385301,-13623.143596807904]
[53,63.2411517313,-149.611966913,-1641.6641176508267,488.32111324576863,{"$f":"Q_d!$C$11","v":0},{"$f":"Q_d!$C$12","v":0},11233.589832572825,6052.604465817868,14026.168882145288,403.702965252919,-13622.46591689237]
[53,63.241274565799898,-149.618507257999,-1641.9355099822349,488.50280154824895,{"$f":"Q_d!$C$11","v":0},{"$f":"Q_d!$C$12","v":0},11233.589832572825,6052.604465817868,14026.345931036549,403.703045244892,-13622.642885791656]
[53,63.241403591100003,-149.62446491200001,-1642.1817162235991,488.66994703267437,{"$f":"Q_d!$C$11","v":0},{"$f":"Q_d!$C$12","v":0},11233.589832572825,6052.604465817868,14026.505634195741,403.705590827028,-13622.800043368712]
[53,63.241631381200001,-149.635379782999,-1642.6332373076268,488.97541600013074,{"$f":"Q_d!$C$11","v":0},{"$f":"Q_d!$C$12","v":0},11233.589832572825,6052.604465817868,14026.79894877293,403.71013444920999,-13623.088814323721]
[53,63.241502026500001,-149.626989186999,-1642.2835008618827,488.74491252339067,{"$f":"Q_d!$C$11","v":0},{"$f":"Q_d!$C$12","v":0},11233.589832572825,6052.604465817868,14026.569332072657,403.71150258569497,-13622.857829486962]
[53,63.241373541999899,-149.619444716999,-1641.9697082635441,488.53654106000658,{"$f":"Q_d!$C$11","v":0},{"$f":"Q_d!$C$12","v":0},11233.589832572825,6052.604465817868,14026.363939415722,403.71246837817603,-13622.651471037545]
[53,63.241398511200003,-149.62028729400001,-1642.0041409350194,488.56081475848396,{"$f":"Q_d!$C$11","v":0},{"$f":"Q_d!$C$12","v":0},11233.589832572825,6052.604465817868,14026.385918030552,403.71302169362798,-13622.672896336924]
[53,63.241340006900003,-149.615112608,-1641.7871893767995,488.42071444016256,{"$f":"Q_d!$C$11","v":0},{"$f":"Q_d!$C$12","v":0},11233.589832572825,6052.604465817868,14026.242343423417,403.716982025775,-13622.525361397642]
[53,63.241685156899898,-149.634790100999,-1642.6050265465083,488.96515929550105,{"$f":"Q_d!$C$11","v":0},{"$f":"Q_d!$C$12","v":0},11233.589832572825,6052.604465817868,14026.777120318544,403.717292155042,-13623.059828163501]
[53,63.2414999002999,-149.623710278,{"$f":"lcpx(B1528,C1528,63,-115,70,60)","v":-1642.1440234324718},{"$f":"lcpy(B1528,C1528,63,-115,70,60)","v":488.65942700863889},{"$f":"Q_d!$C$11","v":0},{"$f":"Q_d!$C$12","v":0},{"$f":"lcpx(F1528,G1528,63,-115,70,60)","v":11233.589832572825},{"$f":"lcpy(F1528,G1528,63,-115,70,60)","v":6052.604465817868},{"$f":"SQRT((H1528-D1528)^2+(I1528-E1528)^2)","v":14026.475206749941},403.71777644537701,-13622.757430304564]
[53,63.2417597882,-149.63731790099899,-1642.7083235176619,489.03798176358123,{"$f":"Q_d!$C$11","v":0},{"$f":"Q_d!$C$12","v":0},11233.589832572825,6052.604465817868,14026.843059898811,403.72114646745899,-13623.121913431352]
[53,63.2414959173,-149.621172102999,-1642.0361871114108,488.5930373681208,{"$f":"Q_d!$C$11","v":0},{"$f":"Q_d!$C$12","v":0},11233.589832572825,6052.604465817868,14026.402552853282,403.72273234238298,-13622.679820510899]
[53,63.241811367099899,-149.63424267600001,-1642.5744291359815,488.96285127016154,{"$f":"Q_d!$C$11","v":0},{"$f":"Q_d!$C$12","v":0},11233.589832572825,6052.604465817868,14026.749948210887,403.73194278506099,-13623.018005425825]
[53,63.241615152400001,-149.622794177,-1642.0983617247223,488.64649936945261,{"$f":"Q_d!$C$11","v":0},{"$f":"Q_d!$C$12","v":0},11233.589832572825,6052.604465817868,14026.438419255903,403.73245834463199,-13622.705960911271]
[53,63.241618504400002,-149.622106099999,-1642.0688723631577,488.62892088262879,{"$f":"Q_d!$C$11","v":0},{"$f":"Q_d!$C$12","v":0},11233.589832572825,6052.604465817868,14026.418322245745,403.73411236233102,-13622.684209883413]
[53,63.241715968900003,-149.627803997,-1642.3058305664526,488.78633743220007,{"$f":"Q_d!$C$11","v":0},{"$f":"Q_d!$C$12","v":0},11233.589832572825,6052.604465817868,14026.573398154014,403.73428269593302,-13622.83911545808]
[53,63.2418950219,-149.637879867999,-1642.7244312918917,489.0653896001686,{"$f":"Q_d!$C$11","v":0},{"$f":"Q_d!$C$12","v":0},11233.589832572825,6052.604465817868,14026.846975511186,403.73479776952502,-13623.112177741661]
[53,63.241463390200003,-149.61287299099899,-1641.6847005865857,488.37414771595923,{"$f":"Q_d!$C$11","v":0},{"$f":"Q_d!$C$12","v":0},11233.589832572825,6052.604465817868,14026.166737106319,403.73592606182501,-13622.430811044494]
[53,63.2415102735999,-149.61445281799899,-1641.7492620504397,488.41966054071827,{"$f":"Q_d!$C$11","v":0},{"$f":"Q_d!$C$12","v":0},11233.589832572825,6052.604465817868,14026.207946156057,403.73724979620101,-13622.470696359856]
[53,63.241863581700002,-149.63360032200001,-1642.544066240542,488.95107728400671,{"$f":"Q_d!$C$11","v":0},{"$f":"Q_d!$C$12","v":0},11233.589832572825,6052.604465817868,14026.726746034337,403.73937815625499,-13622.987367878082]
[53,63.241563964199898,-149.613863097999,-1641.7210510808643,488.40940408582446,{"$f":"Q_d!$C$11","v":0},{"$f":"Q_d!$C$12","v":0},11233.589832572825,6052.604465817868,14026.186118675825,403.74448209851698,-13622.441636577309]
[53,63.241571963399899,-149.613333003999,-1641.6980177253072,488.39637708407781,{"$f":"Q_d!$C$11","v":0},{"$f":"Q_d!$C$12","v":0},11233.589832572825,6052.604465817868,14026.170143084863,403.74644471623498,{"$f":"K1540-J1540","v":-13622.423698368628}]
[53,63.241983563799899,-149.63284223900001,-1642.5048608066547,488.94270081637433,{"$f":"Q_d!$C$11","v":0},{"$f":"Q_d!$C$12","v":0},11233.589832572825,6052.604465817868,14026.694079084165,403.75401558993798,-13622.940063494227]
[53,63.2420074765,-149.63204536000001,-1642.4695547304589,488.92423163718649,{"$f":"Q_d!$C$11","v":0},{"$f":"Q_d!$C$12","v":0},11233.589832572825,6052.604465817868,14026.668994938671,403.75839348303299,-13622.910601455638]
[53,63.2419659952999,-149.629036649,-1642.3438635382065,488.84204344888394,{"$f":"Q_d!$C$11","v":0},{"$f":"Q_d!$C$12","v":0},11233.589832572825,6052.604465817868,14026.586214728539,403.75986334949101,-13622.826351379048]
[53,63.242175125400003,-149.638526385999,-1642.7357659221827,489.10869497157273,{"$f":"Q_d!$C$11","v":0},{"$f":"Q_d!$C$12","v":0},11233.589832572825,6052.604465817868,14026.840204075987,403.76454803263698,-13623.075656043349]
[53,63.242055288800003,-149.630451601,-1642.3989426787698,488.88729340312011,{"$f":"Q_d!$C$11","v":0},{"$f":"Q_d!$C$12","v":0},11233.589832572825,6052.604465817868,14026.618826895805,403.76688150713898,-13622.851945388666]
[53,63.24207397,-149.63108355200001,-1642.4247668141766,488.9054988959474,{"$f":"Q_d!$C$11","v":0},{"$f":"Q_d!$C$12","v":0},11233.589832572825,6052.604465817868,14026.635311369409,403.76747794987102,-13622.867833419539]
[53,63.242055561800001,-149.629658186999,-1642.3651493294303,488.8666803971073,{"$f":"Q_d!$C$11","v":0},{"$f":"Q_d!$C$12","v":0},11233.589832572825,6052.604465817868,14026.595981951295,403.76766535224101,-13622.828316599054]
[53,63.242091090800002,-149.631662844,-1642.4484391251826,488.92218723158703,{"$f":"Q_d!$C$11","v":0},{"$f":"Q_d!$C$12","v":0},11233.589832572825,6052.604465817868,14026.650422366945,403.76835103435201,-13622.882071332593]
[53,63.242382789099899,-149.63913064400001,-1642.7494872801574,489.14405153680946,{"$f":"Q_d!$C$11","v":0},{"$f":"Q_d!$C$12","v":0},11233.589832572825,6052.604465817868,14026.838776476485,403.78680927935198,-13623.051967197132]
[53,63.2427258843,-149.643523283999,-1642.9166400947913,489.29078633211566,{"$f":"Q_d!$C$11","v":0},{"$f":"Q_d!$C$12","v":0},11233.589832572825,6052.604465817868,14026.934021267951,403.81623193848901,-13623.117789329463]
[53,63.2428937817999,-149.648417666,-1643.1152636076797,489.43402516332662,{"$f":"Q_d!$C$11","v":0},{"$f":"Q_d!$C$12","v":0},11233.589832572825,6052.604465817868,14027.059545242311,403.82644864842598,-13623.233096593885]
[53,63.242755844999898,-149.63971067099899,-1642.7526183351154,489.19441546751796,{"$f":"Q_d!$C$11","v":0},{"$f":"Q_d!$C$12","v":0},11233.589832572825,6052.604465817868,14026.821674969464,403.82681997237302,-13622.99485499709]
[53,63.242946558200003,-149.65073927700001,-1643.2110277603592,489.49943472140421,{"$f":"Q_d!$C$11","v":0},{"$f":"Q_d!$C$12","v":0},11233.589832572825,6052.604465817868,14027.121514540615,403.82770420688001,-13623.293810333735]
[53,63.242935636600002,-149.64983962700001,-1643.1733675051958,489.47498834458429,{"$f":"Q_d!$C$11","v":0},{"$f":"Q_d!$C$12","v":0},11233.589832572825,6052.604465817868,14027.096638079305,403.828645513168,-13623.267992566138]
[53,63.2429181442999,-149.64682733999899,-1643.0461648332882,489.3949422261212,{"$f":"Q_d!$C$11","v":0},{"$f":"Q_d!$C$12","v":0},11233.589832572825,6052.604465817868,14027.011613778495,403.83116940746402,-13623.180444371032]
[53,63.2428862744,-149.644134506,-1642.933386926393,489.32185536463021,{"$f":"Q_d!$C$11","v":0},{"$f":"Q_d!$C$12","v":0},11233.589832572825,6052.604465817868,14026.937072150638,403.83268768265901,-13623.104384467979]
[53,63.242872649500001,-149.642867088,-1642.8802259114805,489.28758771307957,{"$f":"Q_d!$C$11","v":0},{"$f":"Q_d!$C$12","v":0},11233.589832572825,6052.604465817868,14026.901862251991,403.83361441316299,-13623.068247838828]
[53,63.2429750668,-149.646342981,-1643.0222581888941,489.3877194056231,{"$f":"Q_d!$C$11","v":0},{"$f":"Q_d!$C$12","v":0},11233.589832572825,6052.604465817868,14026.992532382432,403.83857951661798,-13623.153952865814]
[53,63.2430183775,-149.644591195999,-1642.9451906300594,489.3462288898595,{"$f":"Q_d!$C$11","v":0},{"$f":"Q_d!$C$12","v":0},11233.589832572825,6052.604465817868,14026.938240917647,403.84690423971301,-13623.091336677933]
[53,63.0384938824999,-152.425838800999,-1772.3591435945957,545.50368953570478,{"$f":"Q_d!$C$11","v":0},{"$f":"Q_d!$C$12","v":0},11233.589832572825,6052.604465817868,14123.840403048951,403.84831872003599,-13719.992084328915]
[53,63.243046144300003,-149.642312755999,-1642.8466029233145,489.2895672790296,{"$f":"Q_d!$C$11","v":0},{"$f":"Q_d!$C$12","v":0},11233.589832572825,6052.604465817868,14026.870211764161,403.85406241611503,-13623.016149348046]
[53,63.243061119399897,-149.64040642699899,-1642.7645920857208,489.24138164475016,{"$f":"Q_d!$C$11","v":0},{"$f":"Q_d!$C$12","v":0},11233.589832572825,6052.604465817868,14026.81403868191,403.859359126416,-13622.954679555494]
[53,63.243169098899898,-149.64567987500001,-1642.9828182110834,489.3888083140655,{"$f":"Q_d!$C$11","v":0},{"$f":"Q_d!$C$12","v":0},11233.589832572825,6052.604465817868,14026.95589509041,403.86149431333502,-13623.094400777076]
[53,63.2432023896,-149.64519897100001,-1642.9604245972703,489.37944167975365,{"$f":"Q_d!$C$11","v":0},{"$f":"Q_d!$C$12","v":0},11233.589832572825,6052.604465817868,14026.939052930391,403.86613601291202,-13623.072916917479]
[53,63.243151860700003,-149.641874129999,-1642.8218224802247,489.2881495408019,{"$f":"Q_d!$C$11","v":0},{"$f":"Q_d!$C$12","v":0},11233.589832572825,6052.604465817868,14026.84802602996,403.86703953157598,-13622.980986498384]
[53,63.2431568529,-149.641238681999,-1642.7944854385617,489.272087553235,{"$f":"Q_d!$C$11","v":0},{"$f":"Q_d!$C$12","v":0},11233.589832572825,6052.604465817868,14026.82930159832,403.86862012912002,-13622.9606814692]
[53,63.042493882199899,-152.425838806999,-1772.1114881394401,545.87136745819362,{"$f":"Q_d!$C$11","v":0},{"$f":"Q_d!$C$12","v":0},11233.589832572825,6052.604465817868,14123.468988182283,404.26379865256303,-13719.205189529721]
[53,63.044931935500003,-152.425838808999,-1771.9605390609242,546.09547157346151,{"$f":"Q_d!$C$11","v":0},{"$f":"Q_d!$C$12","v":0},11233.589832572825,6052.604465817868,14123.242608296345,404.51673899852398,-13718.725869297821]
[53,63.048931934999899,-152.425838811999,-1771.7128844826384,546.46314792416388,{"$f":"Q_d!$C$11","v":0},{"$f":"Q_d!$C$12","v":0},11233.589832572825,6052.604465817868,14122.871201525079,404.93231547259802,-13717.938886052481]
[53,63.2470477221,-149.359780239999,-1630.5743615370468,482.34436405745282,{"$f":"Q_d!$C$11","v":0},{"$f":"Q_d!$C$12","v":0},11233.589832572825,6052.604465817868,14018.363599731689,405.08827799999301,-13613.275321731695]
[53,63.052931934500002,-152.425838814999,-1771.4652305176614,546.83082336425332,{"$f":"Q_d!$C$11","v":0},{"$f":"Q_d!$C$12","v":0},11233.589832572825,6052.604465817868,14122.499799821293,405.34674618158698,-13717.153053639706]
[53,63.056931933500003,-152.42583881900001,-1771.2175772375342,547.1984978774949,{"$f":"Q_d!$C$11","v":0},{"$f":"Q_d!$C$12","v":0},11233.589832572825,6052.604465817868,14122.128403257488,405.76244171189597,-13716.365961545591]
[53,63.059370037199898,-152.425838819999,-1771.0666263450071,547.42260459575027,{"$f":"Q_d!$C$11","v":0},{"$f":"Q_d!$C$12","v":0},11233.589832572825,6052.604465817868,14121.902029811788,406.01551302505601,-13715.886516786732]
[53,63.0633700371,-152.42583882400001,-1770.8189739921256,547.79027773222788,{"$f":"Q_d!$C$11","v":0},{"$f":"Q_d!$C$12","v":0},11233.589832572825,6052.604465817868,14121.530641315516,406.43106999834498,-13715.099571317171]
[53,63.261485405199899,-149.35977857,-1629.7459757722536,483.71307896779581,{"$f":"Q_d!$C$11","v":0},{"$f":"Q_d!$C$12","v":0},11233.589832572825,6052.604465817868,14017.059584548595,406.68359564899998,-13610.375988899596]
[53,63.0673700364,-152.42583882599899,-1770.5713222022964,548.1579498527899,{"$f":"Q_d!$C$11","v":0},{"$f":"Q_d!$C$12","v":0},11233.589832572825,6052.604465817868,14121.15925788256,406.845947598105,-13714.313310284455]
[53,63.0713700352999,-152.42583882900001,-1770.3236710870995,548.52562106174537,{"$f":"Q_d!$C$11","v":0},{"$f":"Q_d!$C$12","v":0},11233.589832572825,6052.604465817868,14120.787879575304,407.26185634920398,-13713.526023226101]
[53,63.073808108599899,-152.42583883200001,-1770.1727234992202,548.74972305344636,{"$f":"Q_d!$C$11","v":0},{"$f":"Q_d!$C$12","v":0},11233.589832572825,6052.604465817868,14120.561520143305,407.51505718684803,-13713.046462956456]
[53,63.077808108299898,-152.42583883399899,-1769.9250732692215,549.11739285806743,{"$f":"Q_d!$C$11","v":0},{"$f":"Q_d!$C$12","v":0},11233.589832572825,6052.604465817868,14120.1901498773,407.930824999778,-13712.259324877523]
[53,63.275923057100002,-149.35977689699899,-1628.9175984236892,485.0817798451717,{"$f":"Q_d!$C$11","v":0},{"$f":"Q_d!$C$12","v":0},11233.589832572825,6052.604465817868,14015.755643962304,408.27871561593798,-13607.476928346367]
[53,63.081808108300002,-152.425838838,-1769.6774237091645,549.48506184781991,{"$f":"Q_d!$C$11","v":0},{"$f":"Q_d!$C$12","v":0},11233.589832572825,6052.604465817868,14119.818784695752,408.34688626338198,-13711.47189843237]
[53,63.085808107799899,-152.425838841999,-1769.4297747840556,549.8527298946251,{"$f":"Q_d!$C$11","v":0},{"$f":"Q_d!$C$12","v":0},11233.589832572825,6052.604465817868,14119.44742461665,408.76203407361498,-13710.685390543034]
[53,63.088246151100002,-152.425838843999,-1769.2788303421426,550.07682712569931,{"$f":"Q_d!$C$11","v":0},{"$f":"Q_d!$C$12","v":0},11233.589832572825,6052.604465817868,14119.221079067616,409.01536301341997,-13710.205716054197]
[53,63.0922461498999,-152.425838846,-1769.0311823471473,550.44449361210081,{"$f":"Q_d!$C$11","v":0},{"$f":"Q_d!$C$12","v":0},11233.589832572825,6052.604465817868,14118.849727133646,409.43133934763699,-13709.418387786009]
[53,63.096246150600003,-152.425838849999,-1768.7835349187555,550.81215943659936,{"$f":"Q_d!$C$11","v":0},{"$f":"Q_d!$C$12","v":0},11233.589832572825,6052.604465817868,14118.478380130433,409.84760981613601,-13708.630770314297]
[53,63.290360680600003,-149.35977521999899,-1628.0892292390859,486.45046701097317,{"$f":"Q_d!$C$11","v":0},{"$f":"Q_d!$C$12","v":0},11233.589832572825,6052.604465817868,14014.451777628867,409.87410447599598,-13604.577673152871]
[53,63.100246149199897,-152.42583885299899,-1768.5358881788482,551.17982414919106,{"$f":"Q_d!$C$11","v":0},{"$f":"Q_d!$C$12","v":0},11233.589832572825,6052.604465817868,14118.107038345883,410.26296651416101,-13707.844071831722]
[53,63.102684161500001,-152.42583885600001,-1768.384947019101,551.40391659711349,{"$f":"Q_d!$C$11","v":0},{"$f":"Q_d!$C$12","v":0},11233.589832572825,6052.604465817868,14117.880706816135,410.51642215385198,-13707.364284662282]
[53,63.106684162599898,-152.42583885900001,-1768.1373010877646,551.77158010913763,{"$f":"Q_d!$C$11","v":0},{"$f":"Q_d!$C$12","v":0},11233.589832572825,6052.604465817868,14117.509372926255,410.932604723694,-13706.576768202562]
[53,63.301982973500003,-149.35977387099899,-1627.4223965820991,487.55225289682812,{"$f":"Q_d!$C$11","v":0},{"$f":"Q_d!$C$12","v":0},11233.589832572825,6052.604465817868,14013.402216842627,411.15864828676501,-13602.243568555863]
[53,63.3019824524999,-149.331997712999,-1626.2391871796863,486.83651277019408,{"$f":"Q_d!$C$11","v":0},{"$f":"Q_d!$C$12","v":0},11233.589832572825,6052.604465817868,14012.600591055229,411.26401168106099,-13601.336579374167]
[53,63.110684161199899,-152.42583886200001,{"$f":"lcpx(B1592,C1592,63,-115,70,60)","v":-1767.8896559082748},{"$f":"lcpy(B1592,C1592,63,-115,70,60)","v":552.13924250487116},{"$f":"Q_d!$C$11","v":0},{"$f":"Q_d!$C$12","v":0},{"$f":"lcpx(F1592,G1592,63,-115,70,60)","v":11233.589832572825},{"$f":"lcpy(F1592,G1592,63,-115,70,60)","v":6052.604465817868},{"$f":"SQRT((H1592-D1592)^2+(I1592-E1592)^2)","v":14117.138044315869},411.34908211031598,-13705.788962205552]
[53,63.301982391099898,-149.29990740700001,-1624.8717807410114,486.01030447243238,{"$f":"Q_d!$C$11","v":0},{"$f":"Q_d!$C$12","v":0},11233.589832572825,6052.604465817868,14011.673904933365,411.39320953559701,-13600.280695397767]
[53,63.301981974199897,-149.26484860599899,-1623.3774234074049,485.10842959741694,{"$f":"Q_d!$C$11","v":0},{"$f":"Q_d!$C$12","v":0},11233.589832572825,6052.604465817868,14010.660909988444,411.54141352238099,-13599.119496466063]
[53,63.114684161299898,-152.425838865,-1767.6420112318647,552.50690415363943,{"$f":"Q_d!$C$11","v":0},{"$f":"Q_d!$C$12","v":0},11233.589832572825,6052.604465817868,14116.766720612262,411.76440669999602,-13705.002313912266]
[53,63.117122143700001,-152.42583886700001,-1767.491073193951,552.73099187677008,{"$f":"Q_d!$C$11","v":0},{"$f":"Q_d!$C$12","v":0},11233.589832572825,6052.604465817868,14116.540402933517,412.01895847278598,-13704.52144446073]
[53,63.121122143999898,-152.42583887000001,-1767.2434294619734,553.09865212328032,{"$f":"Q_d!$C$11","v":0},{"$f":"Q_d!$C$12","v":0},11233.589832572825,6052.604465817868,14116.169087329994,412.43461292670298,-13703.734474403291]
[53,63.125122143200002,-152.425838873,-1766.9957863910929,553.46631138822795,{"$f":"Q_d!$C$11","v":0},{"$f":"Q_d!$C$12","v":0},11233.589832572825,6052.604465817868,14115.797776870964,412.851294976774,-13702.946481894191]
[53,63.129122143300002,-152.425838878999,-1766.7481439809701,553.83396994100758,{"$f":"Q_d!$C$11","v":0},{"$f":"Q_d!$C$12","v":0},11233.589832572825,6052.604465817868,14115.426471451463,413.26779340398599,-13702.158678047477]
[53,63.319362241699899,-149.264917099,-1622.385715596668,486.75936396717225,{"$f":"Q_d!$C$11","v":0},{"$f":"Q_d!$C$12","v":0},11233.589832572825,6052.604465817868,14009.094867011474,413.45988133433201,-13595.634985677141]
[53,63.131559987300001,-152.425838878999,-1766.5972157317412,554.05804295203507,{"$f":"Q_d!$C$11","v":0},{"$f":"Q_d!$C$12","v":0},11233.589832572825,6052.604465817868,14115.200177656583,413.52149804332998,-13701.678679613253]
[53,63.135559987500002,-152.425838881999,-1766.3495741410736,554.42570001919967,{"$f":"Q_d!$C$11","v":0},{"$f":"Q_d!$C$12","v":0},11233.589832572825,6052.604465817868,14114.828880256122,413.93735587042602,-13700.891524385695]
[53,63.139559987600002,-152.42583888600001,-1766.1019331871078,554.79335623073712,{"$f":"Q_d!$C$11","v":0},{"$f":"Q_d!$C$12","v":0},11233.589832572825,6052.604465817868,14114.457587929701,414.35424036082901,-13700.103347568871]
[53,63.330954621799897,-149.264880226,-1621.7207484763176,487.8583822976143,{"$f":"Q_d!$C$11","v":0},{"$f":"Q_d!$C$12","v":0},11233.589832572825,6052.604465817868,14008.048012099618,414.73971118401403,{"$f":"K1604-J1604","v":-13593.308300915603}]
[53,63.143559986699898,-152.425838889,-1765.8542928412951,555.16101144958611,{"$f":"Q_d!$C$11","v":0},{"$f":"Q_d!$C$12","v":0},11233.589832572825,6052.604465817868,14114.08630070471,414.77093933157801,-13699.315361373132]
[53,63.330905895900003,-149.24904416300001,-1621.0490492882136,487.44708660167407,{"$f":"Q_d!$C$11","v":0},{"$f":"Q_d!$C$12","v":0},11233.589832572825,6052.604465817868,14007.594991235937,414.80337769237099,-13592.791613543566]
[53,63.330863264999898,-149.23699527700001,-1620.5382341695417,487.13373671646696,{"$f":"Q_d!$C$11","v":0},{"$f":"Q_d!$C$12","v":0},11233.589832572825,6052.604465817868,14007.250722133103,414.85204877160697,-13592.398673361497]
[53,63.330860011200002,-149.236086626999,-1620.4997115224865,487.11010611692473,{"$f":"Q_d!$C$11","v":0},{"$f":"Q_d!$C$12","v":0},11233.589832572825,6052.604465817868,14007.22475994026,414.85657659002999,-13592.368183350231]
[53,63.331251102000003,-149.236087499999,-1620.4773847906401,487.14724802856244,{"$f":"Q_d!$C$11","v":0},{"$f":"Q_d!$C$12","v":0},11233.589832572825,6052.604465817868,14007.189513658377,414.89942227122901,-13592.290091387149]
[53,63.145997909000002,-152.425838889999,-1765.703361080353,555.38508976365665,{"$f":"Q_d!$C$11","v":0},{"$f":"Q_d!$C$12","v":0},11233.589832572825,6052.604465817868,14113.860010749138,415.02476658267,-13698.835244166468]
[53,63.333688665300002,-149.236092931999,-1620.3382279950913,487.37874310402276,{"$f":"Q_d!$C$11","v":0},{"$f":"Q_d!$C$12","v":0},11233.589832572825,6052.604465817868,14006.969834015174,415.16789450173002,-13591.801939513443]
[53,63.333688665700002,-149.235967412999,-1620.3328813394112,487.37552188585414,{"$f":"Q_d!$C$11","v":0},{"$f":"Q_d!$C$12","v":0},11233.589832572825,6052.604465817868,14006.966207341529,415.16902517649299,-13591.797182165037]
[53,63.333688665700002,-149.23196741500001,-1620.1624932588911,487.27287352693338,{"$f":"Q_d!$C$11","v":0},{"$f":"Q_d!$C$12","v":0},11233.589832572825,6052.604465817868,14006.8506305299,415.18659720780897,-13591.664033322091]
[53,63.333688666900002,-149.22796741400001,-1619.9920984791331,487.17023599980257,{"$f":"Q_d!$C$11","v":0},{"$f":"Q_d!$C$12","v":0},11233.589832572825,6052.604465817868,14006.735045137964,415.20506933441902,-13591.529975803545]
[53,63.333688667700002,-149.223967415,-1619.8216973053416,487.0676092813369,{"$f":"Q_d!$C$11","v":0},{"$f":"Q_d!$C$12","v":0},11233.589832572825,6052.604465817868,14006.619451454786,415.22342262569902,-13591.396028829087]
[53,63.333688668599898,-149.219967416,-1619.6512896244235,486.96499336807665,{"$f":"Q_d!$C$11","v":0},{"$f":"Q_d!$C$12","v":0},11233.589832572825,6052.604465817868,14006.503849377745,415.242083075643,-13591.261766302101]
[53,63.333688668999898,-149.215967417,-1619.4808754713451,486.86238820349445,{"$f":"Q_d!$C$11","v":0},{"$f":"Q_d!$C$12","v":0},11233.589832572825,6052.604465817868,14006.388238961184,415.26062599890201,-13591.127612962282]
[53,63.333688668999898,-149.211967415,-1619.3104547132539,486.75979372053962,{"$f":"Q_d!$C$11","v":0},{"$f":"Q_d!$C$12","v":0},11233.589832572825,6052.604465817868,14006.272620109634,415.27867016980298,-13590.993949939832]
[53,63.333688670199898,-149.207967416,-1619.1400275150324,486.65721022541311,{"$f":"Q_d!$C$11","v":0},{"$f":"Q_d!$C$12","v":0},11233.589832572825,6052.604465817868,14006.156992852508,415.29761295967,-13590.859379892838]
[53,63.333688670999898,-149.203967414,-1618.9695937131626,486.5546374127548,{"$f":"Q_d!$C$11","v":0},{"$f":"Q_d!$C$12","v":0},11233.589832572825,6052.604465817868,14006.041357160895,415.31644018507097,-13590.724916975823]
[53,63.333688671399898,-149.20384189500001,-1618.9642454191671,486.55141891547009,{"$f":"Q_d!$C$11","v":0},{"$f":"Q_d!$C$12","v":0},11233.589832572825,6052.604465817868,14006.037728374147,415.31700152293303,-13590.720726851214]
[53,63.333688671799898,-149.199841894999,-1618.7938050234272,486.44885725272434,{"$f":"Q_d!$C$11","v":0},{"$f":"Q_d!$C$12","v":0},11233.589832572825,6052.604465817868,14005.922084129737,415.33592661844199,-13590.586157511296]
[53,63.333688670999898,-149.195841895,-1618.6233581990232,486.34630627429806,{"$f":"Q_d!$C$11","v":0},{"$f":"Q_d!$C$12","v":0},11233.589832572825,6052.604465817868,14005.806431610259,415.35515477239397,-13590.451276837864]
[53,63.333688673399898,-149.19184189500001,-1618.4529046951732,486.24376639830689,{"$f":"Q_d!$C$11","v":0},{"$f":"Q_d!$C$12","v":0},11233.589832572825,6052.604465817868,14005.690770419207,415.37426934512899,-13590.316501074078]
[53,63.333688673399898,-149.187841894,-1618.2824447898656,486.14123706783448,{"$f":"Q_d!$C$11","v":0},{"$f":"Q_d!$C$12","v":0},11233.589832572825,6052.604465817868,14005.5751010328,415.393685616428,-13590.181415416373]
[53,63.333688674199898,-149.18384189400001,-1618.1119783862382,486.03871863840459,{"$f":"Q_d!$C$11","v":0},{"$f":"Q_d!$C$12","v":0},11233.589832572825,6052.604465817868,14005.459423220651,415.412393037328,-13590.047030183323]
[53,63.333688675399898,-149.17984189500001,-1617.9415055078323,485.93621107244144,{"$f":"Q_d!$C$11","v":0},{"$f":"Q_d!$C$12","v":0},11233.589832572825,6052.604465817868,14005.343737019084,415.43259394996898,-13589.911143069115]
[53,63.149997907900001,-152.42583889400001,-1765.4557217321815,555.75274359094919,{"$f":"Q_d!$C$11","v":0},{"$f":"Q_d!$C$12","v":0},11233.589832572825,6052.604465817868,14113.488731672471,415.44082558169401,-13698.047906090776]
[53,63.333688674999898,-149.175841896999,-1617.7710262694875,485.8337141803936,{"$f":"Q_d!$C$11","v":0},{"$f":"Q_d!$C$12","v":0},11233.589832572825,6052.604465817868,14005.228042608611,415.45148997807098,-13589.776552630539]
[53,63.333688676199898,-149.17184189599899,-1617.6005403187828,485.73122816412479,{"$f":"Q_d!$C$11","v":0},{"$f":"Q_d!$C$12","v":0},11233.589832572825,6052.604465817868,14005.112339585405,415.47187966696299,-13589.640459918443]
[53,63.1539979082999,-152.425838897999,-1765.2080828759265,556.12039668764373,{"$f":"Q_d!$C$11","v":0},{"$f":"Q_d!$C$12","v":0},11233.589832572825,6052.604465817868,14113.117457488872,415.85766809931499,-13697.259789389556]
[53,63.3376886763999,-149.171841897999,-1617.3721935845008,486.11111085635912,{"$f":"Q_d!$C$11","v":0},{"$f":"Q_d!$C$12","v":0},11233.589832572825,6052.604465817868,14004.751810316677,415.91280991332701,-13588.83900040335]
[53,63.157997907800002,-152.4258389,-1764.9604445761888,556.48804877905695,{"$f":"Q_d!$C$11","v":0},{"$f":"Q_d!$C$12","v":0},11233.589832572825,6052.604465817868,14112.746188365119,416.27480766075598,-13696.471380704363]
[53,63.341688675100002,-149.171841903,-1617.1438475541524,486.49099266705525,{"$f":"Q_d!$C$11","v":0},{"$f":"Q_d!$C$12","v":0},11233.589832572825,6052.604465817868,14004.391286790757,416.35434243081897,-13588.036944359937]
[53,63.1604358011,-152.425838902999,-1764.8095159790621,556.71212257501793,{"$f":"Q_d!$C$11","v":0},{"$f":"Q_d!$C$12","v":0},11233.589832572825,6052.604465817868,14112.519912225085,416.52875619817598,-13695.991156026908]
[53,63.345688674999899,-149.171841905999,-1616.9155018593738,486.87087372618817,{"$f":"Q_d!$C$11","v":0},{"$f":"Q_d!$C$12","v":0},11233.589832572825,6052.604465817868,14004.030768618304,416.79448012179802,-13587.236288496506]
[53,63.164435800299898,-152.425838905999,-1764.5618786765187,557.07977327531944,{"$f":"Q_d!$C$11","v":0},{"$f":"Q_d!$C$12","v":0},11233.589832572825,6052.604465817868,14112.148651250776,416.94501419851503,-13695.203637052262]
[53,63.348126178999898,-149.171841908999,-1616.776353759263,487.1023637637777,{"$f":"Q_d!$C$11","v":0},{"$f":"Q_d!$C$12","v":0},11233.589832572825,6052.604465817868,14003.811080230824,417.06356812481198,-13586.747512106012]
[53,63.3481261807,-149.169138368999,-1616.6611798758142,487.03313651179269,{"$f":"Q_d!$C$11","v":0},{"$f":"Q_d!$C$12","v":0},11233.589832572825,6052.604465817868,14003.732906069406,417.07695925931898,-13586.655946810088]
[53,63.3481261803,-149.165138369999,-1616.4907700915353,486.93072070507151,{"$f":"Q_d!$C$11","v":0},{"$f":"Q_d!$C$12","v":0},11233.589832572825,6052.604465817868,14003.617237414366,417.09662964953299,-13586.520607764833]
[53,63.3481261811,-149.161138367999,-1616.3203536228962,486.82831573178828,{"$f":"Q_d!$C$11","v":0},{"$f":"Q_d!$C$12","v":0},11233.589832572825,6052.604465817868,14003.501560187136,417.116597383753,-13586.384962803384]
[53,63.3481261815,-149.157138368999,-1616.1499308175296,486.72592159400256,{"$f":"Q_d!$C$11","v":0},{"$f":"Q_d!$C$12","v":0},11233.589832572825,6052.604465817868,14003.385874705687,417.13645631255901,-13586.249418393129]
[53,63.3481261835,-149.15313836799899,-1615.9795013489686,486.62353835409749,{"$f":"Q_d!$C$11","v":0},{"$f":"Q_d!$C$12","v":0},11233.589832572825,6052.604465817868,14003.270180645442,417.15661123012302,-13586.11356941532]
[53,63.3481261835,-149.14913837,-1615.8090656363975,486.52116579853646,{"$f":"Q_d!$C$11","v":0},{"$f":"Q_d!$C$12","v":0},11233.589832572825,6052.604465817868,14003.154478475715,417.17685938819699,-13585.977619087518]
[53,63.3481261843,-149.145138368,-1615.638623222384,486.4188040144918,{"$f":"Q_d!$C$11","v":0},{"$f":"Q_d!$C$12","v":0},11233.589832572825,6052.604465817868,14003.038767741908,417.19700069032098,-13585.841767051586]
[53,63.3481261859,-149.141138369,-1615.4681744059403,486.31645318154733,{"$f":"Q_d!$C$11","v":0},{"$f":"Q_d!$C$12","v":0},11233.589832572825,6052.604465817868,14002.923048646804,417.21743595036799,-13585.705612696436]
[53,63.168435800200001,-152.42583891000001,-1764.3142419529538,557.4474232056009,{"$f":"Q_d!$C$11","v":0},{"$f":"Q_d!$C$12","v":0},11233.589832572825,6052.604465817868,14111.777395266163,417.36205353385901,-13694.415341732303]
[53,63.352126122100003,-149.141160708999,-1615.2409696024918,486.69700932346313,{"$f":"Q_d!$C$11","v":0},{"$f":"Q_d!$C$12","v":0},11233.589832572825,6052.604465817868,14002.563293811216,417.65841906634603,-13584.904874744871]
[53,63.172435800400002,-152.42583891300001,-1764.0666057489591,557.81507227479779,{"$f":"Q_d!$C$11","v":0},{"$f":"Q_d!$C$12","v":0},11233.589832572825,6052.604465817868,14111.406144252285,417.779390590297,-13693.626753661989]
[53,63.1748736622,-152.42583891500001,-1763.9156803369424,558.03914125237861,{"$f":"Q_d!$C$11","v":0},{"$f":"Q_d!$C$12","v":0},11233.589832572825,6052.604465817868,14111.179882066463,418.03345910704297,-13693.14642295942]
[53,63.3561260602999,-149.14118304799899,-1615.0137648595876,487.07756465881857,{"$f":"Q_d!$C$11","v":0},{"$f":"Q_d!$C$12","v":0},11233.589832572825,6052.604465817868,14002.203544138265,418.09920776892102,-13584.104336369344]
[53,63.178873662999898,-152.42583891800001,-1763.6680450263987,558.40678899500472,{"$f":"Q_d!$C$11","v":0},{"$f":"Q_d!$C$12","v":0},11233.589832572825,6052.604465817868,14110.80863908305,418.44966956731997,-13692.35896951573]
[53,63.360125997799898,-149.141205385999,-1614.7865603301532,487.458118932866,{"$f":"Q_d!$C$11","v":0},{"$f":"Q_d!$C$12","v":0},11233.589832572825,6052.604465817868,14001.843799869857,418.54020134868699,-13583.30359852117]
[53,63.3625636579999,-149.14121900200001,-1614.6480965264745,487.69003765237494,{"$f":"Q_d!$C$11","v":0},{"$f":"Q_d!$C$12","v":0},11233.589832572825,6052.604465817868,14001.624565583465,418.80860002750597,-13582.815965555959]
[53,63.3625636583999,-149.14106125199899,-1614.6413777293435,487.68600349266717,{"$f":"Q_d!$C$11","v":0},{"$f":"Q_d!$C$12","v":0},11233.589832572825,6052.604465817868,14001.620003617818,418.809600195602,-13582.810403422216]
[53,63.3625636595999,-149.137061251999,{"$f":"lcpx(B1656,C1656,63,-115,70,60)","v":-1614.4710091766726},{"$f":"lcpy(B1656,C1656,63,-115,70,60)","v":487.58371577262005},{"$f":"Q_d!$C$11","v":0},{"$f":"Q_d!$C$12","v":0},{"$f":"lcpx(F1656,G1656,63,-115,70,60)","v":11233.589832572825},{"$f":"lcpy(F1656,G1656,63,-115,70,60)","v":6052.604465817868},{"$f":"SQRT((H1656-D1656)^2+(I1656-E1656)^2)","v":14001.504324240697},418.82925294802402,-13582.675071292673]
[53,63.3625636595999,-149.133061252999,-1614.3006342550893,487.48143875779351,{"$f":"Q_d!$C$11","v":0},{"$f":"Q_d!$C$12","v":0},11233.589832572825,6052.604465817868,14001.388636628935,418.850399300275,-13582.538237328661]
[53,63.182873663199899,-152.425838921999,-1763.4204103711454,558.77443585409128,{"$f":"Q_d!$C$11","v":0},{"$f":"Q_d!$C$12","v":0},11233.589832572825,6052.604465817868,14110.437401204907,418.86714799921901,-13691.570253205688]
[53,63.3625636611999,-149.12906125200001,-1614.1302526778563,487.37917263793224,{"$f":"Q_d!$C$11","v":0},{"$f":"Q_d!$C$12","v":0},11233.589832572825,6052.604465817868,14001.272940443791,418.87103807496601,-13582.401902368825]
[53,63.3625636615999,-149.125061254,-1613.9598648182225,487.27691727520369,{"$f":"Q_d!$C$11","v":0},{"$f":"Q_d!$C$12","v":0},11233.589832572825,6052.604465817868,14001.157236082332,418.89157234778497,-13582.265663734546]
[53,63.3625636628,-149.12106125099899,-1613.7894702220442,487.17467265554797,{"$f":"Q_d!$C$11","v":0},{"$f":"Q_d!$C$12","v":0},11233.589832572825,6052.604465817868,14001.041523133226,418.912397391149,-13582.129125742078]
[53,63.3625636632,-149.11706125200001,-1613.6190693647529,487.07243885746402,{"$f":"Q_d!$C$11","v":0},{"$f":"Q_d!$C$12","v":0},11233.589832572825,6052.604465817868,14000.925802001315,418.93331521854401,-13581.99248678277]
[53,63.3625636644,-149.113061251999,-1613.448661942648,486.97021590549139,{"$f":"Q_d!$C$11","v":0},{"$f":"Q_d!$C$12","v":0},11233.589832572825,6052.604465817868,14000.810072397957,418.95492847918598,-13581.85514391877]
[53,63.3625636652,-149.109061252,-1613.2782480675892,486.86800371168147,{"$f":"Q_d!$C$11","v":0},{"$f":"Q_d!$C$12","v":0},11233.589832572825,6052.604465817868,14000.694334460552,418.97603220828699,-13581.718302252264]
[53,63.3625636648,-149.108903502,-1613.2715272622622,486.86397289856677,{"$f":"Q_d!$C$11","v":0},{"$f":"Q_d!$C$12","v":0},11233.589832572825,6052.604465817868,14000.68976991296,418.97706271346101,-13581.7127071995]
[53,63.362563666,-149.104903503999,-1613.1011067190277,486.76177201613791,{"$f":"Q_d!$C$11","v":0},{"$f":"Q_d!$C$12","v":0},11233.589832572825,6052.604465817868,14000.574023297386,418.99746553052,-13581.576557766866]
[53,63.3625636656,-149.100903501999,-1612.9306796221376,486.65958167644339,{"$f":"Q_d!$C$11","v":0},{"$f":"Q_d!$C$12","v":0},11233.589832572825,6052.604465817868,14000.458268340575,419.01936258125301,-13581.438905759322]
[53,63.362563666,-149.09690350100001,-1612.7602460485391,486.55740223571593,{"$f":"Q_d!$C$11","v":0},{"$f":"Q_d!$C$12","v":0},11233.589832572825,6052.604465817868,14000.342504971321,419.04074891351502,{"$f":"K1668-J1668","v":-13581.301756057805}]
[53,63.3625636672,-149.092903503,-1612.5898060840705,486.45523374539516,{"$f":"Q_d!$C$11","v":0},{"$f":"Q_d!$C$12","v":0},11233.589832572825,6052.604465817868,14000.226733247715,419.06283250247799,-13581.163900745238]
[53,63.3625636684,-149.088903504,-1612.4193596046077,486.35307602771309,{"$f":"Q_d!$C$11","v":0},{"$f":"Q_d!$C$12","v":0},11233.589832572825,6052.604465817868,14000.110953126334,419.084404592917,-13581.026548533417]
[53,63.3625636684,-149.084903502,-1612.2489065939476,486.25092891796021,{"$f":"Q_d!$C$11","v":0},{"$f":"Q_d!$C$12","v":0},11233.589832572825,6052.604465817868,13999.99516465759,419.10587867148797,-13580.889285986103]
[53,63.362563669700002,-149.08090350200001,-1612.078447123444,486.14879278185117,{"$f":"Q_d!$C$11","v":0},{"$f":"Q_d!$C$12","v":0},11233.589832572825,6052.604465817868,13999.879367761343,419.12763674684999,-13580.751731014492]
[53,63.362563670500002,-149.076903501999,-1611.9079812110342,486.04666739760614,{"$f":"Q_d!$C$11","v":0},{"$f":"Q_d!$C$12","v":0},11233.589832572825,6052.604465817868,13999.763562542024,419.14948746360102,-13580.614075078423]
[53,63.186873662499899,-152.42583892299899,-1763.1727762228581,559.14208169207404,{"$f":"Q_d!$C$11","v":0},{"$f":"Q_d!$C$12","v":0},11233.589832572825,6052.604465817868,14110.066168349269,419.28468042727201,-13690.781487921997]
[53,63.365001182699899,-149.07691168100001,-1611.7695305406512,486.27857382146158,{"$f":"Q_d!$C$11","v":0},{"$f":"Q_d!$C$12","v":0},11233.589832572825,6052.604465817868,13999.544317706795,419.41826813814299,-13580.126049568653]
[53,63.1893114951,-152.425838924999,-1763.0218538860261,559.36614610396828,{"$f":"Q_d!$C$11","v":0},{"$f":"Q_d!$C$12","v":0},11233.589832572825,6052.604465817868,14109.839919920141,419.53886763445399,-13690.301052285688]
[53,63.369001160099899,-149.07692510000001,-1611.5423319994497,486.65913335750611,{"$f":"Q_d!$C$11","v":0},{"$f":"Q_d!$C$12","v":0},11233.589832572825,6052.604465817868,13999.184539438949,419.85890510265398,-13579.325634336295]
[53,63.193311495700002,-152.42583892900001,-1762.7742207057099,559.73379077327536,{"$f":"Q_d!$C$11","v":0},{"$f":"Q_d!$C$12","v":0},11233.589832572825,6052.604465817868,14109.468695103844,419.95527159210599,-13689.513423511738]
[53,63.373001137800003,-149.07693852099899,-1611.3151338456855,487.03969207336513,{"$f":"Q_d!$C$11","v":0},{"$f":"Q_d!$C$12","v":0},11233.589832572825,6052.604465817868,13998.824766639114,420.29875247614001,-13578.526014162975]
[53,63.197311494200001,-152.42583893400001,-1762.5265882694439,560.10143442719709,{"$f":"Q_d!$C$11","v":0},{"$f":"Q_d!$C$12","v":0},11233.589832572825,6052.604465817868,14109.097475526978,420.37294387959798,-13688.72453164738]
[53,63.377001114899898,-149.076951941999,-1611.0879360444419,487.42024983419833,{"$f":"Q_d!$C$11","v":0},{"$f":"Q_d!$C$12","v":0},11233.589832572825,6052.604465817868,13998.464999329191,420.74000710177302,-13577.724992227419]
[53,63.377001114499897,-149.076778050999,-1611.0805290835201,487.41581262504906,{"$f":"Q_d!$C$11","v":0},{"$f":"Q_d!$C$12","v":0},11233.589832572825,6052.604465817868,13998.45996691204,420.74026882389097,-13577.719698088149]
[53,63.377001115299898,-149.07277805000001,-1610.9101434007869,487.31375043443222,{"$f":"Q_d!$C$11","v":0},{"$f":"Q_d!$C$12","v":0},11233.589832572825,6052.604465817868,13998.344201351785,420.76213187262903,-13577.582069479156]
[53,63.377001116499898,-149.06877804800001,-1610.7397511869851,487.21169905104625,{"$f":"Q_d!$C$11","v":0},{"$f":"Q_d!$C$12","v":0},11233.589832572825,6052.604465817868,13998.228427362797,420.784693672429,-13577.443733690368]
[53,63.201311493799899,-152.42583893700001,-1762.2789562537073,560.46907727779535,{"$f":"Q_d!$C$11","v":0},{"$f":"Q_d!$C$12","v":0},11233.589832572825,6052.604465817868,14108.726260809295,420.79066958524601,-13687.93559122405]
[53,63.377001117299898,-149.064778050999,-1610.5693527439412,487.10965855231643,{"$f":"Q_d!$C$11","v":0},{"$f":"Q_d!$C$12","v":0},11233.589832572825,6052.604465817868,13998.112645191024,420.80674162018801,-13577.305903570836]
[53,63.377001117699898,-149.060778048,-1610.3989476038651,487.00762865811612,{"$f":"Q_d!$C$11","v":0},{"$f":"Q_d!$C$12","v":0},11233.589832572825,6052.604465817868,13997.996854518409,420.82948903564198,-13577.167365482766]
[53,63.377001118099898,-149.056778049999,-1610.2285362131067,486.90560968736327,{"$f":"Q_d!$C$11","v":0},{"$f":"Q_d!$C$12","v":0},11233.589832572825,6052.604465817868,13997.881055627502,420.85172182373202,-13577.02933380377]
[53,63.377001118499898,-149.05277805,-1610.0581182743094,486.80360146202338,{"$f":"Q_d!$C$11","v":0},{"$f":"Q_d!$C$12","v":0},11233.589832572825,6052.604465817868,13997.765248316036,420.87404682398699,-13576.89120149205]
[53,63.3770011193999,-149.048778048999,-1609.8876938021331,486.70160405545812,{"$f":"Q_d!$C$11","v":0},{"$f":"Q_d!$C$12","v":0},11233.589832572825,6052.604465817868,13997.649432568083,420.89707236449101,-13576.752360203593]
[53,63.3770011201999,-149.044778049999,-1609.7172629593554,486.59961748760452,{"$f":"Q_d!$C$11","v":0},{"$f":"Q_d!$C$12","v":0},11233.589832572825,6052.604465817868,13997.533608524869,420.91958211634602,-13576.614026408522]
[53,63.3770011197999,-149.044604157999,-1609.7098536956648,486.59518402799358,{"$f":"Q_d!$C$11","v":0},{"$f":"Q_d!$C$12","v":0},11233.589832572825,6052.604465817868,13997.528573154454,420.92127837043301,-13576.60729478402]
[53,63.3770011205999,-149.040604156999,-1609.5394160259459,486.49320867616643,{"$f":"Q_d!$C$11","v":0},{"$f":"Q_d!$C$12","v":0},11233.589832572825,6052.604465817868,13997.412740327864,420.94388439909602,-13576.468855928768]
[53,63.3770011209999,-149.03660415799899,-1609.3689720040509,486.3912441353209,{"$f":"Q_d!$C$11","v":0},{"$f":"Q_d!$C$12","v":0},11233.589832572825,6052.604465817868,13997.296899233519,420.96658257989998,-13576.330316653619]
[53,63.3770011217999,-149.03260415899899,-1609.1985214999374,486.28929043094695,{"$f":"Q_d!$C$11","v":0},{"$f":"Q_d!$C$12","v":0},11233.589832572825,6052.604465817868,13997.181049741754,420.989982743057,-13576.191066998697]
[53,63.3770011229999,-149.02860415800001,-1609.0280644291111,486.18734751251395,{"$f":"Q_d!$C$11","v":0},{"$f":"Q_d!$C$12","v":0},11233.589832572825,6052.604465817868,13997.065191794933,421.012865554011,-13576.052326240922]
[53,63.3770011242,-149.02460415799899,-1608.8576009427127,486.08541541879094,{"$f":"Q_d!$C$11","v":0},{"$f":"Q_d!$C$12","v":0},11233.589832572825,6052.604465817868,13996.949325516101,421.03645105976199,-13575.912874456339]
[53,63.203749296600002,-152.42583893700001,-1762.1280369373296,560.69313702637555,{"$f":"Q_d!$C$11","v":0},{"$f":"Q_d!$C$12","v":0},11233.589832572825,6052.604465817868,14108.500026126587,421.04472765966301,-13687.455298466924]
[53,63.3770011238,-149.02060415899899,-1608.6871311325458,485.98349399806648,{"$f":"Q_d!$C$11","v":0},{"$f":"Q_d!$C$12","v":0},11233.589832572825,6052.604465817868,13996.833451049622,421.05951844008899,-13575.773932609534]
[53,63.377001125,-149.01660415699899,-1608.5166546468158,485.88158345315196,{"$f":"Q_d!$C$11","v":0},{"$f":"Q_d!$C$12","v":0},11233.589832572825,6052.604465817868,13996.717567991851,421.083289226727,-13575.634278765125]
[53,63.377001137900002,-149.015099509999,-1608.4525255669239,485.84325260285505,{"$f":"Q_d!$C$11","v":0},{"$f":"Q_d!$C$12","v":0},11233.589832572825,6052.604465817868,13996.673973955762,421.09234858163802,-13575.581625374123]
[53,63.378006199700003,-149.01272209000001,-1608.294063949261,485.87828260353353,{"$f":"Q_d!$C$11","v":0},{"$f":"Q_d!$C$12","v":0},11233.589832572825,6052.604465817868,13996.514652249583,421.21666784803199,-13575.297984401552]
[53,63.378593024799898,-149.011017898999,-1608.1880737534216,485.89068815752125,{"$f":"Q_d!$C$11","v":0},{"$f":"Q_d!$C$12","v":0},11233.589832572825,6052.604465817868,13996.412471694395,421.29100457640902,-13575.121467117986]
[53,63.379349239900002,-149.00852331799899,-1608.0387711689593,485.89907855787214,{"$f":"Q_d!$C$11","v":0},{"$f":"Q_d!$C$12","v":0},11233.589832572825,6052.604465817868,13996.272148861233,421.38990995276498,-13574.882238908469]
[53,63.379637321600001,-149.007505729,-1607.9790277246309,485.90056358723359,{"$f":"Q_d!$C$11","v":0},{"$f":"Q_d!$C$12","v":0},11233.589832572825,6052.604465817868,13996.216743422883,421.42681248349601,-13574.789930939387]
[53,63.379822849900002,-149.00656785800001,-1607.9285110771286,485.89432538067967,{"$f":"Q_d!$C$11","v":0},{"$f":"Q_d!$C$12","v":0},11233.589832572825,6052.604465817868,13996.172875395061,421.45328754797902,-13574.719587847081]
[53,63.207749297299898,-152.425838940999,-1761.880405812358,561.06077864373856,{"$f":"Q_d!$C$11","v":0},{"$f":"Q_d!$C$12","v":0},11233.589832572825,6052.604465817868,14108.128819403979,421.46156959442902,-13686.66724980955]
[53,63.379949660900003,-149.00597901699899,-1607.8962073974888,485.89139150818983,{"$f":"Q_d!$C$11","v":0},{"$f":"Q_d!$C$12","v":0},11233.589832572825,6052.604465817868,13996.144403600685,421.47050632992102,-13574.673897270764]
[53,63.380050136500003,-149.00530743900001,-1607.8618743329912,485.88384604045859,{"$f":"Q_d!$C$11","v":0},{"$f":"Q_d!$C$12","v":0},11233.589832572825,6052.604465817868,13996.115904044567,421.485610602544,-13574.630293442024]
[53,63.3802224366,-149.003888351999,-1607.7916003958064,485.8640975215958,{"$f":"Q_d!$C$11","v":0},{"$f":"Q_d!$C$12","v":0},11233.589832572825,6052.604465817868,13996.059282348402,421.513455111459,-13574.545827236943]
[53,63.380395751499897,-149.00195794499899,-1607.6994759569272,485.83142731676253,{"$f":"Q_d!$C$11","v":0},{"$f":"Q_d!$C$12","v":0},11233.589832572825,6052.604465817868,13995.987752479043,421.54372118322402,-13574.44403129582]
[53,63.380628015299898,-148.99969846600001,-1607.5899757162574,485.79598890266743,{"$f":"Q_d!$C$11","v":0},{"$f":"Q_d!$C$12","v":0},11233.589832572825,6052.604465817868,13995.901381742662,421.58284465689502,-13574.318537085766]
[53,63.381247835099899,-148.99536473500001,-1607.3700449648936,485.74461335533579,{"$f":"Q_d!$C$11","v":0},{"$f":"Q_d!$C$12","v":0},11233.589832572825,6052.604465817868,13995.720031262867,421.67661909690901,-13574.043412165958]
[53,63.381977386700001,-148.98963984400001,-1607.0845851464376,485.66828353152732,{"$f":"Q_d!$C$11","v":0},{"$f":"Q_d!$C$12","v":0},11233.589832572825,6052.604465817868,13995.488485919981,421.79204365777201,-13573.69644226221]
[53,63.382121691199899,-148.98859820300001,-1607.0319889271241,485.65549856916959,{"$f":"Q_d!$C$11","v":0},{"$f":"Q_d!$C$12","v":0},11233.589832572825,6052.604465817868,13995.445315056326,421.81369478242402,-13573.631620273902]
[53,63.3823664166,-148.98717741799899,-1606.9575275464445,485.64261822984326,{"$f":"Q_d!$C$11","v":0},{"$f":"Q_d!$C$12","v":0},11233.589832572825,6052.604465817868,13995.382121255805,421.84947127618801,-13573.532649979617]
[53,63.211749296800001,-152.42583894500001,-1761.6327753303103,561.4284193066751,{"$f":"Q_d!$C$11","v":0},{"$f":"Q_d!$C$12","v":0},11233.589832572825,6052.604465817868,14107.757617805002,421.87943366440601,-13685.878184140596]
[53,63.382732431999898,-148.98550599800001,-1606.8654935045649,485.63490021651478,{"$f":"Q_d!$C$11","v":0},{"$f":"Q_d!$C$12","v":0},11233.589832572825,6052.604465817868,13995.300751513736,421.89964366896498,-13573.401107844771]
[53,63.383094618900003,-148.98403879700001,-1606.7823822584248,485.6320180694288,{"$f":"Q_d!$C$11","v":0},{"$f":"Q_d!$C$12","v":0},11233.589832572825,6052.604465817868,13995.225644819044,421.94903746898098,-13573.276607350062]
[53,63.383443188000001,-148.98279571500001,{"$f":"lcpx(B1720,C1720,63,-115,70,60)","v":-1606.7095980629545},{"$f":"lcpy(B1720,C1720,63,-115,70,60)","v":485.63354603394055},{"$f":"Q_d!$C$11","v":0},{"$f":"Q_d!$C$12","v":0},{"$f":"lcpx(F1720,G1720,63,-115,70,60)","v":11233.589832572825},{"$f":"lcpy(F1720,G1720,63,-115,70,60)","v":6052.604465817868},{"$f":"SQRT((H1720-D1720)^2+(I1720-E1720)^2)","v":13995.158258844573},421.99466602434597,-13573.163592820227]
[53,63.383896230700003,-148.981475367,-1606.6275872238234,485.64304927511284,{"$f":"Q_d!$C$11","v":0},{"$f":"Q_d!$C$12","v":0},11233.589832572825,6052.604465817868,13995.079235249974,422.052932828336,-13573.026302421638]
[53,63.384327524299898,-148.980210134,-1606.5491619631248,485.65188793424022,{"$f":"Q_d!$C$11","v":0},{"$f":"Q_d!$C$12","v":0},11233.589832572825,6052.604465817868,13995.003765751828,422.10717189950702,-13572.896593852322]
[53,63.384995214500002,-148.97828738600001,-1606.4292862394088,485.66649046597377,{"$f":"Q_d!$C$11","v":0},{"$f":"Q_d!$C$12","v":0},11233.589832572825,6052.604465817868,13994.887973573734,422.19275510600602,-13572.695218467728]
[53,63.3851064714,-148.97796056799899,-1606.4090375092319,485.66876050973269,{"$f":"Q_d!$C$11","v":0},{"$f":"Q_d!$C$12","v":0},11233.589832572825,6052.604465817868,13994.868492799178,422.20662627201801,-13572.66186652716]
[53,63.215749297099897,-152.425838948999,-1761.3851453661005,561.79605920053336,{"$f":"Q_d!$C$11","v":0},{"$f":"Q_d!$C$12","v":0},11233.589832572825,6052.604465817868,14107.386421142592,422.29710300213998,-13685.089318140452]
[53,63.218187202499898,-152.42583895000001,-1761.2342209890226,562.02012655177259,{"$f":"Q_d!$C$11","v":0},{"$f":"Q_d!$C$12","v":0},11233.589832572825,6052.604465817868,14107.160187990483,422.55152358617698,-13684.608664404306]
[53,63.252357363199899,-152.204180261,-1749.9392921785943,559.00100746024964,{"$f":"Q_d!$C$11","v":0},{"$f":"Q_d!$C$12","v":0},11233.589832572825,6052.604465817868,14097.932738204816,422.58717683928802,-13675.345561365528]
[53,63.2492496387,-152.23399012100001,-1751.3665861620568,559.54130744832855,{"$f":"Q_d!$C$11","v":0},{"$f":"Q_d!$C$12","v":0},11233.589832572825,6052.604465817868,14099.036706749896,422.71746482254503,-13676.319241927351]
[53,63.245672073599899,-152.26639615900001,-1752.930333588271,560.11119146277269,{"$f":"Q_d!$C$11","v":0},{"$f":"Q_d!$C$12","v":0},11233.589832572825,6052.604465817868,14100.254905318016,422.84548983523501,-13677.40941548278]
[53,63.391438721199897,-148.977959510999,-1606.0493636248109,486.2712019515925,{"$f":"Q_d!$C$11","v":0},{"$f":"Q_d!$C$12","v":0},11233.589832572825,6052.604465817868,13994.298863928798,422.90355066965299,-13571.395313259145]
[53,63.222187202100002,-152.425838951999,-1760.9865918962248,562.38776497302433,{"$f":"Q_d!$C$11","v":0},{"$f":"Q_d!$C$12","v":0},11233.589832572825,6052.604465817868,14106.78899940034,422.96855613863301,-13683.820443261708]
[53,63.242323195300003,-152.29839127400001,-1754.4628163236125,560.69161860585564,{"$f":"Q_d!$C$11","v":0},{"$f":"Q_d!$C$12","v":0},11233.589832572825,6052.604465817868,14101.440292816833,422.99810596502601,{"$f":"K1732-J1732","v":-13678.442186851807}]
[53,63.238834390100003,-152.33059548700001,-1756.0124663187323,561.2658683940931,{"$f":"Q_d!$C$11","v":0},{"$f":"Q_d!$C$12","v":0},11233.589832572825,6052.604465817868,14102.643988803125,423.146538194512,-13679.497450608613]
[53,63.236548223699899,-152.351229912999,-1757.008453297153,561.62961526627532,{"$f":"Q_d!$C$11","v":0},{"$f":"Q_d!$C$12","v":0},11233.589832572825,6052.604465817868,14103.419749629453,423.24061871469701,-13680.179130914756]
[53,63.226187202399899,-152.42583895600001,-1760.7389634075028,562.75540267628594,{"$f":"Q_d!$C$11","v":0},{"$f":"Q_d!$C$12","v":0},11233.589832572825,6052.604465817868,14106.417815807104,423.38636147731501,-13683.03145432979]
[53,63.236512261199898,-152.36257481300001,-1757.4805555546354,561.94205781194432,{"$f":"Q_d!$C$11","v":0},{"$f":"Q_d!$C$12","v":0},11233.589832572825,6052.604465817868,14103.732963579947,423.42193668372897,-13680.311026896217]
[53,63.230187202000003,-152.425838959,-1760.4913354840194,563.12303945084159,{"$f":"Q_d!$C$11","v":0},{"$f":"Q_d!$C$12","v":0},11233.589832572825,6052.604465817868,14106.046637257303,423.80446723105598,-13682.242170026248]
[53,63.236337194500003,-152.394586126999,-1758.8169149114544,562.81735404035089,{"$f":"Q_d!$C$11","v":0},{"$f":"Q_d!$C$12","v":0},11233.589832572825,6052.604465817868,14104.623200380562,423.928246147859,-13680.694954232702]
[53,63.232624944999898,-152.425838962,-1760.3404224839753,563.34709008982099,{"$f":"Q_d!$C$11","v":0},{"$f":"Q_d!$C$12","v":0},11233.589832572825,6052.604465817868,14105.820430243157,424.05900274608001,-13681.761427497077]
[53,63.281543012900002,-152.114737880999,-1744.4355774101061,559.21587204035859,{"$f":"Q_d!$C$11","v":0},{"$f":"Q_d!$C$12","v":0},11233.589832572825,6052.604465817868,14092.78048450367,424.33605522627897,-13668.444429277391]
[53,63.2816250829,-152.11509939800001,-1744.445521922665,559.23342812401506,{"$f":"Q_d!$C$11","v":0},{"$f":"Q_d!$C$12","v":0},11233.589832572825,6052.604465817868,14092.782799018387,424.35043847391,-13668.432360544477]
[53,63.281898060300001,-152.115707786,-1744.453969189228,559.27540859552118,{"$f":"Q_d!$C$11","v":0},{"$f":"Q_d!$C$12","v":0},11233.589832572825,6052.604465817868,14092.774214163008,424.388104133468,-13668.38611002954]
[53,63.281972430899899,-152.116187639,-1744.4692922748516,559.29552431973252,{"$f":"Q_d!$C$11","v":0},{"$f":"Q_d!$C$12","v":0},11233.589832572825,6052.604465817868,14092.780484162286,424.40297386446201,-13668.377510297823]
[53,63.282185866699898,-152.11589827700001,-1744.4441798166379,559.30721014058463,{"$f":"Q_d!$C$11","v":0},{"$f":"Q_d!$C$12","v":0},11233.589832572825,6052.604465817868,14092.752802982437,424.42162759454101,-13668.331175387895]
[53,63.236223219099898,-152.42583896599899,-1760.1176650178106,563.67780345989968,{"$f":"Q_d!$C$11","v":0},{"$f":"Q_d!$C$12","v":0},11233.589832572825,6052.604465817868,14105.486536723478,424.434159041187,-13681.05237768229]
[53,63.282432887799899,-152.11596178100001,-1744.4316322300083,559.33174230154509,{"$f":"Q_d!$C$11","v":0},{"$f":"Q_d!$C$12","v":0},11233.589832572825,6052.604465817868,14092.73168536929,424.448344632182,-13668.283340737107]
[53,63.283328302000001,-152.11781842900001,-1744.4535731224512,559.465604420202,{"$f":"Q_d!$C$11","v":0},{"$f":"Q_d!$C$12","v":0},11233.589832572825,6052.604465817868,14092.699712642283,424.57044293850697,-13668.129269703775]
[53,63.283721923000002,-152.11893896199899,-1744.4758328996663,559.53285867871546,{"$f":"Q_d!$C$11","v":0},{"$f":"Q_d!$C$12","v":0},11233.589832572825,6052.604465817868,14092.693997191391,424.62834860616601,-13668.065648585225]
[53,63.283938010100002,-152.11973977100001,-1744.49574854193,559.57490937051216,{"$f":"Q_d!$C$11","v":0},{"$f":"Q_d!$C$12","v":0},11233.589832572825,6052.604465817868,14092.695947147336,424.66287399300597,-13668.033073154331]
[53,63.2840841031,-152.121022581999,-1744.5399451985852,559.6238243405478,{"$f":"Q_d!$C$11","v":0},{"$f":"Q_d!$C$12","v":0},11233.589832572825,6052.604465817868,14092.71758236578,424.697248558311,-13668.020333807468]
[53,63.284314325499899,-152.12108532100001,-1744.5283962109511,559.64678529678758,{"$f":"Q_d!$C$11","v":0},{"$f":"Q_d!$C$12","v":0},11233.589832572825,6052.604465817868,14092.697997200014,424.722433220803,-13667.975563979211]
[53,63.284563984800002,-152.121533701999,-1744.5316378553568,559.68219383905443,{"$f":"Q_d!$C$11","v":0},{"$f":"Q_d!$C$12","v":0},11233.589832572825,6052.604465817868,14092.687181201101,424.75607368465,-13667.931107516451]
[53,63.2847507651,-152.12214249600001,-1744.5453929578039,559.7162369792245,{"$f":"Q_d!$C$11","v":0},{"$f":"Q_d!$C$12","v":0},11233.589832572825,6052.604465817868,14092.686579452233,424.78465434146699,-13667.901925110766]
[53,63.285443680299899,-152.12303847800001,-1744.5399426180954,559.80488214628531,{"$f":"Q_d!$C$11","v":0},{"$f":"Q_d!$C$12","v":0},11233.589832572825,6052.604465817868,14092.647009276854,424.87069958753301,-13667.776309689321]
[53,63.285514882599898,-152.123005102999,-1744.5341829125398,559.81052497359724,{"$f":"Q_d!$C$11","v":0},{"$f":"Q_d!$C$12","v":0},11233.589832572825,6052.604465817868,14092.639505709833,424.877878107345,-13667.761627602487]
[53,63.285949696800003,-152.123581416999,-1744.531344898732,559.86653951496783,{"$f":"Q_d!$C$11","v":0},{"$f":"Q_d!$C$12","v":0},11233.589832572825,6052.604465817868,14092.615059817039,424.93240078393598,-13667.682659033102]
[53,63.286656751499898,-152.124092020999,-1744.5090492404672,559.94583901963233,{"$f":"Q_d!$C$11","v":0},{"$f":"Q_d!$C$12","v":0},11233.589832572825,6052.604465817868,14092.563619748697,425.01439338568201,-13667.549226363015]
[53,63.286800704999898,-152.124059052999,-1744.4988347193112,559.95820076504606,{"$f":"Q_d!$C$11","v":0},{"$f":"Q_d!$C$12","v":0},11233.589832572825,6052.604465817868,14092.549394949634,425.02999431216602,-13667.519400637468]
[53,63.287047817400001,-152.12421849699899,-1744.4902543118633,559.98539018856081,{"$f":"Q_d!$C$11","v":0},{"$f":"Q_d!$C$12","v":0},11233.589832572825,6052.604465817868,14092.530895888071,425.05815452711801,-13667.472741360953]
[53,63.287654849500001,-152.12505006000001,-1744.4874071985339,560.06433478683039,{"$f":"Q_d!$C$11","v":0},{"$f":"Q_d!$C$12","v":0},11233.589832572825,6052.604465817868,14092.497505142863,425.13471891154597,-13667.362786231317]
[53,63.287872432299899,-152.12552943200001,-1744.4939005131955,560.09764087307485,{"$f":"Q_d!$C$11","v":0},{"$f":"Q_d!$C$12","v":0},11233.589832572825,6052.604465817868,14092.49050399031,425.16462992233897,-13667.32587406797]
[53,63.288161737400003,-152.12645913,-1744.5146479866389,560.15000220319371,{"$f":"Q_d!$C$11","v":0},{"$f":"Q_d!$C$12","v":0},11233.589832572825,6052.604465817868,14092.489203231571,425.209424807353,-13667.279778424218]
[53,63.2884387743999,-152.126329881999,-1744.492262497834,560.17197350445349,{"$f":"Q_d!$C$11","v":0},{"$f":"Q_d!$C$12","v":0},11233.589832572825,6052.604465817868,14092.460024744216,425.23679133042998,-13667.223233413786]
[53,63.288896489300001,-152.12632837199899,-1744.4640649858322,560.21413250126443,{"$f":"Q_d!$C$11","v":0},{"$f":"Q_d!$C$12","v":0},11233.589832572825,6052.604465817868,14092.417625852815,425.28503894799701,-13667.132586904818]
[53,63.289084388299898,-152.12623049800001,-1744.4484590391412,560.22875235386255,{"$f":"Q_d!$C$11","v":0},{"$f":"Q_d!$C$12","v":0},11233.589832572825,6052.604465817868,14092.397556001451,425.30302590623501,-13667.094530095217]
[53,63.289606521000003,-152.125747426,-1744.3963452215767,560.2635457499714,{"$f":"Q_d!$C$11","v":0},{"$f":"Q_d!$C$12","v":0},11233.589832572825,6052.604465817868,14092.336002709942,425.35142337836299,-13666.98457933158]
[53,63.289880703999899,-152.125746542,-1744.3794552815139,560.28880078248267,{"$f":"Q_d!$C$11","v":0},{"$f":"Q_d!$C$12","v":0},11233.589832572825,6052.604465817868,14092.310605464369,425.38023876057002,-13666.930366703798]
[53,63.2905612813,-152.126287977999,-1744.3600592653702,560.36650806742273,{"$f":"Q_d!$C$11","v":0},{"$f":"Q_d!$C$12","v":0},11233.589832572825,6052.604465817868,14092.262457803494,425.46041570162498,-13666.802042101868]
[53,63.291050433199899,-152.12638286500001,-1744.3339240833004,560.41422868285099,{"$f":"Q_d!$C$11","v":0},{"$f":"Q_d!$C$12","v":0},11233.589832572825,6052.604465817868,14092.21979087967,425.51412977714301,-13666.705661102527]
[53,63.291340165400001,-152.126638356999,-1744.3267020707221,560.4480000981448,{"$f":"Q_d!$C$11","v":0},{"$f":"Q_d!$C$12","v":0},11233.589832572825,6052.604465817868,14092.199978148243,425.54871228215399,-13666.651265866089]
[53,63.291702123900002,-152.127118389999,-1744.324344712332,560.49463396766123,{"$f":"Q_d!$C$11","v":0},{"$f":"Q_d!$C$12","v":0},11233.589832572825,6052.604465817868,14092.179632621945,425.59336563555502,-13666.586266986389]
[53,63.291773738700002,-152.127117470999,-1744.3199045193603,560.50121130336083,{"$f":"Q_d!$C$11","v":0},{"$f":"Q_d!$C$12","v":0},11233.589832572825,6052.604465817868,14092.172980146141,425.601502522018,-13666.571477624122]
[53,63.291846264599897,-152.12727733899899,-1744.3220709969471,560.51231473287771,{"$f":"Q_d!$C$11","v":0},{"$f":"Q_d!$C$12","v":0},11233.589832572825,6052.604465817868,14092.17064801684,425.611186625774,-13666.559461391065]
[53,63.292482405599898,-152.12775668,-1744.3028300881147,560.58420805189417,{"$f":"Q_d!$C$11","v":0},{"$f":"Q_d!$C$12","v":0},11233.589832572825,6052.604465817868,14092.12490986581,425.68589954213797,-13666.439010323673]
[53,63.293278841499898,-152.128876856999,-1744.3002879064984,560.68858372814839,{"$f":"Q_d!$C$11","v":0},{"$f":"Q_d!$C$12","v":0},11233.589832572825,6052.604465817868,14092.081891444717,425.78613590980098,-13666.295755534917]
[53,63.293596921499898,-152.129516655999,-1744.3072446824794,560.73558501996604,{"$f":"Q_d!$C$11","v":0},{"$f":"Q_d!$C$12","v":0},11233.589832572825,6052.604465817868,14092.069981081848,425.82917798220399,-13666.240803099643]
[53,63.293740220700002,-152.13031879100001,-1744.3316713016288,560.77095722563627,{"$f":"Q_d!$C$11","v":0},{"$f":"Q_d!$C$12","v":0},11233.589832572825,6052.604465817868,14092.078691478535,425.85586600632797,-13666.222825472207]
[53,63.293929702200003,-152.13105602900001,-1744.3505693570112,560.80879439314458,{"$f":"Q_d!$C$11","v":0},{"$f":"Q_d!$C$12","v":0},11233.589832572825,6052.604465817868,14092.081349918546,425.88685916919297,-13666.194490749353]
[53,63.2941302780999,-152.131697,-1744.3647961388085,560.84499481090506,{"$f":"Q_d!$C$11","v":0},{"$f":"Q_d!$C$12","v":0},11233.589832572825,6052.604465817868,14092.080344374013,425.91832307380201,-13666.162021300212]
[53,63.294264328499899,-152.132210194999,-1744.3778181102341,560.87153187318381,{"$f":"Q_d!$C$11","v":0},{"$f":"Q_d!$C$12","v":0},11233.589832572825,6052.604465817868,14092.081995218046,425.93953118371098,-13666.142464034336]
[53,63.294366757299898,-152.13358948499899,-1744.4286674873172,560.91908273977651,{"$f":"Q_d!$C$11","v":0},{"$f":"Q_d!$C$12","v":0},11233.589832572825,6052.604465817868,14092.11029387071,425.97098446959899,-13666.139309401111]
[53,63.294464683999898,-152.134167426999,-1744.4465918860028,560.9440787058179,{"$f":"Q_d!$C$11","v":0},{"$f":"Q_d!$C$12","v":0},11233.589832572825,6052.604465817868,14092.117060326873,425.98981194976898,-13666.127248377104]
[53,63.294609633299899,-152.134391187999,-1744.446951064667,560.96362401815668,{"$f":"Q_d!$C$11","v":0},{"$f":"Q_d!$C$12","v":0},11233.589832572825,6052.604465817868,14092.109774365597,426.00802289393499,-13666.101751471662]
[53,63.294796360200003,-152.13500011299899,{"$f":"lcpx(B1784,C1784,63,-115,70,60)","v":-1744.4606990782486},{"$f":"lcpy(B1784,C1784,63,-115,70,60)","v":560.997662604776},{"$f":"Q_d!$C$11","v":0},{"$f":"Q_d!$C$12","v":0},{"$f":"lcpx(F1784,G1784,63,-115,70,60)","v":11233.589832572825},{"$f":"lcpy(F1784,G1784,63,-115,70,60)","v":6052.604465817868},{"$f":"SQRT((H1784-D1784)^2+(I1784-E1784)^2)","v":14092.109170851078},426.03661900123001,-13666.072551849848]
[53,63.2949457178999,-152.135930454999,-1744.490060299943,561.03713685541697,{"$f":"Q_d!$C$11","v":0},{"$f":"Q_d!$C$12","v":0},11233.589832572825,6052.604465817868,14092.120828119385,426.066406432142,-13666.054421687242]
[53,63.29518848,-152.13663505700001,-1744.5043257717266,561.07898493633184,{"$f":"Q_d!$C$11","v":0},{"$f":"Q_d!$C$12","v":0},11233.589832572825,6052.604465817868,14092.117658110443,426.10267422066198,-13666.014983889781]
[53,63.295623736099898,-152.13733995000001,-1744.506767265048,561.13858661268432,{"$f":"Q_d!$C$11","v":0},{"$f":"Q_d!$C$12","v":0},11233.589832572825,6052.604465817868,14092.096680664596,426.15865804298699,-13665.938022621609]
[53,63.2958264650999,-152.13753091000001,-1744.5022136725156,561.16255194709311,{"$f":"Q_d!$C$11","v":0},{"$f":"Q_d!$C$12","v":0},11233.589832572825,6052.604465817868,14092.083148145035,426.18280289213902,-13665.900345252896]
[53,63.296243893099899,-152.13752959799899,-1744.476494028519,561.20099730605807,{"$f":"Q_d!$C$11","v":0},{"$f":"Q_d!$C$12","v":0},11233.589832572825,6052.604465817868,14092.044480189779,426.22759477302702,-13665.816885416752]
[53,63.296881544900003,-152.13688475000001,-1744.4105748527747,561.24196435147587,{"$f":"Q_d!$C$11","v":0},{"$f":"Q_d!$C$12","v":0},11233.589832572825,6052.604465817868,14091.967807856015,426.28474726877101,-13665.683060587244]
[53,63.297312806999898,-152.13691551599899,-1744.3853339046207,561.28257154891071,{"$f":"Q_d!$C$11","v":0},{"$f":"Q_d!$C$12","v":0},11233.589832572825,6052.604465817868,14091.928738401386,426.33117315063799,-13665.597565250748]
[53,63.2982658472,-152.13803521200001,-1744.3731200682275,561.40136495422576,{"$f":"Q_d!$C$11","v":0},{"$f":"Q_d!$C$12","v":0},11233.589832572825,6052.604465817868,14091.871199207653,426.448655902442,-13665.422543305211]
[53,63.298583808799897,-152.137777572,-1744.3428978781849,561.42355882938136,{"$f":"Q_d!$C$11","v":0},{"$f":"Q_d!$C$12","v":0},11233.589832572825,6052.604465817868,14091.834717643636,426.47858065089201,-13665.356136992745]
[53,63.2988434369,-152.13777615000001,-1744.3268758379986,561.44745388976571,{"$f":"Q_d!$C$11","v":0},{"$f":"Q_d!$C$12","v":0},11233.589832572825,6052.604465817868,14091.810650874357,426.50614640588702,-13665.30450446847]
[53,63.299378960399899,-152.13799939800001,-1744.3031968115918,561.50298984984966,{"$f":"Q_d!$C$11","v":0},{"$f":"Q_d!$C$12","v":0},11233.589832572825,6052.604465817868,14091.767202928197,426.566379834369,-13665.200823093828]
[53,63.299566376199898,-152.137773197999,-1744.2823039212867,561.51401795425136,{"$f":"Q_d!$C$11","v":0},{"$f":"Q_d!$C$12","v":0},11233.589832572825,6052.604465817868,14091.743664210235,426.58291157640099,{"$f":"K1796-J1796","v":-13665.160752633834}]
[53,63.2998985199999,-152.137129931,-1744.2352370167398,561.5268663499578,{"$f":"Q_d!$C$11","v":0},{"$f":"Q_d!$C$12","v":0},11233.589832572825,6052.604465817868,14091.695311077572,426.607818967257,-13665.087492110315]
[53,63.300130627000001,-152.136808758999,-1744.2076628010445,561.53939119088591,{"$f":"Q_d!$C$11","v":0},{"$f":"Q_d!$C$12","v":0},11233.589832572825,6052.604465817868,14091.665035925333,426.62826717061301,-13665.03676875472]
[53,63.301225998500001,-152.13616260800001,-1744.1135522546122,561.62252180173436,{"$f":"Q_d!$C$11","v":0},{"$f":"Q_d!$C$12","v":0},11233.589832572825,6052.604465817868,14091.545971044934,426.73464301835099,-13664.811328026582]
[53,63.301415216099898,-152.13625790699899,-1744.105866026596,561.64259800413674,{"$f":"Q_d!$C$11","v":0},{"$f":"Q_d!$C$12","v":0},11233.589832572825,6052.604465817868,14091.531069377463,426.75609455519202,-13664.77497482227]
[53,63.301774137599899,-152.136320697,-1744.0863994291051,561.67742087304305,{"$f":"Q_d!$C$11","v":0},{"$f":"Q_d!$C$12","v":0},11233.589832572825,6052.604465817868,14091.499572280245,426.79506225119297,-13664.704510029052]
[53,63.302079241000001,-152.136286729999,-1744.0662340645583,561.70460955896169,{"$f":"Q_d!$C$11","v":0},{"$f":"Q_d!$C$12","v":0},11233.589832572825,6052.604465817868,14091.470406433607,426.82664865844498,-13664.643757775162]
[53,63.302887408799897,-152.135673994,-1743.9911677747466,561.76218806055385,{"$f":"Q_d!$C$11","v":0},{"$f":"Q_d!$C$12","v":0},11233.589832572825,6052.604465817868,14091.378837423588,426.90365232918703,-13664.475185094401]
[53,63.3031742055,-152.13560805,-1743.9708038633346,561.786806039564,{"$f":"Q_d!$C$11","v":0},{"$f":"Q_d!$C$12","v":0},11233.589832572825,6052.604465817868,14091.350490471472,426.93265123318901,-13664.417839238284]
[53,63.303539231000002,-152.13580027200001,-1743.956322897998,561.82576678381929,{"$f":"Q_d!$C$11","v":0},{"$f":"Q_d!$C$12","v":0},11233.589832572825,6052.604465817868,14091.321972729938,426.97402544182899,-13664.34794728811]
[53,63.303797292200002,-152.136119342,-1743.9536716876337,561.85837024311513,{"$f":"Q_d!$C$11","v":0},{"$f":"Q_d!$C$12","v":0},11233.589832572825,6052.604465817868,14091.306826942709,427.00650721036999,-13664.30031973234]
[53,63.304143605100002,-152.13704903300001,-1743.9708835942529,561.91597561397339,{"$f":"Q_d!$C$11","v":0},{"$f":"Q_d!$C$12","v":0},11233.589832572825,6052.604465817868,14091.300232351183,427.05723502710902,-13664.242997324074]
[53,63.3044488118,-152.13711223600001,-1743.9547360193903,561.94585760267501,{"$f":"Q_d!$C$11","v":0},{"$f":"Q_d!$C$12","v":0},11233.589832572825,6052.604465817868,14091.273717509177,427.08959679439602,-13664.184120714781]
[53,63.304549313700001,-152.13727263300001,-1743.955199652321,561.95955299725938,{"$f":"Q_d!$C$11","v":0},{"$f":"Q_d!$C$12","v":0},11233.589832572825,6052.604465817868,14091.268808099376,427.10272803272898,-13664.166080066647]
[53,63.3050271408,-152.13842674700001,-1743.9736175451196,562.03548073071624,{"$f":"Q_d!$C$11","v":0},{"$f":"Q_d!$C$12","v":0},11233.589832572825,6052.604465817868,14091.256185373899,427.17042338743403,-13664.085761986466]
[53,63.305171286700002,-152.13858707399899,-1743.9713943832917,562.0531974708033,{"$f":"Q_d!$C$11","v":0},{"$f":"Q_d!$C$12","v":0},11233.589832572825,6052.604465817868,14091.247234710712,427.188245162481,-13664.058989548232]
[53,63.305402983599897,-152.13903531899899,-1743.9757115419875,562.08693791041924,{"$f":"Q_d!$C$11","v":0},{"$f":"Q_d!$C$12","v":0},11233.589832572825,6052.604465817868,14091.238063990506,427.21872974390999,-13664.019334246595]
[53,63.305795349299899,-152.13935524799899,-1743.9648354426295,562.13194523818856,{"$f":"Q_d!$C$11","v":0},{"$f":"Q_d!$C$12","v":0},11233.589832572825,6052.604465817868,14091.210510831575,427.26499734239798,-13663.945513489178]
[53,63.3060538955,-152.139802766,-1743.9674707890467,562.16814046439458,{"$f":"Q_d!$C$11","v":0},{"$f":"Q_d!$C$12","v":0},11233.589832572825,6052.604465817868,14091.198834904077,427.29960143206301,-13663.899233472013]
[53,63.306546534100001,-152.14044391100001,-1743.9637300693028,562.23126349258291,{"$f":"Q_d!$C$11","v":0},{"$f":"Q_d!$C$12","v":0},11233.589832572825,6052.604465817868,14091.17079493599,427.36112235555498,-13663.809672580435]
[53,63.306919995599898,-152.14130954300001,-1743.9766123101124,562.28960072367818,{"$f":"Q_d!$C$11","v":0},{"$f":"Q_d!$C$12","v":0},11233.589832572825,6052.604465817868,14091.159929162177,427.41300046910101,-13663.746928693075]
[53,63.306995401400002,-152.141789794,-1743.991862596396,562.30981729294308,{"$f":"Q_d!$C$11","v":0},{"$f":"Q_d!$C$12","v":0},11233.589832572825,6052.604465817868,14091.166097325397,427.42788922226401,-13663.738208103132]
[53,63.307109185100003,-152.142206713999,-1744.0021303092819,562.33182236242192,{"$f":"Q_d!$C$11","v":0},{"$f":"Q_d!$C$12","v":0},11233.589832572825,6052.604465817868,14091.166979868542,427.44583686123298,-13663.721143007309]
[53,63.307209373500001,-152.142431998999,-1744.0052984355095,562.34728081564572,{"$f":"Q_d!$C$11","v":0},{"$f":"Q_d!$C$12","v":0},11233.589832572825,6052.604465817868,14091.163874635755,427.46031631602898,-13663.703558319727]
[53,63.4289733849999,-148.90439395499899,-1600.7858445434595,487.97532102323521,{"$f":"Q_d!$C$11","v":0},{"$f":"Q_d!$C$12","v":0},11233.589832572825,6052.604465817868,13988.791818468526,427.49400153101499,-13561.297816937511]
[53,63.4290142418999,-148.90489294700001,-1600.8047790844882,487.99186232279726,{"$f":"Q_d!$C$11","v":0},{"$f":"Q_d!$C$12","v":0},11233.589832572825,6052.604465817868,13988.802610470793,427.49476805453401,-13561.30784241626]
[53,63.307515864300001,-152.14268720499899,-1743.9970196146749,562.38258307503884,{"$f":"Q_d!$C$11","v":0},{"$f":"Q_d!$C$12","v":0},11233.589832572825,6052.604465817868,14091.142495476302,427.49614418845903,-13663.646351287844]
[53,63.428989741999899,-148.90383183200001,-1600.7609783810112,487.96262645139586,{"$f":"Q_d!$C$11","v":0},{"$f":"Q_d!$C$12","v":0},11233.589832572825,6052.604465817868,13988.774054185709,427.49869102957399,-13561.275363156135]
[53,63.4291277515999,-148.905432684,-1600.8213304823441,488.0163538058323,{"$f":"Q_d!$C$11","v":0},{"$f":"Q_d!$C$12","v":0},11233.589832572825,6052.604465817868,13988.808053536972,427.503836656467,-13561.304216880504]
[53,63.429108719299897,-148.903491715,-1600.7397502134345,487.96533090942285,{"$f":"Q_d!$C$11","v":0},{"$f":"Q_d!$C$12","v":0},11233.589832572825,6052.604465817868,13988.7535020579,427.51469093470899,-13561.23881112319]
[53,63.429325718599898,-148.906011135,-1600.8347429006405,488.04986775556836,{"$f":"Q_d!$C$11","v":0},{"$f":"Q_d!$C$12","v":0},11233.589832572825,6052.604465817868,13988.807027703739,427.521663799625,-13561.285363904113]
[53,63.429256754100003,-148.903306385999,-1600.7234670853911,487.97472633782172,{"$f":"Q_d!$C$11","v":0},{"$f":"Q_d!$C$12","v":0},11233.589832572825,6052.604465817868,13988.734825254553,427.531675294357,-13561.203149960196]
[53,63.429498254899897,-148.906540704999,-1600.8475147643171,488.07972122401634,{"$f":"Q_d!$C$11","v":0},{"$f":"Q_d!$C$12","v":0},11233.589832572825,6052.604465817868,13988.80687034887,427.53713942650597,-13561.269730922364]
[53,63.307933297300004,-152.14268596400001,-1743.9712996501796,562.42102852432936,{"$f":"Q_d!$C$11","v":0},{"$f":"Q_d!$C$12","v":0},11233.589832572825,6052.604465817868,14091.103828860163,427.54094047354101,-13663.562888386623]
[53,63.4293902593,-148.903043658999,-1600.7047114333084,487.98077626170152,{"$f":"Q_d!$C$11","v":0},{"$f":"Q_d!$C$12","v":0},11233.589832572825,6052.604465817868,13988.715210793138,427.54816786532899,-13561.167042927809]
[53,63.429654447300003,-148.90693993100001,-1600.8556620430707,488.10471382971355,{"$f":"Q_d!$C$11","v":0},{"$f":"Q_d!$C$12","v":0},11233.589832572825,6052.604465817868,13988.804403670189,427.55179392443199,-13561.252609745756]
[53,63.429515592500003,-148.902542632999,-1600.6762706922168,487.98000684662611,{"$f":"Q_d!$C$11","v":0},{"$f":"Q_d!$C$12","v":0},11233.589832572825,6052.604465817868,13988.689423201839,427.56553845814,-13561.123884743698]
[53,63.308222683899899,-152.143005369999,-1743.9667305284265,562.45652717406119,{"$f":"Q_d!$C$11","v":0},{"$f":"Q_d!$C$12","v":0},11233.589832572825,6052.604465817868,14091.085789842002,427.575912489232,-13663.50987735277]
[53,63.429599147399898,-148.90220861399899,-1600.6573102087684,487.9794939633025,{"$f":"Q_d!$C$11","v":0},{"$f":"Q_d!$C$12","v":0},11233.589832572825,6052.604465817868,13988.672231465891,427.57654202376398,-13561.095689442127]
[53,63.429952316600001,-148.907314748,-1600.8547386036271,488.14257578707611,{"$f":"Q_d!$C$11","v":0},{"$f":"Q_d!$C$12","v":0},11233.589832572825,6052.604465817868,13988.78849565629,427.58222940739699,-13561.206266248893]
[53,63.308294315399898,-152.14300574000001,-1743.9623410892966,562.46314049096782,{"$f":"Q_d!$C$11","v":0},{"$f":"Q_d!$C$12","v":0},11233.589832572825,6052.604465817868,14091.079170602394,427.58376268749902,-13663.495407914896]
[53,63.429695415399898,-148.90189903300001,-1600.6386699531024,487.98081114941442,{"$f":"Q_d!$C$11","v":0},{"$f":"Q_d!$C$12","v":0},11233.589832572825,6052.604465817868,13988.654605541758,427.58911463810603,-13561.065490903653]
[53,63.308512675700001,-152.142747415999,-1743.9382173478696,562.47613403199784,{"$f":"Q_d!$C$11","v":0},{"$f":"Q_d!$C$12","v":0},11233.589832572825,6052.604465817868,14091.051890684255,427.603069330658,-13663.448821353597]
[53,63.430172997299898,-148.90751643300001,-1600.8508177022359,488.16869922273645,{"$f":"Q_d!$C$11","v":0},{"$f":"Q_d!$C$12","v":0},11233.589832572825,6052.604465817868,13988.774506939344,427.60510994725001,-13561.169396992094]
[53,63.429828010000001,-148.90160981700001,-1600.618838146193,487.98610336577394,{"$f":"Q_d!$C$11","v":0},{"$f":"Q_d!$C$12","v":0},11233.589832572825,6052.604465817868,13988.634305152818,427.60622932903999,-13561.028075823779]
[53,63.430289232200003,-148.907789379999,-1600.8558518548252,488.18668579873065,{"$f":"Q_d!$C$11","v":0},{"$f":"Q_d!$C$12","v":0},11233.589832572825,6052.604465817868,13988.771971017208,427.61613431207201,-13561.155836705137]
[53,63.429961513599899,-148.90134707799899,-1600.6000824648213,487.99215346806932,{"$f":"Q_d!$C$11","v":0},{"$f":"Q_d!$C$12","v":0},11233.589832572825,6052.604465817868,13988.614690597815,427.62210336347198,-13560.992587234343]
[53,63.3086974299,-152.14284414900001,-1743.9308618974699,562.4958368521925,{"$f":"Q_d!$C$11","v":0},{"$f":"Q_d!$C$12","v":0},11233.589832572825,6052.604465817868,14091.037439920743,427.623562084691,-13663.413877836052]
[53,63.430034166600002,-148.90104156500001,-1600.5829540436905,487.99132575161229,{"$f":"Q_d!$C$11","v":0},{"$f":"Q_d!$C$12","v":0},11233.589832572825,6052.604465817868,13988.599304981395,427.63248830040902,-13560.966816680986]
[53,63.430467220799898,-148.908131599,-1600.8603350827102,488.21230793443374,{"$f":"Q_d!$C$11","v":0},{"$f":"Q_d!$C$12","v":0},11233.589832572825,6052.604465817868,13988.765892413378,427.63343681826302,-13561.132455595114]
[53,63.430549849599899,-148.90846361499899,-1600.8697892925582,488.22859277900943,{"$f":"Q_d!$C$11","v":0},{"$f":"Q_d!$C$12","v":0},11233.589832572825,6052.604465817868,13988.768088782866,427.640413604701,-13561.127675178166]
[53,63.430117717599899,-148.90070753500001,-1600.5639935630925,487.99081282227144,{"$f":"Q_d!$C$11","v":0},{"$f":"Q_d!$C$12","v":0},11233.589832572825,6052.604465817868,13988.58211328168,427.64287374513702,-13560.939239536543]
[53,63.430658980399897,-148.908820703999,{"$f":"lcpx(B1848,C1848,63,-115,70,60)","v":-1600.8788087066184},{"$f":"lcpy(B1848,C1848,63,-115,70,60)","v":488.24803645041311},{"$f":"Q_d!$C$11","v":0},{"$f":"Q_d!$C$12","v":0},{"$f":"lcpx(F1848,G1848,63,-115,70,60)","v":11233.589832572825},{"$f":"lcpy(F1848,G1848,63,-115,70,60)","v":6052.604465817868},{"$f":"SQRT((H1848-D1848)^2+(I1848-E1848)^2)","v":13988.768629762533},427.65053008852902,-13561.118099674004]
[53,63.430177654600001,-148.90037757900001,-1600.5465449437531,487.98815499308876,{"$f":"Q_d!$C$11","v":0},{"$f":"Q_d!$C$12","v":0},11233.589832572825,6052.604465817868,13988.567161914458,427.65247555111802,-13560.91468636334]
[53,63.430204895000003,-148.899786914999,-1600.5198467197999,487.97577532476498,{"$f":"Q_d!$C$11","v":0},{"$f":"Q_d!$C$12","v":0},11233.589832572825,6052.604465817868,13988.547591625502,427.65903821268603,-13560.888553412817]
[53,63.430767034399899,-148.909201612999,-1600.8889032998247,488.26798159071905,{"$f":"Q_d!$C$11","v":0},{"$f":"Q_d!$C$12","v":0},11233.589832572825,6052.604465817868,13988.769957764998,427.66002769138902,-13561.10993007361]
[53,63.430778612200001,-148.90926330299899,-1600.8908738612156,488.27064800778498,{"$f":"Q_d!$C$11","v":0},{"$f":"Q_d!$C$12","v":0},11233.589832572825,6052.604465817868,13988.770705099594,427.660357743151,-13561.110347356444]
[53,63.430127673100003,-148.89822879900001,-1600.4578674842403,487.92892596987485,{"$f":"Q_d!$C$11","v":0},{"$f":"Q_d!$C$12","v":0},11233.589832572825,6052.604465817868,13988.509364157519,427.66067147213801,-13560.84869268538]
[53,63.4301040524999,-148.89788662300001,-1600.4446336625404,487.91800332270304,{"$f":"Q_d!$C$11","v":0},{"$f":"Q_d!$C$12","v":0},11233.589832572825,6052.604465817868,13988.501567587367,427.66090192230502,-13560.840665665062]
[53,63.430223959800003,-148.89930419999899,-1600.4982089563791,487.9653539369001,{"$f":"Q_d!$C$11","v":0},{"$f":"Q_d!$C$12","v":0},11233.589832572825,6052.604465817868,13988.531885197901,427.66423100605402,-13560.867654191847]
[53,63.430193981199899,-148.89877667900001,-1600.4774423894728,487.94912742039241,{"$f":"Q_d!$C$11","v":0},{"$f":"Q_d!$C$12","v":0},11233.589832572825,6052.604465817868,13988.519287380408,427.664720790714,-13560.854566589695]
[53,63.309073645600002,-152.143483922,-1743.9342180456003,562.54818811332234,{"$f":"Q_d!$C$11","v":0},{"$f":"Q_d!$C$12","v":0},11233.589832572825,6052.604465817868,14091.020133998205,427.67321825547998,-13663.346915742724]
[53,63.430238457000002,-148.897650343999,-1600.4269542597497,487.92481108415222,{"$f":"Q_d!$C$11","v":0},{"$f":"Q_d!$C$12","v":0},11233.589832572825,6052.604465817868,13988.482639103773,427.67678029675602,-13560.805858807018]
[53,63.430366499000002,-148.897228713,-1600.4017418250928,487.92631487333756,{"$f":"Q_d!$C$11","v":0},{"$f":"Q_d!$C$12","v":0},11233.589832572825,6052.604465817868,13988.458909233575,427.69386913538898,-13560.765040098186]
[53,63.431138724,-148.90930534500001,-1600.8722499058474,488.30599753347042,{"$f":"Q_d!$C$11","v":0},{"$f":"Q_d!$C$12","v":0},11233.589832572825,6052.604465817868,13988.73955689843,427.69976598660799,{"$f":"K1860-J1860","v":-13561.039790911822}]
[53,63.430488187599899,-148.896967988,-1600.3837421048158,487.93129250225684,{"$f":"Q_d!$C$11","v":0},{"$f":"Q_d!$C$12","v":0},11233.589832572825,6052.604465817868,13988.440414904817,427.708964298154,-13560.731450606663]
[53,63.3095215264999,-152.14332219400001,-1743.8999803365195,562.58500717487277,{"$f":"Q_d!$C$11","v":0},{"$f":"Q_d!$C$12","v":0},11233.589832572825,6052.604465817868,14090.974256609958,427.718380584702,-13663.255876025256]
[53,63.4307433805999,-148.896790748,-1600.3617322137861,487.95109779560244,{"$f":"Q_d!$C$11","v":0},{"$f":"Q_d!$C$12","v":0},11233.589832572825,6052.604465817868,13988.41234284757,427.73830176990202,-13560.674041077669]
[53,63.430903214899899,-148.896603335999,-1600.3446931685107,487.96156589067505,{"$f":"Q_d!$C$11","v":0},{"$f":"Q_d!$C$12","v":0},11233.589832572825,6052.604465817868,13988.392545776143,427.75669588447101,-13560.635849891672]
[53,63.3100297943,-152.14270980000001,-1743.8433699345585,562.61494561586551,{"$f":"Q_d!$C$11","v":0},{"$f":"Q_d!$C$12","v":0},11233.589832572825,6052.604465817868,14090.910455235633,427.76244091785298,-13663.14801431778]
[53,63.431800334800002,-148.909246504999,-1600.8322387697217,488.36749262543435,{"$f":"Q_d!$C$11","v":0},{"$f":"Q_d!$C$12","v":0},11233.589832572825,6052.604465817868,13988.678386438312,427.77242882869302,-13560.905957609619]
[53,63.431050333199899,-148.896391480999,-1600.3273338544791,487.97020377342005,{"$f":"Q_d!$C$11","v":0},{"$f":"Q_d!$C$12","v":0},11233.589832572825,6052.604465817868,13988.373182934332,427.77430623636099,-13560.598876697972]
[53,63.3103462443,-152.142419700999,-1743.8118996626242,562.63610418393,{"$f":"Q_d!$C$11","v":0},{"$f":"Q_d!$C$12","v":0},11233.589832572825,6052.604465817868,14090.873228142011,427.792660030533,-13663.080568111478]
[53,63.431241948999897,-148.896092033999,-1600.3037227550878,487.98085840751537,{"$f":"Q_d!$C$11","v":0},{"$f":"Q_d!$C$12","v":0},11233.589832572825,6052.604465817868,13988.347281992823,427.79704710528301,-13560.55023488754]
[53,63.3104169783999,-152.14225917900001,-1743.8009038736202,562.6381911267431,{"$f":"Q_d!$C$11","v":0},{"$f":"Q_d!$C$12","v":0},11233.589832572825,6052.604465817868,14090.862288151566,427.797717190029,-13663.064570961536]
[53,63.431338204299898,-148.895782413999,-1600.2850824574116,487.98217565046889,{"$f":"Q_d!$C$11","v":0},{"$f":"Q_d!$C$12","v":0},11233.589832572825,6052.604465817868,13988.329656069383,427.809791846797,-13560.519864222586]
[53,63.432180155399898,-148.90915144799899,-1600.8066598396308,488.40124238475164,{"$f":"Q_d!$C$11","v":0},{"$f":"Q_d!$C$12","v":0},11233.589832572825,6052.604465817868,13988.641493587311,427.81522551914799,-13560.826268068164]
[53,63.431175613699899,-148.89203122800001,-1600.1345420768164,487.87162156550812,{"$f":"Q_d!$C$11","v":0},{"$f":"Q_d!$C$12","v":0},11233.589832572825,6052.604465817868,13988.235519620666,427.81659088212001,-13560.418928738547]
[53,63.431397385399897,-148.895375658999,-1600.2644064609008,487.97750104864417,{"$f":"Q_d!$C$11","v":0},{"$f":"Q_d!$C$12","v":0},11233.589832572825,6052.604465817868,13988.312546043597,427.818913198095,-13560.493632845502]
[53,63.4312100998999,-148.891652364999,-1600.1164528380157,487.86530360026563,{"$f":"Q_d!$C$11","v":0},{"$f":"Q_d!$C$12","v":0},11233.589832572825,6052.604465817868,13988.22143675571,427.82307324640601,-13560.398363509305]
[53,63.431410980300001,-148.89473405000001,-1600.2363119967715,487.96253366804422,{"$f":"Q_d!$C$11","v":0},{"$f":"Q_d!$C$12","v":0},11233.589832572825,6052.604465817868,13988.29272434911,427.824544944536,-13560.468179404574]
[53,63.431305503399898,-148.892355043999,-1600.1409729234992,487.89219603867787,{"$f":"Q_d!$C$11","v":0},{"$f":"Q_d!$C$12","v":0},11233.589832572825,6052.604465817868,13988.233234879108,427.82869718147703,-13560.40453769763]
[53,63.431439106699898,-148.894169836,-1600.210689989611,487.95091176815595,{"$f":"Q_d!$C$11","v":0},{"$f":"Q_d!$C$12","v":0},11233.589832572825,6052.604465817868,13988.273840239257,427.831287945376,-13560.442552293882]
[53,63.431324499299897,-148.891179778999,-1600.0898440780456,487.8642197709969,{"$f":"Q_d!$C$11","v":0},{"$f":"Q_d!$C$12","v":0},11233.589832572825,6052.604465817868,13988.197455314083,427.83906627141897,-13560.358389042663]
[53,63.431488115599898,-148.89352210499899,-1600.1803278378202,487.93916179091866,{"$f":"Q_d!$C$11","v":0},{"$f":"Q_d!$C$12","v":0},11233.589832572825,6052.604465817868,13988.250658180528,427.841301066178,-13560.409357114349]
[53,63.431449929300001,-148.89275625900001,-1600.1498761754044,487.91611618654224,{"$f":"Q_d!$C$11","v":0},{"$f":"Q_d!$C$12","v":0},11233.589832572825,6052.604465817868,13988.231887569769,427.84253393509101,-13560.389353634679]
[53,63.431366238700001,-148.89066648100001,-1600.0656184699183,487.85518582440136,{"$f":"Q_d!$C$11","v":0},{"$f":"Q_d!$C$12","v":0},11233.589832572825,6052.604465817868,13988.17882303722,427.84692831081497,-13560.331894726405]
[53,63.431385274699899,-148.89018374099899,-1600.0439806144536,487.84476468837647,{"$f":"Q_d!$C$11","v":0},{"$f":"Q_d!$C$12","v":0},11233.589832572825,6052.604465817868,13988.163116803385,427.85136046645903,-13560.311756336927]
[53,63.311025823199898,-152.14190313500001,-1743.7487241160552,562.68448238058363,{"$f":"Q_d!$C$11","v":0},{"$f":"Q_d!$C$12","v":0},11233.589832572825,6052.604465817868,14090.796196080186,427.85665025216099,-13662.939545828025]
[53,63.432590896500002,-148.908844488,-1600.7703054840233,488.43256339844265,{"$f":"Q_d!$C$11","v":0},{"$f":"Q_d!$C$12","v":0},11233.589832572825,6052.604465817868,13988.595680518343,427.86186519132502,-13560.733815327018]
[53,63.431595938999898,-148.889747771999,-1600.0134771591652,487.85377583058926,{"$f":"Q_d!$C$11","v":0},{"$f":"Q_d!$C$12","v":0},11233.589832572825,6052.604465817868,13988.131546181492,427.877677175381,-13560.253869006112]
[53,63.431523069800001,-148.88728320600001,-1599.9126418149758,487.78438300572725,{"$f":"Q_d!$C$11","v":0},{"$f":"Q_d!$C$12","v":0},11233.589832572825,6052.604465817868,13988.066639610604,427.88640977366799,-13560.180229836937]
[53,63.311312317700001,-152.14190209700001,-1743.7310645266923,562.71086346280936,{"$f":"Q_d!$C$11","v":0},{"$f":"Q_d!$C$12","v":0},11233.589832572825,6052.604465817868,14090.769653623425,427.88642246745798,-13662.883231155967]
[53,63.431507587399899,-148.88683306799899,-1599.8943476568752,487.77150228996288,{"$f":"Q_d!$C$11","v":0},{"$f":"Q_d!$C$12","v":0},11233.589832572825,6052.604465817868,13988.054979737988,427.88741915835698,-13560.167560579632]
[53,63.431028610200002,-148.87814970900001,-1599.5516386214913,487.50588048249301,{"$f":"Q_d!$C$11","v":0},{"$f":"Q_d!$C$12","v":0},11233.589832572825,6052.604465817868,13987.846234649178,427.89256931734599,-13559.953665331832]
[53,63.3113838644,-152.141806368999,-1743.7227016819913,562.71481501377866,{"$f":"Q_d!$C$11","v":0},{"$f":"Q_d!$C$12","v":0},11233.589832572825,6052.604465817868,14090.760412047783,427.89282635842301,-13662.867585689361]
[53,63.431064082100001,-148.87848983200001,-1599.5641166536154,487.51787529616331,{"$f":"Q_d!$C$11","v":0},{"$f":"Q_d!$C$12","v":0},11233.589832572825,6052.604465817868,13987.852910455938,427.893867413404,-13559.959043042534]
[53,63.431033974899897,-148.877616058,-1599.5286042859366,487.49287178352051,{"$f":"Q_d!$C$11","v":0},{"$f":"Q_d!$C$12","v":0},11233.589832572825,6052.604465817868,13987.830277369674,427.896715337942,-13559.933562031732]
[53,63.431557475600002,-148.88621180300001,-1599.8650615820284,487.760510239415,{"$f":"Q_d!$C$11","v":0},{"$f":"Q_d!$C$12","v":0},11233.589832572825,6052.604465817868,13988.032483885831,427.89683590790798,-13560.135647977922]
[53,63.4313281616,-148.88230933099899,-1599.7118418552714,487.63979275872225,{"$f":"Q_d!$C$11","v":0},{"$f":"Q_d!$C$12","v":0},11233.589832572825,6052.604465817868,13987.939936934075,427.897876981178,-13560.042059952897]
[53,63.431654791299898,-148.887659963999,-1599.9212250272412,487.80647287757847,{"$f":"Q_d!$C$11","v":0},{"$f":"Q_d!$C$12","v":0},11233.589832572825,6052.604465817868,13988.065726460376,427.89804609976898,-13560.167680360608]
[53,63.431756646499899,-148.889240526999,-1599.9827688283278,487.85622414228965,{"$f":"Q_d!$C$11","v":0},{"$f":"Q_d!$C$12","v":0},11233.589832572825,6052.604465817868,13988.102398419373,427.89929437310298,-13560.20310404627]
[53,63.431353505600001,-148.881665671999,-1599.6829913642932,487.62589804754543,{"$f":"Q_d!$C$11","v":0},{"$f":"Q_d!$C$12","v":0},11233.589832572825,6052.604465817868,13987.918995810134,427.90433855828098,-13560.014657251853]
[53,63.431410848100001,-148.88264128399899,-1599.7212963436416,487.65607737376058,{"$f":"Q_d!$C$11","v":0},{"$f":"Q_d!$C$12","v":0},11233.589832572825,6052.604465817868,13987.942132337334,427.90496463116602,-13560.037167706167]
[53,63.4315919087,-148.885486662999,-1599.8322269463263,487.74541474589705,{"$f":"Q_d!$C$11","v":0},{"$f":"Q_d!$C$12","v":0},11233.589832572825,6052.604465817868,13988.008364883488,427.90560971550701,-13560.102755167982]
[53,63.431754736400002,-148.888148766999,-1599.9363802625026,487.82837621994349,{"$f":"Q_d!$C$11","v":0},{"$f":"Q_d!$C$12","v":0},11233.589832572825,6052.604465817868,13988.07091713837,427.90595359845099,-13560.164963539919]
[53,63.431560020900001,-148.88455990899899,-1599.7945624585091,487.71889573911585,{"$f":"Q_d!$C$11","v":0},{"$f":"Q_d!$C$12","v":0},11233.589832572825,6052.604465817868,13987.984359395907,427.90809951787497,-13560.076259878031]
[53,63.431808365199899,-148.888672219,-1599.9556350690373,487.84674738230842,{"$f":"Q_d!$C$11","v":0},{"$f":"Q_d!$C$12","v":0},11233.589832572825,6052.604465817868,13988.081274246269,427.90824287924102,-13560.173031367029]
[53,63.431526344799899,-148.88392646700001,-1599.7694913402236,487.69963880728255,{"$f":"Q_d!$C$11","v":0},{"$f":"Q_d!$C$12","v":0},11233.589832572825,6052.604465817868,13987.96901878009,427.90877185797399,-13560.060246922116]
[53,63.431217771699899,-148.878759199999,-1599.5668847437871,487.53933546599546,{"$f":"Q_d!$C$11","v":0},{"$f":"Q_d!$C$12","v":0},11233.589832572825,6052.604465817868,13987.846912097186,427.90983990789402,-13559.937072189292]
[53,63.4315144551,-148.883235979999,-1599.7407561884352,487.6810113669253,{"$f":"Q_d!$C$11","v":0},{"$f":"Q_d!$C$12","v":0},11233.589832572825,6052.604465817868,13987.950066193891,427.91271777548201,-13560.037348418409]
[53,63.4313797119,-148.880702227,-1599.6404714107625,487.60398371778456,{"$f":"Q_d!$C$11","v":0},{"$f":"Q_d!$C$12","v":0},11233.589832572825,6052.604465817868,13987.888704191811,427.91465734769997,-13559.974046844112]
[53,63.3115734707999,-152.14193296299899,-1743.7162840991969,562.73578962397232,{"$f":"Q_d!$C$11","v":0},{"$f":"Q_d!$C$12","v":0},11233.589832572825,6052.604465817868,14090.746329689851,427.91466528035699,-13662.831664409494]
[53,63.431176503700001,-148.877271718999,-1599.5058645047677,487.49772154649554,{"$f":"Q_d!$C$11","v":0},{"$f":"Q_d!$C$12","v":0},11233.589832572825,6052.604465817868,13987.807485288255,427.91494812053401,-13559.892537167721]
[53,63.431310449100003,-148.879036138,-1599.5734310149055,487.55517722462628,{"$f":"Q_d!$C$11","v":0},{"$f":"Q_d!$C$12","v":0},11233.589832572825,6052.604465817868,13987.846615343258,427.91800473571999,-13559.928610607538]
[53,63.431389595100001,-148.87995469800001,-1599.6080722614531,487.58598588769837,{"$f":"Q_d!$C$11","v":0},{"$f":"Q_d!$C$12","v":0},11233.589832572825,6052.604465817868,13987.866139858761,427.92048308184502,-13559.945656776916]
[53,63.431358635700001,-148.879400696999,{"$f":"lcpx(B1912,C1912,63,-115,70,60)","v":-1599.5862293380055},{"$f":"lcpy(B1912,C1912,63,-115,70,60)","v":487.5690020213442},{"$f":"Q_d!$C$11","v":0},{"$f":"Q_d!$C$12","v":0},{"$f":"lcpx(F1912,G1912,63,-115,70,60)","v":11233.589832572825},{"$f":"lcpy(F1912,G1912,63,-115,70,60)","v":6052.604465817868},{"$f":"SQRT((H1912-D1912)^2+(I1912-E1912)^2)","v":13987.85285700826},427.92087017344602,-13559.931986834814]
[53,63.431310875800001,-148.877035333999,-1599.4881850322627,487.50452952952855,{"$f":"Q_d!$C$11","v":0},{"$f":"Q_d!$C$12","v":0},11233.589832572825,6052.604465817868,13987.788556695277,427.93101052038702,-13559.85754617489]
[53,63.433298241300001,-148.908134450999,-1600.699975361473,488.48190320400136,{"$f":"Q_d!$C$11","v":0},{"$f":"Q_d!$C$12","v":0},11233.589832572825,6052.604465817868,13988.511527887264,427.94370353353702,-13560.567824353726]
[53,63.431489734400003,-148.876711327999,-1599.4642538118947,487.5133544282503,{"$f":"Q_d!$C$11","v":0},{"$f":"Q_d!$C$12","v":0},11233.589832572825,6052.604465817868,13987.763090006325,427.952996739127,-13559.810093267199]
[53,63.431665854499897,-148.87630788000001,-1599.4370940839342,487.51990624118162,{"$f":"Q_d!$C$11","v":0},{"$f":"Q_d!$C$12","v":0},11233.589832572825,6052.604465817868,13987.735565685258,427.97450406420199,-13559.761061621055]
[53,63.431875779899897,-148.87614130399899,-1599.4181091027865,487.53567811828543,{"$f":"Q_d!$C$11","v":0},{"$f":"Q_d!$C$12","v":0},11233.589832572825,6052.604465817868,13987.711873031178,427.998854767159,-13559.713018264019]
[53,63.432080073599899,-148.875866148,-1599.3948183873558,487.54816322119086,{"$f":"Q_d!$C$11","v":0},{"$f":"Q_d!$C$12","v":0},11233.589832572825,6052.604465817868,13987.685537745356,428.02397182050402,-13559.661565924851]
[53,63.312613848399899,-152.14189698300001,-1743.6508214143632,562.83070039986842,{"$f":"Q_d!$C$11","v":0},{"$f":"Q_d!$C$12","v":0},11233.589832572825,6052.604465817868,14090.649061947768,428.02456030583102,-13662.624501641938]
[53,63.4323379804,-148.87576815200001,-1599.376037103061,487.5702419146437,{"$f":"Q_d!$C$11","v":0},{"$f":"Q_d!$C$12","v":0},11233.589832572825,6052.604465817868,13987.659522789376,428.05239456986999,-13559.607128219506]
[53,63.432454154699897,-148.87534844499899,-1599.3515806367429,487.57067376489158,{"$f":"Q_d!$C$11","v":0},{"$f":"Q_d!$C$12","v":0},11233.589832572825,6052.604465817868,13987.636913416101,428.06796326284399,-13559.568950153258]
[53,63.313087198600002,-152.14224962500001,-1743.6363145421772,562.88407357285951,{"$f":"Q_d!$C$11","v":0},{"$f":"Q_d!$C$12","v":0},11233.589832572825,6052.604465817868,14090.614907036384,428.080309340432,-13662.534597695952]
[53,63.432555784000002,-148.874851344999,-1599.3246516133627,487.56776023142174,{"$f":"Q_d!$C$11","v":0},{"$f":"Q_d!$C$12","v":0},11233.589832572825,6052.604465817868,13987.613366581165,428.08243132602303,-13559.530935255141]
[53,63.3131743378,-152.142505306999,-1743.6415415576867,562.89916724583554,{"$f":"Q_d!$C$11","v":0},{"$f":"Q_d!$C$12","v":0},11233.589832572825,6052.604465817868,14090.61384052828,428.09325575743401,{"$f":"K1924-J1924","v":-13662.520584770846}]
[53,63.432677433199899,-148.87459050800001,-1599.3066519881322,487.57273814941209,{"$f":"Q_d!$C$11","v":0},{"$f":"Q_d!$C$12","v":0},11233.589832572825,6052.604465817868,13987.594872365067,428.09755387878499,-13559.497318486283]
[53,63.313451393000001,-152.142376100999,-1743.6191560586751,562.92113849363386,{"$f":"Q_d!$C$11","v":0},{"$f":"Q_d!$C$12","v":0},11233.589832572825,6052.604465817868,14090.584663842728,428.12062406405897,-13662.46403977867]
[53,63.432868092100001,-148.87426442399899,-1599.2819649593816,487.58263551178652,{"$f":"Q_d!$C$11","v":0},{"$f":"Q_d!$C$12","v":0},11233.589832572825,6052.604465817868,13987.568285577045,428.120948368565,-13559.447337208479]
[53,63.433023332399898,-148.87394447899899,-1599.2595454893451,487.58931549625595,{"$f":"Q_d!$C$11","v":0},{"$f":"Q_d!$C$12","v":0},11233.589832572825,6052.604465817868,13987.54505920677,428.14012768368201,-13559.404931523088]
[53,63.3137532432999,-152.14243943100001,-1743.603216844901,562.9507125125433,{"$f":"Q_d!$C$11","v":0},{"$f":"Q_d!$C$12","v":0},11233.589832572825,6052.604465817868,14090.558462070796,428.15298664379299,-13662.405475427004]
[53,63.433338504699897,-148.87412955299899,-1599.2495784120802,487.62401846652347,{"$f":"Q_d!$C$11","v":0},{"$f":"Q_d!$C$12","v":0},11233.589832572825,6052.604465817868,13987.522108205234,428.173737900866,-13559.348370304368]
[53,63.314172943099898,-152.142887182999,-1743.5959453919829,563.0017661046727,{"$f":"Q_d!$C$11","v":0},{"$f":"Q_d!$C$12","v":0},11233.589832572825,6052.604465817868,14090.531874862299,428.20414639398302,-13662.327728468317]
[53,63.314317574999897,-152.143176009,-1743.5990086142081,563.02307458914083,{"$f":"Q_d!$C$11","v":0},{"$f":"Q_d!$C$12","v":0},11233.589832572825,6052.604465817868,14090.526394381226,428.22408663338803,-13662.302307747837]
[53,63.433828092100001,-148.87455075899899,-1599.2397902395066,487.68131260626615,{"$f":"Q_d!$C$11","v":0},{"$f":"Q_d!$C$12","v":0},11233.589832572825,6052.604465817868,13987.490333482994,428.22456074937998,-13559.265772733614]
[53,63.434047904499899,-148.87472574500001,-1599.2347937812881,487.70667837226847,{"$f":"Q_d!$C$11","v":0},{"$f":"Q_d!$C$12","v":0},11233.589832572825,6052.604465817868,13987.475657726003,428.24723444407601,-13559.228423281927]
[53,63.3145639837999,-152.143817294,-1743.6104041050539,563.06349836843356,{"$f":"Q_d!$C$11","v":0},{"$f":"Q_d!$C$12","v":0},11233.589832572825,6052.604465817868,14090.521140686675,428.25927756208603,-13662.26186312459]
[53,63.4343212689,-148.874731607999,-1599.2195611593922,487.7328602795892,{"$f":"Q_d!$C$11","v":0},{"$f":"Q_d!$C$12","v":0},11233.589832572825,6052.604465817868,13987.451266116641,428.27691850016799,-13559.174347616474]
[53,63.4346627924999,-148.87499204700001,-1599.211310646032,487.77198131949353,{"$f":"Q_d!$C$11","v":0},{"$f":"Q_d!$C$12","v":0},11233.589832572825,6052.604465817868,13987.428132502686,428.31319726573901,-13559.114935236947]
[53,63.3149679582,-152.14461862900001,-1743.6187351607537,563.12286640805678,{"$f":"Q_d!$C$11","v":0},{"$f":"Q_d!$C$12","v":0},11233.589832572825,6052.604465817868,14090.505684350604,428.31353508498802,-13662.192149265617]
[53,63.434987094299899,-148.87544195300001,-1599.2121045018851,487.81426114412534,{"$f":"Q_d!$C$11","v":0},{"$f":"Q_d!$C$12","v":0},11233.589832572825,6052.604465817868,13987.412040053059,428.34543752560199,-13559.066602527457]
[53,63.315331471999897,-152.14522778099899,-1743.6215975846937,563.1731972560533,{"$f":"Q_d!$C$11","v":0},{"$f":"Q_d!$C$12","v":0},11233.589832572825,6052.604465817868,14090.488712435603,428.361554746688,-13662.127157688914]
[53,63.435179701099898,-148.87586142800001,-1599.2190607557554,487.8432284406631,{"$f":"Q_d!$C$11","v":0},{"$f":"Q_d!$C$12","v":0},11233.589832572825,6052.604465817868,13987.406897695833,428.363771032285,-13559.043126663548]
[53,63.435213353599899,-148.876148631999,-1599.2293863967254,487.85370786611702,{"$f":"Q_d!$C$11","v":0},{"$f":"Q_d!$C$12","v":0},11233.589832572825,6052.604465817868,13987.412201864892,428.36536988066598,-13559.046831984226]
[53,63.435316016100003,-148.876370589,-1599.2330245679782,487.86910661275624,{"$f":"Q_d!$C$11","v":0},{"$f":"Q_d!$C$12","v":0},11233.589832572825,6052.604465817868,13987.409413495519,428.375400023157,-13559.034013472363]
[53,63.435494076700003,-148.876712674,-1599.2375081917344,487.89472839022756,{"$f":"Q_d!$C$11","v":0},{"$f":"Q_d!$C$12","v":0},11233.589832572825,6052.604465817868,13987.403333703378,428.39247367805098,-13559.010860025326]
[53,63.315563637799897,-152.145804666999,-1743.6312009029871,563.21052940080335,{"$f":"Q_d!$C$11","v":0},{"$f":"Q_d!$C$12","v":0},11233.589832572825,6052.604465817868,14090.483013043218,428.39415931125802,-13662.088853731961]
[53,63.3156507875999,-152.146061629999,-1743.6364785264507,563.22565909423884,{"$f":"Q_d!$C$11","v":0},{"$f":"Q_d!$C$12","v":0},11233.589832572825,6052.604465817868,14090.481979449596,428.40710759976798,-13662.074871849829]
[53,63.4357003127,-148.877183083999,-1599.2458607842666,487.92628371051433,{"$f":"Q_d!$C$11","v":0},{"$f":"Q_d!$C$12","v":0},11233.589832572825,6052.604465817868,13987.398442995802,428.412536305836,-13558.985906689966]
[53,63.4359047218,-148.877600532,-1599.2520609796943,487.95632352175289,{"$f":"Q_d!$C$11","v":0},{"$f":"Q_d!$C$12","v":0},11233.589832572825,6052.604465817868,13987.392180548744,428.43165770633698,-13558.960522842408]
[53,63.4360410301,-148.87810971299899,-1599.2660247563574,487.98220161102518,{"$f":"Q_d!$C$11","v":0},{"$f":"Q_d!$C$12","v":0},11233.589832572825,6052.604465817868,13987.394696593587,428.44329279030597,-13558.951403803281]
[53,63.436090132700002,-148.87850081100001,-1599.2798990042011,487.99678412518415,{"$f":"Q_d!$C$11","v":0},{"$f":"Q_d!$C$12","v":0},11233.589832572825,6052.604465817868,13987.401624275291,428.44615935260703,-13558.955464922685]
[53,63.4361455668,-148.878730969,-1599.286560681134,488.0078930165073,{"$f":"Q_d!$C$11","v":0},{"$f":"Q_d!$C$12","v":0},11233.589832572825,6052.604465817868,13987.403316647711,428.450412675726,-13558.952903971986]
[53,63.316011476299899,-152.14644515699899,-1743.630173383269,563.2694982392145,{"$f":"Q_d!$C$11","v":0},{"$f":"Q_d!$C$12","v":0},11233.589832572825,6052.604465817868,14090.459093630301,428.45098947020699,-13662.008104160093]
[53,63.4362845558,-148.87897328700001,-1599.2890073793101,488.02726682097727,{"$f":"Q_d!$C$11","v":0},{"$f":"Q_d!$C$12","v":0},11233.589832572825,6052.604465817868,13987.39785394293,428.46420044736499,-13558.933653495566]
[53,63.436380881300003,-148.87935620600001,-1599.2998581219897,488.04613925483318,{"$f":"Q_d!$C$11","v":0},{"$f":"Q_d!$C$12","v":0},11233.589832572825,6052.604465817868,13987.400301101818,428.47284983298499,-13558.927451268833]
[53,63.4364999051,-148.87970855200001,-1599.3081210186999,488.06639882283844,{"$f":"Q_d!$C$11","v":0},{"$f":"Q_d!$C$12","v":0},11233.589832572825,6052.604465817868,13987.399822208927,428.48290519109298,-13558.916917017834]
[53,63.4365816866,-148.88001407100001,-1599.3164991710105,488.08192571675954,{"$f":"Q_d!$C$11","v":0},{"$f":"Q_d!$C$12","v":0},11233.589832572825,6052.604465817868,13987.401331863053,428.48966949740998,-13558.911662365643]
[53,63.316370804199899,-152.146540584999,-1743.6120260179964,563.30525560221122,{"$f":"Q_d!$C$11","v":0},{"$f":"Q_d!$C$12","v":0},11233.589832572825,6052.604465817868,14090.428449762885,428.49062989288302,-13661.937819870001]
[53,63.436733391399898,-148.88028083699899,-1599.3192661485791,488.10312965957974,{"$f":"Q_d!$C$11","v":0},{"$f":"Q_d!$C$12","v":0},11233.589832572825,6052.604465817868,13987.395435039147,428.50502537659901,-13558.890409662548]
[53,63.316648444199899,-152.147084970999,-1743.617485864163,563.34588150493664,{"$f":"Q_d!$C$11","v":0},{"$f":"Q_d!$C$12","v":0},11233.589832572825,6052.604465817868,14090.417651409334,428.52753820612202,-13661.890113203212]
[53,63.437042224400003,-148.880626946999,-1599.3165112534782,488.14130640514668,{"$f":"Q_d!$C$11","v":0},{"$f":"Q_d!$C$12","v":0},11233.589832572825,6052.604465817868,13987.377719997368,428.53664098417499,-13558.841079013193]
[53,63.4375808421999,-148.881093101,-1599.305851549891,488.20440564308228,{"$f":"Q_d!$C$11","v":0},{"$f":"Q_d!$C$12","v":0},11233.589832572825,6052.604465817868,13987.342838053573,428.592807671804,-13558.750030381769]
[53,63.4381466731,-148.88131477900001,-1599.2832391814648,488.26390337339262,{"$f":"Q_d!$C$11","v":0},{"$f":"Q_d!$C$12","v":0},11233.589832572825,6052.604465817868,13987.298422877137,428.65268738805298,-13558.645735489084]
[53,63.317774557500002,-152.147819978999,-1743.5786554507617,563.46998071423513,{"$f":"Q_d!$C$11","v":0},{"$f":"Q_d!$C$12","v":0},11233.589832572825,6052.604465817868,14090.333543323461,428.65846994664599,-13661.675073376815]
[53,63.318004545999898,-152.148043994999,-1743.5737836332025,563.49736647488044,{"$f":"Q_d!$C$11","v":0},{"$f":"Q_d!$C$12","v":0},11233.589832572825,6052.604465817868,14090.318387809379,428.68577384489902,-13661.632613964479]
[53,63.3182367032,-152.148621112,-1743.5833931457789,563.53470310135663,{"$f":"Q_d!$C$11","v":0},{"$f":"Q_d!$C$12","v":0},11233.589832572825,6052.604465817868,14090.31269313341,428.71838059499999,-13661.594312538409]
[53,63.438754257299898,-148.88136937300001,-1599.2511466161261,488.32314476573538,{"$f":"Q_d!$C$11","v":0},{"$f":"Q_d!$C$12","v":0},11233.589832572825,6052.604465817868,13987.245412051685,428.71957142752399,-13558.525840624161]
[53,63.318640182300001,-152.14929525599899,-1743.5864815804809,563.59051071973772,{"$f":"Q_d!$C$11","v":0},{"$f":"Q_d!$C$12","v":0},11233.589832572825,6052.604465817868,14090.293797074766,428.77119578744998,-13661.522601287315]
[53,63.439302811799898,-148.88143419599899,-1599.2228333222645,488.37702394836151,{"$f":"Q_d!$C$11","v":0},{"$f":"Q_d!$C$12","v":0},11233.589832572825,6052.604465817868,13987.198001844798,428.77989176965798,-13558.418110075139]
[53,63.318886473100001,-152.149839471999,-1743.5938588602457,563.62824134114726,{"$f":"Q_d!$C$11","v":0},{"$f":"Q_d!$C$12","v":0},11233.589832572825,6052.604465817868,14090.285893269418,428.80561873650799,-13661.480274532911]
[53,63.3189321256,-152.150000277,-1743.5977066231462,563.63689007242647,{"$f":"Q_d!$C$11","v":0},{"$f":"Q_d!$C$12","v":0},11233.589832572825,6052.604465817868,14090.286067892588,428.81214500058098,-13661.473922892008]
[53,63.318960347000001,-152.150288926,-1743.6079176384785,563.64746263814641,{"$f":"Q_d!$C$11","v":0},{"$f":"Q_d!$C$12","v":0},11233.589832572825,6052.604465817868,14090.291353653587,428.81983501349299,-13661.471518640094]
[53,63.439706956599899,-148.881444109,-1599.200362148287,488.41576055246287,{"$f":"Q_d!$C$11","v":0},{"$f":"Q_d!$C$12","v":0},11233.589832572825,6052.604465817868,13987.161975523606,428.82333020720699,-13558.338645316398]
[53,63.3189312611999,-152.15073885199899,-1743.6283280836101,563.65720689185855,{"$f":"Q_d!$C$11","v":0},{"$f":"Q_d!$C$12","v":0},11233.589832572825,6052.604465817868,14090.306355808683,428.82342939955998,-13661.482926409124]
[53,63.318957643700003,-152.15061076200001,-1743.6214040901705,563.65610129955257,{"$f":"Q_d!$C$11","v":0},{"$f":"Q_d!$C$12","v":0},11233.589832572825,6052.604465817868,14090.300409477459,428.82446753421101,-13661.475941943248]
[53,63.318958704899899,-152.151414238999,-1743.6545930413999,563.67838826028856,{"$f":"Q_d!$C$11","v":0},{"$f":"Q_d!$C$12","v":0},11233.589832572825,6052.604465817868,14090.322294647027,428.836142498507,-13661.48615214852]
[53,63.319004434299899,-152.15167116699899,{"$f":"lcpx(B1976,C1976,63,-115,70,60)","v":-1743.6624141381194},{"$f":"lcpy(B1976,C1976,63,-115,70,60)","v":563.68969876998835},{"$f":"Q_d!$C$11","v":0},{"$f":"Q_d!$C$12","v":0},{"$f":"lcpx(F1976,G1976,63,-115,70,60)","v":11233.589832572825},{"$f":"lcpy(F1976,G1976,63,-115,70,60)","v":6052.604465817868},{"$f":"SQRT((H1976-D1976)^2+(I1976-E1976)^2)","v":14090.325091873521},428.84440473672902,-13661.480687136793]
[53,63.439893120999898,-148.881331923999,-1599.185039860628,488.43064695371095,{"$f":"Q_d!$C$11","v":0},{"$f":"Q_d!$C$12","v":0},11233.589832572825,6052.604465817868,13987.141995886534,428.84440553655298,-13558.297590349981]
[53,63.440080240100002,-148.881129974999,-1599.1658414640576,488.44335074942865,{"$f":"Q_d!$C$11","v":0},{"$f":"Q_d!$C$12","v":0},11233.589832572825,6052.604465817868,13987.119328295066,428.867025070708,-13558.252303224359]
[53,63.319220350199899,-152.15247316400001,-1743.6823266835456,563.73174890154951,{"$f":"Q_d!$C$11","v":0},{"$f":"Q_d!$C$12","v":0},11233.589832572825,6052.604465817868,14090.327050779155,428.87895990593802,-13661.448090873217]
[53,63.4402645808999,-148.880964812999,-1599.1483669018626,488.45672180611382,{"$f":"Q_d!$C$11","v":0},{"$f":"Q_d!$C$12","v":0},11233.589832572825,6052.604465817868,13987.097976830217,428.88777858665998,-13558.210198243556]
[53,63.440462549700001,-148.88085057699899,-1599.1322888316363,488.47268053166545,{"$f":"Q_d!$C$11","v":0},{"$f":"Q_d!$C$12","v":0},11233.589832572825,6052.604465817868,13987.076877218331,428.91025902978799,-13558.166618188543]
[53,63.319524029699899,-152.15295336099899,-1743.6835223450896,563.77300114001082,{"$f":"Q_d!$C$11","v":0},{"$f":"Q_d!$C$12","v":0},11233.589832572825,6052.604465817868,14090.312082274833,428.91893248608102,-13661.393149788752]
[53,63.440655095499899,-148.880923792999,-1599.124499449928,488.49287057245419,{"$f":"Q_d!$C$11","v":0},{"$f":"Q_d!$C$12","v":0},11233.589832572825,6052.604465817868,13987.061699000496,428.93089499941499,-13558.130804001081]
[53,63.440853113400003,-148.88115593000001,-1599.1231666204042,488.51760675056585,{"$f":"Q_d!$C$11","v":0},{"$f":"Q_d!$C$12","v":0},11233.589832572825,6052.604465817868,13987.050636031468,428.951091893936,-13558.099544137533]
[53,63.319886945100002,-152.152887816999,-1743.6584882576813,563.80464137762465,{"$f":"Q_d!$C$11","v":0},{"$f":"Q_d!$C$12","v":0},11233.589832572825,6052.604465817868,14090.276700380067,428.95577255120298,-13661.320927828865]
[53,63.441085589399897,-148.88100906899899,-1599.1037448247414,488.53602520996174,{"$f":"Q_d!$C$11","v":0},{"$f":"Q_d!$C$12","v":0},11233.589832572825,6052.604465817868,13987.025490187312,428.97840931217002,-13558.047080875142]
[53,63.320319500499899,-152.153112112,-1743.6411659747982,563.85070476582814,{"$f":"Q_d!$C$11","v":0},{"$f":"Q_d!$C$12","v":0},11233.589832572825,6052.604465817868,14090.242802703162,429.00471003475002,-13661.238092668413]
[53,63.441427968200003,-148.880949743,-1599.0818246601261,488.56712649433211,{"$f":"Q_d!$C$11","v":0},{"$f":"Q_d!$C$12","v":0},11233.589832572825,6052.604465817868,13986.99300692384,429.01636679385501,{"$f":"K1988-J1988","v":-13557.976640129986}]
[53,63.320623252399898,-152.153688299999,-1743.6463285277687,563.89461409471141,{"$f":"Q_d!$C$11","v":0},{"$f":"Q_d!$C$12","v":0},11233.589832572825,6052.604465817868,14090.230452954973,429.04545934550998,-13661.184993609462]
[53,63.441714052899897,-148.880980106999,-1599.0669120805467,488.59513861192772,{"$f":"Q_d!$C$11","v":0},{"$f":"Q_d!$C$12","v":0},11233.589832572825,6052.604465817868,13986.96818182312,429.04762118207799,-13557.920560641041]
[53,63.320696079999898,-152.15378475099899,-1743.6458406557281,563.90399028565298,{"$f":"Q_d!$C$11","v":0},{"$f":"Q_d!$C$12","v":0},11233.589832572825,6052.604465817868,14090.226351220314,429.055329564847,-13661.171021655466]
[53,63.441828467000001,-148.88085369999899,-1599.0550490412959,488.60283251875808,{"$f":"Q_d!$C$11","v":0},{"$f":"Q_d!$C$12","v":0},11233.589832572825,6052.604465817868,13986.954237180167,429.05994436675098,-13557.894292813417]
[53,63.320812461899898,-152.15378377100001,-1743.6386417680294,563.91469018127509,{"$f":"Q_d!$C$11","v":0},{"$f":"Q_d!$C$12","v":0},11233.589832572825,6052.604465817868,14090.21555294385,429.06690996277001,-13661.148642981079]
[53,63.441965582100003,-148.88069671100001,-1599.0405980613023,488.61191369617791,{"$f":"Q_d!$C$11","v":0},{"$f":"Q_d!$C$12","v":0},11233.589832572825,6052.604465817868,13986.937366317998,429.07632168881099,-13557.861044629186]
[53,63.442046353099897,-148.880283023999,-1599.0184093977855,488.60912828563687,{"$f":"Q_d!$C$11","v":0},{"$f":"Q_d!$C$12","v":0},11233.589832572825,6052.604465817868,13986.918116868077,429.08844068560001,-13557.829676182477]
[53,63.3211294161,-152.153622299999,-1743.6124645449268,563.93944476371234,{"$f":"Q_d!$C$11","v":0},{"$f":"Q_d!$C$12","v":0},11233.589832572825,6052.604465817868,14090.181800589433,429.09828416575999,-13661.083516423672]
[53,63.4421489600999,-148.88015865899899,-1599.007302253018,488.61574970692118,{"$f":"Q_d!$C$11","v":0},{"$f":"Q_d!$C$12","v":0},11233.589832572825,6052.604465817868,13986.905292370802,429.09998119435897,-13557.805311176444]
[53,63.442297880200002,-148.87999962000001,-1598.9920954865295,488.62590333827802,{"$f":"Q_d!$C$11","v":0},{"$f":"Q_d!$C$12","v":0},11233.589832572825,6052.604465817868,13986.887301472334,429.11714189251398,-13557.770159579821]
[53,63.442400488300002,-148.87987524900001,-1598.9809881016392,488.63252478903632,{"$f":"Q_d!$C$11","v":0},{"$f":"Q_d!$C$12","v":0},11233.589832572825,6052.604465817868,13986.874476743609,429.129465467008,-13557.745011276602]
[53,63.321488261900001,-152.15358937100001,-1743.5890303129215,563.97161039575258,{"$f":"Q_d!$C$11","v":0},{"$f":"Q_d!$C$12","v":0},11233.589832572825,6052.604465817868,14090.147687691131,429.135513246107,-13661.012174445024]
[53,63.442762779900001,-148.879359464999,-1598.9385065871238,488.65396309203015,{"$f":"Q_d!$C$11","v":0},{"$f":"Q_d!$C$12","v":0},11233.589832572825,6052.604465817868,13986.826972981622,429.17265762161497,-13557.654315360007]
[53,63.322195392799898,-152.154743910999,-1743.5933137848613,564.06866998062969,{"$f":"Q_d!$C$11","v":0},{"$f":"Q_d!$C$12","v":0},11233.589832572825,6052.604465817868,14090.113824816912,429.22734817343502,-13660.886476643476]
[53,63.443555513500002,-148.878582515999,-1598.8605252477817,488.70977894976613,{"$f":"Q_d!$C$11","v":0},{"$f":"Q_d!$C$12","v":0},11233.589832572825,6052.604465817868,13986.733223754905,429.26502757387499,-13557.468196181031]
[53,63.444113944800002,-148.877899444999,-1598.7998133763756,488.74566087495896,{"$f":"Q_d!$C$11","v":0},{"$f":"Q_d!$C$12","v":0},11233.589832572825,6052.604465817868,13986.663248495153,429.33116453968199,-13557.332083955471]
[53,63.444650486299899,-148.877043275999,-1598.7329728299969,488.77507612133331,{"$f":"Q_d!$C$11","v":0},{"$f":"Q_d!$C$12","v":0},11233.589832572825,6052.604465817868,13986.590222770961,429.39571755782498,-13557.194505213136]
[53,63.324190217899897,-152.15586078499899,-1743.5168293665715,564.28337308138498,{"$f":"Q_d!$C$11","v":0},{"$f":"Q_d!$C$12","v":0},11233.589832572825,6052.604465817868,14089.959749137968,429.45537720466302,-13660.504371933304]
[53,63.446062551799898,-148.87114862799899,-1598.4020407534344,488.76030689800291,{"$f":"Q_d!$C$11","v":0},{"$f":"Q_d!$C$12","v":0},11233.589832572825,6052.604465817868,13986.292477345734,429.590033893944,-13556.70244345179]
[53,63.325769187399899,-152.158008222999,-1743.5085577364243,564.48820232117896,{"$f":"Q_d!$C$11","v":0},{"$f":"Q_d!$C$12","v":0},11233.589832572825,6052.604465817868,14089.872346952749,429.654155111992,-13660.218191840757]
[53,63.4469416134,-148.866678573999,-1598.1619515888401,488.73087107618358,{"$f":"Q_d!$C$11","v":0},{"$f":"Q_d!$C$12","v":0},11233.589832572825,6052.604465817868,13986.083913254626,429.71669880515401,-13556.367214449472]
[53,63.326937216600001,-152.15896874800001,-1743.4764482555763,564.62237832946403,{"$f":"Q_d!$C$11","v":0},{"$f":"Q_d!$C$12","v":0},11233.589832572825,6052.604465817868,14089.790511203744,429.79171827409601,-13659.998792929648]
[53,63.448015474999899,-148.860975010999,-1597.8583204376134,488.68879171882418,{"$f":"Q_d!$C$11","v":0},{"$f":"Q_d!$C$12","v":0},11233.589832572825,6052.604465817868,13985.822082805145,429.87274396616402,-13555.949338838982]
[53,63.4491093838,-148.85620036200001,-1597.5931092872681,488.67215901345844,{"$f":"Q_d!$C$11","v":0},{"$f":"Q_d!$C$12","v":0},11233.589832572825,6052.604465817868,13985.585379317639,430.02555158036802,-13555.559827737272]
[53,63.329988363399899,-152.162783499,-1743.4465648949642,565.00892037283074,{"$f":"Q_d!$C$11","v":0},{"$f":"Q_d!$C$12","v":0},11233.589832572825,6052.604465817868,14089.612433690005,430.17027340926199,-13659.442160280743]
[53,63.330303634800003,-152.162846712999,-1743.4297842937774,565.03972166811673,{"$f":"Q_d!$C$11","v":0},{"$f":"Q_d!$C$12","v":0},11233.589832572825,6052.604465817868,14089.584981743641,430.20483088059302,-13659.380150863048]
[53,63.330739851200001,-152.163006271,-1743.4095483843134,565.08432965275369,{"$f":"Q_d!$C$11","v":0},{"$f":"Q_d!$C$12","v":0},11233.589832572825,6052.604465817868,14089.548970005377,430.25366311979201,-13659.295306885584]
[53,63.4507093267,-148.842381111999,-1596.9141709424471,488.47496398685416,{"$f":"Q_d!$C$11","v":0},{"$f":"Q_d!$C$12","v":0},11233.589832572825,6052.604465817868,13985.040940139133,430.29503844803901,-13554.745901691094]
[53,63.3313885216999,-152.16342180000001,-1743.3868300430292,565.15558538230289,{"$f":"Q_d!$C$11","v":0},{"$f":"Q_d!$C$12","v":0},11233.589832572825,6052.604465817868,14089.500293391176,430.328273161315,-13659.172020229862]
[53,63.452430480099899,-148.838241971,-1596.6405437328126,488.53424641720312,{"$f":"Q_d!$C$11","v":0},{"$f":"Q_d!$C$12","v":0},11233.589832572825,6052.604465817868,13984.766316084701,430.51320856972501,-13554.253107514976]
[53,63.333225370400001,-152.165344371999,-1743.3533452994129,565.37795470405672,{"$f":"Q_d!$C$11","v":0},{"$f":"Q_d!$C$12","v":0},11233.589832572825,6052.604465817868,14089.382847591127,430.55047952243598,-13658.832368068692]
[53,63.453936101499899,-148.833713504999,-1596.3625484104655,488.56317588644788,{"$f":"Q_d!$C$11","v":0},{"$f":"Q_d!$C$12","v":0},11233.589832572825,6052.604465817868,13984.499761320048,430.70977643187899,-13553.78998488817]
[53,63.454483704799898,-148.831514413999,-1596.2379376491592,488.55974691121764,{"$f":"Q_d!$C$11","v":0},{"$f":"Q_d!$C$12","v":0},11233.589832572825,6052.604465817868,13984.386802700797,430.78490406350102,-13553.601898637296]
[53,63.454729527399898,-148.830579051999,-1596.1842061739476,488.55951953850717,{"$f":"Q_d!$C$11","v":0},{"$f":"Q_d!$C$12","v":0},11233.589832572825,6052.604465817868,13984.337597809828,430.81808757061202,-13553.519510239217]
[53,63.456062955199897,-148.823870333999,-1595.8231396728384,488.51697797405313,{"$f":"Q_d!$C$11","v":0},{"$f":"Q_d!$C$12","v":0},11233.589832572825,6052.604465817868,13984.023268888157,431.01148666479799,-13553.011782223359]
[53,63.4562200365,-148.822095490999,-1595.73868558959,488.48708604308968,{"$f":"Q_d!$C$11","v":0},{"$f":"Q_d!$C$12","v":0},11233.589832572825,6052.604465817868,13983.957681673925,431.04138650714202,-13552.916295166782]
[53,63.459091464499899,-148.81836005900001,-1595.4172524932451,488.6662792264633,{"$f":"Q_d!$C$11","v":0},{"$f":"Q_d!$C$12","v":0},11233.589832572825,6052.604465817868,13983.591489059078,431.38209374057197,-13552.209395318505]
[53,63.460294115000004,-148.816966076,-1595.2898942699251,488.74564876607064,{"$f":"Q_d!$C$11","v":0},{"$f":"Q_d!$C$12","v":0},11233.589832572825,6052.604465817868,13983.443066065021,431.52390166130999,-13551.919164403711]
[53,63.340614200200001,-152.181169527999,-1743.5530735532016,566.49582716864052,{"$f":"Q_d!$C$11","v":0},{"$f":"Q_d!$C$12","v":0},11233.589832572825,6052.604465817868,14089.131484980851,431.56556657940098,-13657.565918401451]
[53,63.461522216900001,-148.81573717500001,-1595.1681292589062,488.83161845567747,{"$f":"Q_d!$C$11","v":0},{"$f":"Q_d!$C$12","v":0},11233.589832572825,6052.604465817868,13983.297148394788,431.666776097026,-13551.630372297761]
[53,63.462473321600001,-148.81610347399899,-1595.1299416292284,488.93149857520802,{"$f":"Q_d!$C$11","v":0},{"$f":"Q_d!$C$12","v":0},11233.589832572825,6052.604465817868,13983.222372952148,431.76912127779502,-13551.453251674353]
[53,63.341069515100003,-152.19656696499899,-1744.1615660397765,566.96305302942483,{"$f":"Q_d!$C$11","v":0},{"$f":"Q_d!$C$12","v":0},11233.589832572825,6052.604465817868,14089.510036686546,431.84252994002298,-13657.667506746524]
[53,63.341643119099899,-152.195602065,-1744.0863656029003,566.98924357536043,{"$f":"Q_d!$C$11","v":0},{"$f":"Q_d!$C$12","v":0},11233.589832572825,6052.604465817868,14089.430572993198,431.88862898900197,-13657.541944004197]
[53,63.463591152699898,-148.815800502999,-1595.0538342116067,489.03035653178358,{"$f":"Q_d!$C$11","v":0},{"$f":"Q_d!$C$12","v":0},11233.589832572825,6052.604465817868,13983.113215548487,431.89389543266299,-13551.219320115824]
[53,63.342872229800001,-152.191483645999,-1743.840459926063,566.98872503554549,{"$f":"Q_d!$C$11","v":0},{"$f":"Q_d!$C$12","v":0},11233.589832572825,6052.604465817868,14089.204273208143,431.95713950923403,-13657.247133698909]
[53,63.465058404700002,-148.816662898999,-1595.0075764456683,489.19194908776262,{"$f":"Q_d!$C$11","v":0},{"$f":"Q_d!$C$12","v":0},11233.589832572825,6052.604465817868,13983.006483370635,432.048147693055,-13550.95833567758]
[53,63.465466717300004,-148.82088490000001,-1595.1642009767322,489.33751678712724,{"$f":"Q_d!$C$11","v":0},{"$f":"Q_d!$C$12","v":0},11233.589832572825,6052.604465817868,13983.09226170992,432.06347567226697,-13551.028786037654]
[53,63.344387883099898,-152.188202130999,-1743.6115165500787,567.03774011513542,{"$f":"Q_d!$C$11","v":0},{"$f":"Q_d!$C$12","v":0},11233.589832572825,6052.604465817868,14088.974311773527,432.06891945267199,-13656.905392320856]
[53,63.345366201300003,-152.186656110999,-1743.4873922265326,567.08518544413164,{"$f":"Q_d!$C$11","v":0},{"$f":"Q_d!$C$12","v":0},11233.589832572825,6052.604465817868,14088.841509285217,432.15007488255702,-13656.691434402661]
[53,63.466537870000003,-148.825160482999,-1595.2856031832855,489.54760018387242,{"$f":"Q_d!$C$11","v":0},{"$f":"Q_d!$C$12","v":0},11233.589832572825,6052.604465817868,13983.120060859954,432.15134953508999,-13550.968711324864]
[53,63.467742356700001,-148.82734967600001,-1595.310647908972,489.71767210822873,{"$f":"Q_d!$C$11","v":0},{"$f":"Q_d!$C$12","v":0},11233.589832572825,6052.604465817868,13983.075377674797,432.26824099163201,-13550.807136683165]
[53,63.468144777200003,-148.82924313500001,-1595.3684675833942,489.80385521178641,{"$f":"Q_d!$C$11","v":0},{"$f":"Q_d!$C$12","v":0},11233.589832572825,6052.604465817868,13983.094139013245,432.299001167016,-13550.795137846229]
[53,63.468199031300003,-148.82875354999899,-1595.3445629582659,489.79665337752613,{"$f":"Q_d!$C$11","v":0},{"$f":"Q_d!$C$12","v":0},11233.589832572825,6052.604465817868,13983.075072493459,432.30856358508498,-13550.766508908373]
[53,63.347963545600003,-152.18095937499899,-1743.0920613144392,567.16721228225197,{"$f":"Q_d!$C$11","v":0},{"$f":"Q_d!$C$12","v":0},11233.589832572825,6052.604465817868,14088.445437223298,432.340783949421,-13656.104653273876]
[53,63.469090440199899,-148.833558326999,-1595.49860966498,490.00298997813434,{"$f":"Q_d!$C$11","v":0},{"$f":"Q_d!$C$12","v":0},11233.589832572825,6052.604465817868,13983.13432095158,432.37367885892399,-13550.760642092657]
[53,63.3486873133999,-152.17873950500001,-1742.9557648805478,567.17261959724192,{"$f":"Q_d!$C$11","v":0},{"$f":"Q_d!$C$12","v":0},11233.589832572825,6052.604465817868,14088.317791074915,432.384524468672,-13655.933266606242]
[53,63.3545242378,-152.138233425999,-1740.9223192599327,566.5930329211983,{"$f":"Q_d!$C$11","v":0},{"$f":"Q_d!$C$12","v":0},11233.589832572825,6052.604465817868,14086.670544167946,432.41284559319001,-13654.257698574756]
[53,63.354478578600002,-152.138876799999,-1740.9517245762877,566.60656405035161,{"$f":"Q_d!$C$11","v":0},{"$f":"Q_d!$C$12","v":0},11233.589832572825,6052.604465817868,14086.692358264479,432.41690738915298,-13654.275450875326]
[53,63.3562917454,-152.12632706599899,-1740.3214192502737,566.4277365984367,{"$f":"Q_d!$C$11","v":0},{"$f":"Q_d!$C$12","v":0},11233.589832572825,6052.604465817868,14086.181465337255,432.42813902080798,-13653.753326316448]
[53,63.349350664600003,-152.17716206200001,-1742.8497419487178,567.19019941888018,{"$f":"Q_d!$C$11","v":0},{"$f":"Q_d!$C$12","v":0},11233.589832572825,6052.604465817868,14088.21329002448,432.43194109593702,-13655.781348928542]
[53,63.3548384996,-152.13758946900001,-1740.8763753892558,566.60424702461614,{"$f":"Q_d!$C$11","v":0},{"$f":"Q_d!$C$12","v":0},11233.589832572825,6052.604465817868,14086.623860320455,432.43667684991698,-13654.187183470538]
[53,63.3567924456,-152.125294934999,-1740.2479711414653,566.44545013052948,{"$f":"Q_d!$C$11","v":0},{"$f":"Q_d!$C$12","v":0},11233.589832572825,6052.604465817868,14086.106917899406,432.46657341579498,-13653.640344483611]
[53,63.470318874299899,-148.83473027400001,-1595.4789826261022,490.14963550656512,{"$f":"Q_d!$C$11","v":0},{"$f":"Q_d!$C$12","v":0},11233.589832572825,6052.604465817868,13983.057977579982,432.499485286398,-13550.558492293583]
[53,63.354256134800004,-152.14659665900001,-1741.2845401811403,566.79894595784526,{"$f":"Q_d!$C$11","v":0},{"$f":"Q_d!$C$12","v":0},11233.589832572825,6052.604465817868,14086.923979012392,432.50462368973501,-13654.419355322658]
[53,63.470545026700002,-148.834744040999,-1595.4667738977034,490.17152835585966,{"$f":"Q_d!$C$11","v":0},{"$f":"Q_d!$C$12","v":0},11233.589832572825,6052.604465817868,13983.038067451127,432.52478248766198,-13550.513284963465]
[53,63.354154150100001,-152.14900900999899,-1741.3905333506841,566.8560781356,{"$f":"Q_d!$C$11","v":0},{"$f":"Q_d!$C$12","v":0},11233.589832572825,6052.604465817868,14086.999356465492,432.52962824412299,-13654.469728221369]
[53,63.357663151799898,-152.12529095100001,-1740.194288948177,566.52561619982271,{"$f":"Q_d!$C$11","v":0},{"$f":"Q_d!$C$12","v":0},11233.589832572825,6052.604465817868,14086.026252142829,432.55881529567699,-13653.467436847151]
[53,63.357950775500001,-152.12528968300001,-1740.1765578986503,566.55209908091456,{"$f":"Q_d!$C$11","v":0},{"$f":"Q_d!$C$12","v":0},11233.589832572825,6052.604465817868,14085.999606882977,432.58988194015802,-13653.40972494282]
[53,63.351598897899898,-152.17313599100001,-1742.5449885055341,567.28624411241344,{"$f":"Q_d!$C$11","v":0},{"$f":"Q_d!$C$12","v":0},11233.589832572825,6052.604465817868,14087.895190133129,432.61058154418703,-13655.284608588941]
[53,63.358513229499899,-152.12480543199899,-1740.121967336348,566.59060884291648,{"$f":"Q_d!$C$11","v":0},{"$f":"Q_d!$C$12","v":0},11233.589832572825,6052.604465817868,14085.934328471922,432.64194128747999,-13653.292387184441]
[53,63.358656099999898,-152.124065336999,-1740.0825893180402,566.58338376386291,{"$f":"Q_d!$C$11","v":0},{"$f":"Q_d!$C$12","v":0},11233.589832572825,6052.604465817868,14085.900873684743,432.64687794320201,-13653.253995741541]
[53,63.353038455799897,-152.165349386,-1742.1345843588733,567.20402679025392,{"$f":"Q_d!$C$11","v":0},{"$f":"Q_d!$C$12","v":0},11233.589832572825,6052.604465817868,14087.549187869472,432.64941716475198,-13654.89977070472]
[53,63.3525066354999,-152.16959648400001,-1742.3428434570169,567.27221212114546,{"$f":"Q_d!$C$11","v":0},{"$f":"Q_d!$C$12","v":0},11233.589832572825,6052.604465817868,14087.714461412987,432.65510964392797,-13655.059351769058]
[53,63.353041068099898,-152.16583274499899,-1742.1544017225699,567.21760473701852,{"$f":"Q_d!$C$11","v":0},{"$f":"Q_d!$C$12","v":0},11233.589832572825,6052.604465817868,14087.562154239766,432.65615115239001,-13654.906003087375]
[53,63.3534447040999,-152.16335541999899,-1742.0271766801893,567.18644900144682,{"$f":"Q_d!$C$11","v":0},{"$f":"Q_d!$C$12","v":0},11233.589832572825,6052.604465817868,14087.457101621652,432.66280138232298,-13654.794300239329]
[53,63.3527798731999,-152.168791768999,-1742.2927720064354,567.27518549049,{"$f":"Q_d!$C$11","v":0},{"$f":"Q_d!$C$12","v":0},11233.589832572825,6052.604465817868,14087.667183797304,432.67227050736602,-13654.994913289938]
[53,63.3534714972999,-152.164255255,-1742.0627202639955,567.21374573916637,{"$f":"Q_d!$C$11","v":0},{"$f":"Q_d!$C$12","v":0},11233.589832572825,6052.604465817868,14087.479211124544,432.67864878452201,-13654.800562340022]
[53,63.354049229700003,-152.16164909700001,-1741.9194610489951,567.19508469269022,{"$f":"Q_d!$C$11","v":0},{"$f":"Q_d!$C$12","v":0},11233.589832572825,6052.604465817868,14087.354524799975,432.70236621146398,-13654.652158588511]
[53,63.3595510516,-152.12335891800001,-1739.9983795140672,566.64642776953451,{"$f":"Q_d!$C$11","v":0},{"$f":"Q_d!$C$12","v":0},11233.589832572825,6052.604465817868,14085.798759460789,432.73159316255101,-13653.067166298239]
[53,63.354910959800002,-152.15785045000001,-1741.7094453494146,567.16970894234373,{"$f":"Q_d!$C$11","v":0},{"$f":"Q_d!$C$12","v":0},11233.589832572825,6052.604465817868,14087.170965938742,432.73769596950899,-13654.433269969233]
[53,63.355131414100001,-152.15875082900001,-1741.7330991252272,567.21486484515935,{"$f":"Q_d!$C$11","v":0},{"$f":"Q_d!$C$12","v":0},11233.589832572825,6052.604465817868,14087.175169504668,432.77391353915903,-13654.401255965509]
[53,63.355635148200001,-152.157494541999,-1741.6501888451246,567.22663579459731,{"$f":"Q_d!$C$11","v":0},{"$f":"Q_d!$C$12","v":0},11233.589832572825,6052.604465817868,14087.094219586836,432.80923600242102,-13654.284983584415]
[53,63.473347767500002,-148.834850015,-1595.3127182323381,490.44121575019653,{"$f":"Q_d!$C$11","v":0},{"$f":"Q_d!$C$12","v":0},11233.589832572825,6052.604465817868,13982.789445545499,432.831783317722,-13549.957662227776]
[53,63.356210832199899,-152.156174743999,-1741.5602291285406,567.24328848998812,{"$f":"Q_d!$C$11","v":0},{"$f":"Q_d!$C$12","v":0},11233.589832572825,6052.604465817868,14087.004875750021,432.85137234159203,-13654.153503408428]
[53,63.356182115899898,-152.156656505,-1741.581907210953,567.25393055853465,{"$f":"Q_d!$C$11","v":0},{"$f":"Q_d!$C$12","v":0},11233.589832572825,6052.604465817868,14087.02069891123,432.85491701608203,-13654.165781895148]
[53,63.474224773400003,-148.834109630999,-1595.2316009221288,490.50605898862568,{"$f":"Q_d!$C$11","v":0},{"$f":"Q_d!$C$12","v":0},11233.589832572825,6052.604465817868,13982.689228462168,432.933156544979,-13549.756071917189]
[53,63.358201428500003,-152.149026843,-1741.1423663715655,567.22962068927473,{"$f":"Q_d!$C$11","v":0},{"$f":"Q_d!$C$12","v":0},11233.589832572825,6052.604465817868,14086.625317154349,432.95826116844103,-13653.667055985907]
[53,63.357982847899898,-152.15079726299899,-1741.2289828165574,567.25829749127479,{"$f":"Q_d!$C$11","v":0},{"$f":"Q_d!$C$12","v":0},11233.589832572825,6052.604465817868,14086.693930037578,432.96096337660703,-13653.732966660971]
[53,63.4756016203999,-148.83408201500001,-1595.1525325444018,490.63653045666842,{"$f":"Q_d!$C$11","v":0},{"$f":"Q_d!$C$12","v":0},11233.589832572825,6052.604465817868,13982.564785637134,433.08400608311501,-13549.48077955402]
[53,63.476220139500001,-148.83399073199899,-1595.1136570983099,490.69314921459863,{"$f":"Q_d!$C$11","v":0},{"$f":"Q_d!$C$12","v":0},11233.589832572825,6052.604465817868,13982.506596446141,433.152875074147,-13549.353721371994]
[53,63.478680497299898,-148.831985809999,-1594.8891757987572,490.87689542553426,{"$f":"Q_d!$C$11","v":0},{"$f":"Q_d!$C$12","v":0},11233.589832572825,6052.604465817868,13982.227549124371,433.43575210635299,-13548.791797018017]
[53,63.480392787900001,-148.83067195800001,-1594.7364214930346,491.00683854251429,{"$f":"Q_d!$C$11","v":0},{"$f":"Q_d!$C$12","v":0},11233.589832572825,6052.604465817868,13982.03571188653,433.632876983514,-13548.402834903016]
[53,63.376915764700001,-152.068312402999,-1736.6561955873944,566.7323215790675,{"$f":"Q_d!$C$11","v":0},{"$f":"Q_d!$C$12","v":0},11233.589832572825,6052.604465817868,14082.687073635527,433.79810091446899,-13648.888972721057]
[53,63.484076661300001,-148.829012384999,-1594.4574432149054,491.31589194091794,{"$f":"Q_d!$C$11","v":0},{"$f":"Q_d!$C$12","v":0},11233.589832572825,6052.604465817868,13981.65682284397,434.04847881428998,-13547.608344029681]
[53,63.484714423100002,-148.831302327999,-1594.5187644510659,491.43448255123985,{"$f":"Q_d!$C$11","v":0},{"$f":"Q_d!$C$12","v":0},11233.589832572825,6052.604465817868,13981.665915041169,434.10319338263298,-13547.562721658536]
[53,63.485020457300003,-148.831222021,-1594.4980367385385,491.46161028336883,{"$f":"Q_d!$C$11","v":0},{"$f":"Q_d!$C$12","v":0},11233.589832572825,6052.604465817868,13981.636107495995,434.13676986175602,-13547.499337634239]
[53,63.486088027400001,-148.83015427999899,-1594.3922340649146,491.53635394303365,{"$f":"Q_d!$C$11","v":0},{"$f":"Q_d!$C$12","v":0},11233.589832572825,6052.604465817868,13981.509305038946,434.26157914901898,-13547.247725889927]
[53,63.4868089406,-148.829824107999,-1594.3374118156664,491.59669846575071,{"$f":"Q_d!$C$11","v":0},{"$f":"Q_d!$C$12","v":0},11233.589832572825,6052.604465817868,13981.435004171606,434.34279377008198,-13547.092210401524]
[53,63.4875652578,-148.823900105999,-1594.0426848878606,491.51917816252944,{"$f":"Q_d!$C$11","v":0},{"$f":"Q_d!$C$12","v":0},11233.589832572825,6052.604465817868,13981.195427415762,434.46726131435901,-13546.728166101402]
[53,63.3850488032,-152.058790963999,-1735.7634693377079,567.22080886621961,{"$f":"Q_d!$C$11","v":0},{"$f":"Q_d!$C$12","v":0},11233.589832572825,6052.604465817868,14081.674578462957,434.53063384760299,-13647.143944615353]
[53,63.488678712199899,-148.822103325,-1593.9032943074189,491.5799034428519,{"$f":"Q_d!$C$11","v":0},{"$f":"Q_d!$C$12","v":0},11233.589832572825,6052.604465817868,13981.04338393591,434.60105343291502,-13546.442330502996]
[53,63.491626498400002,-148.82318734,-1593.7826792132994,491.88812544793655,{"$f":"Q_d!$C$11","v":0},{"$f":"Q_d!$C$12","v":0},11233.589832572825,6052.604465817868,13980.810125818296,434.91778371204799,-13545.892342106248]
[53,63.391160764799899,-152.05354821,-1735.1717501729067,567.64060321523448,{"$f":"Q_d!$C$11","v":0},{"$f":"Q_d!$C$12","v":0},11233.589832572825,6052.604465817868,14080.966073539073,435.10891371241701,{"$f":"K2564-J2564","v":-13645.857159826657}]
[53,63.494002817999899,-148.82218291300001,-1593.6055725264284,492.08918120847193,{"$f":"Q_d!$C$11","v":0},{"$f":"Q_d!$C$12","v":0},11233.589832572825,6052.604465817868,13980.567663402446,435.18532658282402,-13545.382336819621]
[53,63.495360868699898,-148.82093001800001,-1593.4754948191514,492.18695176241226,{"$f":"Q_d!$C$11","v":0},{"$f":"Q_d!$C$12","v":0},11233.589832572825,6052.604465817868,13980.409430477925,435.34234005435297,-13545.067090423572]
[53,63.495834576500002,-148.82020610999899,-1593.4179248916289,492.2138164306507,{"$f":"Q_d!$C$11","v":0},{"$f":"Q_d!$C$12","v":0},11233.589832572825,6052.604465817868,13980.345925042271,435.39969899966599,-13544.946226042604]
[53,63.4968463047,-148.81685141099899,-1593.2180718360494,492.22555687029762,{"$f":"Q_d!$C$11","v":0},{"$f":"Q_d!$C$12","v":0},11233.589832572825,6052.604465817868,13980.157889940834,435.533638427619,-13544.624251513214]
[53,63.498192708200001,-148.815947273999,-1593.1034948890958,492.33103151887008,{"$f":"Q_d!$C$11","v":0},{"$f":"Q_d!$C$12","v":0},11233.589832572825,6052.604465817868,13980.010814764319,435.68829543723098,-13544.322519327088]
[53,63.4990846172999,-148.815977355,-1593.0543401738059,492.4167742319396,{"$f":"Q_d!$C$11","v":0},{"$f":"Q_d!$C$12","v":0},11233.589832572825,6052.604465817868,13979.931612848424,435.785250540905,-13544.14636230752]
[53,63.500589453000003,-148.82065239100001,-1593.1679987611524,492.67811806668578,{"$f":"Q_d!$C$11","v":0},{"$f":"Q_d!$C$12","v":0},11233.589832572825,6052.604465817868,13979.931954630727,435.91821295398898,-13544.013741676737]
[53,63.5013157104,-148.82343524000001,-1593.2452274546583,492.81753586656532,{"$f":"Q_d!$C$11","v":0},{"$f":"Q_d!$C$12","v":0},11233.589832572825,6052.604465817868,13979.947366267426,435.97848124076,-13543.968885026667]
[53,63.501736300200001,-148.82357500500001,-1593.2273815011413,492.86113486826207,{"$f":"Q_d!$C$11","v":0},{"$f":"Q_d!$C$12","v":0},11233.589832572825,6052.604465817868,13979.913653141883,436.02407080916902,-13543.889582332713]
[53,63.406673844399897,-152.006281360999,-1732.267178984672,567.77434382639149,{"$f":"Q_d!$C$11","v":0},{"$f":"Q_d!$C$12","v":0},11233.589832572825,6052.604465817868,14078.238863979392,436.11801760991199,-13642.12084636948]
[53,63.408161531799898,-151.996376873,-1731.7667188355813,567.63997538231752,{"$f":"Q_d!$C$11","v":0},{"$f":"Q_d!$C$12","v":0},11233.589832572825,6052.604465817868,14077.830300386768,436.14433078626598,-13641.685969600501]
[53,63.4088174295999,-151.994137201,-1731.633975751779,567.63909976960758,{"$f":"Q_d!$C$11","v":0},{"$f":"Q_d!$C$12","v":0},11233.589832572825,6052.604465817868,14077.70838832429,436.18400458751302,-13641.524383736778]
[53,63.5037156534,-148.824135372999,-1593.1392541108278,493.06385909267692,{"$f":"Q_d!$C$11","v":0},{"$f":"Q_d!$C$12","v":0},11233.589832572825,6052.604465817868,13979.752173089575,436.23672781300701,-13543.515445276567]
[53,63.405956777199897,-152.02411468700001,-1733.0480005885549,568.19754878204049,{"$f":"Q_d!$C$11","v":0},{"$f":"Q_d!$C$12","v":0},11233.589832572825,6052.604465817868,14078.793127537689,436.28215631859098,-13642.510971219097]
[53,63.505096584,-148.824907687999,-1593.0939779365094,493.21491460608104,{"$f":"Q_d!$C$11","v":0},{"$f":"Q_d!$C$12","v":0},11233.589832572825,6052.604465817868,13979.650559184412,436.38270505715502,-13543.267854127258]
[53,63.5062749647999,-148.82566222200001,-1593.0593988936077,493.34622217733386,{"$f":"Q_d!$C$11","v":0},{"$f":"Q_d!$C$12","v":0},11233.589832572825,6052.604465817868,13979.566614404168,436.50760919369998,-13543.059005210467]
[53,63.404770767400002,-152.052965784999,-1734.3126058671764,568.880319204035,{"$f":"Q_d!$C$11","v":0},{"$f":"Q_d!$C$12","v":0},11233.589832572825,6052.604465817868,14079.691906041613,436.549978102164,-13643.141927939449]
[53,63.507238487199899,-148.82365034200001,-1592.9193957795176,493.38726106257673,{"$f":"Q_d!$C$11","v":0},{"$f":"Q_d!$C$12","v":0},11233.589832572825,6052.604465817868,13979.421837638889,436.62713773310003,-13542.794699905789]
[53,63.507310064599899,-148.82331729500001,-1592.9011927474376,493.38567817262947,{"$f":"Q_d!$C$11","v":0},{"$f":"Q_d!$C$12","v":0},11233.589832572825,6052.604465817868,13979.405765322395,436.63683240995499,-13542.768932912441]
[53,63.507707418300001,-148.822446302999,-1592.841702077887,493.4015627438107,{"$f":"Q_d!$C$11","v":0},{"$f":"Q_d!$C$12","v":0},11233.589832572825,6052.604465817868,13979.344864142569,436.686838868542,-13542.658025274028]
[53,63.5088784358,-148.82127911800001,-1592.7258703777682,493.48368929604612,{"$f":"Q_d!$C$11","v":0},{"$f":"Q_d!$C$12","v":0},11233.589832572825,6052.604465817868,13979.205925935619,436.82337107004702,-13542.382554865571]
[53,63.509284270499897,-148.82099414800001,-1592.6908080904302,493.51516770687613,{"$f":"Q_d!$C$11","v":0},{"$f":"Q_d!$C$12","v":0},11233.589832572825,6052.604465817868,13979.161237264028,436.87023035450699,-13542.291006909521]
[53,63.420037161400003,-151.96356929500001,-1729.6836123698258,567.83719120947853,{"$f":"Q_d!$C$11","v":0},{"$f":"Q_d!$C$12","v":0},11233.589832572825,6052.604465817868,14075.834982869414,436.97679457495201,-13638.858188294462]
[53,63.409733270300002,-152.052655272999,-1733.995297063821,569.32965280863527,{"$f":"Q_d!$C$11","v":0},{"$f":"Q_d!$C$12","v":0},11233.589832572825,6052.604465817868,14079.224650858971,437.07369384692998,-13642.15095701204]
[53,63.4121414488,-152.041338582999,-1733.3801923336368,569.24111221849307,{"$f":"Q_d!$C$11","v":0},{"$f":"Q_d!$C$12","v":0},11233.589832572825,6052.604465817868,14078.692598903468,437.17588253928102,-13641.516716364187]
[53,63.512957635900001,-148.820054806999,-1592.4431522448845,493.84146595055472,{"$f":"Q_d!$C$11","v":0},{"$f":"Q_d!$C$12","v":0},11233.589832572825,6052.604465817868,13978.804248444349,437.279082578849,-13541.5251658655]
[53,63.424233901800001,-151.95559211700001,-1729.0970660903031,568.006276784889,{"$f":"Q_d!$C$11","v":0},{"$f":"Q_d!$C$12","v":0},11233.589832572825,6052.604465817868,14075.228912096476,437.32038049923898,-13637.908531597237]
[53,63.4273878326999,-151.93898406400001,-1728.2177864971445,567.84287829156801,{"$f":"Q_d!$C$11","v":0},{"$f":"Q_d!$C$12","v":0},11233.589832572825,6052.604465817868,14074.482812017794,437.44087236562598,-13637.041939652168]
[53,63.427181543700001,-151.94700335600001,{"$f":"lcpx(B2744,C2744,63,-115,70,60)","v":-1728.5617690045633},{"$f":"lcpy(B2744,C2744,63,-115,70,60)","v":568.04335068125556},{"$f":"Q_d!$C$11","v":0},{"$f":"Q_d!$C$12","v":0},{"$f":"lcpx(F2744,G2744,63,-115,70,60)","v":11233.589832572825},{"$f":"lcpy(F2744,G2744,63,-115,70,60)","v":6052.604465817868},{"$f":"SQRT((H2744-D2744)^2+(I2744-E2744)^2)","v":14074.721481007851},437.52352277906101,-13637.19795822879]
[53,63.414618351400001,-152.04908175899899,-1733.5480082013826,569.68225060637633,{"$f":"Q_d!$C$11","v":0},{"$f":"Q_d!$C$12","v":0},11233.589832572825,6052.604465817868,14078.675356712294,437.54528064761399,-13641.130076064681]
[53,63.5163234089,-148.816301127,-1592.0933208346271,494.06749360911226,{"$f":"Q_d!$C$11","v":0},{"$f":"Q_d!$C$12","v":0},11233.589832572825,6052.604465817868,13978.393384899833,437.67434877657598,-13540.719036123257]
[53,63.5169590187,-148.811470345999,-1591.8521187281178,494.006252395101,{"$f":"Q_d!$C$11","v":0},{"$f":"Q_d!$C$12","v":0},11233.589832572825,6052.604465817868,13978.196426737497,437.777611150913,-13540.418815586583]
[53,63.5173634902999,-148.810464064999,-1591.7864928422384,494.01942289792896,{"$f":"Q_d!$C$11","v":0},{"$f":"Q_d!$C$12","v":0},11233.589832572825,6052.604465817868,13978.130975487762,437.82907159072897,-13540.301903897032]
[53,63.5192314779,-148.80850528600001,-1591.5976568692215,494.14803888316874,{"$f":"Q_d!$C$11","v":0},{"$f":"Q_d!$C$12","v":0},11233.589832572825,6052.604465817868,13977.906566774313,438.04800148385499,-13539.858565290457]
[53,63.433792458500001,-151.934101491999,-1727.6241729035485,568.3008889293892,{"$f":"Q_d!$C$11","v":0},{"$f":"Q_d!$C$12","v":0},11233.589832572825,6052.604465817868,14073.757643899822,438.062476919674,-13635.695166980147]
[53,63.520749023400001,-148.803989532,-1591.3200006573252,494.17882206738477,{"$f":"Q_d!$C$11","v":0},{"$f":"Q_d!$C$12","v":0},11233.589832572825,6052.604465817868,13977.639567093807,438.24491293453701,-13539.39465415927]
[53,63.522952327100001,-148.80517750600001,-1591.2459253855611,494.41872030387458,{"$f":"Q_d!$C$11","v":0},{"$f":"Q_d!$C$12","v":0},11233.589832572825,6052.604465817868,13977.476202814405,438.47895599218901,-13538.997246822217]
[53,63.523875719499898,-148.80611029299899,-1591.2333548068093,494.53022002573744,{"$f":"Q_d!$C$11","v":0},{"$f":"Q_d!$C$12","v":0},11233.589832572825,6052.604465817868,13977.420330994131,438.5737760879,-13538.846554906231]
[53,63.526311314200001,-148.809876578999,-1591.2556563725286,494.85722574756574,{"$f":"Q_d!$C$11","v":0},{"$f":"Q_d!$C$12","v":0},11233.589832572825,6052.604465817868,13977.310764228971,438.814960598428,-13538.495803630543]
[53,63.444120635600001,-151.91607548100001,-1726.2477367123545,568.76203098224551,{"$f":"Q_d!$C$11","v":0},{"$f":"Q_d!$C$12","v":0},11233.589832572825,6052.604465817868,14072.310317512171,438.937149892783,-13633.373167619387]
[53,63.5275497505,-148.810647213999,-1591.2183736656673,494.99465430954615,{"$f":"Q_d!$C$11","v":0},{"$f":"Q_d!$C$12","v":0},11233.589832572825,6052.604465817868,13977.221910801007,438.94496473362102,-13538.276946067386]
[53,63.529616257299899,-148.810978054,-1591.1155913208615,495.19990146899545,{"$f":"Q_d!$C$11","v":0},{"$f":"Q_d!$C$12","v":0},11233.589832572825,6052.604465817868,13977.045993395524,439.16931756783703,-13537.876675827687]
[53,63.531203124100003,-148.81117960399899,-1591.0344338681646,495.35618646769808,{"$f":"Q_d!$C$11","v":0},{"$f":"Q_d!$C$12","v":0},11233.589832572825,6052.604465817868,13976.909387047177,439.34246722687698,-13537.5669198203]
[53,63.449259968600003,-151.907701688999,-1725.5875867468271,569.00799751088562,{"$f":"Q_d!$C$11","v":0},{"$f":"Q_d!$C$12","v":0},11233.589832572825,6052.604465817868,14071.606504327543,439.38074325577799,-13632.225761071764]
[53,63.4514576662,-151.89778665200001,-1725.043698879871,568.94014176764222,{"$f":"Q_d!$C$11","v":0},{"$f":"Q_d!$C$12","v":0},11233.589832572825,6052.604465817868,14071.132058983432,439.49040225242601,-13631.641656731006]
[53,63.4520547089,-151.895504891999,-1724.9129565385342,568.93297705857094,{"$f":"Q_d!$C$11","v":0},{"$f":"Q_d!$C$12","v":0},11233.589832572825,6052.604465817868,14071.014445733415,439.52578649494501,-13631.48865923847]
[53,63.5335102519999,-148.809891018999,-1590.8492725476851,495.54355429774387,{"$f":"Q_d!$C$11","v":0},{"$f":"Q_d!$C$12","v":0},11233.589832572825,6052.604465817868,13976.664993312568,439.60409501391098,-13537.060898298658]
[53,63.534901604700003,-148.808229019999,-1590.7000346295442,495.63425821521787,{"$f":"Q_d!$C$11","v":0},{"$f":"Q_d!$C$12","v":0},11233.589832572825,6052.604465817868,13976.491994996913,439.76831890553399,-13536.72367609138]
[53,63.535381306300003,-148.806994957999,-1590.6205112450523,495.64887804426735,{"$f":"Q_d!$C$11","v":0},{"$f":"Q_d!$C$12","v":0},11233.589832572825,6052.604465817868,13976.413214661823,439.82931063425002,-13536.583904027573]
[53,63.457743858400001,-151.88800481300001,{"$f":"lcpx(B2872,C2872,63,-115,70,60)","v":-1724.2554682689404},{"$f":"lcpy(B2872,C2872,63,-115,70,60)","v":569.25389692992485},{"$f":"Q_d!$C$11","v":0},{"$f":"Q_d!$C$12","v":0},{"$f":"lcpx(F2872,G2872,63,-115,70,60)","v":11233.589832572825},{"$f":"lcpy(F2872,G2872,63,-115,70,60)","v":6052.604465817868},{"$f":"SQRT((H2872-D2872)^2+(I2872-E2872)^2)","v":14070.283874246134},440.039977244113,-13630.243897002021]
[53,63.538162468300001,-148.80703919800001,-1590.4651673699793,495.91500716897781,{"$f":"Q_d!$C$11","v":0},{"$f":"Q_d!$C$12","v":0},11233.589832572825,6052.604465817868,13976.164866708525,440.134557999028,-13536.030308709496]
[53,63.539076614899898,-148.807706795999,-1590.4418354287484,496.01893201496432,{"$f":"Q_d!$C$11","v":0},{"$f":"Q_d!$C$12","v":0},11233.589832572825,6052.604465817868,13976.10213959439,440.22991311359101,-13535.872226480798]
[53,63.4641525422999,-151.853197303,-1722.4263414632821,568.8962375790361,{"$f":"Q_d!$C$11","v":0},{"$f":"Q_d!$C$12","v":0},11233.589832572825,6052.604465817868,14068.738786200398,440.29475311545502,-13628.444033084943]
[53,63.4646978399999,-151.85507141100001,-1722.4704517614969,568.99777985090486,{"$f":"Q_d!$C$11","v":0},{"$f":"Q_d!$C$12","v":0},11233.589832572825,6052.604465817868,14068.739829056714,440.37590225851301,-13628.363926798202]
[53,63.464767801100002,-151.856588563,-1722.5288425030431,569.04563828562596,{"$f":"Q_d!$C$11","v":0},{"$f":"Q_d!$C$12","v":0},11233.589832572825,6052.604465817868,14068.774948006541,440.40239381956098,-13628.372554186981]
[53,63.462963512800002,-151.877947976,-1723.5211864748105,569.46174383510106,{"$f":"Q_d!$C$11","v":0},{"$f":"Q_d!$C$12","v":0},11233.589832572825,6052.604465817868,14069.526646961447,440.47367830666099,-13629.052968654785]
[53,63.5413487,-148.808482596,-1590.346326733275,496.25497642774781,{"$f":"Q_d!$C$11","v":0},{"$f":"Q_d!$C$12","v":0},11233.589832572825,6052.604465817868,13975.920658983592,440.47422644463501,-13535.446432538956]
[53,63.466067196700003,-151.85804650700001,-1722.5097046585213,569.20554443619631,{"$f":"Q_d!$C$11","v":0},{"$f":"Q_d!$C$12","v":0},11233.589832572825,6052.604465817868,14068.694998103272,440.55986161360602,-13628.135136489665]
[53,63.466401448299898,-151.859338643999,-1722.5426563260892,569.27169804805817,{"$f":"Q_d!$C$11","v":0},{"$f":"Q_d!$C$12","v":0},11233.589832572825,6052.604465817868,14068.699560087283,440.61152577979601,-13628.088034307488]
[53,63.467048580099899,-151.85895417,-1722.4872565173994,569.32103579241402,{"$f":"Q_d!$C$11","v":0},{"$f":"Q_d!$C$12","v":0},11233.589832572825,6052.604465817868,14068.62931178586,440.67670476779199,-13627.952607018069]
[53,63.468248234500003,-151.857989672999,-1722.3741611715352,569.40563180296431,{"$f":"Q_d!$C$11","v":0},{"$f":"Q_d!$C$12","v":0},11233.589832572825,6052.604465817868,14068.492188594439,440.79292082564098,-13627.699267768798]
[53,63.468568265000002,-151.85766828600001,-1722.3413446918994,569.42645156188109,{"$f":"Q_d!$C$11","v":0},{"$f":"Q_d!$C$12","v":0},11233.589832572825,6052.604465817868,14068.453852717445,440.82352434505998,{"$f":"K2948-J2948","v":-13627.630328372385}]
[53,63.468929676899897,-151.85508662800001,-1722.2126594490398,569.38944210869067,{"$f":"Q_d!$C$11","v":0},{"$f":"Q_d!$C$12","v":0},11233.589832572825,6052.604465817868,14068.349768487775,440.83058386867799,-13627.519184619097]
[53,63.4700565983999,-151.85467035600001,-1722.1266528488147,569.48227536943068,{"$f":"Q_d!$C$11","v":0},{"$f":"Q_d!$C$12","v":0},11233.589832572825,6052.604465817868,14068.234381258158,440.94654394495399,-13627.287837313204]
[53,63.469983395299899,-151.85557376700001,-1722.1684300002776,569.50014898430845,{"$f":"Q_d!$C$11","v":0},{"$f":"Q_d!$C$12","v":0},11233.589832572825,6052.604465817868,14068.265888428114,440.949864130832,-13627.316024297281]
[53,63.470996441300002,-151.853156595,-1722.0067508295842,569.52788036098491,{"$f":"Q_d!$C$11","v":0},{"$f":"Q_d!$C$12","v":0},11233.589832572825,6052.604465817868,14068.10618647207,441.02823143422398,-13627.077955037847]
[53,63.471186902500001,-151.85176806000001,-1721.93778103621,569.50761969616178,{"$f":"Q_d!$C$11","v":0},{"$f":"Q_d!$C$12","v":0},11233.589832572825,6052.604465817868,14068.050567542612,441.03185068767903,-13627.018716854933]
[53,63.547416348600002,-148.813536760999,-1590.2178292614344,496.96043565069158,{"$f":"Q_d!$C$11","v":0},{"$f":"Q_d!$C$12","v":0},11233.589832572825,6052.604465817868,13975.522299279239,441.10503170560099,-13534.417267573637]
[53,63.548510224200001,-148.81561728899899,-1590.2442832268248,497.11706380594569,{"$f":"Q_d!$C$11","v":0},{"$f":"Q_d!$C$12","v":0},11233.589832572825,6052.604465817868,13975.484310157561,441.21072073330203,-13534.273589424258]
[53,63.4732065046,-151.852937628999,-1721.8627564629317,569.72623995408776,{"$f":"Q_d!$C$11","v":0},{"$f":"Q_d!$C$12","v":0},11233.589832572825,6052.604465817868,14067.896268682265,441.26333637069803,-13626.632932311568]
[53,63.4733497892,-151.85332572600001,-1721.8700323012713,569.75007132858582,{"$f":"Q_d!$C$11","v":0},{"$f":"Q_d!$C$12","v":0},11233.589832572825,6052.604465817868,14067.893681057372,441.28340927911597,-13626.610271778256]
[53,63.474647967800003,-151.85407405999899,-1721.8216598459269,569.89050148992646,{"$f":"Q_d!$C$11","v":0},{"$f":"Q_d!$C$12","v":0},11233.589832572825,6052.604465817868,14067.794402554102,441.43173537026001,-13626.362667183841]
[53,63.551881518400002,-148.823422066999,-1590.3848554154222,497.63485869034093,{"$f":"Q_d!$C$11","v":0},{"$f":"Q_d!$C$12","v":0},11233.589832572825,6052.604465817868,13975.407476502209,441.52709537807499,-13533.880381124134]
[53,63.552185164500003,-148.823957102999,-1590.3903858178114,497.67726524495538,{"$f":"Q_d!$C$11","v":0},{"$f":"Q_d!$C$12","v":0},11233.589832572825,6052.604465817868,13975.395695483514,441.55695008684802,-13533.838745396666]
[53,63.476094549700001,-151.85650123600001,-1721.8335356214118,570.09043328095186,{"$f":"Q_d!$C$11","v":0},{"$f":"Q_d!$C$12","v":0},11233.589832572825,6052.604465817868,14067.72742009588,441.61686556561602,-13626.110554530263]
[53,63.553061417999899,-148.82524739799899,-1590.3955772592276,497.79324985703261,{"$f":"Q_d!$C$11","v":0},{"$f":"Q_d!$C$12","v":0},11233.589832572825,6052.604465817868,13975.354358174596,441.64447848127799,-13533.709879693319]
[53,63.554905985399898,-148.82671530100001,-1590.3535321624954,498.00595935071897,{"$f":"Q_d!$C$11","v":0},{"$f":"Q_d!$C$12","v":0},11233.589832572825,6052.604465817868,13975.231232075772,441.83637235632801,-13533.394859719443]
[53,63.478947914700001,-151.85983858200001,-1721.7970572533711,570.44523825480064,{"$f":"Q_d!$C$11","v":0},{"$f":"Q_d!$C$12","v":0},11233.589832572825,6052.604465817868,14067.555553877701,441.96418859563698,-13625.591365282064]
[53,63.479308443800001,-151.862261958999,-1721.8750746146923,570.54465621357303,{"$f":"Q_d!$C$11","v":0},{"$f":"Q_d!$C$12","v":0},11233.589832572825,6052.604465817868,14067.588660372678,442.03234977544298,-13625.556310597234]
[53,63.557866078399897,-148.828495637,-1590.2616353707776,498.33280989066043,{"$f":"Q_d!$C$11","v":0},{"$f":"Q_d!$C$12","v":0},11233.589832572825,6052.604465817868,13975.016998190582,442.14937246591199,-13532.86762572467]
[53,63.480146643700003,-151.864429266,-1721.9133412395952,570.68125017067769,{"$f":"Q_d!$C$11","v":0},{"$f":"Q_d!$C$12","v":0},11233.589832572825,6052.604465817868,14067.570672611362,442.14949259385099,-13625.421180017511]
[53,63.559037466299898,-148.82973445299899,-1590.2479295194828,498.47560828361293,{"$f":"Q_d!$C$11","v":0},{"$f":"Q_d!$C$12","v":0},11233.589832572825,6052.604465817868,13974.947667685894,442.26991005606499,-13532.677757629828]
[53,63.48230942,-151.865988487999,-1721.8455950048892,570.92370604873622,{"$f":"Q_d!$C$11","v":0},{"$f":"Q_d!$C$12","v":0},11233.589832572825,6052.604465817868,14067.413801767505,442.40044438607799,-13625.013357381427]
[53,63.560845660200002,-148.831182565999,-1590.2070744724381,498.68434282120052,{"$f":"Q_d!$C$11","v":0},{"$f":"Q_d!$C$12","v":0},11233.589832572825,6052.604465817868,13974.827220605306,442.45828090792901,-13532.368939697377]
[53,63.562270277700001,-148.83012962500001,-1590.0818274495107,498.79354303870105,{"$f":"Q_d!$C$11","v":0},{"$f":"Q_d!$C$12","v":0},11233.589832572825,6052.604465817868,13974.66889089116,442.62204909493602,-13532.046841796224]
[53,63.563681575399897,-148.829721102999,-1589.98467007927,498.91770576981253,{"$f":"Q_d!$C$11","v":0},{"$f":"Q_d!$C$12","v":0},11233.589832572825,6052.604465817868,13974.530391172433,442.77947519052799,-13531.750915981906]
[53,63.4864402932999,-151.86739473700001,-1721.6513069994548,571.3439170504189,{"$f":"Q_d!$C$11","v":0},{"$f":"Q_d!$C$12","v":0},11233.589832572825,6052.604465817868,14067.07113040737,442.86073161322298,-13624.210398794146]
[53,63.565697035699898,-148.829607753,-1589.8658589200418,499.10685953585698,{"$f":"Q_d!$C$11","v":0},{"$f":"Q_d!$C$12","v":0},11233.589832572825,6052.604465817868,13974.346193459673,443.001445577776,-13531.344747881896]
[53,63.487638506099898,-151.868594725999,-1721.6276329231155,571.48740093719061,{"$f":"Q_d!$C$11","v":0},{"$f":"Q_d!$C$12","v":0},11233.589832572825,6052.604465817868,14066.993419249802,443.00469453607298,-13623.988724713729]
[53,63.567505568000001,-148.83175190700001,-1589.8544879153876,499.33314386504708,{"$f":"Q_d!$C$11","v":0},{"$f":"Q_d!$C$12","v":0},11233.589832572825,6052.604465817868,13974.24583352837,443.18585137388999,-13531.05998215448]
[53,63.490669510499899,-151.871062942999,-1721.5443204078144,571.83488205448339,{"$f":"Q_d!$C$11","v":0},{"$f":"Q_d!$C$12","v":0},11233.589832572825,6052.604465817868,14066.781300355502,443.35980624431801,-13623.421494111184]
[53,63.569744648799897,-148.83398128799899,-1589.8223607972698,499.60258582824099,{"$f":"Q_d!$C$11","v":0},{"$f":"Q_d!$C$12","v":0},11233.589832572825,6052.604465817868,13974.109279672932,443.41623691628598,-13530.693042756646]
[53,63.571404384600001,-148.83457302400001,-1589.7535574803328,499.7755973454764,{"$f":"Q_d!$C$11","v":0},{"$f":"Q_d!$C$12","v":0},11233.589832572825,6052.604465817868,13973.977391629071,443.59457221318598,{"$f":"K3140-J3140","v":-13530.382819415885}]
[53,63.572714357000002,-148.835012118999,-1589.698066577635,499.9114446957642,{"$f":"Q_d!$C$11","v":0},{"$f":"Q_d!$C$12","v":0},11233.589832572825,6052.604465817868,13973.872488731129,443.73524239798599,-13530.137246333143]
[53,63.573268522699898,-148.835236000999,-1589.6762079305229,499.96987274944377,{"$f":"Q_d!$C$11","v":0},{"$f":"Q_d!$C$12","v":0},11233.589832572825,6052.604465817868,13973.829212841643,443.79432899711497,-13530.034883844528]
[53,63.574363361499898,-148.83598059600001,-1589.6458369107734,500.09291632901295,{"$f":"Q_d!$C$11","v":0},{"$f":"Q_d!$C$12","v":0},11233.589832572825,6052.604465817868,13973.752450302087,443.90989196006802,-13529.842558342019]
[53,63.496096996399899,-151.872958920999,-1721.2909730577117,572.38826818746293,{"$f":"Q_d!$C$11","v":0},{"$f":"Q_d!$C$12","v":0},11233.589832572825,6052.604465817868,14066.332367069434,443.96600306780198,-13622.366364001631]
[53,63.498159618300001,-151.874487181999,-1721.2280004495531,572.62058765611391,{"$f":"Q_d!$C$11","v":0},{"$f":"Q_d!$C$12","v":0},11233.589832572825,6052.604465817868,14066.183860297979,444.20587046661097,-13621.977989831368]
[53,63.578175022300002,-148.83903237499899,-1589.5595567427647,500.53284929726215,{"$f":"Q_d!$C$11","v":0},{"$f":"Q_d!$C$12","v":0},11233.589832572825,6052.604465817868,13973.498470164102,444.30785259772301,-13529.190617566379]
[53,63.499447588099898,-151.87452550200001,-1721.1508945844273,572.74068321646746,{"$f":"Q_d!$C$11","v":0},{"$f":"Q_d!$C$12","v":0},11233.589832572825,6052.604465817868,14066.066059269497,444.34473576829902,-13621.721323501197]
[53,63.5004151386999,-151.87651262700001,-1721.1737373697977,572.88428570840779,{"$f":"Q_d!$C$11","v":0},{"$f":"Q_d!$C$12","v":0},11233.589832572825,6052.604465817868,14066.031153293077,444.47338766229802,-13621.55776563078]
[53,63.5804664124,-148.836247485999,-1589.3118762692025,500.68101968095425,{"$f":"Q_d!$C$11","v":0},{"$f":"Q_d!$C$12","v":0},11233.589832572825,6052.604465817868,13973.212307353975,444.57879515446899,-13528.633512199505]
[53,63.502147128099899,-151.87652115700001,-1721.0682711633924,573.04460766223337,{"$f":"Q_d!$C$11","v":0},{"$f":"Q_d!$C$12","v":0},11233.589832572825,6052.604465817868,14065.871562893251,444.65886426000702,-13621.212698633244]
[53,63.582073560600001,-148.837036216999,-1589.2543819828272,500.853971323324,{"$f":"Q_d!$C$11","v":0},{"$f":"Q_d!$C$12","v":0},11233.589832572825,6052.604465817868,13973.090828584913,444.74969786723801,-13528.341130717674]
[53,63.582378086399899,-148.83759855599899,-1589.2609865007585,500.89713523538057,{"$f":"Q_d!$C$11","v":0},{"$f":"Q_d!$C$12","v":0},11233.589832572825,6052.604465817868,13973.079739723071,444.77901027026797,-13528.300729452803]
[53,63.504627333599899,-151.877501185,-1720.9571521171758,573.30056765303198,{"$f":"Q_d!$C$11","v":0},{"$f":"Q_d!$C$12","v":0},11233.589832572825,6052.604465817868,14065.669510797741,444.93706084793598,-13620.732449949805]
[53,63.505351278600003,-151.87818345700001,-1720.9410537352842,573.38607825020244,{"$f":"Q_d!$C$11","v":0},{"$f":"Q_d!$C$12","v":0},11233.589832572825,6052.604465817868,14065.62137351103,445.02358096622203,-13620.597792544808]
[53,63.505999885100003,-151.878606421999,-1720.918864920601,573.45755690827355,{"$f":"Q_d!$C$11","v":0},{"$f":"Q_d!$C$12","v":0},11233.589832572825,6052.604465817868,14065.573093295787,445.09820049287998,-13620.474892802908]
[53,63.586406094399898,-148.84106863100001,-1589.1801430664871,501.36817973079314,{"$f":"Q_d!$C$11","v":0},{"$f":"Q_d!$C$12","v":0},11233.589832572825,6052.604465817868,13972.818404034559,445.19823711802798,-13527.620166916531]
[53,63.507776082900001,-151.88078086300001,-1720.8999925082292,573.680994131018,{"$f":"Q_d!$C$11","v":0},{"$f":"Q_d!$C$12","v":0},11233.589832572825,6052.604465817868,14065.46867462047,445.31584588244698,-13620.152828738022]
[53,63.587943301899898,-148.841896832999,-1589.1282586348582,501.53545356596078,{"$f":"Q_d!$C$11","v":0},{"$f":"Q_d!$C$12","v":0},11233.589832572825,6052.604465817868,13972.704334715174,445.36137776192402,-13527.342956953249]
[53,63.588669703199898,-148.841260570999,{"$f":"lcpx(B3256,C3256,63,-115,70,60)","v":-1589.0601980112738},{"$f":"lcpy(B3256,C3256,63,-115,70,60)","v":501.58863370063955},{"$f":"Q_d!$C$11","v":0},{"$f":"Q_d!$C$12","v":0},{"$f":"lcpx(F3256,G3256,63,-115,70,60)","v":11233.589832572825},{"$f":"lcpy(F3256,G3256,63,-115,70,60)","v":6052.604465817868},{"$f":"SQRT((H3256-D3256)^2+(I3256-E3256)^2)","v":13972.620748279633},445.44516216140403,-13527.175586118228]
[53,63.589148007200002,-148.840319671999,-1588.9932684224748,501.61051512260201,{"$f":"Q_d!$C$11","v":0},{"$f":"Q_d!$C$12","v":0},11233.589832572825,6052.604465817868,13972.550634103483,445.504043115211,-13527.046590988273]
[53,63.5103475397,-151.880146472999,-1720.7167176407409,573.90137541810645,{"$f":"Q_d!$C$11","v":0},{"$f":"Q_d!$C$12","v":0},11233.589832572825,6052.604465817868,14065.214031420282,445.58378994976903,-13619.630241470513]
[53,63.5903081059,-148.83642022800001,-1588.7624113393808,501.62289413071221,{"$f":"Q_d!$C$11","v":0},{"$f":"Q_d!$C$12","v":0},11233.589832572825,6052.604465817868,13972.333859315373,445.65707578922098,-13526.676783526153]
[53,63.590476935399899,-148.836149540999,-1588.7413908459664,501.6321655547863,{"$f":"Q_d!$C$11","v":0},{"$f":"Q_d!$C$12","v":0},11233.589832572825,6052.604465817868,13972.310885510258,445.67796738452301,-13526.632918125735]
[53,63.591115598199899,-148.83435007200001,-1588.6290161326313,501.64772690143309,{"$f":"Q_d!$C$11","v":0},{"$f":"Q_d!$C$12","v":0},11233.589832572825,6052.604465817868,13972.201577468715,445.75938000786903,-13526.442197460847]
[53,63.512017542199899,-151.884228532999,-1720.782951045886,574.16697745745932,{"$f":"Q_d!$C$11","v":0},{"$f":"Q_d!$C$12","v":0},11233.589832572825,6052.604465817868,14065.171578435646,445.813781153072,-13619.357797282573]
[53,63.592941409799899,-148.83252931499899,-1588.4485867397761,501.77584920972686,{"$f":"Q_d!$C$11","v":0},{"$f":"Q_d!$C$12","v":0},11233.589832572825,6052.604465817868,13971.985097232398,445.97220066053399,-13526.012896571865]
[53,63.514562567399899,-151.88023009700001,-1720.4626213789772,574.29323620430296,{"$f":"Q_d!$C$11","v":0},{"$f":"Q_d!$C$12","v":0},11233.589832572825,6052.604465817868,14064.827368590231,446.03718256889698,-13618.790186021335]
[53,63.593743980100001,-148.831691823,-1588.3677046733144,501.83123592805123,{"$f":"Q_d!$C$11","v":0},{"$f":"Q_d!$C$12","v":0},11233.589832572825,6052.604465817868,13971.88886788771,446.066440258623,-13525.822427629088]
[53,63.516876026299897,-151.87884923799899,-1720.2643520469107,574.46943780238735,{"$f":"Q_d!$C$11","v":0},{"$f":"Q_d!$C$12","v":0},11233.589832572825,6052.604465817868,14064.576126622529,446.26815510184002,-13618.30797152069]
[53,63.596792843899898,-148.827110766999,-1588.0011699976135,502.00645739556739,{"$f":"Q_d!$C$11","v":0},{"$f":"Q_d!$C$12","v":0},11233.589832572825,6052.604465817868,13971.482887950615,446.43121496597797,-13525.051672984637]
[53,63.5183920327,-151.880990771,-1720.2599867621884,574.66790617874585,{"$f":"Q_d!$C$11","v":0},{"$f":"Q_d!$C$12","v":0},11233.589832572825,6052.604465817868,14064.494804055945,446.45661913561099,-13618.038184920333]
[53,63.519631748400002,-151.88125635,-1720.1951823511258,574.78972362839158,{"$f":"Q_d!$C$11","v":0},{"$f":"Q_d!$C$12","v":0},11233.589832572825,6052.604465817868,14064.387671086739,446.59315155183401,-13617.794519534906]
[53,63.521296343400003,-151.879354234999,-1720.01508571257,574.89175556901455,{"$f":"Q_d!$C$11","v":0},{"$f":"Q_d!$C$12","v":0},11233.589832572825,6052.604465817868,14064.182056381716,446.74832972155502,-13617.433726660161]
[53,63.521710432600003,-151.880133327999,-1720.0218908681845,574.95125285114409,{"$f":"Q_d!$C$11","v":0},{"$f":"Q_d!$C$12","v":0},11233.589832572825,6052.604465817868,14064.165151305393,446.80307975773798,-13617.362071547655]
[53,63.601457162700001,-148.815331751,-1587.2383999110577,502.15465689544317,{"$f":"Q_d!$C$11","v":0},{"$f":"Q_d!$C$12","v":0},11233.589832572825,6052.604465817868,13970.724020186741,447.02234246735298,-13523.701677719388]
[53,63.6018421801,-148.81512985699899,-1587.2080776914117,502.18626551307761,{"$f":"Q_d!$C$11","v":0},{"$f":"Q_d!$C$12","v":0},11233.589832572825,6052.604465817868,13970.683635889494,447.066065633481,-13523.617570256014]
[53,63.525162052500001,-151.882510066999,-1719.9089241886415,575.33501573606964,{"$f":"Q_d!$C$11","v":0},{"$f":"Q_d!$C$12","v":0},11233.589832572825,6052.604465817868,14063.91164186622,447.20292883879898,-13616.708713027421]
[53,63.6043848268,-148.812403617,-1586.9488331173188,502.36000047779771,{"$f":"Q_d!$C$11","v":0},{"$f":"Q_d!$C$12","v":0},11233.589832572825,6052.604465817868,13970.376705854931,447.36421841381099,-13523.012487441119]
[53,63.526993936399897,-151.88316603499899,-1719.8240143608512,575.52219376377161,{"$f":"Q_d!$C$11","v":0},{"$f":"Q_d!$C$12","v":0},11233.589832572825,6052.604465817868,14063.76053922927,447.40710783915802,-13616.353431390111]
[53,63.528220078300002,-151.885081186999,-1719.8279910399997,575.68768407630159,{"$f":"Q_d!$C$11","v":0},{"$f":"Q_d!$C$12","v":0},11233.589832572825,6052.604465817868,14063.699753166406,447.561758377545,-13616.13799478886]
[53,63.5293469974999,-151.886315300999,-1719.8099673950612,575.82545110173032,{"$f":"Q_d!$C$11","v":0},{"$f":"Q_d!$C$12","v":0},11233.589832572825,6052.604465817868,14063.629501442476,447.69807478924901,-13615.931426653227]
[53,63.529996364299897,-151.885606284,-1719.7410771575167,575.86615339691843,{"$f":"Q_d!$C$11","v":0},{"$f":"Q_d!$C$12","v":0},11233.589832572825,6052.604465817868,14063.550198997227,447.75935368901003,-13615.790845308216]
[53,63.531009104399899,-151.884705873,-1719.642098995309,575.93522751745695,{"$f":"Q_d!$C$11","v":0},{"$f":"Q_d!$C$12","v":0},11233.589832572825,6052.604465817868,14063.432135106365,447.85690186263702,-13615.575233243728]
[53,63.531703409499897,-151.88519408900001,-1719.619782701564,576.0126933297679,{"$f":"Q_d!$C$11","v":0},{"$f":"Q_d!$C$12","v":0},11233.589832572825,6052.604465817868,14063.381413434012,447.93719099891598,-13615.444222435095]
[53,63.6104852466,-148.800954482999,-1586.1190374964358,502.65359169311432,{"$f":"Q_d!$C$11","v":0},{"$f":"Q_d!$C$12","v":0},11233.589832572825,6052.604465817868,13969.498567183096,448.110492147863,-13521.388075035233]
[53,63.533936175199898,-151.88902371500001,-1719.6410785558162,576.32334826367514,{"$f":"Q_d!$C$11","v":0},{"$f":"Q_d!$C$12","v":0},11233.589832572825,6052.604465817868,14063.280055360454,448.22396181484902,-13615.056093545605]
[53,63.534439921999898,-151.890288768,-1719.662395819314,576.40435852868404,{"$f":"Q_d!$C$11","v":0},{"$f":"Q_d!$C$12","v":0},11233.589832572825,6052.604465817868,14063.268144617736,448.29367404526198,-13614.974470572473]
[53,63.614384337899899,-148.80444583400001,-1586.046511237588,503.11284097147882,{"$f":"Q_d!$C$11","v":0},{"$f":"Q_d!$C$12","v":0},11233.589832572825,6052.604465817868,13969.249560437562,448.514647516666,-13520.734912920896]
[53,63.616469814399899,-148.802924257,-1585.8641993187873,503.27334277238469,{"$f":"Q_d!$C$11","v":0},{"$f":"Q_d!$C$12","v":0},11233.589832572825,6052.604465817868,13969.01849053767,448.754028904476,-13520.264461633195]
[53,63.539448266500003,-151.89319321299899,-1719.475909087605,576.94630589830331,{"$f":"Q_d!$C$11","v":0},{"$f":"Q_d!$C$12","v":0},11233.589832572825,6052.604465817868,14062.885350882683,448.86702646106602,-13614.018324421617]
[53,63.539967197800003,-151.89530037399899,-1719.5309574905418,577.05164815928265,{"$f":"Q_d!$C$11","v":0},{"$f":"Q_d!$C$12","v":0},11233.589832572825,6052.604465817868,14062.895038395924,448.94834187688002,-13613.946696519044]
[53,63.618450146800001,-148.799061956999,-1585.588726875656,503.36504758784122,{"$f":"Q_d!$C$11","v":0},{"$f":"Q_d!$C$12","v":0},11233.589832572825,6052.604465817868,13968.729257160852,448.99819460884203,-13519.731062552009]
[53,63.540915073400001,-151.900128305999,-1719.6718036581969,577.27073222198851,{"$f":"Q_d!$C$11","v":0},{"$f":"Q_d!$C$12","v":0},11233.589832572825,6052.604465817868,14062.939469076418,449.10943447226703,-13613.830034604151]
[53,63.6204792764999,-148.796262877999,-1585.3555321944029,503.48812265294555,{"$f":"Q_d!$C$11","v":0},{"$f":"Q_d!$C$12","v":0},11233.589832572825,6052.604465817868,13968.466360158054,449.23976636980802,-13519.226593788246]
[53,63.621795913900002,-148.796887529,-1585.307572449628,503.62927572508261,{"$f":"Q_d!$C$11","v":0},{"$f":"Q_d!$C$12","v":0},11233.589832572825,6052.604465817868,13968.366273145784,449.37986513527699,-13518.986408010507]
[53,63.544433960600003,-151.90309228199899,-1719.578712622528,577.67662142128711,{"$f":"Q_d!$C$11","v":0},{"$f":"Q_d!$C$12","v":0},11233.589832572825,6052.604465817868,14062.69569682809,449.52358979368302,-13613.172107034407]
[53,63.625140599200002,-148.79707246199899,-1585.1263810503319,503.95264834789759,{"$f":"Q_d!$C$11","v":0},{"$f":"Q_d!$C$12","v":0},11233.589832572825,6052.604465817868,13968.071533211663,449.74517602415699,-13518.326357187507]
[53,63.546239948199897,-151.905659869,-1719.5739948158237,577.91342733691454,{"$f":"Q_d!$C$11","v":0},{"$f":"Q_d!$C$12","v":0},11233.589832572825,6052.604465817868,14062.59915897461,449.74898449913098,-13612.850174475479]
[53,63.547942835800001,-151.90534563200001,-1719.4569505597926,578.06221755411661,{"$f":"Q_d!$C$11","v":0},{"$f":"Q_d!$C$12","v":0},11233.589832572825,6052.604465817868,14062.433423630739,449.928279192361,-13612.505144438377]
[53,63.549013495499899,-151.903376602999,-1719.3104508394365,578.10752743169633,{"$f":"Q_d!$C$11","v":0},{"$f":"Q_d!$C$12","v":0},11233.589832572825,6052.604465817868,14062.280842040564,450.01837701365002,-13612.262465026914]
[53,63.549925680199898,-151.90296042200001,-1719.237556095354,578.1804832116095,{"$f":"Q_d!$C$11","v":0},{"$f":"Q_d!$C$12","v":0},11233.589832572825,6052.604465817868,14062.185296104126,450.11118088312298,-13612.074115221003]
[53,63.6299592246,-148.794207075999,-1584.7327791004707,504.33991184841625,{"$f":"Q_d!$C$11","v":0},{"$f":"Q_d!$C$12","v":0},11233.589832572825,6052.604465817868,13967.556484144559,450.293480159328,{"$f":"K3524-J3524","v":-13517.263003985232}]
[53,63.552234255199899,-151.901450390999,-1719.0342796642244,578.35268883545677,{"$f":"Q_d!$C$11","v":0},{"$f":"Q_d!$C$12","v":0},11233.589832572825,6052.604465817868,14061.931016425151,450.33997140493699,-13611.591045020214]
[53,63.631821727000002,-148.793447662999,-1584.5953881591693,504.49834223780272,{"$f":"Q_d!$C$11","v":0},{"$f":"Q_d!$C$12","v":0},11233.589832572825,6052.604465817868,13967.367465327843,450.50321959781797,-13516.864245730025]
[53,63.554459828600002,-151.90136476800001,-1718.894704192674,578.55601077503434,{"$f":"Q_d!$C$11","v":0},{"$f":"Q_d!$C$12","v":0},11233.589832572825,6052.604465817868,14061.723299912646,450.57848589230201,-13611.144814020345]
[53,63.555328513900001,-151.901757680999,-1718.8577692438282,578.64697779900007,{"$f":"Q_d!$C$11","v":0},{"$f":"Q_d!$C$12","v":0},11233.589832572825,6052.604465817868,14061.653866400062,450.67657849171599,-13610.977287908347]
[53,63.635267035299897,-148.79584079399899,-1584.5019758266099,504.88672586133407,{"$f":"Q_d!$C$11","v":0},{"$f":"Q_d!$C$12","v":0},11233.589832572825,6052.604465817868,13967.127468838578,450.86436632872199,-13516.263102509856]
[53,63.635607835899897,-148.79607543399899,-1584.4926461615323,504.92509084903941,{"$f":"Q_d!$C$11","v":0},{"$f":"Q_d!$C$12","v":0},11233.589832572825,6052.604465817868,13967.103668230262,450.90107769443102,-13516.202590535831]
[53,63.558218931200003,-151.900543069999,-1718.6310964405568,578.88100145486669,{"$f":"Q_d!$C$11","v":0},{"$f":"Q_d!$C$12","v":0},11233.589832572825,6052.604465817868,14061.353973152456,450.97154329403003,-13610.382429858426]
[53,63.636976158400003,-148.797844720999,-1584.490188311772,505.09988509617369,{"$f":"Q_d!$C$11","v":0},{"$f":"Q_d!$C$12","v":0},11233.589832572825,6052.604465817868,13967.031985891957,451.03828110039598,-13515.993704791561]
[53,63.637996479100003,-148.80498736300001,-1584.7347485321318,505.37637505349312,{"$f":"Q_d!$C$11","v":0},{"$f":"Q_d!$C$12","v":0},11233.589832572825,6052.604465817868,13967.146614735771,451.10262702515899,-13516.043987710613]
[53,63.638075653199898,-148.805214782999,-1584.7398955365331,505.38962743718275,{"$f":"Q_d!$C$11","v":0},{"$f":"Q_d!$C$12","v":0},11233.589832572825,6052.604465817868,13967.146075046361,451.10967541497001,-13516.036399631392]
[53,63.559719615799899,-151.900258731999,-1718.5276610418809,579.01193306954247,{"$f":"Q_d!$C$11","v":0},{"$f":"Q_d!$C$12","v":0},11233.589832572825,6052.604465817868,14061.207728461959,451.12838674262099,-13610.079341719338]
[53,63.559835116599899,-151.900032863999,-1718.5113072865001,579.01645817228518,{"$f":"Q_d!$C$11","v":0},{"$f":"Q_d!$C$12","v":0},11233.589832572825,6052.604465817868,14061.190903141411,451.13834061848399,-13610.052562522927]
[53,63.5604696674,-151.899776946999,-1718.4619884681956,579.06812871749344,{"$f":"Q_d!$C$11","v":0},{"$f":"Q_d!$C$12","v":0},11233.589832572825,6052.604465817868,14061.125360670469,451.20349922069499,-13609.921861449773]
[53,63.561334689399899,-151.90078543800001,-1718.4506027914883,579.17551000406274,{"$f":"Q_d!$C$11","v":0},{"$f":"Q_d!$C$12","v":0},11233.589832572825,6052.604465817868,14061.073073334524,451.30854524371603,-13609.764528090809]
[53,63.641072327800003,-148.808037917999,-1584.6899412280879,505.74602427194486,{"$f":"Q_d!$C$11","v":0},{"$f":"Q_d!$C$12","v":0},11233.589832572825,6052.604465817868,13966.958685769168,451.42003445128501,-13515.538651317884]
[53,63.563532506999898,-151.900635203999,-1718.3100698557287,579.37451010679888,{"$f":"Q_d!$C$11","v":0},{"$f":"Q_d!$C$12","v":0},11233.589832572825,6052.604465817868,14060.866162175847,451.54237576665997,-13609.323786409188]
[53,63.643097365400003,-148.81299204300001,-1584.7850314676896,506.06331960423904,{"$f":"Q_d!$C$11","v":0},{"$f":"Q_d!$C$12","v":0},11233.589832572825,6052.604465817868,13966.919948281598,451.60826275988302,-13515.311685521716]
[53,63.6429490636,-148.80665949600001,-1584.5255383992726,505.89025246891788,{"$f":"Q_d!$C$11","v":0},{"$f":"Q_d!$C$12","v":0},11233.589832572825,6052.604465817868,13966.750525018995,451.63484949680299,-13515.115675522193]
[53,63.643165957800001,-148.80777482400001,-1584.5604589225154,505.93891001865359,{"$f":"Q_d!$C$11","v":0},{"$f":"Q_d!$C$12","v":0},11233.589832572825,6052.604465817868,13966.763250060892,451.65058772573201,-13515.112662335161]
[53,63.643526544899899,-148.813721100999,-1584.79160551723,506.12251101521815,{"$f":"Q_d!$C$11","v":0},{"$f":"Q_d!$C$12","v":0},11233.589832572825,6052.604465817868,13966.902475757575,451.650701197285,-13515.251774560291]
[53,63.644515092100001,-148.818939505999,-1584.9564362490062,506.3476875043275,{"$f":"Q_d!$C$11","v":0},{"$f":"Q_d!$C$12","v":0},11233.589832572825,6052.604465817868,13966.964333630804,451.724163358569,-13515.240170272235]
[53,63.644915110500001,-148.82123006699899,-1585.0306952098672,506.44329997321029,{"$f":"Q_d!$C$11","v":0},{"$f":"Q_d!$C$12","v":0},11233.589832572825,6052.604465817868,13966.994519681577,451.75331748422099,-13515.241202197356]
[53,63.5659470838999,-151.899417174999,-1718.1123629698773,579.56448293287667,{"$f":"Q_d!$C$11","v":0},{"$f":"Q_d!$C$12","v":0},11233.589832572825,6052.604465817868,14060.610101140113,451.78668567034998,-13608.823415469764]
[53,63.646556794299897,-148.82885606100001,-1585.2603633864619,506.79115954583858,{"$f":"Q_d!$C$11","v":0},{"$f":"Q_d!$C$12","v":0},11233.589832572825,6052.604465817868,13967.067178705391,451.88301512006399,-13515.184163585327]
[53,63.647118338699897,-148.833077266999,-1585.407103982963,506.95064465048199,{"$f":"Q_d!$C$11","v":0},{"$f":"Q_d!$C$12","v":0},11233.589832572825,6052.604465817868,13967.138531698434,451.91636982521402,-13515.22216187322]
[53,63.567504490300003,-151.89838808600001,-1717.9748315342763,579.6803946423156,{"$f":"Q_d!$C$11","v":0},{"$f":"Q_d!$C$12","v":0},11233.589832572825,6052.604465817868,14060.438298196841,451.94146360452402,-13608.496834592317]
[53,63.5686726749,-151.89913949300001,-1717.9343319458944,579.80878793663624,{"$f":"Q_d!$C$11","v":0},{"$f":"Q_d!$C$12","v":0},11233.589832572825,6052.604465817868,14060.351016811344,452.07550503538602,-13608.275511775959]
[53,63.648944435899899,-148.83780064499899,-1585.5035222345334,507.24320546078707,{"$f":"Q_d!$C$11","v":0},{"$f":"Q_d!$C$12","v":0},11233.589832572825,6052.604465817868,13967.110866143192,452.08656335374502,-13515.024302789447]
[53,63.650175705499898,-148.837180601,-1585.4076481758616,507.34492243281511,{"$f":"Q_d!$C$11","v":0},{"$f":"Q_d!$C$12","v":0},11233.589832572825,6052.604465817868,13966.982487815476,452.22533332841903,-13514.757154487057]
[53,63.650360203200002,-148.837139253999,-1585.3954623118855,507.36145893017283,{"$f":"Q_d!$C$11","v":0},{"$f":"Q_d!$C$12","v":0},11233.589832572825,6052.604465817868,13966.964738120712,452.24611108222899,-13514.718627038483]
[53,63.650450943800003,-148.837119126,-1585.3894777793673,507.369597209733,{"$f":"Q_d!$C$11","v":0},{"$f":"Q_d!$C$12","v":0},11233.589832572825,6052.604465817868,13966.95601436709,452.256107789601,-13514.699906577489]
[53,63.650792655499899,-148.83709583300001,-1585.3691610971202,507.40156282631142,{"$f":"Q_d!$C$11","v":0},{"$f":"Q_d!$C$12","v":0},11233.589832572825,6052.604465817868,13966.924676418126,452.29361331882598,-13514.631063099299]
[53,63.650979161099897,-148.837014431,-1585.3551682257589,507.41728486503507,{"$f":"Q_d!$C$11","v":0},{"$f":"Q_d!$C$12","v":0},11233.589832572825,6052.604465817868,13966.905591622743,452.314847385093,-13514.59074423765]
[53,63.651121469400003,-148.836989848999,-1585.3460780581638,507.43022352721891,{"$f":"Q_d!$C$11","v":0},{"$f":"Q_d!$C$12","v":0},11233.589832572825,6052.604465817868,13966.892111641317,452.33062679526699,-13514.56148484605]
[53,63.651393662499899,-148.836903621,-1585.3270335950901,507.45398679875689,{"$f":"Q_d!$C$11","v":0},{"$f":"Q_d!$C$12","v":0},11233.589832572825,6052.604465817868,13966.865197913599,452.36123724740099,-13514.503960666198]
[53,63.571259903399898,-151.89993076299899,-1717.8087252024202,580.06939151583447,{"$f":"Q_d!$C$11","v":0},{"$f":"Q_d!$C$12","v":0},11233.589832572825,6052.604465817868,14060.133880650235,452.363373373662,-13607.770507276573]
[53,63.651695447400002,-148.836812971999,-1585.3061281897801,507.48045794705513,{"$f":"Q_d!$C$11","v":0},{"$f":"Q_d!$C$12","v":0},11233.589832572825,6052.604465817868,13966.83550112627,452.39465703851897,-13514.440844087751]
[53,63.651891275200001,-148.83678347200001,-1585.2938024070691,507.4983712964181,{"$f":"Q_d!$C$11","v":0},{"$f":"Q_d!$C$12","v":0},11233.589832572825,6052.604465817868,13966.817076437075,452.41683947439401,-13514.400236962681]
[53,63.651972336699899,-148.83675368300001,-1585.2879571048345,507.50534505270798,{"$f":"Q_d!$C$11","v":0},{"$f":"Q_d!$C$12","v":0},11233.589832572825,6052.604465817868,13966.808942840227,452.42605183720298,-13514.382891003024]
[53,63.652195926600001,-148.836743337999,-1585.2748705843655,507.52638391350547,{"$f":"Q_d!$C$11","v":0},{"$f":"Q_d!$C$12","v":0},11233.589832572825,6052.604465817868,13966.788579063745,452.45058732307899,-13514.337991740666]
[53,63.652398285899899,-148.83679818799899,-1585.265741384449,507.54703732093139,{"$f":"Q_d!$C$11","v":0},{"$f":"Q_d!$C$12","v":0},11233.589832572825,6052.604465817868,13966.772000405266,452.47264158731099,-13514.299358817956]
[53,63.6525830373999,-148.836823796,-1585.2563720324608,507.56527923108479,{"$f":"Q_d!$C$11","v":0},{"$f":"Q_d!$C$12","v":0},11233.589832572825,6052.604465817868,13966.756158754486,452.49234283244999,-13514.263815922037]
[53,63.652761298000001,-148.836896752999,-1585.2493716118145,507.58409165363128,{"$f":"Q_d!$C$11","v":0},{"$f":"Q_d!$C$12","v":0},11233.589832572825,6052.604465817868,13966.742264846072,452.51158790466297,-13514.23067694141]
[53,63.652818316599898,-148.836920708999,-1585.2471586494805,507.59012457247036,{"$f":"Q_d!$C$11","v":0},{"$f":"Q_d!$C$12","v":0},11233.589832572825,6052.604465817868,13966.737838598765,452.51753472766097,-13514.220303871103]
[53,63.653124161599898,-148.837020408,-1585.2340708258296,507.62176172548016,{"$f":"Q_d!$C$11","v":0},{"$f":"Q_d!$C$12","v":0},11233.589832572825,6052.604465817868,13966.713266013176,452.54991419068898,-13514.163351822486]
[53,63.653296734500003,-148.83708350699899,-1585.2269753131457,507.63978478385479,{"$f":"Q_d!$C$11","v":0},{"$f":"Q_d!$C$12","v":0},11233.589832572825,6052.604465817868,13966.69959826066,452.56837510922003,-13514.13122315144]
[53,63.653396251700002,-148.837086782,-1585.2214837256529,507.6493467309806,{"$f":"Q_d!$C$11","v":0},{"$f":"Q_d!$C$12","v":0},11233.589832572825,6052.604465817868,13966.690761792852,452.57994063480101,-13514.11082115805]
[53,63.653615061099899,-148.837037785999,-1585.2070336105944,507.66895973019109,{"$f":"Q_d!$C$11","v":0},{"$f":"Q_d!$C$12","v":0},11233.589832572825,6052.604465817868,13966.669712681893,452.603527807727,-13514.066184874166]
[53,63.653772861999897,-148.837048307999,-1585.1985510831335,507.684255567131,{"$f":"Q_d!$C$11","v":0},{"$f":"Q_d!$C$12","v":0},11233.589832572825,6052.604465817868,13966.655854677596,452.621660512397,-13514.034194165199]
[53,63.653865646100002,-148.83704347899899,{"$f":"lcpx(B3832,C3832,63,-115,70,60)","v":-1585.1930978225471},{"$f":"lcpy(B3832,C3832,63,-115,70,60)","v":507.69297267192724},{"$f":"Q_d!$C$11","v":0},{"$f":"Q_d!$C$12","v":0},{"$f":"lcpx(F3832,G3832,63,-115,70,60)","v":11233.589832572825},{"$f":"lcpy(F3832,G3832,63,-115,70,60)","v":6052.604465817868},{"$f":"SQRT((H3832-D3832)^2+(I3832-E3832)^2)","v":13966.647388812309},452.63182140123502,-13514.015567411074]
[53,63.654080181399898,-148.837008427999,-1585.1794790711995,507.71252867127941,{"$f":"Q_d!$C$11","v":0},{"$f":"Q_d!$C$12","v":0},11233.589832572825,6052.604465817868,13966.627125393585,452.65540858361499,-13513.971716809971]
[53,63.6541872126,-148.83700212900001,-1585.1731576697778,507.72256601103436,{"$f":"Q_d!$C$11","v":0},{"$f":"Q_d!$C$12","v":0},11233.589832572825,6052.604465817868,13966.617338597736,452.66697413440698,-13513.95036446333]
[53,63.6544239248,-148.836908985999,-1585.1558285692067,507.74277605854149,{"$f":"Q_d!$C$11","v":0},{"$f":"Q_d!$C$12","v":0},11233.589832572825,6052.604465817868,13966.593410120033,452.69382670851599,-13513.899583411518]
[53,63.6546375721,-148.83676648900001,-1585.1377180259458,507.75954996594101,{"$f":"Q_d!$C$11","v":0},{"$f":"Q_d!$C$12","v":0},11233.589832572825,6052.604465817868,13966.570128608131,452.71832608035601,-13513.851802527775]
[53,63.654753788199898,-148.836690814999,-1585.1279443477713,507.76872053874285,{"$f":"Q_d!$C$11","v":0},{"$f":"Q_d!$C$12","v":0},11233.589832572825,6052.604465817868,13966.557517386495,452.73158823302703,-13513.825929153467]
[53,63.655061713199899,-148.83646418999899,-1585.1009440639632,507.79236313488627,{"$f":"Q_d!$C$11","v":0},{"$f":"Q_d!$C$12","v":0},11233.589832572825,6052.604465817868,13966.523349820911,452.76716078465699,-13513.756189036254]
[53,63.655106461099898,-148.836448566,-1585.0977520913059,507.79623346532253,{"$f":"Q_d!$C$11","v":0},{"$f":"Q_d!$C$12","v":0},11233.589832572825,6052.604465817868,13966.518883629768,452.77215914850501,-13513.746724481263]
[53,63.655328272299897,-148.836370259999,-1585.0818934845774,507.81539678241779,{"$f":"Q_d!$C$11","v":0},{"$f":"Q_d!$C$12","v":0},11233.589832572825,6052.604465817868,13966.496720384768,452.796986846202,-13513.699733538566]
[53,63.655549608900003,-148.836280969999,-1585.0655974605272,507.8342391713868,{"$f":"Q_d!$C$11","v":0},{"$f":"Q_d!$C$12","v":0},11233.589832572825,6052.604465817868,13966.474283090518,452.82181454519099,-13513.652468545328]
[53,63.655636439399899,-148.83626877,-1585.0601695441574,507.84220416929202,{"$f":"Q_d!$C$11","v":0},{"$f":"Q_d!$C$12","v":0},11233.589832572825,6052.604465817868,13966.466139112496,452.83119100278401,-13513.634948109711]
[53,63.575645674,-151.902514561,-1717.6468789068163,580.54494843905741,{"$f":"Q_d!$C$11","v":0},{"$f":"Q_d!$C$12","v":0},11233.589832572825,6052.604465817868,14059.79970406812,452.86523280662601,-13606.934471261495]
[53,63.656179224299898,-148.83579205199899,-1585.0093114813865,507.88194102869829,{"$f":"Q_d!$C$11","v":0},{"$f":"Q_d!$C$12","v":0},11233.589832572825,6052.604465817868,13966.40368501683,452.89341616874901,-13513.510268848082]
[53,63.576006336500001,-151.90212684400001,-1717.6088878839619,580.56772699115163,{"$f":"Q_d!$C$11","v":0},{"$f":"Q_d!$C$12","v":0},11233.589832572825,6052.604465817868,14059.755843108758,452.89940878963398,-13606.856434319125]
[53,63.655084645099898,-148.81550463299899,-1584.2135397561935,507.26849628083619,{"$f":"Q_d!$C$11","v":0},{"$f":"Q_d!$C$12","v":0},11233.589832572825,6052.604465817868,13965.916880274292,452.90746854076002,-13513.009411733532]
[53,63.655057789700003,-148.81471587300001,-1584.1817083450476,507.24614670851952,{"$f":"Q_d!$C$11","v":0},{"$f":"Q_d!$C$12","v":0},11233.589832572825,6052.604465817868,13965.896539874531,452.91014951753903,-13512.986390356993]
[53,63.655062558300003,-148.81453558000001,-1584.1738156642546,507.24207734914125,{"$f":"Q_d!$C$11","v":0},{"$f":"Q_d!$C$12","v":0},11233.589832572825,6052.604465817868,13965.890911843451,452.91199466563,-13512.978917177821]
[53,63.6563655625,-148.83548485,-1584.9857842465537,507.891979347914,{"$f":"Q_d!$C$11","v":0},{"$f":"Q_d!$C$12","v":0},11233.589832572825,6052.604465817868,13966.378106070741,452.91693147861002,-13513.46117459213]
[53,63.655098832999897,-148.81413680399899,-1584.1549038254898,507.23552797903358,{"$f":"Q_d!$C$11","v":0},{"$f":"Q_d!$C$12","v":0},11233.589832572825,6052.604465817868,13965.87615526554,452.91833481324198,-13512.957820452297]
[53,63.655137207700001,-148.813882941,-1584.142000412194,507.23281472093595,{"$f":"Q_d!$C$11","v":0},{"$f":"Q_d!$C$12","v":0},11233.589832572825,6052.604465817868,13965.865389982355,452.92345205453802,-13512.941937927817]
[53,63.655332146299898,-148.816366337999,-1584.2359792257982,507.31369871885045,{"$f":"Q_d!$C$11","v":0},{"$f":"Q_d!$C$12","v":0},11233.589832572825,6052.604465817868,13965.919526951478,452.92839863492702,-13512.991128316551]
[53,63.655188502500003,-148.81366050099899,-1584.1296951439831,507.2321209294746,{"$f":"Q_d!$C$11","v":0},{"$f":"Q_d!$C$12","v":0},11233.589832572825,6052.604465817868,13965.854371812195,452.931540367857,-13512.922831444337]
[53,63.6554531078,-148.816748974999,-1584.2453177568689,507.33482442960576,{"$f":"Q_d!$C$11","v":0},{"$f":"Q_d!$C$12","v":0},11233.589832572825,6052.604465817868,13965.919709662152,452.93924560364599,-13512.980464058506]
[53,63.6565882766999,-148.834961741999,-1584.9510727505319,507.90006304385361,{"$f":"Q_d!$C$11","v":0},{"$f":"Q_d!$C$12","v":0},11233.589832572825,6052.604465817868,13966.343038017849,452.94429758194298,-13513.398740435905]
[53,63.655532071000003,-148.817031751999,-1584.2528087493081,507.34944308098557,{"$f":"Q_d!$C$11","v":0},{"$f":"Q_d!$C$12","v":0},11233.589832572825,6052.604465817868,13965.920780417044,452.94663861651497,-13512.974141800529]
[53,63.655590102600002,-148.81720695000001,-1584.2569347842302,507.359368109971,{"$f":"Q_d!$C$11","v":0},{"$f":"Q_d!$C$12","v":0},11233.589832572825,6052.604465817868,13965.920626478555,452.95198214600998,-13512.968644332544]
[53,63.655350587599898,-148.813049151,-1584.0946822936662,507.23222548527383,{"$f":"Q_d!$C$11","v":0},{"$f":"Q_d!$C$12","v":0},11233.589832572825,6052.604465817868,13965.82219586443,452.95331773263302,-13512.868878131796]
[53,63.655722960799899,-148.81759519299899,-1584.2658372163623,507.38176797397364,{"$f":"Q_d!$C$11","v":0},{"$f":"Q_d!$C$12","v":0},11233.589832572825,6052.604465817868,13965.919903115222,452.96361422193701,-13512.956288893285]
[53,63.655775808400001,-148.817752151999,-1584.2694851076119,507.39074144939786,{"$f":"Q_d!$C$11","v":0},{"$f":"Q_d!$C$12","v":0},11233.589832572825,6052.604465817868,13965.919688182788,452.96817521764098,-13512.951512965148]
[53,63.655491283899899,-148.812682754999,-1584.0712359122488,507.2364382239407,{"$f":"Q_d!$C$11","v":0},{"$f":"Q_d!$C$12","v":0},11233.589832572825,6052.604465817868,13965.799004282529,452.97076070757498,-13512.828243574955]
[53,63.655873059000001,-148.818054996,-1584.2767900867195,507.40760598061979,{"$f":"Q_d!$C$11","v":0},{"$f":"Q_d!$C$12","v":0},11233.589832572825,6052.604465817868,13965.919696555558,452.97713633471602,-13512.942560220843]
[53,63.656876988900002,-148.834422590999,-1584.9119498758675,507.9140313362891,{"$f":"Q_d!$C$11","v":0},{"$f":"Q_d!$C$12","v":0},11233.589832572825,6052.604465817868,13966.301584917599,452.98009282969599,-13513.321492087904]
[53,63.655608319700001,-148.812456026999,-1584.05503269307,507.24190089631611,{"$f":"Q_d!$C$11","v":0},{"$f":"Q_d!$C$12","v":0},11233.589832572825,6052.604465817868,13965.78196409032,452.98463102957402,-13512.797333060746]
[53,63.655642039500002,-148.812396159,-1584.050594989086,507.2436116700901,{"$f":"Q_d!$C$11","v":0},{"$f":"Q_d!$C$12","v":0},11233.589832572825,6052.604465817868,13965.777211920004,452.98930801730802,-13512.787903902696]
[53,63.656039221500002,-148.81860378900001,-1584.2905966662797,507.43720749621298,{"$f":"Q_d!$C$11","v":0},{"$f":"Q_d!$C$12","v":0},11233.589832572825,6052.604465817868,13965.920614876535,452.991927400478,-13512.928687476056]
[53,63.6570076150999,-148.83403056700001,-1584.8879892548478,507.91663403943357,{"$f":"Q_d!$C$11","v":0},{"$f":"Q_d!$C$12","v":0},11233.589832572825,6052.604465817868,13966.278560180581,452.995930777529,-13513.282629403051]
[53,63.656159249200002,-148.819077953999,-1584.3038564782623,507.4605410177528,{"$f":"Q_d!$C$11","v":0},{"$f":"Q_d!$C$12","v":0},11233.589832572825,6052.604465817868,13965.92352014586,453.00185932510198,-13512.921660820757]
[53,63.656216301599898,-148.819313437999,-1584.3105861652691,507.47188553955903,{"$f":"Q_d!$C$11","v":0},{"$f":"Q_d!$C$12","v":0},11233.589832572825,6052.604465817868,13965.925192322569,453.0061233074,-13512.91906901517]
[53,63.656240915600002,-148.819432804999,-1584.3142409092816,507.47722585517158,{"$f":"Q_d!$C$11","v":0},{"$f":"Q_d!$C$12","v":0},11233.589832572825,6052.604465817868,13965.926426283559,453.00833622572497,-13512.918090057834]
[53,63.655860547800003,-148.81215723099899,-1584.0281391788276,507.25843659743441,{"$f":"Q_d!$C$11","v":0},{"$f":"Q_d!$C$12","v":0},11233.589832572825,6052.604465817868,13965.750715717426,453.01474018512903,-13512.735975532298]
[53,63.656340714999899,-148.81990347600001,-1584.3284964140576,507.49854459051721,{"$f":"Q_d!$C$11","v":0},{"$f":"Q_d!$C$12","v":0},11233.589832572825,6052.604465817868,13965.931045448007,453.01608225867602,-13512.914963189331]
[53,63.656393742100001,-148.820248878999,-1584.34010059104,507.51226389826616,{"$f":"Q_d!$C$11","v":0},{"$f":"Q_d!$C$12","v":0},11233.589832572825,6052.604465817868,13965.936248575954,453.01958938328403,-13512.91665919267]
[53,63.657213333900003,-148.83333751699899,-1584.8470562636307,507.91883405134013,{"$f":"Q_d!$C$11","v":0},{"$f":"Q_d!$C$12","v":0},11233.589832572825,6052.604465817868,13966.240117805557,453.022937701834,-13513.217180103724]
[53,63.657223464399898,-148.833274579999,-1584.8438228031387,507.91821928000354,{"$f":"Q_d!$C$11","v":0},{"$f":"Q_d!$C$12","v":0},11233.589832572825,6052.604465817868,13966.237394152418,453.02541961792798,-13513.21197453449]
[53,63.656556621199897,-148.820861256999,-1584.3567795570837,507.5431483976331,{"$f":"Q_d!$C$11","v":0},{"$f":"Q_d!$C$12","v":0},11233.589832572825,6052.604465817868,13965.939294059774,453.03392827689999,-13512.905365782874]
[53,63.656584799400001,-148.82093393599899,-1584.3582587408807,507.54765675831641,{"$f":"Q_d!$C$11","v":0},{"$f":"Q_d!$C$12","v":0},11233.589832572825,6052.604465817868,13965.938861648734,453.03581871856397,-13512.903042930169]
[53,63.656634044699899,-148.82106021800001,-1584.3608127428856,507.55551730762863,{"$f":"Q_d!$C$11","v":0},{"$f":"Q_d!$C$12","v":0},11233.589832572825,6052.604465817868,13965.938084751913,453.04084276144403,-13512.897241990469]
[53,63.657354802599897,-148.83246191999899,-1584.8020414945772,507.91033204655196,{"$f":"Q_d!$C$11","v":0},{"$f":"Q_d!$C$12","v":0},11233.589832572825,6052.604465817868,13966.202177909185,453.044587122503,-13513.157590786681]
[53,63.657383682400003,-148.832296718999,-1584.7934246587511,507.90893651993792,{"$f":"Q_d!$C$11","v":0},{"$f":"Q_d!$C$12","v":0},11233.589832572825,6052.604465817868,13966.1948232828,453.04860377226601,-13513.146219510534]
[53,63.656783543000003,-148.82143387299899,-1584.3681554790774,507.57913659560973,{"$f":"Q_d!$C$11","v":0},{"$f":"Q_d!$C$12","v":0},11233.589832572825,6052.604465817868,13965.935446119604,453.05467247342199,-13512.880773646182]
[53,63.656798284099899,-148.82148083499899,-1584.3693072475946,507.58171945115373,{"$f":"Q_d!$C$11","v":0},{"$f":"Q_d!$C$12","v":0},11233.589832572825,6052.604465817868,13965.93547771971,453.05561783184999,-13512.87985988786]
[53,63.6574529845999,-148.83175885700001,-1584.7667685242702,507.90203782274375,{"$f":"Q_d!$C$11","v":0},{"$f":"Q_d!$C$12","v":0},11233.589832572825,6052.604465817868,13966.173096732853,453.060654633571,-13513.112442099282]
[53,63.656906661199898,-148.821738632999,-1584.3740771974053,507.59851377967107,{"$f":"Q_d!$C$11","v":0},{"$f":"Q_d!$C$12","v":0},11233.589832572825,6052.604465817868,13965.933187592986,453.06582885161401,-13512.867358741372]
[53,63.656357396200001,-148.812057578999,-1583.995836091362,507.30327590764091,{"$f":"Q_d!$C$11","v":0},{"$f":"Q_d!$C$12","v":0},11233.589832572825,6052.604465817868,13965.703264081094,453.07050115075901,-13512.632762930334]
[53,63.657542112500003,-148.830959207999,-1584.7279248905138,507.89045727241637,{"$f":"Q_d!$C$11","v":0},{"$f":"Q_d!$C$12","v":0},11233.589832572825,6052.604465817868,13966.142043093367,453.07545026849499,-13513.066592824871]
[53,63.6575724518,-148.83074527599899,-1584.7171655888417,507.88797789653927,{"$f":"Q_d!$C$11","v":0},{"$f":"Q_d!$C$12","v":0},11233.589832572825,6052.604465817868,13966.133152399307,453.080088907027,-13513.05306349228]
[53,63.657066558499899,-148.822173937999,-1584.3834377412313,507.6246708182789,{"$f":"Q_d!$C$11","v":0},{"$f":"Q_d!$C$12","v":0},11233.589832572825,6052.604465817868,13965.931393410154,453.08060585286501,-13512.850787557289]
[53,63.657612225900003,-148.830582773999,-1584.7080466390009,507.88768819992129,{"$f":"Q_d!$C$11","v":0},{"$f":"Q_d!$C$12","v":0},11233.589832572825,6052.604465817868,13966.124897916543,453.08489107671602,-13513.040006839827]
[53,63.657167545699899,-148.82257156399899,-1584.3945365728068,507.64426997146074,{"$f":"Q_d!$C$11","v":0},{"$f":"Q_d!$C$12","v":0},11233.589832572825,6052.604465817868,13965.933798396109,453.089440235589,-13512.844358160519]
[53,63.657658291600001,-148.830019706,-1584.6816393290983,507.87794411135883,{"$f":"Q_d!$C$11","v":0},{"$f":"Q_d!$C$12","v":0},11233.589832572825,6052.604465817868,13966.10452946312,453.09381026118598,-13513.010719201935]
[53,63.656619499199898,-148.81222453999899,-1583.9880770600651,507.33243759791776,{"$f":"Q_d!$C$11","v":0},{"$f":"Q_d!$C$12","v":0},11233.589832572825,6052.604465817868,13965.684563832438,453.097558145042,-13512.587005687396]
[53,63.657297546800002,-148.82309171700001,-1584.4091742304643,507.66970804650509,{"$f":"Q_d!$C$11","v":0},{"$f":"Q_d!$C$12","v":0},11233.589832572825,6052.604465817868,13965.937133123258,453.099707915377,-13512.837425207881]
[53,63.657517883499899,-148.82635521,-1584.5346739983033,507.77259798323848,{"$f":"Q_d!$C$11","v":0},{"$f":"Q_d!$C$12","v":0},11233.589832572825,6052.604465817868,13966.011467434566,453.10277452803098,-13512.908692906534]
[53,63.657558452899899,-148.826982837,-1584.5589111727234,507.79221421847342,{"$f":"Q_d!$C$11","v":0},{"$f":"Q_d!$C$12","v":0},11233.589832572825,6052.604465817868,13966.02592444509,453.10354551360501,-13512.922378931486]
[53,63.657701216600003,-148.829346729999,-1584.6507636191084,507.86514257798535,{"$f":"Q_d!$C$11","v":0},{"$f":"Q_d!$C$12","v":0},11233.589832572825,6052.604465817868,13966.081273734075,453.10364634374702,-13512.977627390328]
[53,63.657520798599897,-148.82614945500001,-1584.5258112043396,507.76771198603956,{"$f":"Q_d!$C$11","v":0},{"$f":"Q_d!$C$12","v":0},11233.589832572825,6052.604465817868,13966.005272943625,453.10444533793702,-13512.900827605688]
[53,63.6566885015,-148.812280192,-1583.9865289190413,507.34040826854562,{"$f":"Q_d!$C$11","v":0},{"$f":"Q_d!$C$12","v":0},11233.589832572825,6052.604465817868,13965.679978097145,453.10506511955901,-13512.574912977587]
[53,63.6575226677,-148.825817653,-1584.5116791242099,507.75956307539627,{"$f":"Q_d!$C$11","v":0},{"$f":"Q_d!$C$12","v":0},11233.589832572825,6052.604465817868,13965.995537720859,453.10687066629202,-13512.888667054567]
[53,63.657705694999898,-148.82873719099899,-1584.6247439898361,507.85027093878716,{"$f":"Q_d!$C$11","v":0},{"$f":"Q_d!$C$12","v":0},11233.589832572825,6052.604465817868,13966.063296879069,453.108028603555,-13512.955268275513]
[53,63.657411779299899,-148.823530441,-1584.4212609747728,507.6916004859163,{"$f":"Q_d!$C$11","v":0},{"$f":"Q_d!$C$12","v":0},11233.589832572825,6052.604465817868,13965.939534396997,453.10949038946399,-13512.830044007533]
[53,63.656733763399899,-148.812332623,-1583.9861867711591,507.34603616172899,{"$f":"Q_d!$C$11","v":0},{"$f":"Q_d!$C$12","v":0},11233.589832572825,6052.604465817868,13965.677429445892,453.10976197936799,-13512.567667466525]
[53,63.657698518399897,-148.828188511999,-1584.6019561117828,507.83581667484759,{"$f":"Q_d!$C$11","v":0},{"$f":"Q_d!$C$12","v":0},11233.589832572825,6052.604465817868,13966.048120496393,453.1105501056,-13512.937570390792]
[53,63.657687669300003,-148.827981303999,{"$f":"lcpx(B4280,C4280,63,-115,70,60)","v":-1584.5938105929483},{"$f":"lcpy(B4280,C4280,63,-115,70,60)","v":507.82958273950544},{"$f":"Q_d!$C$11","v":0},{"$f":"Q_d!$C$12","v":0},{"$f":"lcpx(F4280,G4280,63,-115,70,60)","v":11233.589832572825},{"$f":"lcpy(F4280,G4280,63,-115,70,60)","v":6052.604465817868},{"$f":"SQRT((H4280-D4280)^2+(I4280-E4280)^2)","v":13966.043119435772},453.11081406759598,-13512.932305368176]
[53,63.656762393500003,-148.81236940700001,-1583.9861233602394,507.34968684120895,{"$f":"Q_d!$C$11","v":0},{"$f":"Q_d!$C$12","v":0},11233.589832572825,6052.604465817868,13965.675921697341,453.11211042080902,-13512.563811276532]
[53,63.657458287799898,-148.823830369999,-1584.431310076902,507.70355794454235,{"$f":"Q_d!$C$11","v":0},{"$f":"Q_d!$C$12","v":0},11233.589832572825,6052.604465817868,13965.9440100392,453.11268056080701,-13512.831329478393]
[53,63.657483568400004,-148.82407896199899,-1584.4403893948515,507.71220478591067,{"$f":"Q_d!$C$11","v":0},{"$f":"Q_d!$C$12","v":0},11233.589832572825,6052.604465817868,13965.948910035751,453.114141651968,-13512.834768383784]
[53,63.656912143900001,-148.812592483999,-1583.9870886563376,507.36955141692169,{"$f":"Q_d!$C$11","v":0},{"$f":"Q_d!$C$12","v":0},11233.589832572825,6052.604465817868,13965.668920159813,453.12714466140699,-13512.541775498406]
[53,63.657027478499899,-148.812789014,-1583.9888772035758,507.38547086632661,{"$f":"Q_d!$C$11","v":0},{"$f":"Q_d!$C$12","v":0},11233.589832572825,6052.604465817868,13965.66424067558,453.13904788927601,-13512.525192786305]
[53,63.657173743100003,-148.81300515199899,-1583.989745982504,507.40482918750604,{"$f":"Q_d!$C$11","v":0},{"$f":"Q_d!$C$12","v":0},11233.589832572825,6052.604465817868,13965.657351613783,453.153299963709,-13512.504051650074]
[53,63.6578569602,-148.821641537,-1584.3162328478929,507.68661298002007,{"$f":"Q_d!$C$11","v":0},{"$f":"Q_d!$C$12","v":0},11233.589832572825,6052.604465817868,13965.845119314086,453.17081684614197,-13512.674302467944]
[53,63.657835196100002,-148.821282822,-1584.3022990634331,507.67553829618191,{"$f":"Q_d!$C$11","v":0},{"$f":"Q_d!$C$12","v":0},11233.589832572825,6052.604465817868,13965.836727870244,453.17089940330402,-13512.665828466941]
[53,63.657839000099898,-148.82137141600001,-1584.3058292323894,507.67812377991322,{"$f":"Q_d!$C$11","v":0},{"$f":"Q_d!$C$12","v":0},11233.589832572825,6052.604465817868,13965.838941343673,453.17138529258398,-13512.667556051088]
[53,63.6578353483999,-148.821052825999,-1584.2925674264422,507.66978158331995,{"$f":"Q_d!$C$11","v":0},{"$f":"Q_d!$C$12","v":0},11233.589832572825,6052.604465817868,13965.830081761636,453.17241371689801,-13512.657668044738]
[53,63.657893778599899,-148.82201232899899,-1584.3298257742942,507.69942501634614,{"$f":"Q_d!$C$11","v":0},{"$f":"Q_d!$C$12","v":0},11233.589832572825,6052.604465817868,13965.852508148138,453.172923367007,-13512.679584781132]
[53,63.657839622700003,-148.82082441200001,-1584.282669553013,507.66445731135764,{"$f":"Q_d!$C$11","v":0},{"$f":"Q_d!$C$12","v":0},11233.589832572825,6052.604465817868,13965.823111391963,453.174711727165,-13512.648399664798]
[53,63.657788875999898,-148.819848578999,-1584.2442857304893,507.63513680740471,{"$f":"Q_d!$C$11","v":0},{"$f":"Q_d!$C$12","v":0},11233.589832572825,6052.604465817868,13965.799523980259,453.17561316778699,-13512.623910812472]
[53,63.657804493999897,-148.820018771999,-1584.2505975318134,507.64089523850498,{"$f":"Q_d!$C$11","v":0},{"$f":"Q_d!$C$12","v":0},11233.589832572825,6052.604465817868,13965.803030641571,453.175800330291,-13512.62723031128]
[53,63.657829750300003,-148.820298643999,-1584.26100098181,507.65032402073257,{"$f":"Q_d!$C$11","v":0},{"$f":"Q_d!$C$12","v":0},11233.589832572825,6052.604465817868,13965.808835362544,453.17679661694899,-13512.632038745596]
[53,63.657792947399898,-148.81970941399899,-1584.2381722514433,507.6320327966132,{"$f":"Q_d!$C$11","v":0},{"$f":"Q_d!$C$12","v":0},11233.589832572825,6052.604465817868,13965.795145433824,453.17699279310199,-13512.618152640722]
[53,63.658039131499898,-148.82307388999899,-1584.36648229502,507.7399110716683,{"$f":"Q_d!$C$11","v":0},{"$f":"Q_d!$C$12","v":0},11233.589832572825,6052.604465817868,13965.870077454581,453.18127354293802,-13512.688803911644]
[53,63.657854039199897,-148.819538233999,-1584.2274809888113,507.63355797393569,{"$f":"Q_d!$C$11","v":0},{"$f":"Q_d!$C$12","v":0},11233.589832572825,6052.604465817868,13965.784727421371,453.18461389261603,-13512.600113528755]
[53,63.6581041622999,-148.82335080799899,-1584.3745109590955,507.75305545576202,{"$f":"Q_d!$C$11","v":0},{"$f":"Q_d!$C$12","v":0},11233.589832572825,6052.604465817868,13965.872227506963,453.18727300973399,-13512.684954497228]
[53,63.657906308900003,-148.81940623400001,-1584.2189449550813,507.63522576656806,{"$f":"Q_d!$C$11","v":0},{"$f":"Q_d!$C$12","v":0},11233.589832572825,6052.604465817868,13965.776230857578,453.19177517029101,-13512.584455687287]
[53,63.657594911300002,-148.813461058,-1583.9852092756184,507.45639505567306,{"$f":"Q_d!$C$11","v":0},{"$f":"Q_d!$C$12","v":0},11233.589832572825,6052.604465817868,13965.632713203287,453.19649866696898,-13512.436214536319]
[53,63.6579678656,-148.819198903,-1584.2066991453203,507.63588822968859,{"$f":"Q_d!$C$11","v":0},{"$f":"Q_d!$C$12","v":0},11233.589832572825,6052.604465817868,13965.764728612821,453.199234864755,-13512.565493748067]
[53,63.657661883499898,-148.813567430999,-1583.9859200605035,507.4654446966756,{"$f":"Q_d!$C$11","v":0},{"$f":"Q_d!$C$12","v":0},11233.589832572825,6052.604465817868,13965.629772339475,453.20354485043401,-13512.426227489041]
[53,63.658306417600002,-148.824070680999,-1584.393504094983,507.79038864242557,{"$f":"Q_d!$C$11","v":0},{"$f":"Q_d!$C$12","v":0},11233.589832572825,6052.604465817868,13965.874837242978,453.20446232578001,-13512.670374917197]
[53,63.658361229900002,-148.82423406800001,-1584.3973110750676,507.79971060288108,{"$f":"Q_d!$C$11","v":0},{"$f":"Q_d!$C$12","v":0},11233.589832572825,6052.604465817868,13965.874630261344,453.209030149444,-13512.665600111899]
[53,63.658068875200001,-148.81876182100001,-1584.1825096538407,507.63454487054969,{"$f":"Q_d!$C$11","v":0},{"$f":"Q_d!$C$12","v":0},11233.589832572825,6052.604465817868,13965.743060838597,453.21337156906498,-13512.529689269531]
[53,63.658081068599898,-148.81869523699899,-1584.1790053066295,507.63403592669374,{"$f":"Q_d!$C$11","v":0},{"$f":"Q_d!$C$12","v":0},11233.589832572825,6052.604465817868,13965.740046616977,453.21523662383601,-13512.524809993141]
[53,63.6578415703,-148.81398177899899,-1583.9932786144984,507.4929599529396,{"$f":"Q_d!$C$11","v":0},{"$f":"Q_d!$C$12","v":0},11233.589832572825,6052.604465817868,13965.625600905607,453.219707042842,-13512.405893862764]
[53,63.658514009599898,-148.82468749399899,-1584.4078381859258,507.82564409134784,{"$f":"Q_d!$C$11","v":0},{"$f":"Q_d!$C$12","v":0},11233.589832572825,6052.604465817868,13965.873995903145,453.22319329553198,-13512.650802607612]
[53,63.658141251399897,-148.81831287700001,-1584.15943782724,507.63017608397149,{"$f":"Q_d!$C$11","v":0},{"$f":"Q_d!$C$12","v":0},11233.589832572825,6052.604465817868,13965.723620086836,453.22453766317602,-13512.499082423659]
[53,63.658168099000001,-148.81806609500001,{"$f":"lcpx(B4472,C4472,63,-115,70,60)","v":-1584.1474869108897},{"$f":"lcpy(B4472,C4472,63,-115,70,60)","v":507.62654209150287},{"$f":"Q_d!$C$11","v":0},{"$f":"Q_d!$C$12","v":0},{"$f":"lcpx(F4472,G4472,63,-115,70,60)","v":11233.589832572825},{"$f":"lcpy(F4472,G4472,63,-115,70,60)","v":6052.604465817868},{"$f":"SQRT((H4472-D4472)^2+(I4472-E4472)^2)","v":13965.714094377641},453.228865475269,-13512.485228902373]
[53,63.658594528400002,-148.825039809999,-1584.418177621623,507.84215615065705,{"$f":"Q_d!$C$11","v":0},{"$f":"Q_d!$C$12","v":0},11233.589832572825,6052.604465817868,13965.876929864271,453.22968324790901,-13512.647246616361]
[53,63.6586343224999,-148.825234133999,-1584.4241415162026,507.85082373481828,{"$f":"Q_d!$C$11","v":0},{"$f":"Q_d!$C$12","v":0},11233.589832572825,6052.604465817868,13965.878962361619,453.232226110412,{"$f":"K4484-J4484","v":-13512.646736251207}]
[53,63.658673004500002,-148.82537714700001,-1584.4279992595036,507.85809774462996,{"$f":"Q_d!$C$11","v":0},{"$f":"Q_d!$C$12","v":0},11233.589832572825,6052.604465817868,13965.879615098827,453.23601139472498,-13512.643603704102]
[53,63.658033334999899,-148.81467176999899,-1584.0116073864137,507.52854129451998,{"$f":"Q_d!$C$11","v":0},{"$f":"Q_d!$C$12","v":0},11233.589832572825,6052.604465817868,13965.628295296048,453.23669688144099,-13512.391598414608]
[53,63.658066602300003,-148.814820384999,-1584.0160094570358,507.53543938558551,{"$f":"Q_d!$C$11","v":0},{"$f":"Q_d!$C$12","v":0},11233.589832572825,6052.604465817868,13965.629596603825,453.23906777990697,-13512.390528823918]
[53,63.658085187399898,-148.81495911299899,-1584.0208236449564,507.5406905624086,{"$f":"Q_d!$C$11","v":0},{"$f":"Q_d!$C$12","v":0},11233.589832572825,6052.604465817868,13965.63193006453,453.24049479829102,-13512.39143526624]
[53,63.658206151100003,-148.81676681900001,-1584.0904074820457,507.59756880582017,{"$f":"Q_d!$C$11","v":0},{"$f":"Q_d!$C$12","v":0},11233.589832572825,6052.604465817868,13965.673210561827,453.241595410218,-13512.431615151609]
[53,63.658194762500003,-148.816415264,-1584.0761890746567,507.58766347913479,{"$f":"Q_d!$C$11","v":0},{"$f":"Q_d!$C$12","v":0},11233.589832572825,6052.604465817868,13965.664093795012,453.24247020992999,-13512.421623585082]
[53,63.658765170300001,-148.82575041300001,-1584.4385653085849,507.87624518039775,{"$f":"Q_d!$C$11","v":0},{"$f":"Q_d!$C$12","v":0},11233.589832572825,6052.604465817868,13965.882107823618,453.24390773732398,-13512.638200086294]
[53,63.658176195899898,-148.81573786800001,-1584.048601099558,507.56889935415802,{"$f":"Q_d!$C$11","v":0},{"$f":"Q_d!$C$12","v":0},11233.589832572825,6052.604465817868,13965.646223848824,453.245004831823,-13512.401219017001]
[53,63.658199600800003,-148.81605352099899,-1584.060622399488,507.5790486514129,{"$f":"Q_d!$C$11","v":0},{"$f":"Q_d!$C$12","v":0},11233.589832572825,6052.604465817868,13965.653227216906,453.24615565716601,-13512.407071559741]
[53,63.658830674100003,-148.82602334500001,-1584.4463978684528,507.88933475497242,{"$f":"Q_d!$C$11","v":0},{"$f":"Q_d!$C$12","v":0},11233.589832572825,6052.604465817868,13965.88409981778,453.24912810726897,-13512.634971710511]
[53,63.658899538699899,-148.826310315999,-1584.4546337117879,507.90309683037276,{"$f":"Q_d!$C$11","v":0},{"$f":"Q_d!$C$12","v":0},11233.589832572825,6052.604465817868,13965.88619497171,453.25513272107497,-13512.631062250635]
[53,63.659108325600002,-148.82701543900001,-1584.4726313322915,507.94068246768438,{"$f":"Q_d!$C$11","v":0},{"$f":"Q_d!$C$12","v":0},11233.589832572825,6052.604465817868,13965.887791292342,453.27295602208602,-13512.614835270255]
[53,63.6591989259,-148.827281927999,-1584.4787717189563,507.95600125747251,{"$f":"Q_d!$C$11","v":0},{"$f":"Q_d!$C$12","v":0},11233.589832572825,6052.604465817868,13965.887345238132,453.28177194875099,-13512.605573289382]
[53,63.659354514299899,-148.82765182099899,-1584.4856072211089,507.98010615934982,{"$f":"Q_d!$C$11","v":0},{"$f":"Q_d!$C$12","v":0},11233.589832572825,6052.604465817868,13965.884048994791,453.29623852399197,-13512.587810470799]
[53,63.659412029400002,-148.82777514200001,-1584.4875669673363,507.98868017689074,{"$f":"Q_d!$C$11","v":0},{"$f":"Q_d!$C$12","v":0},11233.589832572825,6052.604465817868,13965.88244369046,453.30126788262999,-13512.581175807829]
[53,63.659678632499897,-148.828284392999,-1584.4940137324552,508.02685815581572,{"$f":"Q_d!$C$11","v":0},{"$f":"Q_d!$C$12","v":0},11233.589832572825,6052.604465817868,13965.873203573768,453.32671071645399,-13512.546492857315]
[53,63.659790112300001,-148.828442206999,-1584.4943790567133,508.04143871233146,{"$f":"Q_d!$C$11","v":0},{"$f":"Q_d!$C$12","v":0},11233.589832572825,6052.604465817868,13965.867750267871,453.33846988094803,-13512.529280386923]
[53,63.659870820000002,-148.82855536599899,-1584.4945972949495,508.05196711187455,{"$f":"Q_d!$C$11","v":0},{"$f":"Q_d!$C$12","v":0},11233.589832572825,6052.604465817868,13965.863770713415,453.34630943021898,-13512.517461283196]
[53,63.6600191641,-148.82875879599899,-1584.4948055575198,508.0712042653854,{"$f":"Q_d!$C$11","v":0},{"$f":"Q_d!$C$12","v":0},11233.589832572825,6052.604465817868,13965.856324577271,453.36198878379702,-13512.494335793474]
[53,63.6602404343,-148.82896829000001,-1584.4911452462859,508.09754081111123,{"$f":"Q_d!$C$11","v":0},{"$f":"Q_d!$C$12","v":0},11233.589832572825,6052.604465817868,13965.842509328822,453.38423474686402,-13512.458274581959]
[53,63.660429000900002,-148.829125314999,-1584.4871167985241,508.11944508104398,{"$f":"Q_d!$C$11","v":0},{"$f":"Q_d!$C$12","v":0},11233.589832572825,6052.604465817868,13965.830115864224,453.403965828487,-13512.426150035737]
[53,63.580993295600003,-151.901116387999,-1717.2624848978362,581.00105231636007,{"$f":"Q_d!$C$11","v":0},{"$f":"Q_d!$C$12","v":0},11233.589832572825,6052.604465817868,14059.268105544348,453.422828770232,-13605.845276774116]
[53,63.660695242899898,-148.82913631100001,-1584.4725225668833,508.14508429041371,{"$f":"Q_d!$C$11","v":0},{"$f":"Q_d!$C$12","v":0},11233.589832572825,6052.604465817868,13965.806542182143,453.433661328754,-13512.372880853389]
[53,63.660973506399898,-148.82911175199899,-1584.4557455776639,508.17097644565047,{"$f":"Q_d!$C$11","v":0},{"$f":"Q_d!$C$12","v":0},11233.589832572825,6052.604465817868,13965.780864728456,453.46459834147998,-13512.316266386977]
[53,63.581672156400003,-151.90066584900001,-1717.2024634565107,581.05152780354274,{"$f":"Q_d!$C$11","v":0},{"$f":"Q_d!$C$12","v":0},11233.589832572825,6052.604465817868,14059.193172027548,453.48973996111499,-13605.703432066433]
[53,63.6613618047,-148.82896515100001,-1584.4275866391424,508.20428833727101,{"$f":"Q_d!$C$11","v":0},{"$f":"Q_d!$C$12","v":0},11233.589832572825,6052.604465817868,13965.741795095179,453.50785160126998,-13512.233943493909]
[53,63.661541284800002,-148.82891398500001,-1584.4152724667358,508.22010234620166,{"$f":"Q_d!$C$11","v":0},{"$f":"Q_d!$C$12","v":0},11233.589832572825,6052.604465817868,13965.724214759841,453.52784474605301,-13512.196370013788]
[53,63.661752024400002,-148.82896178300001,-1584.4053730454423,508.24137772135282,{"$f":"Q_d!$C$11","v":0},{"$f":"Q_d!$C$12","v":0},11233.589832572825,6052.604465817868,13965.706682581444,453.55051653481701,-13512.156166046627]
[53,63.661835918900003,-148.82896064600001,-1584.4005798279065,508.24934131685131,{"$f":"Q_d!$C$11","v":0},{"$f":"Q_d!$C$12","v":0},11233.589832572825,6052.604465817868,13965.699121740299,453.55989238247201,-13512.139229357826]
[53,63.6620548625,-148.828975694999,-1584.3888321981335,508.27057640616704,{"$f":"Q_d!$C$11","v":0},{"$f":"Q_d!$C$12","v":0},11233.589832572825,6052.604465817868,13965.679909256211,453.583805682037,-13512.096103574173]
[53,63.662178093800001,-148.82895576799899,-1584.3810198873641,508.28181586370511,{"$f":"Q_d!$C$11","v":0},{"$f":"Q_d!$C$12","v":0},11233.589832572825,6052.604465817868,13965.66827693232,453.59677507782101,{"$f":"K4676-J4676","v":-13512.071501854498}]
[53,63.662311066599898,-148.828814072,-1584.3675100360033,508.29092768564169,{"$f":"Q_d!$C$11","v":0},{"$f":"Q_d!$C$12","v":0},11233.589832572825,6052.604465817868,13965.652259957495,453.61252147179499,-13512.039738485699]
[53,63.662358096299897,-148.828386878999,-1584.3467946955716,508.28468810472805,{"$f":"Q_d!$C$11","v":0},{"$f":"Q_d!$C$12","v":0},11233.589832572825,6052.604465817868,13965.635724098271,453.62085305351599,-13512.014871044754]
[53,63.662388557600003,-148.828227962,-1584.3383551647348,508.2836022163192,{"$f":"Q_d!$C$11","v":0},{"$f":"Q_d!$C$12","v":0},11233.589832572825,6052.604465817868,13965.628409225434,453.62503521079998,-13512.003374014634]
[53,63.583157389500002,-151.90015527700001,-1717.0906825012185,581.1748836980164,{"$f":"Q_d!$C$11","v":0},{"$f":"Q_d!$C$12","v":0},11233.589832572825,6052.604465817868,14059.042196238503,453.64267457217898,-13605.399521666324]
[53,63.583305140699899,-151.89999333200001,-1717.0749930779448,581.18413235159687,{"$f":"Q_d!$C$11","v":0},{"$f":"Q_d!$C$12","v":0},11233.589832572825,6052.604465817868,14059.024144364224,453.65704280656701,-13605.367101557658]
[53,63.583537994700002,-151.898795702999,-1717.0115241680664,581.17307952111878,{"$f":"Q_d!$C$11","v":0},{"$f":"Q_d!$C$12","v":0},11233.589832572825,6052.604465817868,14058.969980627038,453.66765721726199,-13605.302323409776]
[53,63.6629183639999,-148.827816667999,-1584.2910062752285,508.32375354030592,{"$f":"Q_d!$C$11","v":0},{"$f":"Q_d!$C$12","v":0},11233.589832572825,6052.604465817868,13965.569011516898,453.68557134319298,-13511.883440173706]
[53,63.662993082,-148.82775628100001,-1584.2842280607458,508.32935628876749,{"$f":"Q_d!$C$11","v":0},{"$f":"Q_d!$C$12","v":0},11233.589832572825,6052.604465817868,13965.56056606418,453.694620750566,-13511.865945313613]
[53,63.663177687199898,-148.827560113,-1584.2654960706898,508.34202041234494,{"$f":"Q_d!$C$11","v":0},{"$f":"Q_d!$C$12","v":0},11233.589832572825,6052.604465817868,13965.538345855808,453.716607586718,-13511.821738269091]
[53,63.663466150600001,-148.82713563600001,-1584.2312408852774,508.35885004755846,{"$f":"Q_d!$C$11","v":0},{"$f":"Q_d!$C$12","v":0},11233.589832572825,6052.604465817868,13965.500224452217,453.75025882086197,-13511.749965631354]
[53,63.662828436399899,-148.81614020999899,-1583.8025648564428,508.02223851060671,{"$f":"Q_d!$C$11","v":0},{"$f":"Q_d!$C$12","v":0},11233.589832572825,6052.604465817868,13965.240418447838,453.75352296263202,-13511.486895485206]
[53,63.662876662099897,-148.816402750999,-1583.8109354641563,508.033419055369,{"$f":"Q_d!$C$11","v":0},{"$f":"Q_d!$C$12","v":0},11233.589832572825,6052.604465817868,13965.243662073068,453.75716401837599,-13511.486498054692]
[53,63.662955663600002,-148.816713190999,-1583.8195905001078,508.04873333994101,{"$f":"Q_d!$C$11","v":0},{"$f":"Q_d!$C$12","v":0},11233.589832572825,6052.604465817868,13965.245525562115,453.76331663985297,-13511.482208922262]
[53,63.662988851100003,-148.816815359999,-1583.8220325480759,508.05445820139357,{"$f":"Q_d!$C$11","v":0},{"$f":"Q_d!$C$12","v":0},11233.589832572825,6052.604465817868,13965.24549397904,453.766150885012,-13511.479343094028]
[53,63.663624695000003,-148.82700060600001,-1584.2165670264583,508.37056577129897,{"$f":"Q_d!$C$11","v":0},{"$f":"Q_d!$C$12","v":0},11233.589832572825,6052.604465817868,13965.48210539235,453.76897868518898,-13511.71312670716]
[53,63.662935933999897,-148.814748643999,-1583.7376661958428,507.99757392313859,{"$f":"Q_d!$C$11","v":0},{"$f":"Q_d!$C$12","v":0},11233.589832572825,6052.604465817868,13965.190646616249,453.77436375471899,-13511.41628286153]
[53,63.663141261500002,-148.817167627,-1583.8283046183133,508.07781575380886,{"$f":"Q_d!$C$11","v":0},{"$f":"Q_d!$C$12","v":0},11233.589832572825,6052.604465817868,13965.241977025207,453.780435499372,-13511.461541525836]
[53,63.663227384499898,-148.81735228400001,-1583.8312400598188,508.09065325161873,{"$f":"Q_d!$C$11","v":0},{"$f":"Q_d!$C$12","v":0},11233.589832572825,6052.604465817868,13965.239574418523,453.788753025017,-13511.450821393506]
[53,63.6630421091999,-148.81412787299899,{"$f":"lcpx(B4792,C4792,63,-115,70,60)","v":-1583.7054233703971},{"$f":"lcpy(B4792,C4792,63,-115,70,60)","v":507.99211881213068},{"$f":"Q_d!$C$11","v":0},{"$f":"Q_d!$C$12","v":0},{"$f":"lcpx(F4792,G4792,63,-115,70,60)","v":11233.589832572825},{"$f":"lcpy(F4792,G4792,63,-115,70,60)","v":6052.604465817868},{"$f":"SQRT((H4792-D4792)^2+(I4792-E4792)^2)","v":13965.163219833597},453.79034976517499,-13511.372870068422]
[53,63.6631367369,-148.81381864900001,-1583.6870024699444,507.99337836971335,{"$f":"Q_d!$C$11","v":0},{"$f":"Q_d!$C$12","v":0},11233.589832572825,6052.604465817868,13965.145812957951,453.80232801187702,-13511.343484946074]
[53,63.663190249400003,-148.81370968799899,-1583.6793712313629,507.99574384455764,{"$f":"Q_d!$C$11","v":0},{"$f":"Q_d!$C$12","v":0},11233.589832572825,6052.604465817868,13965.137869801707,453.80886986153098,-13511.328999940177]
[53,63.663976431199899,-148.826631026999,-1584.1810539066448,508.39480106295787,{"$f":"Q_d!$C$11","v":0},{"$f":"Q_d!$C$12","v":0},11233.589832572825,6052.604465817868,13965.439889421401,453.80952286173903,-13511.630366559662]
[53,63.663289875799897,-148.813473552,-1583.6637571947535,507.99931307075667,{"$f":"Q_d!$C$11","v":0},{"$f":"Q_d!$C$12","v":0},11233.589832572825,6052.604465817868,13965.12212206824,453.82195372745002,-13511.300168340789]
[53,63.6633105525,-148.81341298199899,-1583.6600279153645,507.99976384681349,{"$f":"Q_d!$C$11","v":0},{"$f":"Q_d!$C$12","v":0},11233.589832572825,6052.604465817868,13965.118520345757,453.82381971201102,-13511.294700633745]
[53,63.663390035500001,-148.81322280699899,-1583.6474955402957,508.00256675867968,{"$f":"Q_d!$C$11","v":0},{"$f":"Q_d!$C$12","v":0},11233.589832572825,6052.604465817868,13965.105905227756,453.83425480675203,-13511.271650421004]
[53,63.664259670299899,-148.826153984999,-1584.1448733979139,508.40981492387345,{"$f":"Q_d!$C$11","v":0},{"$f":"Q_d!$C$12","v":0},11233.589832572825,6052.604465817868,13965.400721771228,453.84425414232101,-13511.556467628907]
[53,63.6635204297,-148.813066233999,-1583.6335051677104,508.01106326156469,{"$f":"Q_d!$C$11","v":0},{"$f":"Q_d!$C$12","v":0},11233.589832572825,6052.604465817868,13965.089691412351,453.85001007050698,-13511.239681341844]
[53,63.663938076000001,-148.81846289000001,-1583.8379968870952,508.18622353948285,{"$f":"Q_d!$C$11","v":0},{"$f":"Q_d!$C$12","v":0},11233.589832572825,6052.604465817868,13965.207832636183,453.85960097920099,-13511.348231656981]
[53,63.664507197100001,-148.82605081899899,-1584.1265140089788,508.43080748005059,{"$f":"Q_d!$C$11","v":0},{"$f":"Q_d!$C$12","v":0},11233.589832572825,6052.604465817868,13965.37553720763,453.87189203232202,-13511.503645175308]
[53,63.6641321926,-148.81867796500001,-1583.8361109545056,508.21011290262095,{"$f":"Q_d!$C$11","v":0},{"$f":"Q_d!$C$12","v":0},11233.589832572825,6052.604465817868,13965.196617249827,453.87964516708598,-13511.316972082741]
[53,63.663827341800001,-148.812931931999,-1583.6104764654219,508.03693674291026,{"$f":"Q_d!$C$11","v":0},{"$f":"Q_d!$C$12","v":0},11233.589832572825,6052.604465817868,13965.058282960457,453.88389157250299,-13511.174391387955]
[53,63.663863235800001,-148.81292792599899,-1583.6082778035857,508.04025618438163,{"$f":"Q_d!$C$11","v":0},{"$f":"Q_d!$C$12","v":0},11233.589832572825,6052.604465817868,13965.054947095097,453.88826761329699,-13511.166679481801]
[53,63.664300380199897,-148.818906505,-1583.8362601648926,508.23186966325648,{"$f":"Q_d!$C$11","v":0},{"$f":"Q_d!$C$12","v":0},11233.589832572825,6052.604465817868,13965.188116448126,453.89609650888099,-13511.292019939245]
[53,63.664027153299898,-148.812824685999,-1583.5946466101805,508.05328453864149,{"$f":"Q_d!$C$11","v":0},{"$f":"Q_d!$C$12","v":0},11233.589832572825,6052.604465817868,13965.037263653634,453.90715493149003,-13511.130108722144]
[53,63.664882533300002,-148.825512446,-1584.0825333984867,508.45305694864192,{"$f":"Q_d!$C$11","v":0},{"$f":"Q_d!$C$12","v":0},11233.589832572825,6052.604465817868,13965.326337964725,453.91724165755102,-13511.409096307174]
[53,63.664152165700003,-148.81262712700001,-1583.579228290318,508.06024046156699,{"$f":"Q_d!$C$11","v":0},{"$f":"Q_d!$C$12","v":0},11233.589832572825,6052.604465817868,13965.020350922488,453.92196637748202,-13511.098384545006]
[53,63.664237200099898,-148.81242479700001,-1583.5658685646501,508.06326773911769,{"$f":"Q_d!$C$11","v":0},{"$f":"Q_d!$C$12","v":0},11233.589832572825,6052.604465817868,13965.006887373649,453.93302399472901,-13511.073863378921]
[53,63.664258554,-148.81232565600001,-1583.5604707528069,508.06281574933928,{"$f":"Q_d!$C$11","v":0},{"$f":"Q_d!$C$12","v":0},11233.589832572825,6052.604465817868,13965.002112688167,453.93535132769699,-13511.066761360471]
[53,63.664308631600001,-148.812050655999,-1583.5460157186078,508.0606898365877,{"$f":"Q_d!$C$11","v":0},{"$f":"Q_d!$C$12","v":0},11233.589832572825,6052.604465817868,13964.989689839735,453.94249446047598,-13511.047195379258]
[53,63.664435068700001,-148.811758440999,-1583.5265160545266,508.06540771845857,{"$f":"Q_d!$C$11","v":0},{"$f":"Q_d!$C$12","v":0},11233.589832572825,6052.604465817868,13964.969919804353,453.95885108894998,-13511.011068715403]
[53,63.6645092901,-148.811704937999,-1583.5200584574879,508.07113760557149,{"$f":"Q_d!$C$11","v":0},{"$f":"Q_d!$C$12","v":0},11233.589832572825,6052.604465817868,13964.96171804291,453.967281325427,-13510.994436717483]
[53,63.664676493100004,-148.811570603999,-1583.5049275860961,508.08369947705205,{"$f":"Q_d!$C$11","v":0},{"$f":"Q_d!$C$12","v":0},11233.589832572825,6052.604465817868,13964.942843394592,453.98663026349101,-13510.956213131101]
[53,63.664791122600001,-148.81142503800001,-1583.4922942388528,508.09097051984099,{"$f":"Q_d!$C$11","v":0},{"$f":"Q_d!$C$12","v":0},11233.589832572825,6052.604465817868,13964.92836161279,454.00035908576098,-13510.928002527029]
[53,63.664849576800002,-148.811359447999,-1583.486217197106,508.094895023351,{"$f":"Q_d!$C$11","v":0},{"$f":"Q_d!$C$12","v":0},11233.589832572825,6052.604465817868,13964.921225922399,454.00644059858797,-13510.91478532381]
[53,63.665716994999897,-148.82356450699899,-1583.9530169120656,508.48368387412893,{"$f":"Q_d!$C$11","v":0},{"$f":"Q_d!$C$12","v":0},11233.589832572825,6052.604465817868,13965.195306302083,454.020866067849,-13511.174440234234]
[53,63.665776774599898,-148.82338712000001,-1583.9421395039788,508.48492886587746,{"$f":"Q_d!$C$11","v":0},{"$f":"Q_d!$C$12","v":0},11233.589832572825,6052.604465817868,13965.184828537853,454.02848178170501,-13511.156346756148]
[53,63.6651844262,-148.81089902400001,-1583.4478256404443,508.11525219780833,{"$f":"Q_d!$C$11","v":0},{"$f":"Q_d!$C$12","v":0},11233.589832572825,6052.604465817868,13964.877907522367,454.04714519639901,-13510.830762325968]
[53,63.665940060499899,-148.82270771500001,-1583.9041924076616,508.48344089064813,{"$f":"Q_d!$C$11","v":0},{"$f":"Q_d!$C$12","v":0},11233.589832572825,6052.604465817868,13965.150590647079,454.05130068968998,-13511.099289957388]
[53,63.665291135799897,-148.810714012999,-1583.4339729756789,508.12077958615191,{"$f":"Q_d!$C$11","v":0},{"$f":"Q_d!$C$12","v":0},11233.589832572825,6052.604465817868,13964.86299893009,454.05914778253202,-13510.803851147557]
[53,63.666014295099899,-148.82168518500001,-1583.8567801612667,508.46486191934673,{"$f":"Q_d!$C$11","v":0},{"$f":"Q_d!$C$12","v":0},11233.589832572825,6052.604465817868,13965.114450580228,454.06622830265599,-13511.048222277572]
[53,63.665577547300003,-148.81034779300001,-1583.4023020215132,508.13888463073772,{"$f":"Q_d!$C$11","v":0},{"$f":"Q_d!$C$12","v":0},11233.589832572825,6052.604465817868,13964.826742900244,454.09314935264098,-13510.733593547604]
[53,63.665665411200003,-148.81023517400001,-1583.3925747262811,508.14443204409054,{"$f":"Q_d!$C$11","v":0},{"$f":"Q_d!$C$12","v":0},11233.589832572825,6052.604465817868,13964.815612643424,454.104068500822,-13510.711544142603]
[53,63.665905349900001,-148.809960077,-1583.3673828260573,508.16039465231916,{"$f":"Q_d!$C$11","v":0},{"$f":"Q_d!$C$12","v":0},11233.589832572825,6052.604465817868,13964.786153738562,454.13214937504699,-13510.654004363514]
[53,63.6659356057,-148.809928568,-1583.3643406061042,508.1624872704092,{"$f":"Q_d!$C$11","v":0},{"$f":"Q_d!$C$12","v":0},11233.589832572825,6052.604465817868,13964.782530739532,454.13558172092098,-13510.646949018612]
[53,63.666086982899898,-148.809730685999,-1583.347419074973,508.17194819422184,{"$f":"Q_d!$C$11","v":0},{"$f":"Q_d!$C$12","v":0},11233.589832572825,6052.604465817868,13964.763243791836,454.15320512465797,-13510.610038667179]
[53,63.6662844361,-148.809484067,-1583.325832919028,508.18457718113586,{"$f":"Q_d!$C$11","v":0},{"$f":"Q_d!$C$12","v":0},11233.589832572825,6052.604465817868,13964.738417809374,454.177071182595,-13510.561346626779]
[53,63.666318475600001,-148.809406585,-1583.3206337117281,508.1858774716934,{"$f":"Q_d!$C$11","v":0},{"$f":"Q_d!$C$12","v":0},11233.589832572825,6052.604465817868,13964.733129693281,454.18096526604899,-13510.552164427232]
[53,63.666586798700003,-148.808863234,-1583.2824995706303,508.19781814395265,{"$f":"Q_d!$C$11","v":0},{"$f":"Q_d!$C$12","v":0},11233.589832572825,6052.604465817868,13964.693389159504,454.21400531687698,-13510.479383842627]
[53,63.666683665199898,-148.808614417999,-1583.2665071068541,508.20080833502379,{"$f":"Q_d!$C$11","v":0},{"$f":"Q_d!$C$12","v":0},11233.589832572825,6052.604465817868,13964.677523992321,454.22631050721799,-13510.451213485103]
[53,63.666715925399899,-148.80852590000001,-1583.260942096854,508.20166244688289,{"$f":"Q_d!$C$11","v":0},{"$f":"Q_d!$C$12","v":0},11233.589832572825,6052.604465817868,13964.672077287702,454.23082717270501,-13510.441250114996]
[53,63.666884547899897,-148.807802772,-1583.2208459312719,508.19959607057581,{"$f":"Q_d!$C$11","v":0},{"$f":"Q_d!$C$12","v":0},11233.589832572825,6052.604465817868,13964.636097238414,454.25415561995601,-13510.381941618458]
[53,63.666888800099898,-148.80774633600001,-1583.2182202113358,508.19858606341359,{"$f":"Q_d!$C$11","v":0},{"$f":"Q_d!$C$12","v":0},11233.589832572825,6052.604465817868,13964.634088345054,454.25461765952298,-13510.379470685531]
[53,63.666944716000003,-148.80741025,-1583.2008541984756,508.19548637870821,{"$f":"Q_d!$C$11","v":0},{"$f":"Q_d!$C$12","v":0},11233.589832572825,6052.604465817868,13964.619380412527,454.26347263454898,-13510.355907777977]
[53,63.667045124600001,-148.806881255999,-1583.1728195738813,508.19178905850686,{"$f":"Q_d!$C$11","v":0},{"$f":"Q_d!$C$12","v":0},11233.589832572825,6052.604465817868,13964.595118071722,454.27776992716599,-13510.317348144556]
[53,63.667081580000001,-148.806824777999,-1583.1683717106787,508.19384648233699,{"$f":"Q_d!$C$11","v":0},{"$f":"Q_d!$C$12","v":0},11233.589832572825,6052.604465817868,13964.590218938367,454.28182504916401,-13510.308393889203]
[53,63.667296505400003,-148.806084550999,-1583.1249358383927,508.19576461555653,{"$f":"Q_d!$C$11","v":0},{"$f":"Q_d!$C$12","v":0},11233.589832572825,6052.604465817868,13964.549591761925,454.31077950011201,-13510.238812261812]
[53,63.667388361500002,-148.80564464899899,-1583.101150462199,508.19348699521424,{"$f":"Q_d!$C$11","v":0},{"$f":"Q_d!$C$12","v":0},11233.589832572825,6052.604465817868,13964.528665755264,454.32353241385101,-13510.205133341413]
[53,63.667437954900002,-148.80543384699899,-1583.089437302091,508.19292691112241,{"$f":"Q_d!$C$11","v":0},{"$f":"Q_d!$C$12","v":0},11233.589832572825,6052.604465817868,13964.518137751968,454.33022045644202,-13510.187917295525]
[53,63.667581210400002,-148.804788997,-1583.0540842212979,508.19040851704358,{"$f":"Q_d!$C$11","v":0},{"$f":"Q_d!$C$12","v":0},11233.589832572825,6052.604465817868,13964.486690483498,454.35044582898701,-13510.136244654512]
[53,63.6676731356999,-148.804287711999,-1583.0277006256938,508.18659905697587,{"$f":"Q_d!$C$11","v":0},{"$f":"Q_d!$C$12","v":0},11233.589832572825,6052.604465817868,13964.463988050135,454.36412677498998,-13510.099861275145]
[53,63.667722517400001,-148.803963199999,-1583.0111933701178,508.18316812598096,{"$f":"Q_d!$C$11","v":0},{"$f":"Q_d!$C$12","v":0},11233.589832572825,6052.604465817868,13964.450199864694,454.37174190853898,-13510.078457956155]
[53,63.667799094300001,-148.80332882299899,-1582.98005199061,508.17455970920446,{"$f":"Q_d!$C$11","v":0},{"$f":"Q_d!$C$12","v":0},11233.589832572825,6052.604465817868,13964.425036128428,454.38400349594099,{"$f":"K5124-J5124","v":-13510.041032632487}]
[53,63.667840187300001,-148.80306633199899,-1582.9666346694003,508.17189422608317,{"$f":"Q_d!$C$11","v":0},{"$f":"Q_d!$C$12","v":0},11233.589832572825,6052.604465817868,13964.413779995793,454.39037453053498,-13510.023405465259]
[53,63.667988765099899,-148.80255452700001,-1582.9366044596354,508.1732201221912,{"$f":"Q_d!$C$11","v":0},{"$f":"Q_d!$C$12","v":0},11233.589832572825,6052.604465817868,13964.385691801788,454.41062237804198,-13509.975069423746]
[53,63.668142076300001,-148.80236812300001,-1582.9200604802777,508.18315542275832,{"$f":"Q_d!$C$11","v":0},{"$f":"Q_d!$C$12","v":0},11233.589832572825,6052.604465817868,13964.366563002113,454.42841092739701,-13509.938152074716]
[53,63.668188184599899,-148.80205616200001,-1582.9042688538038,508.17972787517783,{"$f":"Q_d!$C$11","v":0},{"$f":"Q_d!$C$12","v":0},11233.589832572825,6052.604465817868,13964.353430310137,454.43524640811,-13509.918183902028]
[53,63.668278237899898,-148.801552049999,-1582.8778718702922,508.17567057390988,{"$f":"Q_d!$C$11","v":0},{"$f":"Q_d!$C$12","v":0},11233.589832572825,6052.604465817868,13964.330814062083,454.44893380994898,-13509.881880252135]
[53,63.668308710399899,-148.801347311999,-1582.8674959623552,508.17344143839091,{"$f":"Q_d!$C$11","v":0},{"$f":"Q_d!$C$12","v":0},11233.589832572825,6052.604465817868,13964.322176112408,454.45359788321599,-13509.868578229192]
[53,63.668404428599899,-148.800670429999,-1582.8334763993041,508.16559301837879,{"$f":"Q_d!$C$11","v":0},{"$f":"Q_d!$C$12","v":0},11233.589832572825,6052.604465817868,13964.294069124089,454.46851835633203,-13509.825550767757]
[53,63.668484288599899,-148.80014742700001,-1582.8068571245387,508.16009149803085,{"$f":"Q_d!$C$11","v":0},{"$f":"Q_d!$C$12","v":0},11233.589832572825,6052.604465817868,13964.271822319,454.481426855927,-13509.790395463073]
[53,63.668523501899898,-148.799923788999,-1582.7951883787116,508.15822173664674,{"$f":"Q_d!$C$11","v":0},{"$f":"Q_d!$C$12","v":0},11233.589832572825,6052.604465817868,13964.261855134961,454.48671521618701,-13509.775139918773]
[53,63.668649544799898,-148.79930757599899,-1582.7620193311254,508.15478473700705,{"$f":"Q_d!$C$11","v":0},{"$f":"Q_d!$C$12","v":0},11233.589832572825,6052.604465817868,13964.232777272066,454.504145953587,-13509.728631318478]
[53,63.668787313400003,-148.798707522999,-1582.7288707244845,508.1528705783353,{"$f":"Q_d!$C$11","v":0},{"$f":"Q_d!$C$12","v":0},11233.589832572825,6052.604465817868,13964.20311354868,454.52376584398701,-13509.679347704692]
[53,63.668880406200003,-148.79833229100001,-1582.7077496019283,508.15233528082263,{"$f":"Q_d!$C$11","v":0},{"$f":"Q_d!$C$12","v":0},11233.589832572825,6052.604465817868,13964.183941164452,454.53685102090401,-13509.647090143548]
[53,63.669003165100001,-148.797865027,-1582.6810620471113,508.1523200875281,{"$f":"Q_d!$C$11","v":0},{"$f":"Q_d!$C$12","v":0},11233.589832572825,6052.604465817868,13964.159453421315,454.55305253842403,-13509.606400882891]
[53,63.6690970497,-148.797493634999,-1582.660058598688,508.15195685199024,{"$f":"Q_d!$C$11","v":0},{"$f":"Q_d!$C$12","v":0},11233.589832572825,6052.604465817868,13964.140320733382,454.56535696640998,-13509.574963766972]
[53,63.669328785200001,-148.79683259199899,-1582.619022173468,508.15746943295017,{"$f":"Q_d!$C$11","v":0},{"$f":"Q_d!$C$12","v":0},11233.589832572825,6052.604465817868,13964.100468852228,454.59560077611798,-13509.50486807611]
[53,63.6694951323,-148.79646546999899,-1582.5941043947118,508.16411883334968,{"$f":"Q_d!$C$11","v":0},{"$f":"Q_d!$C$12","v":0},11233.589832572825,6052.604465817868,13964.074959246476,454.61665606640503,-13509.458303180072]
[53,63.669544021199897,-148.796338343,-1582.5859683268238,508.1655910732643,{"$f":"Q_d!$C$11","v":0},{"$f":"Q_d!$C$12","v":0},11233.589832572825,6052.604465817868,13964.066907435848,454.62242417417099,-13509.444483261677]
[53,63.6696949058,-148.795941142999,-1582.5606532197412,508.17001335489931,{"$f":"Q_d!$C$11","v":0},{"$f":"Q_d!$C$12","v":0},11233.589832572825,6052.604465817868,13964.041917444225,454.64253948019399,-13509.399377964031]
[53,63.669966494699899,-148.795226764999,-1582.5151111168232,508.17798826138142,{"$f":"Q_d!$C$11","v":0},{"$f":"Q_d!$C$12","v":0},11233.589832572825,6052.604465817868,13963.996952616957,454.67684470181598,-13509.32010791514]
[53,63.670033466,-148.795055128,-1582.5040720456896,508.18006824494705,{"$f":"Q_d!$C$11","v":0},{"$f":"Q_d!$C$12","v":0},11233.589832572825,6052.604465817868,13963.985995137695,454.68526548041899,-13509.300729657276]
[53,63.6702067465,-148.794585140999,-1582.4744152909682,508.18480109240591,{"$f":"Q_d!$C$11","v":0},{"$f":"Q_d!$C$12","v":0},11233.589832572825,6052.604465817868,13963.95689709643,454.707094526795,-13509.249802569635]
[53,63.670255744199899,-148.794448727999,-1582.4658807682915,508.18605128060562,{"$f":"Q_d!$C$11","v":0},{"$f":"Q_d!$C$12","v":0},11233.589832572825,6052.604465817868,13963.948567755589,454.71426894699403,-13509.234298808595]
[53,63.670545098200002,-148.79385406,-1582.4243953142175,508.19872083661312,{"$f":"Q_d!$C$11","v":0},{"$f":"Q_d!$C$12","v":0},11233.589832572825,6052.604465817868,13963.905462097066,454.74921206418799,-13509.156250032878]
[53,63.670767224899897,-148.793443298,-1582.3944820749139,508.20959361247515,{"$f":"Q_d!$C$11","v":0},{"$f":"Q_d!$C$12","v":0},11233.589832572825,6052.604465817868,13963.87369078632,454.77651634401701,-13509.097174442304]
[53,63.670882505999899,-148.79324290900001,-1582.3794981944893,508.21555714752685,{"$f":"Q_d!$C$11","v":0},{"$f":"Q_d!$C$12","v":0},11233.589832572825,6052.604465817868,13963.857570805967,454.790559626076,-13509.067011179892]
[53,63.671040011999899,-148.793059370999,-1582.3628406060272,508.22596692660363,{"$f":"Q_d!$C$11","v":0},{"$f":"Q_d!$C$12","v":0},11233.589832572825,6052.604465817868,13963.838149310093,454.80897733663897,-13509.029171973454]
[53,63.671360001399897,-148.79271589300001,-1582.3302417841778,508.24785243369297,{"$f":"Q_d!$C$11","v":0},{"$f":"Q_d!$C$12","v":0},11233.589832572825,6052.604465817868,13963.79954055069,454.846129641662,-13508.953410909027]
[53,63.594569770100001,-151.89946899200001,-1716.3648613567261,582.2107792456909,{"$f":"Q_d!$C$11","v":0},{"$f":"Q_d!$C$12","v":0},11233.589832572825,6052.604465817868,14057.970467351137,454.85966234103398,-13603.110805010103]
[53,63.671631645300003,-148.79242376600001,-1582.3025454094713,508.26641797376396,{"$f":"Q_d!$C$11","v":0},{"$f":"Q_d!$C$12","v":0},11233.589832572825,6052.604465817868,13963.766749441087,454.878442691011,-13508.888306750076]
[53,63.671706737100003,-148.792345533,-1582.2949957594667,508.27161334760558,{"$f":"Q_d!$C$11","v":0},{"$f":"Q_d!$C$12","v":0},11233.589832572825,6052.604465817868,13963.757757568657,454.88671643498202,-13508.871041133676]
[53,63.594987342400003,-151.90018473000001,-1716.3687485066428,582.26882167063104,{"$f":"Q_d!$C$11","v":0},{"$f":"Q_d!$C$12","v":0},11233.589832572825,6052.604465817868,14057.951462119276,454.91312208486499,-13603.038340034411]
[53,63.595089544499899,-151.90060661499899,-1716.379837617719,582.28973429552525,{"$f":"Q_d!$C$11","v":0},{"$f":"Q_d!$C$12","v":0},11233.589832572825,6052.604465817868,14057.953539572016,454.92933826364703,-13603.024201308368]
[53,63.594982812600001,-151.903136396999,-1716.4903172040699,582.34864555288368,{"$f":"Q_d!$C$11","v":0},{"$f":"Q_d!$C$12","v":0},11233.589832572825,6052.604465817868,14058.032388097152,454.94858458181801,-13603.083803515334]
[53,63.672421491500003,-148.79166366300001,-1582.2257893993437,508.32263910569645,{"$f":"Q_d!$C$11","v":0},{"$f":"Q_d!$C$12","v":0},11233.589832572825,6052.604465817868,13963.67398038198,454.970236301233,-13508.703744080747]
[53,63.672697176600003,-148.79135297400001,-1582.1970809576726,508.3411253343811,{"$f":"Q_d!$C$11","v":0},{"$f":"Q_d!$C$12","v":0},11233.589832572825,6052.604465817868,13963.640291902704,455.00255013021598,-13508.637741772489]
[53,63.6728139051,-148.791222650999,-1582.1849773538338,508.34898343554005,{"$f":"Q_d!$C$11","v":0},{"$f":"Q_d!$C$12","v":0},11233.589832572825,6052.604465817868,13963.626063192798,455.01628730519002,-13508.609775887608]
[53,63.6729341148,-148.791098806999,-1582.1729509170068,508.35733568191836,{"$f":"Q_d!$C$11","v":0},{"$f":"Q_d!$C$12","v":0},11233.589832572825,6052.604465817868,13963.611709106774,455.030648139221,-13508.581060967552]
[53,63.673160104399898,-148.790892361999,-1582.151456571841,508.37369865348364,{"$f":"Q_d!$C$11","v":0},{"$f":"Q_d!$C$12","v":0},11233.589832572825,6052.604465817868,13963.585484747804,455.05625182498,-13508.529232922823]
[53,63.673391736200003,-148.790708365,-1582.1305922789841,508.39116193483369,{"$f":"Q_d!$C$11","v":0},{"$f":"Q_d!$C$12","v":0},11233.589832572825,6052.604465817868,13963.559401775661,455.08341902776402,-13508.475982747897]
[53,63.673664058200004,-148.79050167700001,-1582.1064700036068,508.41193441374162,{"$f":"Q_d!$C$11","v":0},{"$f":"Q_d!$C$12","v":0},11233.589832572825,6052.604465817868,13963.529014727921,455.114020643179,-13508.414994084742]
[53,63.6737859594,-148.790427579999,-1582.0964507020842,508.42169463600658,{"$f":"Q_d!$C$11","v":0},{"$f":"Q_d!$C$12","v":0},11233.589832572825,6052.604465817868,13963.515943758235,455.12807417912597,-13508.38786957911]
[53,63.674092140900001,-148.79025460099899,-1582.0718401323688,508.44653870135244,{"$f":"Q_d!$C$11","v":0},{"$f":"Q_d!$C$12","v":0},11233.589832572825,6052.604465817868,13963.483491953351,455.163208043005,-13508.320283910347]
[53,63.6742999911,-148.79018342500001,-1582.0570880569228,508.46456296827546,{"$f":"Q_d!$C$11","v":0},{"$f":"Q_d!$C$12","v":0},11233.589832572825,6052.604465817868,13963.462796047972,455.18600980697897,-13508.276786240993]
[53,63.674390797800001,-148.790160014999,-1582.0509679212555,508.47263009735207,{"$f":"Q_d!$C$11","v":0},{"$f":"Q_d!$C$12","v":0},11233.589832572825,6052.604465817868,13963.453975973791,455.19600533396601,-13508.257970639825]
[53,63.674671906299899,-148.78997502499899,-1582.0272666862732,508.49478397987377,{"$f":"Q_d!$C$11","v":0},{"$f":"Q_d!$C$12","v":0},11233.589832572825,6052.604465817868,13963.423426906165,455.22817048596602,-13508.1952564202]
[53,63.674714937799898,-148.789944880999,-1582.0235613888899,508.49812950322712,{"$f":"Q_d!$C$11","v":0},{"$f":"Q_d!$C$12","v":0},11233.589832572825,6052.604465817868,13963.418697863895,455.23379191356099,-13508.184905950335]
[53,63.674943688600003,-148.78979925900001,-1582.0044823611411,508.51628032195322,{"$f":"Q_d!$C$11","v":0},{"$f":"Q_d!$C$12","v":0},11233.589832572825,6052.604465817868,13963.393980459163,455.25971202051198,-13508.134268438651]
[53,63.675037099800001,-148.789741061999,-1581.9967449976257,508.52372407153143,{"$f":"Q_d!$C$11","v":0},{"$f":"Q_d!$C$12","v":0},11233.589832572825,6052.604465817868,13963.383923612733,455.27017320487801,-13508.113750407856]
[53,63.675102469599899,-148.78969755899899,-1581.9912130151549,508.52886370112628,{"$f":"Q_d!$C$11","v":0},{"$f":"Q_d!$C$12","v":0},11233.589832572825,6052.604465817868,13963.376805702123,455.27720000017501,-13508.099605701947]
[53,63.5986722902,-151.899651887,{"$f":"lcpx(B5432,C5432,63,-115,70,60)","v":-1716.1216012991947},{"$f":"lcpy(B5432,C5432,63,-115,70,60)","v":582.59484190598778},{"$f":"Q_d!$C$11","v":0},{"$f":"Q_d!$C$12","v":0},{"$f":"lcpx(F5432,G5432,63,-115,70,60)","v":11233.589832572825},{"$f":"lcpy(F5432,G5432,63,-115,70,60)","v":6052.604465817868},{"$f":"SQRT((H5432-D5432)^2+(I5432-E5432)^2)","v":14057.59693213048},455.30222551619403,-13602.294706614286]
[53,63.675496685799899,-148.789154719999,-1581.9459984626399,508.55283077538161,{"$f":"Q_d!$C$11","v":0},{"$f":"Q_d!$C$12","v":0},11233.589832572825,6052.604465817868,13963.325791822344,455.32402629006901,-13508.001765532275]
[53,63.675516857200002,-148.78911318300001,-1581.9431033791379,508.55371236391602,{"$f":"Q_d!$C$11","v":0},{"$f":"Q_d!$C$12","v":0},11233.589832572825,6052.604465817868,13963.322784686419,455.32667908326999,-13507.99610560315]
[53,63.675774241200003,-148.788646774,-1581.9088503557352,508.5665549397263,{"$f":"Q_d!$C$11","v":0},{"$f":"Q_d!$C$12","v":0},11233.589832572825,6052.604465817868,13963.286248208111,455.358670984752,-13507.92757722336]
[53,63.675814931399898,-148.788541111,-1581.9020859876937,508.5677853308066,{"$f":"Q_d!$C$11","v":0},{"$f":"Q_d!$C$12","v":0},11233.589832572825,6052.604465817868,13963.279551354542,455.36319511572299,-13507.91635623882]
[53,63.675929432700002,-148.788274317999,-1581.884341903708,508.57201287538328,{"$f":"Q_d!$C$11","v":0},{"$f":"Q_d!$C$12","v":0},11233.589832572825,6052.604465817868,13963.261587321009,455.37833093483903,-13507.883256386171]
[53,63.599566510000002,-151.899787398,-1716.0725078306943,582.68115477789524,{"$f":"Q_d!$C$11","v":0},{"$f":"Q_d!$C$12","v":0},11233.589832572825,6052.604465817868,14057.518122311765,455.40050444636,-13602.117617865406]
[53,63.676246170500001,-148.787442634999,-1581.8312993528914,508.58136101562013,{"$f":"Q_d!$C$11","v":0},{"$f":"Q_d!$C$12","v":0},11233.589832572825,6052.604465817868,13963.20919327607,455.41842679123101,-13507.790766484839]
[53,63.676332818600002,-148.787214368999,-1581.8167573209853,508.58389976943499,{"$f":"Q_d!$C$11","v":0},{"$f":"Q_d!$C$12","v":0},11233.589832572825,6052.604465817868,13963.194838612748,455.429347550199,-13507.76549106255]
[53,63.6765001164,-148.78670946400001,-1581.7859680108913,508.58719394607215,{"$f":"Q_d!$C$11","v":0},{"$f":"Q_d!$C$12","v":0},11233.589832572825,6052.604465817868,13963.165272279759,455.45118979095798,-13507.714082488801]
[53,63.599880608100001,-151.901507686999,-1716.1239874690477,582.75693630203432,{"$f":"Q_d!$C$11","v":0},{"$f":"Q_d!$C$12","v":0},11233.589832572825,6052.604465817868,14057.536057827983,455.45422060729601,-13602.081837220687]
[53,63.6766941266999,-148.78614313099899,-1581.7510737426956,508.59149527064437,{"$f":"Q_d!$C$11","v":0},{"$f":"Q_d!$C$12","v":0},11233.589832572825,6052.604465817868,13963.131538543914,455.47615263699498,-13507.655385906919]
[53,63.676816879699899,-148.78573509700001,-1581.7268951247904,508.59297172253036,{"$f":"Q_d!$C$11","v":0},{"$f":"Q_d!$C$12","v":0},11233.589832572825,6052.604465817868,13963.108761227475,455.49331425389698,-13507.615446973577]
[53,63.676871059100002,-148.785454557999,-1581.7119786145156,508.59110711092626,{"$f":"Q_d!$C$11","v":0},{"$f":"Q_d!$C$12","v":0},11233.589832572825,6052.604465817868,13963.095811221183,455.50048699205502,-13507.595324229127]
[53,63.676955797200002,-148.784955754999,-1581.6861118297313,508.58668707868947,{"$f":"Q_d!$C$11","v":0},{"$f":"Q_d!$C$12","v":0},11233.589832572825,6052.604465817868,13963.073825707537,455.51280399237902,-13507.561021715159]
[53,63.676990327799899,-148.784632888999,-1581.6705166380657,508.58188975687062,{"$f":"Q_d!$C$11","v":0},{"$f":"Q_d!$C$12","v":0},11233.589832572825,6052.604465817868,13963.061417251263,455.51888162182598,-13507.542535629438]
[53,63.6770358972,-148.78411931100001,-1581.6462382454722,508.57336707479908,{"$f":"Q_d!$C$11","v":0},{"$f":"Q_d!$C$12","v":0},11233.589832572825,6052.604465817868,13963.04251854275,455.52760839492402,-13507.514910147826]
[53,63.676905744800003,-148.78171650600001,-1581.55204561394,508.50077275296144,{"$f":"Q_d!$C$11","v":0},{"$f":"Q_d!$C$12","v":0},11233.589832572825,6052.604465817868,13962.984892834058,455.52924992913398,-13507.455642904924]
[53,63.676906024799898,-148.78160325100001,-1581.5472434525288,508.49796249275278,{"$f":"Q_d!$C$11","v":0},{"$f":"Q_d!$C$12","v":0},11233.589832572825,6052.604465817868,13962.981601274547,455.53002788070899,-13507.451573393839]
[53,63.676977967699898,-148.782636064,-1581.5868275472865,508.53069044582162,{"$f":"Q_d!$C$11","v":0},{"$f":"Q_d!$C$12","v":0},11233.589832572825,6052.604465817868,13963.004936504725,455.531461764168,-13507.473474740556]
[53,63.677058893800002,-148.783841881,-1581.6332147654184,508.56860894273404,{"$f":"Q_d!$C$11","v":0},{"$f":"Q_d!$C$12","v":0},11233.589832572825,6052.604465817868,13963.032454855447,455.53181502503202,-13507.500639830416]
[53,63.677054263899898,-148.78361049399899,-1581.6236977629567,508.56237134992625,{"$f":"Q_d!$C$11","v":0},{"$f":"Q_d!$C$12","v":0},11233.589832572825,6052.604465817868,13963.026196829031,455.53336831894097,-13507.49282851009]
[53,63.677051030599898,-148.78341372700001,-1581.6155649068,508.55713413157173,{"$f":"Q_d!$C$11","v":0},{"$f":"Q_d!$C$12","v":0},11233.589832572825,6052.604465817868,13963.020811972203,455.53445490434598,-13507.486357067857]
[53,63.676932347300003,-148.780569657,-1581.5020749222933,508.47458090995633,{"$f":"Q_d!$C$11","v":0},{"$f":"Q_d!$C$12","v":0},11233.589832572825,6052.604465817868,13962.949429768623,455.540157185949,-13507.409272582674]
[53,63.676934070500003,-148.780216085999,-1581.4870349223193,508.46588878472448,{"$f":"Q_d!$C$11","v":0},{"$f":"Q_d!$C$12","v":0},11233.589832572825,6052.604465817868,13962.939077470624,455.54249336477898,-13507.396584105845]
[53,63.676985620300002,-148.77932170400001,-1581.4463243908331,508.44839949577863,{"$f":"Q_d!$C$11","v":0},{"$f":"Q_d!$C$12","v":0},11233.589832572825,6052.604465817868,13962.90865801327,455.55481808998502,-13507.353839923286]
[53,63.676991868199899,-148.77927754500001,-1581.4441052051459,508.4478888955955,{"$f":"Q_d!$C$11","v":0},{"$f":"Q_d!$C$12","v":0},11233.589832572825,6052.604465817868,13962.906824004507,455.55528605208798,-13507.35153795242]
[53,63.6770131140999,-148.778621466999,-1581.4151775704099,508.43348082887451,{"$f":"Q_d!$C$11","v":0},{"$f":"Q_d!$C$12","v":0},11233.589832572825,6052.604465817868,13962.885995409046,455.56246317382198,-13507.323532235223]
[53,63.677050891900002,-148.77845785400001,-1581.4061289787714,508.43298336260204,{"$f":"Q_d!$C$11","v":0},{"$f":"Q_d!$C$12","v":0},11233.589832572825,6052.604465817868,13962.877888223973,455.56808418720402,-13507.309804036769]
[53,63.6771865539,-148.778149377999,-1581.3854291965467,508.43818681402308,{"$f":"Q_d!$C$11","v":0},{"$f":"Q_d!$C$12","v":0},11233.589832572825,6052.604465817868,13962.856824053033,455.58510507697599,-13507.271718976057]
[53,63.677441783200003,-148.77777772799899,-1581.3553060383176,508.45320399478123,{"$f":"Q_d!$C$11","v":0},{"$f":"Q_d!$C$12","v":0},11233.589832572825,6052.604465817868,13962.82321450744,455.61555721133999,-13507.2076572961]
[53,63.677674093100002,-148.777366924999,-1581.3248229745909,508.46505638623557,{"$f":"Q_d!$C$11","v":0},{"$f":"Q_d!$C$12","v":0},11233.589832572825,6052.604465817868,13962.790531271923,455.64429166840199,-13507.14623960352]
[53,63.6777036907,-148.777299833999,-1581.3203158080216,508.46619698712584,{"$f":"Q_d!$C$11","v":0},{"$f":"Q_d!$C$12","v":0},11233.589832572825,6052.604465817868,13962.785941744862,455.64757114353102,-13507.138370601331]
[53,63.677995889999899,-148.776590908999,-1581.2738510987347,508.4762913177974,{"$f":"Q_d!$C$11","v":0},{"$f":"Q_d!$C$12","v":0},11233.589832572825,6052.604465817868,13962.73928877746,455.68473948114598,-13507.054549296314]
[53,63.678054837600001,-148.77647000600001,-1581.2654120452942,508.47888164425513,{"$f":"Q_d!$C$11","v":0},{"$f":"Q_d!$C$12","v":0},11233.589832572825,6052.604465817868,13962.73051496751,455.69129880654901,-13507.039216160962]
[53,63.678296594499898,-148.77607427800001,-1581.2350331329619,508.49201282780314,{"$f":"Q_d!$C$11","v":0},{"$f":"Q_d!$C$12","v":0},11233.589832572825,6052.604465817868,13962.697419557255,455.72097221874702,-13506.976447338508]
[53,63.6784228275,-148.77592047900001,-1581.2214035944567,508.50019243161159,{"$f":"Q_d!$C$11","v":0},{"$f":"Q_d!$C$12","v":0},11233.589832572825,6052.604465817868,13962.681662659897,455.73596519476001,-13506.945697465137]
[53,63.602829952500002,-151.899933486999,-1715.8790237986886,582.98668024983999,{"$f":"Q_d!$C$11","v":0},{"$f":"Q_d!$C$12","v":0},11233.589832572825,6052.604465817868,14057.22100496175,455.75203670855899,-13601.46896825319]
[53,63.678948744000003,-148.77560460999899,-1581.1783506094011,508.54240751465341,{"$f":"Q_d!$C$11","v":0},{"$f":"Q_d!$C$12","v":0},11233.589832572825,6052.604465817868,13962.625386904025,455.79562404327601,-13506.829762860749]
[53,63.679205549499898,-148.77552360300001,-1581.1604228045001,508.56485525759035,{"$f":"Q_d!$C$11","v":0},{"$f":"Q_d!$C$12","v":0},11233.589832572825,6052.604465817868,13962.600019736816,455.82404769055302,-13506.775972046264]
[53,63.679278024600002,-148.775526842,-1581.1564662946789,508.57184405535872,{"$f":"Q_d!$C$11","v":0},{"$f":"Q_d!$C$12","v":0},11233.589832572825,6052.604465817868,13962.593613491201,455.83201246292401,-13506.761601028276]
[53,63.679490762199897,-148.775599550999,-1581.1475235759087,508.5939411508698,{"$f":"Q_d!$C$11","v":0},{"$f":"Q_d!$C$12","v":0},11233.589832572825,6052.604465817868,13962.576632007871,455.85481340992698,-13506.721818597944]
[53,63.679632823600002,-148.775817305999,-1581.1487022425599,508.612934359056,{"$f":"Q_d!$C$11","v":0},{"$f":"Q_d!$C$12","v":0},11233.589832572825,6052.604465817868,13962.570172306005,455.86902469568997,-13506.701147610314]
[53,63.679698936800001,-148.775902731999,-1581.1485782232785,508.62137497111189,{"$f":"Q_d!$C$11","v":0},{"$f":"Q_d!$C$12","v":0},11233.589832572825,6052.604465817868,13962.566707046661,455.87605239363,{"$f":"K5700-J5700","v":-13506.69065465303}]
[53,63.604258904399899,-151.89899990699899,-1715.7533240413838,583.09335073274769,{"$f":"Q_d!$C$11","v":0},{"$f":"Q_d!$C$12","v":0},11233.589832572825,6052.604465817868,14057.063705688714,455.894564197688,-13601.169141491026]
[53,63.679971555100003,-148.77611222900001,-1581.1420337887921,508.65260479249309,{"$f":"Q_d!$C$11","v":0},{"$f":"Q_d!$C$12","v":0},11233.589832572825,6052.604465817868,13962.548300511286,455.90400750706198,-13506.644293004223]
[53,63.6802521535,-148.776546835,-1581.1445512508151,508.69023246067763,{"$f":"Q_d!$C$11","v":0},{"$f":"Q_d!$C$12","v":0},11233.589832572825,6052.604465817868,13962.535670671437,455.93243225833299,-13506.603238413105]
[53,63.680494022300003,-148.776737478999,-1581.138946419866,508.71805924140654,{"$f":"Q_d!$C$11","v":0},{"$f":"Q_d!$C$12","v":0},11233.589832572825,6052.604465817868,13962.519477807964,455.95804586058102,-13506.561431947383]
[53,63.604878903900001,-151.899619827999,-1715.740891718702,583.16748752761714,{"$f":"Q_d!$C$11","v":0},{"$f":"Q_d!$C$12","v":0},11233.589832572825,6052.604465817868,14057.023407057744,455.968716306283,-13601.054690751462]
[53,63.680880240900002,-148.77716611100001,-1581.1352450395768,508.76560373839811,{"$f":"Q_d!$C$11","v":0},{"$f":"Q_d!$C$12","v":0},11233.589832572825,6052.604465817868,13962.497202989542,455.99662429123299,-13506.500578698309]
[53,63.680913303799898,-148.77721755799899,-1581.1355515828909,508.77004331710441,{"$f":"Q_d!$C$11","v":0},{"$f":"Q_d!$C$12","v":0},11233.589832572825,6052.604465817868,13962.495721590363,456.00052914442898,-13506.495192445935]
[53,63.681129894000001,-148.77757290900001,-1581.1383340890486,508.7995853262023,{"$f":"Q_d!$C$11","v":0},{"$f":"Q_d!$C$12","v":0},11233.589832572825,6052.604465817868,13962.486545683772,456.02130411856803,-13506.465241565204]
[53,63.681356564600001,-148.777988991,-1581.1431132111918,508.83160890182262,{"$f":"Q_d!$C$11","v":0},{"$f":"Q_d!$C$12","v":0},11233.589832572825,6052.604465817868,13962.478217022986,456.043174119512,-13506.435042903475]
[53,63.681426597600002,-148.77810835099899,-1581.1442012006808,508.84127276520485,{"$f":"Q_d!$C$11","v":0},{"$f":"Q_d!$C$12","v":0},11233.589832572825,6052.604465817868,13962.475378563733,456.05036001959201,-13506.425018544141]
[53,63.681701198299898,-148.778572967999,-1581.1483234399188,508.87907985955189,{"$f":"Q_d!$C$11","v":0},{"$f":"Q_d!$C$12","v":0},11233.589832572825,6052.604465817868,13962.464150789701,456.07754254073899,-13506.386608248962]
[53,63.681898622799899,-148.77868862700001,-1581.1420592222053,508.90079246486357,{"$f":"Q_d!$C$11","v":0},{"$f":"Q_d!$C$12","v":0},11233.589832572825,6052.604465817868,13962.449780627188,456.09769188299998,-13506.352088744188]
[53,63.681987709300003,-148.778659468,-1581.1357950808681,508.90855291904882,{"$f":"Q_d!$C$11","v":0},{"$f":"Q_d!$C$12","v":0},11233.589832572825,6052.604465817868,13962.440950161093,456.10831153137298,-13506.332638629721]
[53,63.682377143799897,-148.77863419299899,-1581.1127300310948,508.9450362770508,{"$f":"Q_d!$C$11","v":0},{"$f":"Q_d!$C$12","v":0},11233.589832572825,6052.604465817868,13962.405295605206,456.15157352134599,-13506.25372208386]
[53,63.6824546836,-148.778627499999,-1581.1080674180753,508.95225884947649,{"$f":"Q_d!$C$11","v":0},{"$f":"Q_d!$C$12","v":0},11233.589832572825,6052.604465817868,13962.39814859384,456.159538842497,-13506.238609751343]
[53,63.682723902900001,-148.778895847,-1581.1041994222101,508.9846376169462,{"$f":"Q_d!$C$11","v":0},{"$f":"Q_d!$C$12","v":0},11233.589832572825,6052.604465817868,13962.381742857184,456.18703196496,-13506.194710892223]
[53,63.6828880525999,-148.779192023999,-1581.1074419953757,509.007699280211,{"$f":"Q_d!$C$11","v":0},{"$f":"Q_d!$C$12","v":0},11233.589832572825,6052.604465817868,13962.375562517735,456.20312495751199,-13506.172437560223]
[53,63.6068283818,-151.902193463,-1715.7274396830724,583.41756177868774,{"$f":"Q_d!$C$11","v":0},{"$f":"Q_d!$C$12","v":0},11233.589832572825,6052.604465817868,14056.913715636822,456.20905135803599,-13600.704664278786]
[53,63.683204889499898,-148.779630763,-1581.108083389995,509.04888319577049,{"$f":"Q_d!$C$11","v":0},{"$f":"Q_d!$C$12","v":0},11233.589832572825,6052.604465817868,13962.359799654301,456.234528334934,-13506.125271319368]
[53,63.683412819799898,-148.77995286199899,-1581.1099477379046,509.07676650872145,{"$f":"Q_d!$C$11","v":0},{"$f":"Q_d!$C$12","v":0},11233.589832572825,6052.604465817868,13962.350440112283,456.255777480132,-13506.094662632151]
[53,63.6836059038,-148.780235073,-1581.110965115153,509.10223593231194,{"$f":"Q_d!$C$11","v":0},{"$f":"Q_d!$C$12","v":0},11233.589832572825,6052.604465817868,13962.341261658485,456.275464894837,-13506.065796763647]
[53,63.683765643400001,-148.78052254599899,-1581.1140881642875,509.1246591454742,{"$f":"Q_d!$C$11","v":0},{"$f":"Q_d!$C$12","v":0},11233.589832572825,6052.604465817868,13962.335225281613,456.29015528827699,-13506.045069993335]
[53,63.6838555982999,-148.78072193899899,-1581.1174315151209,509.13822568361911,{"$f":"Q_d!$C$11","v":0},{"$f":"Q_d!$C$12","v":0},11233.589832572825,6052.604465817868,13962.332907497102,456.299220319298,-13506.033687177805]
[53,63.684177613400003,-148.781413576999,-1581.1284639637506,509.18623594122027,{"$f":"Q_d!$C$11","v":0},{"$f":"Q_d!$C$12","v":0},11233.589832572825,6052.604465817868,13962.323971707505,456.32985666182299,-13505.994115045682]
[53,63.608329007800002,-151.90125980600001,-1715.5973571794657,583.53085189343983,{"$f":"Q_d!$C$11","v":0},{"$f":"Q_d!$C$12","v":0},11233.589832572825,6052.604465817868,14056.749804623018,456.35856194005999,-13600.391242682957]
[53,63.684561246100003,-148.78169322100001,-1581.1186080376538,509.2298012233482,{"$f":"Q_d!$C$11","v":0},{"$f":"Q_d!$C$12","v":0},11233.589832572825,6052.604465817868,13962.297629327411,456.369695148571,-13505.927934178841]
[53,63.684819288200003,-148.782057062999,-1581.1194036486429,509.26350544737079,{"$f":"Q_d!$C$11","v":0},{"$f":"Q_d!$C$12","v":0},11233.589832572825,6052.604465817868,13962.284978176785,456.39563737288199,-13505.889340803904]
[53,63.685072032800001,-148.782487271999,-1581.1233021230796,509.29836670234818,{"$f":"Q_d!$C$11","v":0},{"$f":"Q_d!$C$12","v":0},11233.589832572825,6052.604465817868,13962.274715569776,456.420490008939,-13505.854225560837]
[53,63.685162631399898,-148.78259539000001,-1581.1227520384889,509.30970870378133,{"$f":"Q_d!$C$11","v":0},{"$f":"Q_d!$C$12","v":0},11233.589832572825,6052.604465817868,13962.269707695956,456.42970958735799,-13505.839998108599]
[53,63.685377316999897,-148.78284825,-1581.1213072856931,509.33650141934368,{"$f":"Q_d!$C$11","v":0},{"$f":"Q_d!$C$12","v":0},11233.589832572825,6052.604465817868,13962.2577444746,456.45143219843197,-13505.806312276169]
[53,63.685453570299899,-148.782971438999,-1581.1222041911576,509.34685363348945,{"$f":"Q_d!$C$11","v":0},{"$f":"Q_d!$C$12","v":0},11233.589832572825,6052.604465817868,13962.254457652021,456.45862268665701,-13505.795834965364]
[53,63.685681040200002,-148.78361152400001,-1581.136396338336,509.38456175387773,{"$f":"Q_d!$C$11","v":0},{"$f":"Q_d!$C$12","v":0},11233.589832572825,6052.604465817868,13962.252512641177,456.47958360150102,-13505.772929039675]
[53,63.685854116800002,-148.784264726,-1581.1542148799733,509.41741452663337,{"$f":"Q_d!$C$11","v":0},{"$f":"Q_d!$C$12","v":0},11233.589832572825,6052.604465817868,13962.255823731697,456.49414402596602,-13505.761679705731]
[53,63.685967351000002,-148.78475427500001,-1581.1684998445417,509.44046585862134,{"$f":"Q_d!$C$11","v":0},{"$f":"Q_d!$C$12","v":0},11233.589832572825,6052.604465817868,13962.259783025975,456.50338640255399,-13505.756396623421]
[53,63.6860613964,-148.785321143,-1581.1871350579313,509.46362484962583,{"$f":"Q_d!$C$11","v":0},{"$f":"Q_d!$C$12","v":0},11233.589832572825,6052.604465817868,13962.267692353194,456.50951138941201,-13505.758180963783]
[53,63.686173629099898,-148.78592655099899,-1581.2063706438137,509.48948242371262,{"$f":"Q_d!$C$11","v":0},{"$f":"Q_d!$C$12","v":0},11233.589832572825,6052.604465817868,13962.275081415075,456.51798322738603,-13505.757098187689]
[53,63.6862007086999,-148.786096732,-1581.2120302185006,509.49632512730386,{"$f":"Q_d!$C$11","v":0},{"$f":"Q_d!$C$12","v":0},11233.589832572825,6052.604465817868,13962.277559266255,456.519712745243,-13505.757846521012]
[53,63.6862659487999,-148.78662770700001,-1581.2307758225597,509.51584031547054,{"$f":"Q_d!$C$11","v":0},{"$f":"Q_d!$C$12","v":0},11233.589832572825,6052.604465817868,13962.287016657734,456.52333895431798,-13505.763677703417]
[53,63.686330493500002,-148.787541879,-1581.2657487239185,509.54488635980579,{"$f":"Q_d!$C$11","v":0},{"$f":"Q_d!$C$12","v":0},11233.589832572825,6052.604465817868,13962.307584024715,456.52418335505502,-13505.783400669659]
[53,63.686489988399899,-148.78843219199899,-1581.2943485828484,509.58238398880076,{"$f":"Q_d!$C$11","v":0},{"$f":"Q_d!$C$12","v":0},11233.589832572825,6052.604465817868,13962.318946939959,456.53580970719003,-13505.783137232769]
[53,63.6866844579,-148.78902542,-1581.3084215779197,509.61577428645251,{"$f":"Q_d!$C$11","v":0},{"$f":"Q_d!$C$12","v":0},11233.589832572825,6052.604465817868,13962.318607547993,456.55288259083397,-13505.76572495716]
[53,63.6867648907999,-148.789130964999,-1581.3083357312787,509.62608284963153,{"$f":"Q_d!$C$11","v":0},{"$f":"Q_d!$C$12","v":0},11233.589832572825,6052.604465817868,13962.314436298055,456.561483308655,-13505.7529529894]
[53,63.686950786399898,-148.78922542000001,-1581.3018226810839,509.64616409425071,{"$f":"Q_d!$C$11","v":0},{"$f":"Q_d!$C$12","v":0},11233.589832572825,6052.604465817868,13962.300486329001,456.581485056063,-13505.719001272937]
[53,63.687008697899898,-148.78945598499899,-1581.3082904957869,509.65745754295131,{"$f":"Q_d!$C$11","v":0},{"$f":"Q_d!$C$12","v":0},11233.589832572825,6052.604465817868,13962.301939192235,456.58572224939297,-13505.716216942843]
[53,63.687247360199898,-148.78965155200001,-1581.303067204213,509.68509968073295,{"$f":"Q_d!$C$11","v":0},{"$f":"Q_d!$C$12","v":0},11233.589832572825,6052.604465817868,13962.286171406673,456.610732984891,-13505.675438421782]
[53,63.687445865000001,-148.78988295600001,-1581.3016265568299,509.70981237647993,{"$f":"Q_d!$C$11","v":0},{"$f":"Q_d!$C$12","v":0},11233.589832572825,6052.604465817868,13962.275038417747,456.63074629836302,-13505.644292119385]
[53,63.687525763300002,-148.78997634000001,-1581.3010569472167,509.71976534248961,{"$f":"Q_d!$C$11","v":0},{"$f":"Q_d!$C$12","v":0},11233.589832572825,6052.604465817868,13962.27056438414,456.63856585378301,-13505.631998530356]
[53,63.687806365699899,-148.790363323999,-1581.3015493812518,509.75619821123928,{"$f":"Q_d!$C$11","v":0},{"$f":"Q_d!$C$12","v":0},11233.589832572825,6052.604465817868,13962.2565528997,456.66749894863301,-13505.589053951067]
[53,63.688261925299898,-148.79104054000001,-1581.3044155178882,509.81657282267815,{"$f":"Q_d!$C$11","v":0},{"$f":"Q_d!$C$12","v":0},11233.589832572825,6052.604465817868,13962.235215626561,456.71255028628201,-13505.522665340279]
[53,63.688317531899898,-148.79110263800001,{"$f":"lcpx(B6008,C6008,63,-115,70,60)","v":-1581.3038966318145},{"$f":"lcpy(B6008,C6008,63,-115,70,60)","v":509.82342721901159},{"$f":"Q_d!$C$11","v":0},{"$f":"Q_d!$C$12","v":0},{"$f":"lcpx(F6008,G6008,63,-115,70,60)","v":11233.589832572825},{"$f":"lcpy(F6008,G6008,63,-115,70,60)","v":6052.604465817868},{"$f":"SQRT((H6008-D6008)^2+(I6008-E6008)^2)","v":13962.232018293471},456.71864784022102,-13505.513370453249]
[53,63.688658587699898,-148.791497886999,-1581.3013212234566,509.86582780667095,{"$f":"Q_d!$C$11","v":0},{"$f":"Q_d!$C$12","v":0},11233.589832572825,6052.604465817868,13962.212822219421,456.752741050341,-13505.46008116908]
[53,63.689035904100002,-148.792090225999,-1581.3050213986189,509.91661991351884,{"$f":"Q_d!$C$11","v":0},{"$f":"Q_d!$C$12","v":0},11233.589832572825,6052.604465817868,13962.196054900518,456.79013597493503,-13505.405918925582]
[53,63.689108382400001,-148.79217623400001,-1581.3045589309197,509.92568089235101,{"$f":"Q_d!$C$11","v":0},{"$f":"Q_d!$C$12","v":0},11233.589832572825,6052.604465817868,13962.192033425754,456.797798298109,-13505.394235127646]
[53,63.689375019700002,-148.792358067999,-1581.2971730466263,509.95564436636141,{"$f":"Q_d!$C$11","v":0},{"$f":"Q_d!$C$12","v":0},11233.589832572825,6052.604465817868,13962.173359643264,456.82562436995499,-13505.34773527331]
[53,63.689460271900003,-148.792334707999,-1581.291369169157,509.96318347586384,{"$f":"Q_d!$C$11","v":0},{"$f":"Q_d!$C$12","v":0},11233.589832572825,6052.604465817868,13962.165039831103,456.83562011406201,-13505.329419717042]
[53,63.689670554800003,-148.79220477499899,-1581.2739989803558,509.97996836845095,{"$f":"Q_d!$C$11","v":0},{"$f":"Q_d!$C$12","v":0},11233.589832572825,6052.604465817868,13962.142433773417,456.85872702401099,-13505.283706749406]
[53,63.689945948400002,-148.79197896700001,-1581.2489002530747,510.00055696326308,{"$f":"Q_d!$C$11","v":0},{"$f":"Q_d!$C$12","v":0},11233.589832572825,6052.604465817868,13962.11122426638,456.891352552223,-13505.219871714158]
[53,63.690077234599897,-148.791929159999,-1581.2393782531526,510.01182062630915,{"$f":"Q_d!$C$11","v":0},{"$f":"Q_d!$C$12","v":0},11233.589832572825,6052.604465817868,13962.098013306248,456.90556401624099,-13505.192449290007]
[53,63.690408483399899,-148.79198136400001,-1581.2228661679558,510.04469470603226,{"$f":"Q_d!$C$11","v":0},{"$f":"Q_d!$C$12","v":0},11233.589832572825,6052.604465817868,13962.069807881468,456.94196746304601,-13505.127840418421]
[53,63.690847125399898,-148.79204808,-1581.200898757575,510.08816631467198,{"$f":"Q_d!$C$11","v":0},{"$f":"Q_d!$C$12","v":0},11233.589832572825,6052.604465817868,13962.032388518877,456.99009019124202,-13505.042298327635]
[53,63.613959389199898,-151.904048748999,-1715.3677026172945,584.12688073352365,{"$f":"Q_d!$C$11","v":0},{"$f":"Q_d!$C$12","v":0},11233.589832572825,6052.604465817868,14056.306355039607,456.99706268202601,-13599.30929235758]
[53,63.691082725000001,-148.791986022,-1581.1849651991843,510.10906383476959,{"$f":"Q_d!$C$11","v":0},{"$f":"Q_d!$C$12","v":0},11233.589832572825,6052.604465817868,13962.009468504755,457.01648479896198,{"$f":"K6084-J6084","v":-13504.992983705793}]
[53,63.691182767000001,-148.79194265999899,-1581.1774809347276,510.11751149965676,{"$f":"Q_d!$C$11","v":0},{"$f":"Q_d!$C$12","v":0},11233.589832572825,6052.604465817868,13961.999245743038,457.02710361749803,-13504.97214212554]
[53,63.691504277699899,-148.792035091,-1581.1632180193822,510.15046491512567,{"$f":"Q_d!$C$11","v":0},{"$f":"Q_d!$C$12","v":0},11233.589832572825,6052.604465817868,13961.973073308269,457.061638175859,-13504.91143513241]
[53,63.691720868200001,-148.792064463,-1581.1522201936234,510.17184064842149,{"$f":"Q_d!$C$11","v":0},{"$f":"Q_d!$C$12","v":0},11233.589832572825,6052.604465817868,13961.954493676147,457.084917548151,-13504.869576127996]
[53,63.6918249828,-148.79211182500001,-1581.1483375709545,510.18294841115267,{"$f":"Q_d!$C$11","v":0},{"$f":"Q_d!$C$12","v":0},11233.589832572825,6052.604465817868,13961.946520666554,457.09601378375601,-13504.850506882798]
[53,63.692074308199899,-148.79214677900001,-1581.1357257833085,510.20758340380644,{"$f":"Q_d!$C$11","v":0},{"$f":"Q_d!$C$12","v":0},11233.589832572825,6052.604465817868,13961.925165899544,457.12366808665598,-13504.801497812887]
[53,63.692455680599899,-148.79259177,-1581.13297015803,510.25507021906833,{"$f":"Q_d!$C$11","v":0},{"$f":"Q_d!$C$12","v":0},11233.589832572825,6052.604465817868,13961.903786150531,457.16246050720298,-13504.741325643328]
[53,63.6925251539,-148.792686570999,-1581.133048340603,510.26406475798012,{"$f":"Q_d!$C$11","v":0},{"$f":"Q_d!$C$12","v":0},11233.589832572825,6052.604465817868,13961.900287418859,457.16950066687502,-13504.730786751985]
[53,63.692849819499898,-148.79340401900001,-1581.1450029712616,510.31297055517325,{"$f":"Q_d!$C$11","v":0},{"$f":"Q_d!$C$12","v":0},11233.589832572825,6052.604465817868,13961.891846156392,457.200356685119,-13504.691489471272]
[53,63.692931834500001,-148.79371922499899,-1581.1536805966343,510.32867978305831,{"$f":"Q_d!$C$11","v":0},{"$f":"Q_d!$C$12","v":0},11233.589832572825,6052.604465817868,13961.8935748983,457.20710819058797,-13504.686466707712]
[53,63.693142899800002,-148.79438314999899,-1581.1697929475133,510.36541973809108,{"$f":"Q_d!$C$11","v":0},{"$f":"Q_d!$C$12","v":0},11233.589832572825,6052.604465817868,13961.893779274982,457.22608935295898,-13504.667689922024]
[53,63.693306502699897,-148.79480351500001,-1581.1783008197499,510.39153732971954,{"$f":"Q_d!$C$11","v":0},{"$f":"Q_d!$C$12","v":0},11233.589832572825,6052.604465817868,13961.891220651843,457.24082615838199,-13504.650394493461]
[53,63.693380296599898,-148.795079168,-1581.1857720673331,510.4054726631216,{"$f":"Q_d!$C$11","v":0},{"$f":"Q_d!$C$12","v":0},11233.589832572825,6052.604465817868,13961.892546392341,457.24742053400303,-13504.645125858338]
[53,63.693500423400003,-148.79551226500001,-1581.1972740130618,510.4277661595188,{"$f":"Q_d!$C$11","v":0},{"$f":"Q_d!$C$12","v":0},11233.589832572825,6052.604465817868,13961.894253909668,457.257161300946,-13504.637092608722]
[53,63.693581221899898,-148.79617626800001,-1581.2207495275566,510.45209479229106,{"$f":"Q_d!$C$11","v":0},{"$f":"Q_d!$C$12","v":0},11233.589832572825,6052.604465817868,13961.906143459652,457.262401390055,-13504.643742069597]
[53,63.693593443399898,-148.79622253700001,-1581.2220128534202,510.45441816418042,{"$f":"Q_d!$C$11","v":0},{"$f":"Q_d!$C$12","v":0},11233.589832572825,6052.604465817868,13961.906380734137,457.26272107946801,-13504.64365965467]
[53,63.693698704100001,-148.796635831999,-1581.2335181167091,510.47479924542085,{"$f":"Q_d!$C$11","v":0},{"$f":"Q_d!$C$12","v":0},11233.589832572825,6052.604465817868,13961.908850529006,457.271522402171,-13504.637328126835]
[53,63.693778329600001,-148.79693025200001,-1581.2414517757206,510.48976040533762,{"$f":"Q_d!$C$11","v":0},{"$f":"Q_d!$C$12","v":0},11233.589832572825,6052.604465817868,13961.910193604168,457.27827967770298,-13504.631913926465]
[53,63.693854061000003,-148.797323511,-1581.253779354179,510.50682587817573,{"$f":"Q_d!$C$11","v":0},{"$f":"Q_d!$C$12","v":0},11233.589832572825,6052.604465817868,13961.914734332518,457.28411240278098,-13504.630621929737]
[53,63.6939726921999,-148.79786945500001,-1581.2701301918464,510.53180330262649,{"$f":"Q_d!$C$11","v":0},{"$f":"Q_d!$C$12","v":0},11233.589832572825,6052.604465817868,13961.919827225329,457.293094321355,-13504.626732903975]
[53,63.6940158373,-148.797991453999,-1581.272843860489,510.53897005769386,{"$f":"Q_d!$C$11","v":0},{"$f":"Q_d!$C$12","v":0},11233.589832572825,6052.604465817868,13961.919473164822,457.29811028911899,-13504.621362875703]
[53,63.694128225900002,-148.798533805999,-1581.2893954110482,510.56326275656738,{"$f":"Q_d!$C$11","v":0},{"$f":"Q_d!$C$12","v":0},11233.589832572825,6052.604465817868,13961.925022153704,457.30631177909601,{"$f":"K6212-J6212","v":-13504.618710374609}]
[53,63.694343001,-148.79931610899899,-1581.3102930160285,510.60332154234356,{"$f":"Q_d!$C$11","v":0},{"$f":"Q_d!$C$12","v":0},11233.589832572825,6052.604465817868,13961.928302063739,457.32454884687701,-13504.603753216863]
[53,63.616671394100003,-151.907113492999,-1715.3277450409823,584.46072807776818,{"$f":"Q_d!$C$11","v":0},{"$f":"Q_d!$C$12","v":0},11233.589832572825,6052.604465817868,14056.139668074662,457.32559812020099,-13598.81406995446]
[53,63.694534803899899,-148.79982205100001,-1581.3208180698773,510.63426980560462,{"$f":"Q_d!$C$11","v":0},{"$f":"Q_d!$C$12","v":0},11233.589832572825,6052.604465817868,13961.92567798024,457.342590224221,-13504.583087756018]
[53,63.694568722699898,-148.799955646999,-1581.3245425669095,510.64084787466709,{"$f":"Q_d!$C$11","v":0},{"$f":"Q_d!$C$12","v":0},11233.589832572825,6052.604465817868,13961.926485437785,457.34479750512003,-13504.581687932665]
[53,63.694635682799898,-148.800334233,-1581.3367449841933,510.65671035813648,{"$f":"Q_d!$C$11","v":0},{"$f":"Q_d!$C$12","v":0},11233.589832572825,6052.604465817868,13961.9313890458,457.34985437955402,-13504.581534666246]
[53,63.694755405899897,-148.801255373,-1581.3688756863792,510.69118945508944,{"$f":"Q_d!$C$11","v":0},{"$f":"Q_d!$C$12","v":0},11233.589832572825,6052.604465817868,13961.94719432481,457.35734145851399,-13504.589852866296]
[53,63.694824593699899,-148.801500997999,-1581.3753372566771,510.70393419307675,{"$f":"Q_d!$C$11","v":0},{"$f":"Q_d!$C$12","v":0},11233.589832572825,6052.604465817868,13961.948066311033,457.36238049603497,-13504.585685814998]
[53,63.694848679300001,-148.801574536,-1581.3770812341409,510.70807110772239,{"$f":"Q_d!$C$11","v":0},{"$f":"Q_d!$C$12","v":0},11233.589832572825,6052.604465817868,13961.948024959429,457.36505052747498,-13504.582974431954]
[53,63.695062972400002,-148.80209702100001,-1581.3870322057996,510.74157687749994,{"$f":"Q_d!$C$11","v":0},{"$f":"Q_d!$C$12","v":0},11233.589832572825,6052.604465817868,13961.94385909877,457.384664724343,-13504.559194374428]
[53,63.695266730900002,-148.802563485999,-1581.395212672292,510.77267570576078,{"$f":"Q_d!$C$11","v":0},{"$f":"Q_d!$C$12","v":0},11233.589832572825,6052.604465817868,13961.939023636838,457.40395892471201,-13504.535064712127]
[53,63.695338276100003,-148.802723931,-1581.3979437826349,510.78351160347802,{"$f":"Q_d!$C$11","v":0},{"$f":"Q_d!$C$12","v":0},11233.589832572825,6052.604465817868,13961.937229364325,457.41132732913297,-13504.525902035191]
[53,63.695406822700001,-148.802865593999,-1581.4000512556738,510.7935913436113,{"$f":"Q_d!$C$11","v":0},{"$f":"Q_d!$C$12","v":0},11233.589832572825,6052.604465817868,13961.935162829968,457.41729086032501,-13504.517871969643]
[53,63.695539920800002,-148.803131667999,-1581.403763432535,510.81293802660002,{"$f":"Q_d!$C$11","v":0},{"$f":"Q_d!$C$12","v":0},11233.589832572825,6052.604465817868,13961.930890931864,457.430301479908,-13504.500589451956]
[53,63.695742455800001,-148.80344277699899,-1581.4054523722525,510.84002900921359,{"$f":"Q_d!$C$11","v":0},{"$f":"Q_d!$C$12","v":0},11233.589832572825,6052.604465817868,13961.921688157463,457.45098170186498,-13504.470706455599]
[53,63.695959967199897,-148.803698701,-1581.4039644462111,510.86716475776302,{"$f":"Q_d!$C$11","v":0},{"$f":"Q_d!$C$12","v":0},11233.589832572825,6052.604465817868,13961.909551762514,457.47336752755302,-13504.436184234961]
[53,63.696106139400001,-148.803901483,-1581.4042647352439,510.88617185143175,{"$f":"Q_d!$C$11","v":0},{"$f":"Q_d!$C$12","v":0},11233.589832572825,6052.604465817868,13961.902283131871,457.48762353641803,-13504.414659595453]
[53,63.696385638499898,-148.80415799400001,-1581.3992975421356,510.91922869021982,{"$f":"Q_d!$C$11","v":0},{"$f":"Q_d!$C$12","v":0},11233.589832572825,6052.604465817868,13961.884603174569,457.51657453364402,-13504.368028640925]
[53,63.696405329000001,-148.804176839999,-1581.3989803208333,510.92157692729734,{"$f":"Q_d!$C$11","v":0},{"$f":"Q_d!$C$12","v":0},11233.589832572825,6052.604465817868,13961.883379960318,457.51814069936,-13504.365239260958]
[53,63.696678478800003,-148.80472039200001,-1581.4064914059832,510.96121814786648,{"$f":"Q_d!$C$11","v":0},{"$f":"Q_d!$C$12","v":0},11233.589832572825,6052.604465817868,13961.874539904622,457.54511164037098,-13504.329428264251]
[53,63.696775046299898,-148.80488828700001,-1581.4081220073199,510.97462475968041,{"$f":"Q_d!$C$11","v":0},{"$f":"Q_d!$C$12","v":0},11233.589832572825,6052.604465817868,13961.87071531605,457.55404863797202,-13504.316666678078]
[53,63.697014271199897,-148.805350153999,-1581.414101043257,511.00898742350864,{"$f":"Q_d!$C$11","v":0},{"$f":"Q_d!$C$12","v":0},11233.589832572825,6052.604465817868,13961.862564312703,457.57772814899897,-13504.284836163704]
[53,63.697367595800003,-148.80621688900001,-1581.4307241280915,511.06436262001353,{"$f":"Q_d!$C$11","v":0},{"$f":"Q_d!$C$12","v":0},11233.589832572825,6052.604465817868,13961.855843118319,457.61085626654398,-13504.244986851776]
[53,63.698144529700002,-148.81744404899899,-1581.8607914388404,511.41963555900156,{"$f":"Q_d!$C$11","v":0},{"$f":"Q_d!$C$12","v":0},11233.589832572825,6052.604465817868,13962.109583425132,457.62190447792102,-13504.487678947211]
[53,63.698143018700002,-148.81723603699899,-1581.8520955543283,511.41428005912621,{"$f":"Q_d!$C$11","v":0},{"$f":"Q_d!$C$12","v":0},11233.589832572825,6052.604465817868,13962.103727159041,457.62295074547899,-13504.480776413562]
[53,63.698132153300001,-148.816825254999,-1581.8353685057332,511.4029532087925,{"$f":"Q_d!$C$11","v":0},{"$f":"Q_d!$C$12","v":0},11233.589832572825,6052.604465817868,13962.092869186214,457.62409676501898,-13504.468772421194]
[53,63.698098315499898,-148.816322794999,-1581.8160699945527,511.38714094752595,{"$f":"Q_d!$C$11","v":0},{"$f":"Q_d!$C$12","v":0},11233.589832572825,6052.604465817868,13962.081431111983,457.62413367522402,-13504.457297436758]
[53,63.698209555200002,-148.817847293,-1581.8741377551069,511.43593367480162,{"$f":"Q_d!$C$11","v":0},{"$f":"Q_d!$C$12","v":0},11233.589832572825,6052.604465817868,13962.115365387364,457.62575811464097,-13504.489607272724]
[53,63.698089841600002,-148.81576242899899,-1581.7928926804891,511.37229462938785,{"$f":"Q_d!$C$11","v":0},{"$f":"Q_d!$C$12","v":0},11233.589832572825,6052.604465817868,13962.066049469013,457.62727639532102,-13504.438773073693]
[53,63.619501312399898,-151.90699981,{"$f":"lcpx(B6392,C6392,63,-115,70,60)","v":-1715.1500633915803},{"$f":"lcpy(B6392,C6392,63,-115,70,60)","v":584.71911362131232},{"$f":"Q_d!$C$11","v":0},{"$f":"Q_d!$C$12","v":0},{"$f":"lcpx(F6392,G6392,63,-115,70,60)","v":11233.589832572825},{"$f":"lcpy(F6392,G6392,63,-115,70,60)","v":6052.604465817868},{"$f":"SQRT((H6392-D6392)^2+(I6392-E6392)^2)","v":14055.875466085559},457.62844830495402,-13598.247017780604]
[53,63.698095019299899,-148.81517111700001,-1581.7676369462947,511.35797388727224,{"$f":"Q_d!$C$11","v":0},{"$f":"Q_d!$C$12","v":0},11233.589832572825,6052.604465817868,13962.048551551905,457.63182564589999,-13504.416725906005]
[53,63.698101315599899,-148.814578748,-1581.7422732156801,511.34373347924702,{"$f":"Q_d!$C$11","v":0},{"$f":"Q_d!$C$12","v":0},11233.589832572825,6052.604465817868,13962.030922663491,457.63559283998001,-13504.39532982351]
[53,63.6981042106,-148.81451510599899,-1581.7394227867389,511.34241492840601,{"$f":"Q_d!$C$11","v":0},{"$f":"Q_d!$C$12","v":0},11233.589832572825,6052.604465817868,13962.028829647303,457.636672066389,-13504.392157580914]
[53,63.698116014999897,-148.81392834900001,-1581.7139844233841,511.32884016905609,{"$f":"Q_d!$C$11","v":0},{"$f":"Q_d!$C$12","v":0},11233.589832572825,6052.604465817868,13962.010868113777,457.64122503660002,-13504.369643077178]
[53,63.6977182981,-148.807167808,-1581.4510484855282,511.12159651407228,{"$f":"Q_d!$C$11","v":0},{"$f":"Q_d!$C$12","v":0},11233.589832572825,6052.604465817868,13961.851781693727,457.64244757342999,-13504.209334120298]
[53,63.698485171000002,-148.819503322,-1581.9284617871108,511.50368346939013,{"$f":"Q_d!$C$11","v":0},{"$f":"Q_d!$C$12","v":0},11233.589832572825,6052.604465817868,13962.138340283595,457.64555993694501,-13504.492780346649]
[53,63.698569296000002,-148.819986712999,-1581.9441106628628,511.52380963319456,{"$f":"Q_d!$C$11","v":0},{"$f":"Q_d!$C$12","v":0},11233.589832572825,6052.604465817868,13962.144716646151,457.65131396948902,-13504.493402676662]
[53,63.698175375200002,-148.81339101,-1581.6879435804842,511.32103459051586,{"$f":"Q_d!$C$11","v":0},{"$f":"Q_d!$C$12","v":0},11233.589832572825,6052.604465817868,13961.990063925834,457.65250805059497,-13504.33755587524]
[53,63.698628589999899,-148.820273985,-1581.952884577559,511.53665634133813,{"$f":"Q_d!$C$11","v":0},{"$f":"Q_d!$C$12","v":0},11233.589832572825,6052.604465817868,13962.147671627145,457.65654406443201,-13504.491127562713]
[53,63.698235327699898,-148.81292009500001,-1581.6646734605199,511.3149496813362,{"$f":"Q_d!$C$11","v":0},{"$f":"Q_d!$C$12","v":0},11233.589832572825,6052.604465817868,13961.971120012124,457.66130790465502,-13504.309812107469]
[53,63.698247912200003,-148.81277586300001,-1581.65787293054,511.3125355444181,{"$f":"Q_d!$C$11","v":0},{"$f":"Q_d!$C$12","v":0},11233.589832572825,6052.604465817868,13961.965836153695,457.66408855840899,-13504.301747595286]
[53,63.6980078789,-148.808258437999,-1581.4807250987869,511.17650617015806,{"$f":"Q_d!$C$11","v":0},{"$f":"Q_d!$C$12","v":0},11233.589832572825,6052.604465817868,13961.857227105111,457.667505673059,-13504.189721432052]
[53,63.6980208352999,-148.808322282999,-1581.4826881740903,511.17933986593653,{"$f":"Q_d!$C$11","v":0},{"$f":"Q_d!$C$12","v":0},11233.589832572825,6052.604465817868,13961.857904252358,457.66861276910799,-13504.18929148325]
[53,63.698833224799898,-148.820966615999,-1581.9705511949799,511.57350625405616,{"$f":"Q_d!$C$11","v":0},{"$f":"Q_d!$C$12","v":0},11233.589832572825,6052.604465817868,13962.149263091391,457.674391263046,-13504.474871828344]
[53,63.6981338374,-148.808848165,-1581.4985024574987,511.20327921707258,{"$f":"Q_d!$C$11","v":0},{"$f":"Q_d!$C$12","v":0},11233.589832572825,6052.604465817868,13961.86291815999,457.677470463644,-13504.185447696345]
[53,63.698167468100003,-148.80907609900001,-1581.5062244067749,511.21219295517903,{"$f":"Q_d!$C$11","v":0},{"$f":"Q_d!$C$12","v":0},11233.589832572825,6052.604465817868,13961.866468039165,457.67954959447297,-13504.186918444691]
[53,63.6983294744999,-148.81141381800001,-1581.5957599494548,511.28618681889247,{"$f":"Q_d!$C$11","v":0},{"$f":"Q_d!$C$12","v":0},11233.589832572825,6052.604465817868,13961.919282102972,457.68222880509501,-13504.237053297877]
[53,63.698298831300001,-148.81059956799899,-1581.5631165353263,511.26287049259554,{"$f":"Q_d!$C$11","v":0},{"$f":"Q_d!$C$12","v":0},11233.589832572825,6052.604465817868,13961.898573801394,457.68330462449597,-13504.215269176899]
[53,63.698286986299898,-148.81039302100001,-1581.5550661711627,511.25656804683376,{"$f":"Q_d!$C$11","v":0},{"$f":"Q_d!$C$12","v":0},11233.589832572825,6052.604465817868,13961.893686027533,457.68357412517997,-13504.210111902354]
[53,63.698308234599899,-148.810769088,-1581.5697417127235,511.26801281184589,{"$f":"Q_d!$C$11","v":0},{"$f":"Q_d!$C$12","v":0},11233.589832572825,6052.604465817868,13961.902613892416,457.68427797773398,-13504.218335914682]
[53,63.698273892000003,-148.810100578999,-1581.5434600832295,511.24799499866003,{"$f":"Q_d!$C$11","v":0},{"$f":"Q_d!$C$12","v":0},11233.589832572825,6052.604465817868,13961.886435766175,457.68476229824302,-13504.201673467933]
[53,63.620546665500001,-151.904570368999,-1714.9864162757819,584.7497084526035,{"$f":"Q_d!$C$11","v":0},{"$f":"Q_d!$C$12","v":0},11233.589832572825,6052.604465817868,14055.712807249876,457.71083339811798,-13598.001973851759]
[53,63.620792880700002,-151.903922881,-1714.944782384018,584.75487121340439,{"$f":"Q_d!$C$11","v":0},{"$f":"Q_d!$C$12","v":0},11233.589832572825,6052.604465817868,14055.672444388842,457.72940665091602,-13597.943037737925]
[53,63.6994646538,-148.82242691100001,-1581.9964866829816,511.67025108542293,{"$f":"Q_d!$C$11","v":0},{"$f":"Q_d!$C$12","v":0},11233.589832572825,6052.604465817868,13962.134674837127,457.73433786094699,-13504.400336976179]
[53,63.699756419899899,-148.82265606799899,-1581.989660170083,511.70378892192275,{"$f":"Q_d!$C$11","v":0},{"$f":"Q_d!$C$12","v":0},11233.589832572825,6052.604465817868,13962.115099297762,457.76456388956097,-13504.350535408201]
[53,63.699784246699899,-148.822665102,-1581.9884678808298,511.70666628510207,{"$f":"Q_d!$C$11","v":0},{"$f":"Q_d!$C$12","v":0},11233.589832572825,6052.604465817868,13962.112863027774,457.76753729485802,-13504.345325732917]
[53,63.700066722099898,-148.82260400499899,-1581.9699147928013,511.73204633402156,{"$f":"Q_d!$C$11","v":0},{"$f":"Q_d!$C$12","v":0},11233.589832572825,6052.604465817868,13962.08576135009,457.79971649183,-13504.28604485826]
[53,63.622111882299897,-151.89857380000001,-1714.6445516035319,584.73147052611012,{"$f":"Q_d!$C$11","v":0},{"$f":"Q_d!$C$12","v":0},11233.589832572825,6052.604465817868,14055.40496606938,457.80674861124498,-13597.598217458135]
[53,63.7002117490999,-148.822820247999,-1581.970841101625,511.7512809220907,{"$f":"Q_d!$C$11","v":0},{"$f":"Q_d!$C$12","v":0},11233.589832572825,6052.604465817868,13962.078978332733,457.813999473585,-13504.264978859148]
[53,63.6225873956,-151.89799180700001,-1714.5915928890765,584.75960508648768,{"$f":"Q_d!$C$11","v":0},{"$f":"Q_d!$C$12","v":0},11233.589832572825,6052.604465817868,14055.345234027629,457.85069234959099,-13597.494541678037]
[53,63.622936697999897,-151.897830704,-1714.5636282644984,584.78750741824251,{"$f":"Q_d!$C$11","v":0},{"$f":"Q_d!$C$12","v":0},11233.589832572825,6052.604465817868,14055.308617599121,457.88637428624099,-13597.42224331288]
[53,63.7009041719,-148.822989871,-1581.9388436488262,511.82149654838622,{"$f":"Q_d!$C$11","v":0},{"$f":"Q_d!$C$12","v":0},11233.589832572825,6052.604465817868,13962.021743415464,457.88875573221901,-13504.132987683244]
[53,63.701295101600003,-148.822968871999,-1581.9158498199768,511.85821340521716,{"$f":"Q_d!$C$11","v":0},{"$f":"Q_d!$C$12","v":0},11233.589832572825,6052.604465817868,13961.986066783875,457.93204455246399,-13504.05402223141]
[53,63.623802600200001,-151.89842016,-1714.5348992989213,584.88352793862805,{"$f":"Q_d!$C$11","v":0},{"$f":"Q_d!$C$12","v":0},11233.589832572825,6052.604465817868,14055.24479781949,457.98656375269297,-13597.258234066798]
[53,63.704588403000002,-148.86998836199899,-1583.7135582762703,513.35063144436981,{"$f":"Q_d!$C$11","v":0},{"$f":"Q_d!$C$12","v":0},11233.589832572825,6052.604465817868,13963.044054026801,457.99318967862303,-13505.050864348177]
[53,63.704624752400001,-148.87027222,-1583.723474573186,513.36121299177194,{"$f":"Q_d!$C$11","v":0},{"$f":"Q_d!$C$12","v":0},11233.589832572825,6052.604465817868,13963.04895886001,457.99569105069099,-13505.053267809319]
[53,63.7045747495999,-148.86916903400001,-1583.6797679992144,513.32877992522117,{"$f":"Q_d!$C$11","v":0},{"$f":"Q_d!$C$12","v":0},11233.589832572825,6052.604465817868,13963.021705134945,457.99681624220898,-13505.024888892736]
[53,63.704563645100002,-148.86871001399899,-1583.6610328564909,513.31620898700658,{"$f":"Q_d!$C$11","v":0},{"$f":"Q_d!$C$12","v":0},11233.589832572825,6052.604465817868,13963.009494360907,457.99845968736599,-13505.011034673542]
[53,63.7045705942,-148.868391943999,-1583.6472214813382,513.30889273021467,{"$f":"Q_d!$C$11","v":0},{"$f":"Q_d!$C$12","v":0},11233.589832572825,6052.604465817868,13962.999718751251,458.00078858447301,-13504.998930166777]
[53,63.704696508300003,-148.87051846200001,-1583.729799183883,513.37422260720268,{"$f":"Q_d!$C$11","v":0},{"$f":"Q_d!$C$12","v":0},11233.589832572825,6052.604465817868,13963.049603504085,458.00223279804999,-13505.047370706036]
[53,63.704573289099898,-148.867583875999,-1583.6129800298854,513.28888128408289,{"$f":"Q_d!$C$11","v":0},{"$f":"Q_d!$C$12","v":0},11233.589832572825,6052.604465817868,13962.976225878554,458.005996838469,-13504.970229040086]
[53,63.704522022299898,-148.86665806100001,-1583.576826176067,513.26077834253329,{"$f":"Q_d!$C$11","v":0},{"$f":"Q_d!$C$12","v":0},11233.589832572825,6052.604465817868,13962.954187639416,458.00675902981999,-13504.947428609596]
[53,63.704534691200003,-148.86690074500001,-1583.5863468137268,513.26807162837122,{"$f":"Q_d!$C$11","v":0},{"$f":"Q_d!$C$12","v":0},11233.589832572825,6052.604465817868,13962.960033654266,458.00689305402301,{"$f":"K6660-J6660","v":-13504.953140600242}]
[53,63.704567609100003,-148.867271246999,-1583.6001130941484,513.2804991029102,{"$f":"Q_d!$C$11","v":0},{"$f":"Q_d!$C$12","v":0},11233.589832572825,6052.604465817868,13962.967740116328,458.00771120691797,-13504.960028909411]
[53,63.704568255799899,-148.867313639,-1583.6018648252564,513.28162394929996,{"$f":"Q_d!$C$11","v":0},{"$f":"Q_d!$C$12","v":0},11233.589832572825,6052.604465817868,13962.96890185956,458.00788216033999,-13504.96101969922]
[53,63.704513098200003,-148.865919757,-1583.5461850368174,513.24141106971319,{"$f":"Q_d!$C$11","v":0},{"$f":"Q_d!$C$12","v":0},11233.589832572825,6052.604465817868,13962.933744246413,458.01029563318701,-13504.923448613226]
[53,63.704857892,-148.87150291699899,-1583.7621894678603,513.41428434083309,{"$f":"Q_d!$C$11","v":0},{"$f":"Q_d!$C$12","v":0},11233.589832572825,6052.604465817868,13963.063443366646,458.013406407498,-13505.050036959148]
[53,63.704875359900001,-148.87172379200001,-1583.7705176976747,513.42148819832119,{"$f":"Q_d!$C$11","v":0},{"$f":"Q_d!$C$12","v":0},11233.589832572825,6052.604465817868,13963.068230451228,458.013991613793,-13505.054238837436]
[53,63.704958825699897,-148.87197713800001,-1583.7764785165543,513.43579116276123,{"$f":"Q_d!$C$11","v":0},{"$f":"Q_d!$C$12","v":0},11233.589832572825,6052.604465817868,13963.068028156611,458.02132313026601,-13505.046705026345]
[53,63.704574726899899,-148.86456250500001,-1583.4854378562816,513.213239627235,{"$f":"Q_d!$C$11","v":0},{"$f":"Q_d!$C$12","v":0},11233.589832572825,6052.604465817868,13962.889158216616,458.025865855848,-13504.863292360767]
[53,63.7045904480999,-148.86424177699899,{"$f":"lcpx(B6712,C6712,63,-115,70,60)","v":-1583.4710172556577},{"$f":"lcpy(B6712,C6712,63,-115,70,60)","v":513.2066929917446},{"$f":"Q_d!$C$11","v":0},{"$f":"Q_d!$C$12","v":0},{"$f":"lcpx(F6712,G6712,63,-115,70,60)","v":11233.589832572825},{"$f":"lcpy(F6712,G6712,63,-115,70,60)","v":6052.604465817868},{"$f":"SQRT((H6712-D6712)^2+(I6712-E6712)^2)","v":13962.878518192336},458.02898899087103,-13504.849529201465]
[53,63.704606445000003,-148.863984410999,-1583.4592540863612,513.20176177092662,{"$f":"Q_d!$C$11","v":0},{"$f":"Q_d!$C$12","v":0},11233.589832572825,6052.604465817868,13962.869676661514,458.03245355433,-13504.837223107184]
[53,63.705080072599898,-148.87226466499899,-1583.7817417452886,513.45454919241001,{"$f":"Q_d!$C$11","v":0},{"$f":"Q_d!$C$12","v":0},11233.589832572825,6052.604465817868,13963.065418202043,458.03320971300701,-13505.032208489036]
[53,63.705138084300003,-148.87236828900001,-1583.7828279935802,513.46267262276751,{"$f":"Q_d!$C$11","v":0},{"$f":"Q_d!$C$12","v":0},11233.589832572825,6052.604465817868,13963.063192758089,458.038895598397,-13505.024297159693]
[53,63.704675126799899,-148.86318884400001,-1583.4218030417658,513.18835028811509,{"$f":"Q_d!$C$11","v":0},{"$f":"Q_d!$C$12","v":0},11233.589832572825,6052.604465817868,13962.840619604254,458.04565713474398,-13504.79496246951]
[53,63.7052630182,-148.872599659,-1583.785513392095,513.48037304833497,{"$f":"Q_d!$C$11","v":0},{"$f":"Q_d!$C$12","v":0},11233.589832572825,6052.604465817868,13963.058636074305,458.0512271133,-13505.007408961006]
[53,63.7024269757,-148.82272028899899,-1581.8413492899185,511.95981650029671,{"$f":"Q_d!$C$11","v":0},{"$f":"Q_d!$C$12","v":0},11233.589832572825,6052.604465817868,13961.877363272868,458.05716803145799,-13503.820195241409]
[53,63.704853576600001,-148.86235927800001,-1583.3767035664305,513.18454015029647,{"$f":"Q_d!$C$11","v":0},{"$f":"Q_d!$C$12","v":0},11233.589832572825,6052.604465817868,13962.800732711055,458.07026553248301,-13504.730467178573]
[53,63.705475493900003,-148.87288425200001,-1583.7854865982627,513.50774451663619,{"$f":"Q_d!$C$11","v":0},{"$f":"Q_d!$C$12","v":0},11233.589832572825,6052.604465817868,13963.047753281739,458.07249690960401,-13504.975256372134]
[53,63.7026384561999,-148.822623827999,-1581.825318648172,511.9775471128869,{"$f":"Q_d!$C$11","v":0},{"$f":"Q_d!$C$12","v":0},11233.589832572825,6052.604465817868,13961.855612719353,458.08121125516499,-13503.774401464188]
[53,63.702705400100001,-148.822598209999,-1581.8204516929311,511.98328290397285,{"$f":"Q_d!$C$11","v":0},{"$f":"Q_d!$C$12","v":0},11233.589832572825,6052.604465817868,13961.848869208501,458.089018923178,-13503.759850285323]
[53,63.705066500999898,-148.86218007100001,-1583.3570896012118,513.20032329869991,{"$f":"Q_d!$C$11","v":0},{"$f":"Q_d!$C$12","v":0},11233.589832572825,6052.604465817868,13962.776466734151,458.09457900743598,-13504.681887726714]
[53,63.7058093493999,-148.87305387999899,-1583.7737368349033,513.54379019094449,{"$f":"Q_d!$C$11","v":0},{"$f":"Q_d!$C$12","v":0},11233.589832572825,6052.604465817868,13963.022668414493,458.10824867600797,-13504.914419738485]
[53,63.705865535100003,-148.873078953,-1583.7716128577504,513.54976928370888,{"$f":"Q_d!$C$11","v":0},{"$f":"Q_d!$C$12","v":0},11233.589832572825,6052.604465817868,13963.018346833442,458.114207338082,-13504.90413949536]
[53,63.624837230099899,-151.90050359400001,-1714.557182587773,585.03570820506229,{"$f":"Q_d!$C$11","v":0},{"$f":"Q_d!$C$12","v":0},11233.589832572825,6052.604465817868,14055.206126038704,458.12242001565397,-13597.08370602305]
[53,63.703063466400003,-148.82255524300001,-1581.7983894242495,512.01631870998199,{"$f":"Q_d!$C$11","v":0},{"$f":"Q_d!$C$12","v":0},11233.589832572825,6052.604465817868,13961.815508606813,458.12854988638202,-13503.686958720431]
[53,63.705442858700003,-148.862138829999,-1583.3340441374696,513.23513054223304,{"$f":"Q_d!$C$11","v":0},{"$f":"Q_d!$C$12","v":0},11233.589832572825,6052.604465817868,13962.741503514933,458.13631435414499,-13504.605189160788]
[53,63.703232724899898,-148.822485591,-1581.7858780816307,512.03069864707322,{"$f":"Q_d!$C$11","v":0},{"$f":"Q_d!$C$12","v":0},11233.589832572825,6052.604465817868,13961.798318078276,458.14759473340001,-13503.650723344876]
[53,63.705566930499899,-148.862022534999,-1583.3221143520029,513.24402984155495,{"$f":"Q_d!$C$11","v":0},{"$f":"Q_d!$C$12","v":0},11233.589832572825,6052.604465817868,13962.727022143061,458.15080031469898,-13504.576221828362]
[53,63.706354063600003,-148.87320944499899,-1583.7494534648165,513.59956151396818,{"$f":"Q_d!$C$11","v":0},{"$f":"Q_d!$C$12","v":0},11233.589832572825,6052.604465817868,13962.978253342177,458.16714805079499,-13504.811105291381]
[53,63.7064394095,-148.873122093999,-1583.7409360756556,513.60549725858209,{"$f":"Q_d!$C$11","v":0},{"$f":"Q_d!$C$12","v":0},11233.589832572825,6052.604465817868,13962.968080126942,458.177418136249,-13504.790661990693]
[53,63.703593194600003,-148.822511636999,-1581.7665927046362,512.06569242749038,{"$f":"Q_d!$C$11","v":0},{"$f":"Q_d!$C$12","v":0},11233.589832572825,6052.604465817868,13961.76672940579,458.18683394658899,-13503.579895459201]
[53,63.705954945400002,-148.861439937,-1583.2755713849745,513.26637184905394,{"$f":"Q_d!$C$11","v":0},{"$f":"Q_d!$C$12","v":0},11233.589832572825,6052.604465817868,13962.675434975361,458.19710894330098,-13504.47832603206]
[53,63.706698912100002,-148.87307697400001,-1583.7243381552646,513.62907599075379,{"$f":"Q_d!$C$11","v":0},{"$f":"Q_d!$C$12","v":0},11233.589832572825,6052.604465817868,13962.943490548743,458.20618029223402,-13504.737310256509]
[53,63.706722091499898,-148.873056754,-1583.722172699795,513.63077600326915,{"$f":"Q_d!$C$11","v":0},{"$f":"Q_d!$C$12","v":0},11233.589832572825,6052.604465817868,13962.940828384397,458.208199927718,-13504.732628456679]
[53,63.7038434964999,-148.82257603900001,-1581.7551561332984,512.09115162864464,{"$f":"Q_d!$C$11","v":0},{"$f":"Q_d!$C$12","v":0},11233.589832572825,6052.604465817868,13961.746128771401,458.21405167126801,-13503.532077100133]
[53,63.706168269400003,-148.86114462800001,-1583.2510374611124,513.27928211161225,{"$f":"Q_d!$C$11","v":0},{"$f":"Q_d!$C$12","v":0},11233.589832572825,6052.604465817868,13962.647792543312,458.222146218403,-13504.425646324909]
[53,63.706254482200002,-148.860989410999,-1583.2396091211856,513.28360022133347,{"$f":"Q_d!$C$11","v":0},{"$f":"Q_d!$C$12","v":0},11233.589832572825,6052.604465817868,13962.635588939056,458.23269740711402,-13504.402891531941]
[53,63.7040893466,-148.82271825800001,-1581.7472554812894,512.1181361815743,{"$f":"Q_d!$C$11","v":0},{"$f":"Q_d!$C$12","v":0},11233.589832572825,6052.604465817868,13961.72816843753,458.24019344007701,-13503.487974997453]
[53,63.707042634300002,-148.87279440399899,-1583.6929555849024,513.65471834596383,{"$f":"Q_d!$C$11","v":0},{"$f":"Q_d!$C$12","v":0},11233.589832572825,6052.604465817868,13962.904510760767,458.24558490944497,-13504.658925851321]
[53,63.704279711799899,-148.82281585800001,-1581.7406093318352,512.13871695773651,{"$f":"Q_d!$C$11","v":0},{"$f":"Q_d!$C$12","v":0},11233.589832572825,6052.604465817868,13961.713900861188,458.260223969962,-13503.453676891226]
[53,63.704331545700001,-148.82284193999899,-1581.7387788499377,512.14430846799041,{"$f":"Q_d!$C$11","v":0},{"$f":"Q_d!$C$12","v":0},11233.589832572825,6052.604465817868,13961.710001784606,458.26617113310903,-13503.443830651497]
[53,63.706529326199899,-148.860364422999,-1583.1976851868485,513.29410268135825,{"$f":"Q_d!$C$11","v":0},{"$f":"Q_d!$C$12","v":0},11233.589832572825,6052.604465817868,13962.592938797281,458.26726645484899,-13504.325672342433]
[53,63.707345805700001,-148.872604410999,-1583.6677743580753,513.67882163295053,{"$f":"Q_d!$C$11","v":0},{"$f":"Q_d!$C$12","v":0},11233.589832572825,6052.604465817868,13962.871834054673,458.27989037704799,-13504.591943677626]
[53,63.7066526626,-148.86000703900001,-1583.1756269833777,513.29688707668129,{"$f":"Q_d!$C$11","v":0},{"$f":"Q_d!$C$12","v":0},11233.589832572825,6052.604465817868,13962.571586107355,458.28241417710899,-13504.289171930246]
[53,63.707435064899897,-148.87248498700001,-1583.6576827413119,513.6843256961115,{"$f":"Q_d!$C$11","v":0},{"$f":"Q_d!$C$12","v":0},11233.589832572825,6052.604465817868,13962.860387022167,458.29077652075802,-13504.569610501409]
[53,63.704626352600002,-148.823071196999,-1581.7317827282188,512.17813739692656,{"$f":"Q_d!$C$11","v":0},{"$f":"Q_d!$C$12","v":0},11233.589832572825,6052.604465817868,13961.690155717612,458.29718465205502,-13503.392971065556]
[53,63.7046823527999,-148.823079933999,-1581.7289845852147,512.18369127635651,{"$f":"Q_d!$C$11","v":0},{"$f":"Q_d!$C$12","v":0},11233.589832572825,6052.604465817868,13961.685383376038,458.30234740070802,-13503.38303597533]
[53,63.707572075999899,-148.87241935399899,-1583.6471560512316,513.69572608392218,{"$f":"Q_d!$C$11","v":0},{"$f":"Q_d!$C$12","v":0},11233.589832572825,6052.604465817868,13962.846201604234,458.30560164697903,-13504.540599957256]
[53,63.7068561817999,-148.858729807999,-1583.1102256320742,513.28424337721754,{"$f":"Q_d!$C$11","v":0},{"$f":"Q_d!$C$12","v":0},11233.589832572825,6052.604465817868,13962.516567894534,458.31307964425298,-13504.203488250281]
[53,63.706871055999898,-148.85854043200001,-1583.1013946848905,513.28091154730419,{"$f":"Q_d!$C$11","v":0},{"$f":"Q_d!$C$12","v":0},11233.589832572825,6052.604465817868,13962.509783479529,458.31548615773397,-13504.194297321796]
[53,63.707709860400001,-148.87237578200001,-1583.6375161134326,513.70775346564824,{"$f":"Q_d!$C$11","v":0},{"$f":"Q_d!$C$12","v":0},11233.589832572825,6052.604465817868,13962.83258146488,458.32121456572298,-13504.511366899156]
[53,63.706913353799898,-148.858114787999,{"$f":"lcpx(B6968,C6968,63,-115,70,60)","v":-1583.081044239965},{"$f":"lcpy(B6968,C6968,63,-115,70,60)","v":513.27426738417262},{"$f":"Q_d!$C$11","v":0},{"$f":"Q_d!$C$12","v":0},{"$f":"lcpx(F6968,G6968,63,-115,70,60)","v":11233.589832572825},{"$f":"lcpy(F6968,G6968,63,-115,70,60)","v":6052.604465817868},{"$f":"SQRT((H6968-D6968)^2+(I6968-E6968)^2)","v":13962.493739007392},458.323107774417,-13504.170631232975]
[53,63.707747820900003,-148.872336461999,-1583.6337081015522,513.71038195338133,{"$f":"Q_d!$C$11","v":0},{"$f":"Q_d!$C$12","v":0},11233.589832572825,6052.604465817868,13962.828043196923,458.32604171266502,-13504.502001484258]
[53,63.7069280629999,-148.857869485999,-1583.0698633164948,513.26951768744038,{"$f":"Q_d!$C$11","v":0},{"$f":"Q_d!$C$12","v":0},11233.589832572825,6052.604465817868,13962.485359985623,458.326579583816,-13504.158780401807]
[53,63.706726993499899,-148.854246033999,-1582.9283815156516,513.15952054111904,{"$f":"Q_d!$C$11","v":0},{"$f":"Q_d!$C$12","v":0},11233.589832572825,6052.604465817868,13962.399128867997,458.32708544226301,-13504.072043425735]
[53,63.7067418854,-148.854403703999,-1582.9341904126663,513.16489179289965,{"$f":"Q_d!$C$11","v":0},{"$f":"Q_d!$C$12","v":0},11233.589832572825,6052.604465817868,13962.402330044717,458.32731353586098,-13504.075016508856]
[53,63.706751699400002,-148.854499312,-1582.937668441494,513.16822347351945,{"$f":"Q_d!$C$11","v":0},{"$f":"Q_d!$C$12","v":0},11233.589832572825,6052.604465817868,13962.40420082639,458.32860753393902,-13504.075593292451]
[53,63.7066197251999,-148.852111514999,-1582.8444006756015,513.09579109957667,{"$f":"Q_d!$C$11","v":0},{"$f":"Q_d!$C$12","v":0},11233.589832572825,6052.604465817868,13962.347324589136,458.32862473338901,-13504.018699855747]
[53,63.704918087700001,-148.82288688200001,-1581.7075061417531,512.2013128602357,{"$f":"Q_d!$C$11","v":0},{"$f":"Q_d!$C$12","v":0},11233.589832572825,6052.604465817868,13961.658675707833,458.33011130079501,-13503.328564407038]
[53,63.706814698800002,-148.855041309999,-1582.9569683185236,513.18781208285645,{"$f":"Q_d!$C$11","v":0},{"$f":"Q_d!$C$12","v":0},11233.589832572825,6052.604465817868,13962.414145237028,458.33120456826799,-13504.082940668759]
[53,63.706598913000001,-148.85122726399899,-1582.8082728138093,513.07164125809868,{"$f":"Q_d!$C$11","v":0},{"$f":"Q_d!$C$12","v":0},11233.589832572825,6052.604465817868,13962.323743207404,458.33198804578302,-13503.99175516162]
[53,63.704946589599899,-148.82286034500001,-1581.7047743951159,512.20336337404797,{"$f":"Q_d!$C$11","v":0},{"$f":"Q_d!$C$12","v":0},11233.589832572825,6052.604465817868,13961.655354553854,458.333540708074,-13503.32181384578]
[53,63.706895341600003,-148.855895562,-1582.9884424188051,513.21690994674009,{"$f":"Q_d!$C$11","v":0},{"$f":"Q_d!$C$12","v":0},11233.589832572825,6052.604465817868,13962.431492155203,458.33487921060498,-13504.096612944599]
[53,63.7069082233999,-148.856104310999,-1582.9965197709105,513.22337054584614,{"$f":"Q_d!$C$11","v":0},{"$f":"Q_d!$C$12","v":0},11233.589832572825,6052.604465817868,13962.436343480344,458.335447472699,-13504.100896007645]
[53,63.706936859000002,-148.85654107400001,-1583.0133245648183,513.23704835806757,{"$f":"Q_d!$C$11","v":0},{"$f":"Q_d!$C$12","v":0},11233.589832572825,6052.604465817868,13962.446342713938,458.335967448551,-13504.110375265387]
[53,63.706926974200002,-148.856322108999,-1583.0046466528745,513.23061699757136,{"$f":"Q_d!$C$11","v":0},{"$f":"Q_d!$C$12","v":0},11233.589832572825,6052.604465817868,13962.440928502181,458.33601598063399,-13504.104912521547]
[53,63.706615299100001,-148.85021437,-1582.7646120561603,513.0478099000361,{"$f":"Q_d!$C$11","v":0},{"$f":"Q_d!$C$12","v":0},11233.589832572825,6052.604465817868,13962.29312091981,458.34029795556899,-13503.952822964242]
[53,63.707894317399898,-148.87216329399899,-1583.6181086434599,513.71998842230369,{"$f":"Q_d!$C$11","v":0},{"$f":"Q_d!$C$12","v":0},11233.589832572825,6052.604465817868,13962.809912847462,458.343158819895,-13504.466754027568]
[53,63.706631496999897,-148.84982564200001,-1582.7472950769504,513.03960789343546,{"$f":"Q_d!$C$11","v":0},{"$f":"Q_d!$C$12","v":0},11233.589832572825,6052.604465817868,13962.280479374615,458.34451076564602,-13503.935968608968]
[53,63.705111874000004,-148.822979387,-1581.7004513298748,512.22209182183315,{"$f":"Q_d!$C$11","v":0},{"$f":"Q_d!$C$12","v":0},11233.589832572825,6052.604465817868,13961.643954448089,458.35092663263998,-13503.293027815449]
[53,63.7051550848999,-148.82305486300001,-1581.7011929969913,512.22809921137241,{"$f":"Q_d!$C$11","v":0},{"$f":"Q_d!$C$12","v":0},11233.589832572825,6052.604465817868,13961.642251314923,458.35501352117802,-13503.287237793746]
[53,63.7080084693999,-148.871914860999,-1583.6011661581351,513.72462722373893,{"$f":"Q_d!$C$11","v":0},{"$f":"Q_d!$C$12","v":0},11233.589832572825,6052.604465817868,13962.792520278115,458.35678131778502,-13504.43573896033]
[53,63.706707138799899,-148.848572547,-1582.6901464652249,513.01540010760164,{"$f":"Q_d!$C$11","v":0},{"$f":"Q_d!$C$12","v":0},11233.589832572825,6052.604465817868,13962.237625754273,458.36086129816903,-13503.876764456103]
[53,63.706714035200001,-148.84836878300001,-1582.6811593645216,513.01094916396823,{"$f":"Q_d!$C$11","v":0},{"$f":"Q_d!$C$12","v":0},11233.589832572825,6052.604465817868,13962.231142211069,458.36249195587499,-13503.868650255194]
[53,63.706732545400001,-148.84798388300001,-1582.6638728581779,513.00306388902436,{"$f":"Q_d!$C$11","v":0},{"$f":"Q_d!$C$12","v":0},11233.589832572825,6052.604465817868,13962.218403041328,458.36811246529697,-13503.850290576031]
[53,63.7053382974999,-148.823265434999,-1581.6997187484071,512.25082856202516,{"$f":"Q_d!$C$11","v":0},{"$f":"Q_d!$C$12","v":0},11233.589832572825,6052.604465817868,13961.63187847528,458.373513043674,-13503.258365431606]
[53,63.7067690189999,-148.84745430300001,-1582.6394656853388,512.99326303712451,{"$f":"Q_d!$C$11","v":0},{"$f":"Q_d!$C$12","v":0},11233.589832572825,6052.604465817868,13962.199887679049,458.375083542943,-13503.824804136106]
[53,63.705436988300001,-148.823385196,-1581.6991918095146,512.26323076387598,{"$f":"Q_d!$C$11","v":0},{"$f":"Q_d!$C$12","v":0},11233.589832572825,6052.604465817868,13961.626473276458,458.38371189757601,-13503.242761378882]
[53,63.627046814300002,-151.902462469,-1714.5025193151148,585.2930707550363,{"$f":"Q_d!$C$11","v":0},{"$f":"Q_d!$C$12","v":0},11233.589832572825,6052.604465817868,14055.055654233562,458.38410294642603,-13596.671551287136]
[53,63.7068540369999,-148.846427661999,-1582.5913401409541,512.97562681175759,{"$f":"Q_d!$C$11","v":0},{"$f":"Q_d!$C$12","v":0},11233.589832572825,6052.604465817868,13962.16270947203,458.39060195099898,-13503.77210752103]
[53,63.706873800499899,-148.84619197699899,-1582.5802780634983,512.97160163222725,{"$f":"Q_d!$C$11","v":0},{"$f":"Q_d!$C$12","v":0},11233.589832572825,6052.604465817868,13962.154152376828,458.39425724369602,-13503.759895133133]
[53,63.708336624600001,-148.87147114499899,-1583.5638691941983,513.74474639445998,{"$f":"Q_d!$C$11","v":0},{"$f":"Q_d!$C$12","v":0},11233.589832572825,6052.604465817868,13962.750302364189,458.395944004743,-13504.354358359446]
[53,63.706907436000002,-148.84572451099899,-1582.5586519699834,512.96308811548397,{"$f":"Q_d!$C$11","v":0},{"$f":"Q_d!$C$12","v":0},11233.589832572825,6052.604465817868,13962.137679145028,458.40156863824097,-13503.736110506787]
[53,63.706946670100002,-148.84535000899899,-1582.5406312937807,512.95743815476044,{"$f":"Q_d!$C$11","v":0},{"$f":"Q_d!$C$12","v":0},11233.589832572825,6052.604465817868,13962.123379269586,458.407980220676,{"$f":"K7172-J7172","v":-13503.71539904891}]
[53,63.708443455900003,-148.87131464000001,-1583.5512188368359,513.75099400352383,{"$f":"Q_d!$C$11","v":0},{"$f":"Q_d!$C$12","v":0},11233.589832572825,6052.604465817868,13962.736211572592,458.40885028651002,-13504.327361286081]
[53,63.708506546300001,-148.871253056,-1583.5450489045568,513.75545715456246,{"$f":"Q_d!$C$11","v":0},{"$f":"Q_d!$C$12","v":0},11233.589832572825,6052.604465817868,13962.728777382832,458.41569731521997,-13504.313080067612]
[53,63.707036088899898,-148.84476095400001,-1582.5107187214107,512.95119063623406,{"$f":"Q_d!$C$11","v":0},{"$f":"Q_d!$C$12","v":0},11233.589832572825,6052.604465817868,13962.098400674415,458.42181160368,-13503.676589070736]
[53,63.707044015900003,-148.844704433999,-1582.5078855379629,512.95052902800489,{"$f":"Q_d!$C$11","v":0},{"$f":"Q_d!$C$12","v":0},11233.589832572825,6052.604465817868,13962.096062538603,458.42288044555499,-13503.673182093049]
[53,63.708630559699898,-148.871132015999,-1583.5329215520535,513.76423046703621,{"$f":"Q_d!$C$11","v":0},{"$f":"Q_d!$C$12","v":0},11233.589832572825,6052.604465817868,13962.714164769219,458.43079515778601,-13504.283369611432]
[53,63.705900992700002,-148.823933807,-1581.6961037021968,512.32117859233358,{"$f":"Q_d!$C$11","v":0},{"$f":"Q_d!$C$12","v":0},11233.589832572825,6052.604465817868,13961.600643593805,458.431076287373,-13503.169567306431]
[53,63.708716152999898,-148.871048817,-1583.524565778067,513.77029435489294,{"$f":"Q_d!$C$11","v":0},{"$f":"Q_d!$C$12","v":0},11233.589832572825,6052.604465817868,13962.704089086028,458.44044972602399,-13504.263639360004]
[53,63.707174099200003,-148.84344611,-1582.4474347265711,512.93138078989978,{"$f":"Q_d!$C$11","v":0},{"$f":"Q_d!$C$12","v":0},11233.589832572825,6052.604465817868,13962.048170873437,458.44504722485499,-13503.603123648581]
[53,63.708773093700003,-148.871005279999,-1583.5195052949314,513.7746245703961,{"$f":"Q_d!$C$11","v":0},{"$f":"Q_d!$C$12","v":0},11233.589832572825,6052.604465817868,13962.697726053884,458.44668076887598,-13504.251045285007]
[53,63.707219886600001,-148.84314094300001,-1582.4319685534902,512.92809351981714,{"$f":"Q_d!$C$11","v":0},{"$f":"Q_d!$C$12","v":0},11233.589832572825,6052.604465817868,13962.035278452146,458.45196536714701,-13503.583313084999]
[53,63.706236933500001,-148.82488499799899,-1581.7172461253538,512.37701134335794,{"$f":"Q_d!$C$11","v":0},{"$f":"Q_d!$C$12","v":0},11233.589832572825,6052.604465817868,13961.59789453359,458.461994892706,-13503.135899640884]
[53,63.707293456800002,-148.84258717700001,-1582.4044416270956,512.92122205082342,{"$f":"Q_d!$C$11","v":0},{"$f":"Q_d!$C$12","v":0},11233.589832572825,6052.604465817868,13962.012737338357,458.46378015498601,-13503.548957183371]
[53,63.7089754568999,-148.870698597,-1583.4951115855372,513.78620283941973,{"$f":"Q_d!$C$11","v":0},{"$f":"Q_d!$C$12","v":0},11233.589832572825,6052.604465817868,13962.670740802942,458.47091834051997,-13504.199822462422]
[53,63.706355324999898,-148.82519683199899,-1581.7237100319858,512.39610202276344,{"$f":"Q_d!$C$11","v":0},{"$f":"Q_d!$C$12","v":0},11233.589832572825,6052.604465817868,13961.596252203237,458.47318383521599,-13503.123068368021]
[53,63.709040381199898,-148.870554233999,-1583.485346464701,513.78876462432027,{"$f":"Q_d!$C$11","v":0},{"$f":"Q_d!$C$12","v":0},11233.589832572825,6052.604465817868,13962.66076064616,458.47865432100502,-13504.182106325155]
[53,63.707373175800001,-148.84091608400001,-1582.3294246032028,512.88693418441835,{"$f":"Q_d!$C$11","v":0},{"$f":"Q_d!$C$12","v":0},11233.589832572825,6052.604465817868,13961.957482270973,458.48266626340398,-13503.474816007569]
[53,63.706494906700001,-148.82563055700001,-1581.7341191322882,512.42026501210057,{"$f":"Q_d!$C$11","v":0},{"$f":"Q_d!$C$12","v":0},11233.589832572825,6052.604465817868,13961.596218413015,458.48519745461698,-13503.111020958399]
[53,63.707379828100002,-148.84018866599899,-1582.2983567886406,512.86933779223,{"$f":"Q_d!$C$11","v":0},{"$f":"Q_d!$C$12","v":0},11233.589832572825,6052.604465817868,13961.935946382791,458.48848627855398,-13503.447460104237]
[53,63.707386482099899,-148.839871703,-1582.2846068646509,512.86202821046481,{"$f":"Q_d!$C$11","v":0},{"$f":"Q_d!$C$12","v":0},11233.589832572825,6052.604465817868,13961.926225362144,458.491647759258,-13503.434577602886]
[53,63.707380916399899,-148.83946248500001,-1582.2676557587386,512.85124277613568,{"$f":"Q_d!$C$11","v":0},{"$f":"Q_d!$C$12","v":0},11233.589832572825,6052.604465817868,13961.914945072022,458.49352331848701,-13503.421421753534]
[53,63.709173553600003,-148.87033225900001,-1583.468443491993,513.79587888032847,{"$f":"Q_d!$C$11","v":0},{"$f":"Q_d!$C$12","v":0},11233.589832572825,6052.604465817868,13962.642422363135,458.49464136672299,{"$f":"K7300-J7300","v":-13504.147780996413}]
[53,63.707378475600002,-148.838911416,-1582.2445426786687,512.83720028567313,{"$f":"Q_d!$C$11","v":0},{"$f":"Q_d!$C$12","v":0},11233.589832572825,6052.604465817868,13961.899300959734,458.49675541927201,-13503.402545540463]
[53,63.709211007599897,-148.87027412,-1583.4638705897455,513.79798733784673,{"$f":"Q_d!$C$11","v":0},{"$f":"Q_d!$C$12","v":0},11233.589832572825,6052.604465817868,13962.637388251747,458.500084820057,-13504.137303431691]
[53,63.706715084099898,-148.826722179,-1581.7677323860844,512.4685878607429,{"$f":"Q_d!$C$11","v":0},{"$f":"Q_d!$C$12","v":0},11233.589832572825,6052.604465817868,13961.607896799615,458.50241066323701,-13503.105486136377]
[53,63.707386455799899,-148.837732418,-1582.1943455260721,512.80841497937263,{"$f":"Q_d!$C$11","v":0},{"$f":"Q_d!$C$12","v":0},11233.589832572825,6052.604465817868,13961.864645687401,458.50491414269402,-13503.359731544708]
[53,63.706776013199899,-148.82695081400001,-1581.7739345355667,512.48012013606831,{"$f":"Q_d!$C$11","v":0},{"$f":"Q_d!$C$12","v":0},11233.589832572825,6052.604465817868,13961.60901361053,458.50810947244901,-13503.100904138082]
[53,63.707309743899899,-148.835136935999,-1582.0891714805309,512.73606869635887,{"$f":"Q_d!$C$11","v":0},{"$f":"Q_d!$C$12","v":0},11233.589832572825,6052.604465817868,13961.796811025422,458.513353354076,-13503.283457671347]
[53,63.7073205473,-148.83528792800001,-1582.094931374153,512.74088131495046,{"$f":"Q_d!$C$11","v":0},{"$f":"Q_d!$C$12","v":0},11233.589832572825,6052.604465817868,13961.800188505929,458.51339946069101,-13503.286789045238]
[53,63.7068724145999,-148.82748947100001,-1581.7912128124287,512.50279859880629,{"$f":"Q_d!$C$11","v":0},{"$f":"Q_d!$C$12","v":0},11233.589832572825,6052.604465817868,13961.615874301335,458.514220119725,-13503.10165418161]
[53,63.707268666300003,-148.83410983900001,-1582.048157032069,512.70641937587106,{"$f":"Q_d!$C$11","v":0},{"$f":"Q_d!$C$12","v":0},11233.589832572825,6052.604465817868,13961.77092798675,458.51517741618898,-13503.255750570561]
[53,63.707454044599899,-148.83720825200001,-1582.168405460639,512.80171793950012,{"$f":"Q_d!$C$11","v":0},{"$f":"Q_d!$C$12","v":0},11233.589832572825,6052.604465817868,13961.843492215607,458.51550615655299,-13503.327986059054]
[53,63.707262883799899,-148.83387654800001,-1582.0386404016599,512.70002297409974,{"$f":"Q_d!$C$11","v":0},{"$f":"Q_d!$C$12","v":0},11233.589832572825,6052.604465817868,13961.764730618921,458.51665740406798,-13503.248073214852]
[53,63.707381152400004,-148.835767769,-1582.1117495285168,512.75867816475056,{"$f":"Q_d!$C$11","v":0},{"$f":"Q_d!$C$12","v":0},11233.589832572825,6052.604465817868,13961.808564525329,458.51701257423298,-13503.291551951095]
[53,63.7072447006,-148.833300836999,-1582.0153766952944,512.68386543313591,{"$f":"Q_d!$C$11","v":0},{"$f":"Q_d!$C$12","v":0},11233.589832572825,6052.604465817868,13961.749787844907,458.51754977644998,-13503.232238068456]
[53,63.707408090800001,-148.83608893900001,-1582.1237770957412,512.76929214354686,{"$f":"Q_d!$C$11","v":0},{"$f":"Q_d!$C$12","v":0},11233.589832572825,6052.604465817868,13961.815393297653,458.518223983518,-13503.297169314135]
[53,63.707452105900003,-148.836503757999,-1582.1387899561164,512.78387952681851,{"$f":"Q_d!$C$11","v":0},{"$f":"Q_d!$C$12","v":0},11233.589832572825,6052.604465817868,13961.82338574019,458.519935411755,-13503.303450328434]
[53,63.7074851757,-148.836883260999,-1582.152931780995,512.79653942283812,{"$f":"Q_d!$C$11","v":0},{"$f":"Q_d!$C$12","v":0},11233.589832572825,6052.604465817868,13961.831343467678,458.52148120344299,-13503.309862264236]
[53,63.707240806199898,-148.832553402999,-1581.9840586069281,512.66476651518042,{"$f":"Q_d!$C$11","v":0},{"$f":"Q_d!$C$12","v":0},11233.589832572825,6052.604465817868,13961.728619057101,458.52182776068503,-13503.206791296416]
[53,63.709399216900003,-148.870001594,-1583.4417192967705,513.80907482526209,{"$f":"Q_d!$C$11","v":0},{"$f":"Q_d!$C$12","v":0},11233.589832572825,6052.604465817868,13962.612656122123,458.52230325797598,-13504.090352864147]
[53,63.707488499,-148.836700331999,-1582.1450253367618,512.79227202474476,{"$f":"Q_d!$C$11","v":0},{"$f":"Q_d!$C$12","v":0},11233.589832572825,6052.604465817868,13961.825779271772,458.522671827686,-13503.303107444086]
[53,63.707164368900003,-148.83105306799899,-1581.9250740227751,512.6198933336359,{"$f":"Q_d!$C$11","v":0},{"$f":"Q_d!$C$12","v":0},11233.589832572825,6052.604465817868,13961.692282260676,458.52303854114001,-13503.169243719536]
[53,63.7071606113999,-148.83095948100001,-1581.9213375220152,512.6171905609699,{"$f":"Q_d!$C$11","v":0},{"$f":"Q_d!$C$12","v":0},11233.589832572825,6052.604465817868,13961.689924963739,458.52394604535101,-13503.165978918389]
[53,63.707116163599899,-148.83009768400001,-1581.887486648948,512.59136427337035,{"$f":"Q_d!$C$11","v":0},{"$f":"Q_d!$C$12","v":0},11233.589832572825,6052.604465817868,13961.669100962548,458.52459642313602,-13503.144504539412]
[53,63.707103039499899,-148.82976994500001,-1581.8743993883413,512.58190273937817,{"$f":"Q_d!$C$11","v":0},{"$f":"Q_d!$C$12","v":0},11233.589832572825,6052.604465817868,13961.660842467661,458.52479997705598,-13503.136042490605]
[53,63.707048629299898,-148.82886476900001,-1581.8392809433735,512.55404119661398,{"$f":"Q_d!$C$11","v":0},{"$f":"Q_d!$C$12","v":0},11233.589832572825,6052.604465817868,13961.639662693802,458.52529054349799,-13503.114372150305]
[53,63.70948267,-148.86987890500001,-1583.431819322406,513.81394474591616,{"$f":"Q_d!$C$11","v":0},{"$f":"Q_d!$C$12","v":0},11233.589832572825,6052.604465817868,13962.601636567151,458.53161496782297,-13504.070021599327]
[53,63.709690586500002,-148.869590923,-1583.4079004746111,513.82652145104112,{"$f":"Q_d!$C$11","v":0},{"$f":"Q_d!$C$12","v":0},11233.589832572825,6052.604465817868,13962.574691150179,458.55664132144,-13504.018049828739]
[53,63.709947905200004,-148.869040971999,-1583.3701355035128,513.83723299715984,{"$f":"Q_d!$C$11","v":0},{"$f":"Q_d!$C$12","v":0},11233.589832572825,6052.604465817868,13962.535775518707,458.58810273490502,-13503.947672783803]
[53,63.7100221213,-148.86887676800001,-1583.3590077253939,513.84018241516696,{"$f":"Q_d!$C$11","v":0},{"$f":"Q_d!$C$12","v":0},11233.589832572825,6052.604465817868,13962.524390736773,458.59724347187199,-13503.927147264902]
[53,63.710349859200001,-148.868230302,-1583.3131853757232,513.85518001687478,{"$f":"Q_d!$C$11","v":0},{"$f":"Q_d!$C$12","v":0},11233.589832572825,6052.604465817868,13962.476378581974,458.63740259272299,-13503.838975989251]
[53,63.7104907764,-148.868029500999,-1583.2967376560644,513.86356363984987,{"$f":"Q_d!$C$11","v":0},{"$f":"Q_d!$C$12","v":0},11233.589832572825,6052.604465817868,13962.457954657319,458.65417906086901,-13503.803775596449]
[53,63.710516194299899,-148.86801090399899,-1583.2945141659377,513.86551775595353,{"$f":"Q_d!$C$11","v":0},{"$f":"Q_d!$C$12","v":0},11233.589832572825,6052.604465817868,13962.455138422294,458.65698665778501,-13503.798151764509]
[53,63.710769915999897,-148.86747903400001,-1583.2577164009749,513.87634151580869,{"$f":"Q_d!$C$11","v":0},{"$f":"Q_d!$C$12","v":0},11233.589832572825,6052.604465817868,13962.417066130431,458.68845123896398,-13503.728614891466]
[53,63.710826834599899,-148.867357532,-1583.2493692651242,513.87871492743079,{"$f":"Q_d!$C$11","v":0},{"$f":"Q_d!$C$12","v":0},11233.589832572825,6052.604465817868,13962.408462344412,458.694956553917,-13503.713505790496]
[53,63.711114696800003,-148.86690571700001,-1583.2140153494624,513.89479776677535,{"$f":"Q_d!$C$11","v":0},{"$f":"Q_d!$C$12","v":0},11233.589832572825,6052.604465817868,13962.369629224051,458.72912729954197,-13503.640501924508]
[53,63.7112875368,-148.866747046,-1583.1975375497314,513.90727823828001,{"$f":"Q_d!$C$11","v":0},{"$f":"Q_d!$C$12","v":0},11233.589832572825,6052.604465817868,13962.34955251569,458.74984220269698,-13503.599710312994]
[53,63.711330128,-148.866624618,-1583.1899626513859,513.90826420963685,{"$f":"Q_d!$C$11","v":0},{"$f":"Q_d!$C$12","v":0},11233.589832572825,6052.604465817868,13962.342207988495,458.75556034559401,-13503.5866476429]
[53,63.711482775900002,-148.866333217,-1583.1690301629615,513.91549373443331,{"$f":"Q_d!$C$11","v":0},{"$f":"Q_d!$C$12","v":0},11233.589832572825,6052.604465817868,13962.320125072159,458.77339960485898,-13503.5467254673]
[53,63.711691008700001,-148.86594043100001,-1583.1406748107891,513.92547450331904,{"$f":"Q_d!$C$11","v":0},{"$f":"Q_d!$C$12","v":0},11233.589832572825,6052.604465817868,13962.290136926928,458.79914892030899,-13503.490988006619]
[53,63.711775243200002,-148.865787482999,-1583.1294551461713,513.92966099608657,{"$f":"Q_d!$C$11","v":0},{"$f":"Q_d!$C$12","v":0},11233.589832572825,6052.604465817868,13962.278177065366,458.80907897839103,-13503.469098086975]
[53,63.711945186000001,-148.865478687999,-1583.1068102003755,513.93810175670524,{"$f":"Q_d!$C$11","v":0},{"$f":"Q_d!$C$12","v":0},11233.589832572825,6052.604465817868,13962.254041710325,458.83034318253101,-13503.423698527793]
[53,63.712040120399898,-148.86531150900001,-1583.0943846555981,513.94295048677168,{"$f":"Q_d!$C$11","v":0},{"$f":"Q_d!$C$12","v":0},11233.589832572825,6052.604465817868,13962.240712205255,458.84088992263901,-13503.399822282616]
[53,63.712245555000003,-148.865036594,-1583.071159456184,513.95562084303401,{"$f":"Q_d!$C$11","v":0},{"$f":"Q_d!$C$12","v":0},11233.589832572825,6052.604465817868,13962.214366372516,458.86530424188697,-13503.34906213063]
[53,63.712480161499897,-148.864831221999,-1583.0492158406225,513.97281303023374,{"$f":"Q_d!$C$11","v":0},{"$f":"Q_d!$C$12","v":0},11233.589832572825,6052.604465817868,13962.187403217931,458.89225186311398,-13503.295151354818]
[53,63.712595469100002,-148.86485503,-1583.0436919235615,513.98439068047401,{"$f":"Q_d!$C$11","v":0},{"$f":"Q_d!$C$12","v":0},11233.589832572825,6052.604465817868,13962.177739806912,458.90539927091697,-13503.272340535994]
[53,63.6324354865,-151.90005589200001,-1714.0743460514955,585.72564932377827,{"$f":"Q_d!$C$11","v":0},{"$f":"Q_d!$C$12","v":0},11233.589832572825,6052.604465817868,14054.492935594055,458.93331869673602,-13595.559616897319]
[53,63.713082526000001,-148.864721846999,-1583.0105008418282,514.02743376594981,{"$f":"Q_d!$C$11","v":0},{"$f":"Q_d!$C$12","v":0},11233.589832572825,6052.604465817868,13962.130197303622,458.95960006301198,-13503.170597240611]
[53,63.7131587095,-148.864751046999,-1583.007419289715,514.03542081880641,{"$f":"Q_d!$C$11","v":0},{"$f":"Q_d!$C$12","v":0},11233.589832572825,6052.604465817868,13962.124200230861,458.96774856301101,-13503.15645166785]
[53,63.713360032799898,-148.864855054999,-1583.0004080150795,514.05720050061882,{"$f":"Q_d!$C$11","v":0},{"$f":"Q_d!$C$12","v":0},11233.589832572825,6052.604465817868,13962.109124530087,458.98938646770398,-13503.119738062383]
[53,63.713601505699899,-148.865022468999,-1582.9937976761621,514.08439329899056,{"$f":"Q_d!$C$11","v":0},{"$f":"Q_d!$C$12","v":0},11233.589832572825,6052.604465817868,13962.092269601317,459.01496160800599,-13503.077307993311]
[53,63.633811543500002,-151.895028891999,{"$f":"lcpx(B7608,C7608,63,-115,70,60)","v":-1713.7839360376488},{"$f":"lcpy(B7608,C7608,63,-115,70,60)","v":585.7163414151828},{"$f":"Q_d!$C$11","v":0},{"$f":"Q_d!$C$12","v":0},{"$f":"lcpx(F7608,G7608,63,-115,70,60)","v":11233.589832572825},{"$f":"lcpy(F7608,G7608,63,-115,70,60)","v":6052.604465817868},{"$f":"SQRT((H7608-D7608)^2+(I7608-E7608)^2)","v":14054.229017233129},459.02120279568697,-13595.207814437441]
[53,63.713908501100001,-148.86526218700001,-1582.986526939088,514.1196385092735,{"$f":"Q_d!$C$11","v":0},{"$f":"Q_d!$C$12","v":0},11233.589832572825,6052.604465817868,13962.07161425292,459.04683653196003,-13503.024777720961]
[53,63.714121303699898,-148.86553536400001,-1582.9859997144638,514.14675260812828,{"$f":"Q_d!$C$11","v":0},{"$f":"Q_d!$C$12","v":0},11233.589832572825,6052.604465817868,13962.060374664732,459.068097781799,-13502.992276882933]
[53,63.714211007000003,-148.865702042999,-1582.9879503624359,514.15947393129318,{"$f":"Q_d!$C$11","v":0},{"$f":"Q_d!$C$12","v":0},11233.589832572825,6052.604465817868,13962.057118998733,459.07771854992001,-13502.979400448814]
[53,63.714486565800001,-148.86990832999899,-1583.1497318837135,514.29117986115853,{"$f":"Q_d!$C$11","v":0},{"$f":"Q_d!$C$12","v":0},11233.589832572825,6052.604465817868,13962.153383934377,459.08186521469099,-13503.071518719686]
[53,63.714514691600002,-148.87018142599899,-1583.1596557703353,514.30070591637286,{"$f":"Q_d!$C$11","v":0},{"$f":"Q_d!$C$12","v":0},11233.589832572825,6052.604465817868,13962.158715037001,459.082795364844,-13503.075919672157]
[53,63.7145576729,-148.87055928800001,-1583.1731563895048,514.31427361080978,{"$f":"Q_d!$C$11","v":0},{"$f":"Q_d!$C$12","v":0},11233.589832572825,6052.604465817868,13962.165726288005,459.08520115551499,-13503.080525132491]
[53,63.7142985796999,-148.86584218300001,-1582.988902381454,514.17132696588533,{"$f":"Q_d!$C$11","v":0},{"$f":"Q_d!$C$12","v":0},11233.589832572825,6052.604465817868,13962.053291074921,459.08655199864,-13502.966739076281]
[53,63.714628338700003,-148.870947059,-1583.1855071771561,514.33072607505346,{"$f":"Q_d!$C$11","v":0},{"$f":"Q_d!$C$12","v":0},11233.589832572825,6052.604465817868,13962.170537776283,459.09041523429698,-13503.080122541985]
[53,63.7146381543999,-148.871013239999,-1583.187742186589,514.3333202630879,{"$f":"Q_d!$C$11","v":0},{"$f":"Q_d!$C$12","v":0},11233.589832572825,6052.604465817868,13962.171560417828,459.09154693699099,-13503.080013480838]
[53,63.714543481299899,-148.869048644999,-1583.1102563138502,514.27504373981128,{"$f":"Q_d!$C$11","v":0},{"$f":"Q_d!$C$12","v":0},11233.589832572825,6052.604465817868,13962.12354750964,459.09328634820997,-13503.03026116143]
[53,63.714613191700003,-148.87019368399899,-1583.154595419436,514.3103929417689,{"$f":"Q_d!$C$11","v":0},{"$f":"Q_d!$C$12","v":0},11233.589832572825,6052.604465817868,13962.150227315462,459.09375293615102,-13503.056474379311]
[53,63.714636251999899,-148.870318319999,-1583.1585455460677,514.31571405736304,{"$f":"Q_d!$C$11","v":0},{"$f":"Q_d!$C$12","v":0},11233.589832572825,6052.604465817868,13962.151742689599,459.09522803226702,-13503.056514657332]
[53,63.714543962299899,-148.868706481999,-1583.0957999799855,514.26651021991211,{"$f":"Q_d!$C$11","v":0},{"$f":"Q_d!$C$12","v":0},11233.589832572825,6052.604465817868,13962.113662125179,459.09543818687598,-13503.018223938303]
[53,63.714544789400001,-148.86849763000001,-1583.0869457860426,514.26135230872887,{"$f":"Q_d!$C$11","v":0},{"$f":"Q_d!$C$12","v":0},11233.589832572825,6052.604465817868,13962.107580300246,459.09704467138499,-13503.01053562886]
[53,63.7145434579,-148.86817506400001,-1583.0734184160619,514.25313767876105,{"$f":"Q_d!$C$11","v":0},{"$f":"Q_d!$C$12","v":0},11233.589832572825,6052.604465817868,13962.098421195478,459.09875293339599,-13502.999668262082]
[53,63.714745727699899,-148.87162598500001,-1583.2074898733244,514.35892856627424,{"$f":"Q_d!$C$11","v":0},{"$f":"Q_d!$C$12","v":0},11233.589832572825,6052.604465817868,13962.179530272128,459.09892598872398,-13503.080604283403]
[53,63.714765579999899,-148.87175386800001,-1583.2117584271514,514.36402569983966,{"$f":"Q_d!$C$11","v":0},{"$f":"Q_d!$C$12","v":0},11233.589832572825,6052.604465817868,13962.181426826477,459.10118993528999,-13503.080236891186]
[53,63.714728324200003,-148.87078488,-1583.1730067336323,514.33618048295966,{"$f":"Q_d!$C$11","v":0},{"$f":"Q_d!$C$12","v":0},11233.589832572825,6052.604465817868,13962.156899253545,459.102532988002,-13503.054366265544]
[53,63.714595426599899,-148.868289032999,-1583.075282126669,514.26094406630182,{"$f":"Q_d!$C$11","v":0},{"$f":"Q_d!$C$12","v":0},11233.589832572825,6052.604465817868,13962.097035448596,459.10303423087902,-13502.994001217718]
[53,63.714763833200003,-148.87099248800001,{"$f":"lcpx(B7736,C7736,63,-115,70,60)","v":-1583.179750759987},{"$f":"lcpy(B7736,C7736,63,-115,70,60)","v":514.34476756153117},{"$f":"Q_d!$C$11","v":0},{"$f":"Q_d!$C$12","v":0},{"$f":"lcpx(F7736,G7736,63,-115,70,60)","v":11233.589832572825},{"$f":"lcpy(F7736,G7736,63,-115,70,60)","v":6052.604465817868},{"$f":"SQRT((H7736-D7736)^2+(I7736-E7736)^2)","v":13962.159683858925},459.10514021082298,-13503.054543648102]
[53,63.714623576100003,-148.86853264499899,-1583.0839615229484,514.26973283003508,{"$f":"Q_d!$C$11","v":0},{"$f":"Q_d!$C$12","v":0},11233.589832572825,6052.604465817868,13962.101516565504,459.10519431280602,-13502.996322252699]
[53,63.714667574099899,-148.869001827999,-1583.1012558784751,514.28568670942923,{"$f":"Q_d!$C$11","v":0},{"$f":"Q_d!$C$12","v":0},11233.589832572825,6052.604465817868,13962.111063725719,459.10670787628402,-13503.004355849434]
[53,63.714863632399897,-148.872311878999,-1583.2297367741896,514.38735505645036,{"$f":"Q_d!$C$11","v":0},{"$f":"Q_d!$C$12","v":0},11233.589832572825,6052.604465817868,13962.188676533746,459.10822726781902,-13503.080449265926]
[53,63.714881463799898,-148.87242693300001,-1583.2335787066359,514.39193808868959,{"$f":"Q_d!$C$11","v":0},{"$f":"Q_d!$C$12","v":0},11233.589832572825,6052.604465817868,13962.1903854022,459.10891588053403,-13503.081469521667]
[53,63.714934933999899,-148.87292836699899,-1583.2516954849314,514.40960362216629,{"$f":"Q_d!$C$11","v":0},{"$f":"Q_d!$C$12","v":0},11233.589832572825,6052.604465817868,13962.200008845193,459.11201548750603,-13503.087993357687]
[53,63.714879656999898,-148.871545177,-1583.1964986805265,514.36965550914738,{"$f":"Q_d!$C$11","v":0},{"$f":"Q_d!$C$12","v":0},11233.589832572825,6052.604465817868,13962.165185783973,459.114366808532,-13503.050818975442]
[53,63.7146019905,-148.86639727100001,-1582.9951334195084,514.21413751626596,{"$f":"Q_d!$C$11","v":0},{"$f":"Q_d!$C$12","v":0},11233.589832572825,6052.604465817868,13962.04202898435,459.11610077190699,-13502.925928212442]
[53,63.715052715399899,-148.873977913999,-1583.2892829352418,514.44713790112746,{"$f":"Q_d!$C$11","v":0},{"$f":"Q_d!$C$12","v":0},11233.589832572825,6052.604465817868,13962.219624769721,459.11856366847098,-13503.10106110125]
[53,63.715091038899899,-148.874549924999,-1583.3112329173248,514.4651313822269,{"$f":"Q_d!$C$11","v":0},{"$f":"Q_d!$C$12","v":0},11233.589832572825,6052.604465817868,13962.23263701711,459.11920525828498,-13503.113431758826]
[53,63.7151113623,-148.87484760199899,-1583.322634204284,514.47453149238299,{"$f":"Q_d!$C$11","v":0},{"$f":"Q_d!$C$12","v":0},11233.589832572825,6052.604465817868,13962.239374487835,459.119526712815,-13503.11984777502]
[53,63.714973088500003,-148.87199766699899,-1583.2102890207989,514.38989873765286,{"$f":"Q_d!$C$11","v":0},{"$f":"Q_d!$C$12","v":0},11233.589832572825,6052.604465817868,13962.169815179222,459.12150306645401,-13503.048312112769]
[53,63.715163066999899,-148.87517337400001,-1583.3334430103464,514.48762434158562,{"$f":"Q_d!$C$11","v":0},{"$f":"Q_d!$C$12","v":0},11233.589832572825,6052.604465817868,13962.244103367799,459.12300105418302,-13503.121102313617]
[53,63.715198711900001,-148.87539695500001,-1583.3408521364279,514.49662531149124,{"$f":"Q_d!$C$11","v":0},{"$f":"Q_d!$C$12","v":0},11233.589832572825,6052.604465817868,13962.247334498834,459.12578549783001,-13503.121549001004]
[53,63.715291640300002,-148.875698008,-1583.3482839648041,514.51302364986122,{"$f":"Q_d!$C$11","v":0},{"$f":"Q_d!$C$12","v":0},11233.589832572825,6052.604465817868,13962.247652329106,459.13425989573,-13503.113392433375]
[53,63.7153102836999,-148.875792007,-1583.3511917810536,514.51715615052717,{"$f":"Q_d!$C$11","v":0},{"$f":"Q_d!$C$12","v":0},11233.589832572825,6052.604465817868,13962.248682474607,459.135566077166,-13503.113116397441]
[53,63.7148389647,-148.86719881600001,-1583.0155184943565,514.25680060684726,{"$f":"Q_d!$C$11","v":0},{"$f":"Q_d!$C$12","v":0},11233.589832572825,6052.604465817868,13962.043818358123,459.13685343696801,-13502.906964921154]
[53,63.715436884900001,-148.87780243399899,-1583.4287934872898,514.57962914451718,{"$f":"Q_d!$C$11","v":0},{"$f":"Q_d!$C$12","v":0},11233.589832572825,6052.604465817868,13962.295139137505,459.13705096626597,-13503.158088171238]
[53,63.715491623799899,-148.87840920400001,-1583.4512779889517,514.60005852208769,{"$f":"Q_d!$C$11","v":0},{"$f":"Q_d!$C$12","v":0},11233.589832572825,6052.604465817868,13962.307676206614,459.13945410082101,-13503.168222105793]
[53,63.7154387183,-148.877422687999,-1583.412677501412,514.57028013474155,{"$f":"Q_d!$C$11","v":0},{"$f":"Q_d!$C$12","v":0},11233.589832572825,6052.604465817868,13962.284053300315,459.139801586619,-13503.144251713695]
[53,63.715371636699899,-148.876271414,-1583.3679320903816,514.53502065807197,{"$f":"Q_d!$C$11","v":0},{"$f":"Q_d!$C$12","v":0},11233.589832572825,6052.604465817868,13962.256963706583,459.13990593390997,-13503.117057772673]
[53,63.714890895400004,-148.867446131999,-1583.0230077127014,514.26794665600892,{"$f":"Q_d!$C$11","v":0},{"$f":"Q_d!$C$12","v":0},11233.589832572825,6052.604465817868,13962.046271849042,459.14058744245199,-13502.905684406589]
[53,63.715555040200002,-148.878914941999,-1583.4690108060029,514.61878048631843,{"$f":"Q_d!$C$11","v":0},{"$f":"Q_d!$C$12","v":0},11233.589832572825,6052.604465817868,13962.316528627065,459.14257024153102,-13503.173958385534]
[53,63.714948354800001,-148.86776896800001,-1583.0333685289368,514.28151269250111,{"$f":"Q_d!$C$11","v":0},{"$f":"Q_d!$C$12","v":0},11233.589832572825,6052.604465817868,13962.05040143228,459.14545237974397,-13502.904949052536]
[53,63.714963296100002,-148.86787423800001,-1583.0369618180098,514.28557491234278,{"$f":"Q_d!$C$11","v":0},{"$f":"Q_d!$C$12","v":0},11233.589832572825,6052.604465817868,13962.052088574161,459.146754450034,-13502.905334124127]
[53,63.7149759833,-148.86796666999899,-1583.040141343967,514.28910060129874,{"$f":"Q_d!$C$11","v":0},{"$f":"Q_d!$C$12","v":0},11233.589832572825,6052.604465817868,13962.05360872448,459.147440434987,-13502.906168289494]
[53,63.715035572799898,-148.86827635200001,-1583.04982670194,514.30253973085019,{"$f":"Q_d!$C$11","v":0},{"$f":"Q_d!$C$12","v":0},11233.589832572825,6052.604465817868,13962.057168633637,459.15213478758801,-13502.905033846049]
[53,63.715081239699899,-148.86875241300001,-1583.0673163801691,514.3188247425237,{"$f":"Q_d!$C$11","v":0},{"$f":"Q_d!$C$12","v":0},11233.589832572825,6052.604465817868,13962.066763769224,459.15364801338501,-13502.913115755839]
[53,63.715109358600003,-148.86889514000001,-1583.0717430093541,514.32508102651445,{"$f":"Q_d!$C$11","v":0},{"$f":"Q_d!$C$12","v":0},11233.589832572825,6052.604465817868,13962.068345592981,459.156697650159,-13502.911647942823]
[53,63.715775927499898,-148.88021054000001,-1583.5111286234464,514.67230608196951,{"$f":"Q_d!$C$11","v":0},{"$f":"Q_d!$C$12","v":0},11233.589832572825,6052.604465817868,13962.333961603106,459.15930803153702,-13503.174653571568]
[53,63.7158138194999,-148.88050039300001,-1583.5212038303514,514.68318360596049,{"$f":"Q_d!$C$11","v":0},{"$f":"Q_d!$C$12","v":0},11233.589832572825,6052.604465817868,13962.338896025396,459.161830322382,-13503.177065703014]
[53,63.715831320900001,-148.8806869,-1583.5280764123693,514.68952769347788,{"$f":"Q_d!$C$11","v":0},{"$f":"Q_d!$C$12","v":0},11233.589832572825,6052.604465817868,13962.342688629664,459.16225577675698,-13503.180432852907]
[53,63.715854840600002,-148.880934381,-1583.5371789831734,514.69797409963121,{"$f":"Q_d!$C$11","v":0},{"$f":"Q_d!$C$12","v":0},11233.589832572825,6052.604465817868,13962.347694473639,459.163816849716,-13503.183877623924]
[53,63.715284742000001,-148.870649106999,-1583.1357754505239,514.3857605735152,{"$f":"Q_d!$C$11","v":0},{"$f":"Q_d!$C$12","v":0},11233.589832572825,6052.604465817868,13962.103055717644,459.16454057886398,-13502.93851513878]
[53,63.715270014200001,-148.870359019999,-1583.12437684066,514.37708441996165,{"$f":"Q_d!$C$11","v":0},{"$f":"Q_d!$C$12","v":0},11233.589832572825,6052.604465817868,13962.096033685166,459.16501318153502,-13502.931020503631]
[53,63.715257253399898,-148.870046309,-1583.111912784753,514.36802834964146,{"$f":"Q_d!$C$11","v":0},{"$f":"Q_d!$C$12","v":0},11233.589832572825,6052.604465817868,13962.088184320879,459.16593031277898,-13502.922254008099]
[53,63.715909821700002,-148.881319880999,-1583.5503189190642,514.71287776334111,{"$f":"Q_d!$C$11","v":0},{"$f":"Q_d!$C$12","v":0},11233.589832572825,6052.604465817868,13962.353845395504,459.166860874127,-13503.186984521377]
[53,63.7159334016999,-148.88155335900001,-1583.5588275505079,514.72097877525175,{"$f":"Q_d!$C$11","v":0},{"$f":"Q_d!$C$12","v":0},11233.589832572825,6052.604465817868,13962.358443033922,459.16903779109498,-13503.189405242827]
[53,63.715989258699899,-148.882215024,-1583.5835615816447,514.74289251860046,{"$f":"Q_d!$C$11","v":0},{"$f":"Q_d!$C$12","v":0},11233.589832572825,6052.604465817868,13962.372456744084,459.170223917013,-13503.20223282707]
[53,63.7153881841,-148.87106182599899,-1583.1473219017892,514.40595945186851,{"$f":"Q_d!$C$11","v":0},{"$f":"Q_d!$C$12","v":0},11233.589832572825,6052.604465817868,13962.105642875096,459.17290662777498,-13502.932736247321]
[53,63.716049122100003,-148.882597645999,-1583.5963032569657,514.75818907897974,{"$f":"Q_d!$C$11","v":0},{"$f":"Q_d!$C$12","v":0},11233.589832572825,6052.604465817868,13962.378086318182,459.174847770432,-13503.203238547751]
[53,63.716084839399898,-148.88276729,-1583.6014328125152,514.76584480268184,{"$f":"Q_d!$C$11","v":0},{"$f":"Q_d!$C$12","v":0},11233.589832572825,6052.604465817868,13962.379758690051,459.177293707996,-13503.202464982054]
[53,63.716169275299897,-148.883295449999,-1583.6189186648996,514.7871314391009,{"$f":"Q_d!$C$11","v":0},{"$f":"Q_d!$C$12","v":0},11233.589832572825,6052.604465817868,13962.387367558273,459.18419141124599,-13503.203176147026]
[53,63.716220440199898,-148.883760150999,-1583.6356132781389,514.80365866933334,{"$f":"Q_d!$C$11","v":0},{"$f":"Q_d!$C$12","v":0},11233.589832572825,6052.604465817868,13962.396137820484,459.186358522332,-13503.209779298151]
[53,63.716284541199897,-148.88411007299899,-1583.6467357326444,514.81853873831506,{"$f":"Q_d!$C$11","v":0},{"$f":"Q_d!$C$12","v":0},11233.589832572825,6052.604465817868,13962.400446272384,459.19142660223901,-13503.209019670145]
[53,63.716399759200002,-148.88447736800001,-1583.6556950966535,514.83872155973177,{"$f":"Q_d!$C$11","v":0},{"$f":"Q_d!$C$12","v":0},11233.589832572825,6052.604465817868,13962.400665889878,459.20166853790897,-13503.198997351969]
[53,63.716645113600002,-148.884610232,-1583.6473990382694,514.86541478284198,{"$f":"Q_d!$C$11","v":0},{"$f":"Q_d!$C$12","v":0},11233.589832572825,6052.604465817868,13962.382463202901,459.22788249517203,-13503.154580707729]
[53,63.716712361699898,-148.88470629700001,-1583.6476400297618,514.87422713873275,{"$f":"Q_d!$C$11","v":0},{"$f":"Q_d!$C$12","v":0},11233.589832572825,6052.604465817868,13962.379189288236,459.23498133744101,-13503.144207950796]
[53,63.716774494100001,-148.88483338200001,-1583.6494785919876,514.88333047178321,{"$f":"Q_d!$C$11","v":0},{"$f":"Q_d!$C$12","v":0},11233.589832572825,6052.604465817868,13962.377266516163,459.24085087565902,-13503.136415640503]
[53,63.716969190100002,-148.885223908,-1583.6549148823976,514.9116631293673,{"$f":"Q_d!$C$11","v":0},{"$f":"Q_d!$C$12","v":0},11233.589832572825,6052.604465817868,13962.371019748634,459.25986360011899,-13503.111156148516]
[53,63.7170917901,-148.88555296600001,-1583.6618432953899,514.93158964183021,{"$f":"Q_d!$C$11","v":0},{"$f":"Q_d!$C$12","v":0},11233.589832572825,6052.604465817868,13962.369476778729,459.27133744769998,-13503.098139331029]
[53,63.7172685192999,-148.88596418,-1583.6691690112282,514.95873052913521,{"$f":"Q_d!$C$11","v":0},{"$f":"Q_d!$C$12","v":0},11233.589832572825,6052.604465817868,13962.36543724769,459.28771937425,-13503.077717873441]
[53,63.717335111099899,-148.886077577999,-1583.6701776466919,514.96791510768799,{"$f":"Q_d!$C$11","v":0},{"$f":"Q_d!$C$12","v":0},11233.589832572825,6052.604465817868,13962.3627204472,459.29420454649699,-13503.068515900703]
[53,63.717531331899899,-148.88658450099899,-1583.6804338271395,514.99931242199682,{"$f":"Q_d!$C$11","v":0},{"$f":"Q_d!$C$12","v":0},11233.589832572825,6052.604465817868,13962.359682978273,459.31330337581102,-13503.046379602461]
[53,63.7176579226999,-148.886811499999,-1583.6828328209629,515.01705893130975,{"$f":"Q_d!$C$11","v":0},{"$f":"Q_d!$C$12","v":0},11233.589832572825,6052.604465817868,13962.354846799997,459.32627473942699,-13503.02857206057]
[53,63.717741647899899,-148.886934913999,-1583.6832929668021,515.02812598040373,{"$f":"Q_d!$C$11","v":0},{"$f":"Q_d!$C$12","v":0},11233.589832572825,6052.604465817868,13962.35087992735,459.33433840722103,-13503.016541520128]
[53,63.7179172429,-148.88718684700001,-1583.6839669922699,515.05116354462598,{"$f":"Q_d!$C$11","v":0},{"$f":"Q_d!$C$12","v":0},11233.589832572825,6052.604465817868,13962.342361815052,459.35186952269999,-13502.990492292352]
[53,63.717985933800001,-148.88734211900001,-1583.6866217438715,515.06159825540635,{"$f":"Q_d!$C$11","v":0},{"$f":"Q_d!$C$12","v":0},11233.589832572825,6052.604465817868,13962.340660379014,459.35853015482297,-13502.982130224191]
[53,63.718251473199899,-148.88774349600001,-1583.6885004890466,515.09694780007385,{"$f":"Q_d!$C$11","v":0},{"$f":"Q_d!$C$12","v":0},11233.589832572825,6052.604465817868,13962.328365257741,459.38491540428203,-13502.943449853459]
[53,63.7183586843,-148.88807089400001,-1583.6962292570347,515.11536740903693,{"$f":"Q_d!$C$11","v":0},{"$f":"Q_d!$C$12","v":0},11233.589832572825,6052.604465817868,13962.328154923685,459.39499131139797,-13502.933163612288]
[53,63.718428594400002,-148.888270382,-1583.7006786939533,515.12702725315103,{"$f":"Q_d!$C$11","v":0},{"$f":"Q_d!$C$12","v":0},11233.589832572825,6052.604465817868,13962.327615151517,459.40200209620298,-13502.925613055313]
[53,63.718648670199897,-148.88854743799899,-1583.6998912506851,515.15492977750091,{"$f":"Q_d!$C$11","v":0},{"$f":"Q_d!$C$12","v":0},11233.589832572825,6052.604465817868,13962.3158261309,459.42392047867901,-13502.891905652221]
[53,63.718933653400001,-148.88881655,{"$f":"lcpx(B8120,C8120,63,-115,70,60)","v":-1583.6950917087358},{"$f":"lcpy(B8120,C8120,63,-115,70,60)","v":515.18881268398081},{"$f":"Q_d!$C$11","v":0},{"$f":"Q_d!$C$12","v":0},{"$f":"lcpx(F8120,G8120,63,-115,70,60)","v":11233.589832572825},{"$f":"lcpy(F8120,G8120,63,-115,70,60)","v":6052.604465817868},{"$f":"SQRT((H8120-D8120)^2+(I8120-E8120)^2)","v":13962.297982273103},459.45320580881702,-13502.844776464286]
[53,63.719088638000002,-148.88894829,-1583.6918654011974,515.20687290029855,{"$f":"Q_d!$C$11","v":0},{"$f":"Q_d!$C$12","v":0},11233.589832572825,6052.604465817868,13962.287857914587,459.46986638516302,-13502.817991529424]
[53,63.719265145900003,-148.88909222199899,-1583.6879336789004,515.22728808794818,{"$f":"Q_d!$C$11","v":0},{"$f":"Q_d!$C$12","v":0},11233.589832572825,6052.604465817868,13962.276152035347,459.48889438266002,-13502.787257652686]
[53,63.7193548961,-148.88914874700001,-1583.6852321086117,515.23725081701923,{"$f":"Q_d!$C$11","v":0},{"$f":"Q_d!$C$12","v":0},11233.589832572825,6052.604465817868,13962.269720839473,459.49801390756801,-13502.771706931904]
[53,63.719569723299898,-148.889208768999,-1583.6755922614427,515.25920953708055,{"$f":"Q_d!$C$11","v":0},{"$f":"Q_d!$C$12","v":0},11233.589832572825,6052.604465817868,13962.25216281053,459.521516811781,-13502.730645998749]
[53,63.638518749900001,-151.897359206,-1713.591850036099,586.2145652017748,{"$f":"Q_d!$C$11","v":0},{"$f":"Q_d!$C$12","v":0},11233.589832572825,6052.604465817868,14053.85826269931,459.55469134804798,-13594.303571351262]
[53,63.720099855400001,-148.88940437400001,-1583.6538054981804,515.31458839687548,{"$f":"Q_d!$C$11","v":0},{"$f":"Q_d!$C$12","v":0},11233.589832572825,6052.604465817868,13962.210199830852,459.578431695831,-13502.631768135021]
[53,63.720209424399897,-148.889443368999,-1583.6492421054477,515.32599826752448,{"$f":"Q_d!$C$11","v":0},{"$f":"Q_d!$C$12","v":0},11233.589832572825,6052.604465817868,13962.201485605923,459.59035819303199,-13502.611127412891]
[53,63.720431333400001,-148.88947913499899,-1583.638178424734,515.3480227326645,{"$f":"Q_d!$C$11","v":0},{"$f":"Q_d!$C$12","v":0},11233.589832572825,6052.604465817868,13962.182594508246,459.61447562604002,-13502.568118882205]
[53,63.639025444200001,-151.897882043999,-1713.5823314817258,586.27557611787552,{"$f":"Q_d!$C$11","v":0},{"$f":"Q_d!$C$12","v":0},11233.589832572825,6052.604465817868,14053.825762974215,459.61522566816598,-13594.210537306049]
[53,63.720905207800001,-148.88930169899899,-1583.6038536461244,515.38868863686002,{"$f":"Q_d!$C$11","v":0},{"$f":"Q_d!$C$12","v":0},11233.589832572825,6052.604465817868,13962.134956843569,459.66753868421,-13502.467418159358]
[53,63.721299713199897,-148.88899699199899,-1583.5686606615729,515.41860605981174,{"$f":"Q_d!$C$11","v":0},{"$f":"Q_d!$C$12","v":0},11233.589832572825,6052.604465817868,13962.090784914528,459.71271044533802,-13502.37807446919]
[53,63.721336925700001,-148.888962421,-1583.5650953304989,515.42128189821233,{"$f":"Q_d!$C$11","v":0},{"$f":"Q_d!$C$12","v":0},11233.589832572825,6052.604465817868,13962.086450747936,459.71692051630998,-13502.369530231626]
[53,63.721573922600001,-148.888620631999,-1583.5372624337342,515.43527350635532,{"$f":"Q_d!$C$11","v":0},{"$f":"Q_d!$C$12","v":0},11233.589832572825,6052.604465817868,13962.055351338318,459.74516693598798,-13502.310184402329]
[53,63.721633327600003,-148.888528476999,-1583.5300126726977,515.43861803988466,{"$f":"Q_d!$C$11","v":0},{"$f":"Q_d!$C$12","v":0},11233.589832572825,6052.604465817868,13962.047369679902,459.75183405071903,-13502.295535629182]
[53,63.7218471503,-148.888153402999,-1583.502089804638,515.44956875608887,{"$f":"Q_d!$C$11","v":0},{"$f":"Q_d!$C$12","v":0},11233.589832572825,6052.604465817868,13962.017393655147,459.77771372044498,-13502.239679934703]
[53,63.640653330500001,-151.89899478999899,-1713.5284822101275,586.45619872383986,{"$f":"Q_d!$C$11","v":0},{"$f":"Q_d!$C$12","v":0},11233.589832572825,6052.604465817868,14053.705900396635,459.80389230736102,-13593.902008089273]
[53,63.7221150491999,-148.88764324600001,-1583.4654098682847,515.46228041385029,{"$f":"Q_d!$C$11","v":0},{"$f":"Q_d!$C$12","v":0},11233.589832572825,6052.604465817868,13961.978680300579,459.81070087591399,-13502.167979424665]
[53,63.722300321900001,-148.88723372000001,-1583.4376525201762,515.46964943030252,{"$f":"Q_d!$C$11","v":0},{"$f":"Q_d!$C$12","v":0},11233.589832572825,6052.604465817868,13961.95027667986,459.83342563258702,-13502.116851047273]
[53,63.722349221999899,-148.887090623999,-1583.4288507829094,515.4707164688366,{"$f":"Q_d!$C$11","v":0},{"$f":"Q_d!$C$12","v":0},11233.589832572825,6052.604465817868,13961.941773538165,459.839743885845,-13502.10202965232]
[53,63.722520801500004,-148.886617384,-1583.3991836993812,515.47518423447127,{"$f":"Q_d!$C$11","v":0},{"$f":"Q_d!$C$12","v":0},11233.589832572825,6052.604465817868,13961.912767390098,459.86150598305102,-13502.051261407047]
[53,63.722671022299899,-148.88616588900001,{"$f":"lcpx(B8248,C8248,63,-115,70,60)","v":-1583.3716432297242},{"$f":"lcpy(B8248,C8248,63,-115,70,60)","v":515.47816404910736},{"$f":"Q_d!$C$11","v":0},{"$f":"Q_d!$C$12","v":0},{"$f":"lcpx(F8248,G8248,63,-115,70,60)","v":11233.589832572825},{"$f":"lcpy(F8248,G8248,63,-115,70,60)","v":6052.604465817868},{"$f":"SQRT((H8248-D8248)^2+(I8248-E8248)^2)","v":13961.886303574673},459.88107656219103,-13502.005227012482]
[53,63.641447457600002,-151.900134976,-1713.5267178636236,586.56052219529465,{"$f":"Q_d!$C$11","v":0},{"$f":"Q_d!$C$12","v":0},11233.589832572825,6052.604465817868,14053.663698986056,459.90267700569001,-13593.761021980366]
[53,63.722884239000003,-148.88543702300001,-1583.3288429950301,515.48018623888447,{"$f":"Q_d!$C$11","v":0},{"$f":"Q_d!$C$12","v":0},11233.589832572825,6052.604465817868,13961.846211143536,459.909076271603,{"$f":"K8260-J8260","v":-13501.937134871934}]
[53,63.723002282499898,-148.884948506999,-1583.3015650065277,515.47917469825643,{"$f":"Q_d!$C$11","v":0},{"$f":"Q_d!$C$12","v":0},11233.589832572825,6052.604465817868,13961.821571231314,459.924879067223,-13501.896692164091]
[53,63.7230200764999,-148.884881476999,-1583.2977316950521,515.47918798365481,{"$f":"Q_d!$C$11","v":0},{"$f":"Q_d!$C$12","v":0},11233.589832572825,6052.604465817868,13961.818046999293,459.92733718381999,-13501.890709815472]
[53,63.723129393999898,-148.88433933900001,-1583.2686878373356,515.47600127541091,{"$f":"Q_d!$C$11","v":0},{"$f":"Q_d!$C$12","v":0},11233.589832572825,6052.604465817868,13961.792648691529,459.94279259599199,-13501.849856095538]
[53,63.7231803192999,-148.88405612899899,-1583.2538656466777,515.47374811503323,{"$f":"Q_d!$C$11","v":0},{"$f":"Q_d!$C$12","v":0},11233.589832572825,6052.604465817868,13961.779935578317,459.94964483625802,-13501.830290742058]
[53,63.7232287633,-148.883610441,-1583.232335360141,515.46718450262415,{"$f":"Q_d!$C$11","v":0},{"$f":"Q_d!$C$12","v":0},11233.589832572825,6052.604465817868,13961.762773967657,459.95781878994001,-13501.804955177717]
[53,63.723257473799897,-148.88319657900001,-1583.2132643024211,515.45954023161948,{"$f":"Q_d!$C$11","v":0},{"$f":"Q_d!$C$12","v":0},11233.589832572825,6052.604465817868,13961.748298512492,459.96318672802499,-13501.785111784466]
[53,63.723320002999898,-148.88287362099899,-1583.1961094344279,515.45739552303166,{"$f":"Q_d!$C$11","v":0},{"$f":"Q_d!$C$12","v":0},11233.589832572825,6052.604465817868,13961.733401025442,459.97205871878703,-13501.761342306654]
[53,63.723336393799897,-148.882786463999,-1583.1915072514655,515.45677066157214,{"$f":"Q_d!$C$11","v":0},{"$f":"Q_d!$C$12","v":0},11233.589832572825,6052.604465817868,13961.729424066449,459.97434343232601,-13501.755080634122]
[53,63.723453313500002,-148.88224109500001,-1583.1618967680079,515.45422788669975,{"$f":"Q_d!$C$11","v":0},{"$f":"Q_d!$C$12","v":0},11233.589832572825,6052.604465817868,13961.703250283701,459.99120756814398,-13501.712042715557]
[53,63.723464661900003,-148.88218877200001,-1583.159048502732,515.45399642663051,{"$f":"Q_d!$C$11","v":0},{"$f":"Q_d!$C$12","v":0},11233.589832572825,6052.604465817868,13961.700727391028,459.992437055219,-13501.708290335808]
[53,63.723559214399899,-148.88184744,-1583.1393054315856,515.45444040269604,{"$f":"Q_d!$C$11","v":0},{"$f":"Q_d!$C$12","v":0},11233.589832572825,6052.604465817868,13961.682427305332,460.00473222348398,-13501.677695081848]
[53,63.723631394000002,-148.88161319400001,-1583.1253434223045,515.4554393787721,{"$f":"Q_d!$C$11","v":0},{"$f":"Q_d!$C$12","v":0},11233.589832572825,6052.604465817868,13961.669214086807,460.01412785369899,-13501.655086233108]
[53,63.723715640800002,-148.88137059799899,-1583.1103460083452,515.45737802649455,{"$f":"Q_d!$C$11","v":0},{"$f":"Q_d!$C$12","v":0},11233.589832572825,6052.604465817868,13961.654677704899,460.02492720503699,-13501.629750499862]
[53,63.723949579200003,-148.88089512299899,-1583.0770542271512,515.46773050748106,{"$f":"Q_d!$C$11","v":0},{"$f":"Q_d!$C$12","v":0},11233.589832572825,6052.604465817868,13961.620010325405,460.05310306637398,-13501.566907259032]
[53,63.724135112200003,-148.88076984400001,-1583.061265394701,515.48225487023092,{"$f":"Q_d!$C$11","v":0},{"$f":"Q_d!$C$12","v":0},11233.589832572825,6052.604465817868,13961.599755973592,460.07477030587103,-13501.52498566772]
[53,63.7242276156,-148.880794667999,-1583.0570725720056,515.49168499485495,{"$f":"Q_d!$C$11","v":0},{"$f":"Q_d!$C$12","v":0},11233.589832572825,6052.604465817868,13961.592167038549,460.08432751507598,-13501.507839523472]
[53,63.724384418500001,-148.880719064,-1583.04500485475,515.50471936720896,{"$f":"Q_d!$C$11","v":0},{"$f":"Q_d!$C$12","v":0},11233.589832572825,6052.604465817868,13961.575919576775,460.10195807885799,-13501.473961497917]
[53,63.724409948800002,-148.88031866700001,-1583.0266818468606,515.49711119549102,{"$f":"Q_d!$C$11","v":0},{"$f":"Q_d!$C$12","v":0},11233.589832572825,6052.604465817868,13961.562116550878,460.108120034845,-13501.453996516033]
[53,63.724461582799897,-148.88081479300001,-1583.0446694870614,515.51446676612022,{"$f":"Q_d!$C$11","v":0},{"$f":"Q_d!$C$12","v":0},11233.589832572825,6052.604465817868,13961.571745938591,460.11045942577698,-13501.461286512813]
[53,63.724504593600003,-148.88021843499899,-1583.0170966013868,515.50360977406262,{"$f":"Q_d!$C$11","v":0},{"$f":"Q_d!$C$12","v":0},11233.589832572825,6052.604465817868,13961.55074004881,460.11838568894399,-13501.432354359866]
[53,63.724568237100002,-148.88085361399899,-1583.0402651496495,515.52559519997749,{"$f":"Q_d!$C$11","v":0},{"$f":"Q_d!$C$12","v":0},11233.589832572825,6052.604465817868,13961.563289305705,460.12159398359,-13501.441695322115]
[53,63.642989320399899,-151.905666432999,-1713.6593794422615,586.85311597224108,{"$f":"Q_d!$C$11","v":0},{"$f":"Q_d!$C$12","v":0},11233.589832572825,6052.604465817868,14053.672117150185,460.13509769740398,-13593.53701945278]
[53,63.642882167499899,-151.90761496100001,-1713.7458596170261,586.89610299884043,{"$f":"Q_d!$C$11","v":0},{"$f":"Q_d!$C$12","v":0},11233.589832572825,6052.604465817868,14053.735070565514,460.14722357523698,-13593.587846990276]
[53,63.724835161800002,-148.88000095999899,-1582.9892076375459,515.52963243534668,{"$f":"Q_d!$C$11","v":0},{"$f":"Q_d!$C$12","v":0},11233.589832572825,6052.604465817868,13961.514817685,460.15610654754897,-13501.358711137451]
[53,63.643333740099898,-151.905635571,-1713.6370574470718,586.88410154057965,{"$f":"Q_d!$C$11","v":0},{"$f":"Q_d!$C$12","v":0},11233.589832572825,6052.604465817868,14053.639501642618,460.171631724512,-13593.467869918106]
[53,63.725012705600001,-148.87990530100001,-1582.9751201464458,515.54413904214925,{"$f":"Q_d!$C$11","v":0},{"$f":"Q_d!$C$12","v":0},11233.589832572825,6052.604465817868,13961.496132206805,460.17654421754202,-13501.319587989263]
[53,63.725277376900003,-148.879799797,-1582.9556831693817,515.56669477184505,{"$f":"Q_d!$C$11","v":0},{"$f":"Q_d!$C$12","v":0},11233.589832572825,6052.604465817868,13961.469343700253,460.20619153157799,-13501.263152168676]
[53,63.725412832300002,-148.879778528,-1582.9471150147951,515.57905902699622,{"$f":"Q_d!$C$11","v":0},{"$f":"Q_d!$C$12","v":0},11233.589832572825,6052.604465817868,13961.456574595868,460.22136259521801,-13501.235212000651]
[53,63.725441119000003,-148.879774553999,-1582.9453454630368,515.58165273548002,{"$f":"Q_d!$C$11","v":0},{"$f":"Q_d!$C$12","v":0},11233.589832572825,6052.604465817868,13961.453921509232,460.22416960542103,-13501.229751903811]
[53,63.725617690299899,-148.879792632,-1582.9361071203712,515.59891835572898,{"$f":"Q_d!$C$11","v":0},{"$f":"Q_d!$C$12","v":0},11233.589832572825,6052.604465817868,13961.43859333468,460.24311000274599,-13501.195483331934]
[53,63.725791895500002,-148.879890979999,-1582.9303860700713,515.61797113067087,{"$f":"Q_d!$C$11","v":0},{"$f":"Q_d!$C$12","v":0},11233.589832572825,6052.604465817868,13961.425785256697,460.26257161863498,-13501.163213638061]
[53,63.725861612300001,-148.879947616999,-1582.9288247495497,515.62602921299913,{"$f":"Q_d!$C$11","v":0},{"$f":"Q_d!$C$12","v":0},11233.589832572825,6052.604465817868,13961.421156204686,460.270110349346,-13501.15104585534]
[53,63.7260336318,-148.880106337999,-1582.9257720377727,515.64638744728154,{"$f":"Q_d!$C$11","v":0},{"$f":"Q_d!$C$12","v":0},11233.589832572825,6052.604465817868,13961.410279941647,460.28772756179302,-13501.122552379853]
[53,63.6440957408999,-151.909051038999,-1713.7305694977576,587.04720911489085,{"$f":"Q_d!$C$11","v":0},{"$f":"Q_d!$C$12","v":0},11233.589832572825,6052.604465817868,14053.662217378489,460.29468783595502,-13593.367529542535]
[53,63.726267741500003,-148.880678458999,-1582.936626609403,515.6830219482008,{"$f":"Q_d!$C$11","v":0},{"$f":"Q_d!$C$12","v":0},11233.589832572825,6052.604465817868,13961.40571556109,460.31014476111602,-13501.095570799975]
[53,63.726453770699898,-148.88214891300001,-1582.9880660664667,515.73760117462962,{"$f":"Q_d!$C$11","v":0},{"$f":"Q_d!$C$12","v":0},11233.589832572825,6052.604465817868,13961.431291550067,460.320769553145,-13501.110521996921]
[53,63.726400869099898,-148.88073977900001,-1582.9316710927583,515.69723504900912,{"$f":"Q_d!$C$11","v":0},{"$f":"Q_d!$C$12","v":0},11233.589832572825,6052.604465817868,13961.395529676207,460.32426031765903,-13501.071269358548]
[53,63.726580032900003,-148.88205959499899,-1582.9771501420644,515.74738369622992,{"$f":"Q_d!$C$11","v":0},{"$f":"Q_d!$C$12","v":0},11233.589832572825,6052.604465817868,13961.417391162617,460.33541879916203,-13501.081972363454]
[53,63.7266523853,-148.88203967499899,-1582.9722125707733,515.75377321028918,{"$f":"Q_d!$C$11","v":0},{"$f":"Q_d!$C$12","v":0},11233.589832572825,6052.604465817868,13961.41032450678,460.34322485945199,-13501.067099647327]
[53,63.7266706594,-148.88212136499899,-1582.9746204999096,515.75756126568967,{"$f":"Q_d!$C$11","v":0},{"$f":"Q_d!$C$12","v":0},11233.589832572825,6052.604465817868,13961.411032707856,460.34515060984398,-13501.065882098012]
[53,63.7266684814999,-148.88078879700001,-1582.9185801508656,515.72394466819242,{"$f":"Q_d!$C$11","v":0},{"$f":"Q_d!$C$12","v":0},11233.589832572825,6052.604465817868,13961.372919555721,460.35275853414799,-13501.020161021574]
[53,63.726706660799898,-148.88080961700001,-1582.9172952696331,515.7281018806184,{"$f":"Q_d!$C$11","v":0},{"$f":"Q_d!$C$12","v":0},11233.589832572825,6052.604465817868,13961.370091347178,460.35731679207601,-13501.012774555102]
[53,63.644500098899897,-151.91139269000001,-1713.8018934775132,587.14812870804553,{"$f":"Q_d!$C$11","v":0},{"$f":"Q_d!$C$12","v":0},11233.589832572825,6052.604465817868,14053.68867880069,460.36653929233302,-13593.322139508358]
[53,63.726918673599897,-148.882163238,-1582.9623378564954,515.7822254315156,{"$f":"Q_d!$C$11","v":0},{"$f":"Q_d!$C$12","v":0},11233.589832572825,6052.604465817868,13961.389975893284,460.37224625405003,-13501.017729639234]
[53,63.726921668300001,-148.881759262,-1582.945142108329,515.77238231365436,{"$f":"Q_d!$C$11","v":0},{"$f":"Q_d!$C$12","v":0},11233.589832572825,6052.604465817868,13961.37809380388,460.37480810748099,-13501.003285696399]
[53,63.726969138400001,-148.881021234,-1582.9113481158504,515.75839903050746,{"$f":"Q_d!$C$11","v":0},{"$f":"Q_d!$C$12","v":0},11233.589832572825,6052.604465817868,13961.35261648716,460.38466657785199,-13500.967949909307]
[53,63.727035566200001,-148.881352200999,-1582.9215348878458,515.77302154033896,{"$f":"Q_d!$C$11","v":0},{"$f":"Q_d!$C$12","v":0},11233.589832572825,6052.604465817868,13961.356168889504,460.39035001289898,-13500.965818876606]
[53,63.727051565499899,-148.88126905799899,-1582.9171245294963,515.77246043572359,{"$f":"Q_d!$C$11","v":0},{"$f":"Q_d!$C$12","v":0},11233.589832572825,6052.604465817868,13961.352342709364,460.39202021320898,-13500.960322496156]
[53,63.727207461600003,-148.88202590200001,-1582.9401928403188,515.80627879966323,{"$f":"Q_d!$C$11","v":0},{"$f":"Q_d!$C$12","v":0},11233.589832572825,6052.604465817868,13961.360107671628,460.40469981202398,-13500.955407859603]
[53,63.727270266399898,-148.881959534,{"$f":"lcpx(B8568,C8568,63,-115,70,60)","v":-1582.9338384726764},{"$f":"lcpy(B8568,C8568,63,-115,70,60)","v":515.8105947590725},{"$f":"Q_d!$C$11","v":0},{"$f":"Q_d!$C$12","v":0},{"$f":"lcpx(F8568,G8568,63,-115,70,60)","v":11233.589832572825},{"$f":"lcpy(F8568,G8568,63,-115,70,60)","v":6052.604465817868},{"$f":"SQRT((H8568-D8568)^2+(I8568-E8568)^2)","v":13961.352562737748},460.41215765007701,-13500.940405087671]
[53,63.7274607632,-148.881644773,-1582.9097830473506,515.82084136253616,{"$f":"Q_d!$C$11","v":0},{"$f":"Q_d!$C$12","v":0},11233.589832572825,6052.604465817868,13961.326416255328,460.43479783786898,-13500.89161841746]
[53,63.7276062197,-148.881343224999,-1582.888835646196,515.82713091013466,{"$f":"Q_d!$C$11","v":0},{"$f":"Q_d!$C$12","v":0},11233.589832572825,6052.604465817868,13961.304692229203,460.45322798520999,-13500.851464243993]
[53,63.727899268800002,-148.88116231800001,-1582.8646134389621,515.85049803464199,{"$f":"Q_d!$C$11","v":0},{"$f":"Q_d!$C$12","v":0},11233.589832572825,6052.604465817868,13961.273189306863,460.48612242390101,-13500.787066882962]
[53,63.728142430799899,-148.88088504999899,-1582.8391557508317,515.866699553947,{"$f":"Q_d!$C$11","v":0},{"$f":"Q_d!$C$12","v":0},11233.589832572825,6052.604465817868,13961.24339395013,460.51411053734199,-13500.729283412787]
[53,63.7283070967,-148.88062163999899,-1582.818728089248,515.87577464906417,{"$f":"Q_d!$C$11","v":0},{"$f":"Q_d!$C$12","v":0},11233.589832572825,6052.604465817868,13961.221042352416,460.53411882508698,-13500.686923527328]
[53,63.728376157600003,-148.880470094999,-1582.808429835987,515.87855117187883,{"$f":"Q_d!$C$11","v":0},{"$f":"Q_d!$C$12","v":0},11233.589832572825,6052.604465817868,13961.210487439406,460.54263262481999,-13500.667854814586]
[53,63.7284588375,-148.88030907999899,-1582.7969611569908,515.88238706190896,{"$f":"Q_d!$C$11","v":0},{"$f":"Q_d!$C$12","v":0},11233.589832572825,6052.604465817868,13961.198437952085,460.55316476710902,-13500.645273184977]
[53,63.7286139230999,-148.880024179,-1582.7761705699581,515.89001147353702,{"$f":"Q_d!$C$11","v":0},{"$f":"Q_d!$C$12","v":0},11233.589832572825,6052.604465817868,13961.17632849967,460.57177014771497,-13500.604558351955]
[53,63.728792690399899,-148.87967620800001,-1582.7513807964378,515.89830983407819,{"$f":"Q_d!$C$11","v":0},{"$f":"Q_d!$C$12","v":0},11233.589832572825,6052.604465817868,13961.150280518303,460.59344991000398,-13500.556830608299]
[53,63.646298309300001,-151.91598421200001,-1713.8802544945747,587.43889749223354,{"$f":"Q_d!$C$11","v":0},{"$f":"Q_d!$C$12","v":0},11233.589832572825,6052.604465817868,14053.647794957618,460.61417098586901,-13593.033623971749]
[53,63.728997235999898,-148.87911014400001,-1582.7159398123968,515.90359579775168,{"$f":"Q_d!$C$11","v":0},{"$f":"Q_d!$C$12","v":0},11233.589832572825,6052.604465817868,13961.115649379753,460.61952773737198,-13500.496121642382]
[53,63.729177350400001,-148.878380996999,-1582.6750096614319,515.90246790840365,{"$f":"Q_d!$C$11","v":0},{"$f":"Q_d!$C$12","v":0},11233.589832572825,6052.604465817868,13961.078522805627,460.64333510862798,-13500.435187696999]
[53,63.729268276699898,-148.878025495999,-1582.6548777907688,515.90221435553758,{"$f":"Q_d!$C$11","v":0},{"$f":"Q_d!$C$12","v":0},11233.589832572825,6052.604465817868,13961.060142312646,460.65624887219298,-13500.403893440453]
[53,63.729314746500002,-148.877859586,-1582.6452538744259,515.90248028333735,{"$f":"Q_d!$C$11","v":0},{"$f":"Q_d!$C$12","v":0},11233.589832572825,6052.604465817868,13961.051202101637,460.661783524528,-13500.389418577108]
[53,63.7293947454,-148.877472283999,-1582.6244006877098,515.90038932703737,{"$f":"Q_d!$C$11","v":0},{"$f":"Q_d!$C$12","v":0},11233.589832572825,6052.604465817868,13961.032888130452,460.67312107936101,-13500.359767051092]
[53,63.729438201900003,-148.87726061800001,-1582.6130190941981,515.89922151567816,{"$f":"Q_d!$C$11","v":0},{"$f":"Q_d!$C$12","v":0},11233.589832572825,6052.604465817868,13961.022902973882,460.67909762110901,-13500.343805352773]
[53,63.7295023171,-148.87669359700001,-1582.5854913036812,515.89111360683,{"$f":"Q_d!$C$11","v":0},{"$f":"Q_d!$C$12","v":0},11233.589832572825,6052.604465817868,13961.000847965488,460.690010667693,-13500.310837297795]
[53,63.647019012400001,-151.91644270500001,-1713.8549865445073,587.51792626905899,{"$f":"Q_d!$C$11","v":0},{"$f":"Q_d!$C$12","v":0},11233.589832572825,6052.604465817868,14053.593783400951,460.69699517687297,-13592.896788224078]
[53,63.729554309999898,-148.87599104399899,-1582.5529380238283,515.87845457859612,{"$f":"Q_d!$C$11","v":0},{"$f":"Q_d!$C$12","v":0},11233.589832572825,6052.604465817868,13960.975984502315,460.70005865964401,-13500.27592584267]
[53,63.729481385600003,-148.87341288299899,-1582.4484101048768,515.80689102653378,{"$f":"Q_d!$C$11","v":0},{"$f":"Q_d!$C$12","v":0},11233.589832572825,6052.604465817868,13960.908409626953,460.70728095071303,-13500.201128676239]
[53,63.729516963999899,-148.87381948800001,-1582.4635321143705,515.8204698063646,{"$f":"Q_d!$C$11","v":0},{"$f":"Q_d!$C$12","v":0},11233.589832572825,6052.604465817868,13960.916906313823,460.70908711680499,-13500.207819197018]
[53,63.729481916799898,-148.873260415,-1582.4419541160844,515.80312024597924,{"$f":"Q_d!$C$11","v":0},{"$f":"Q_d!$C$12","v":0},11233.589832572825,6052.604465817868,13960.903978530445,460.70922355103698,-13500.194754979408]
[53,63.729560857300001,-148.87410653800001,-1582.4731444555694,515.83184391157829,{"$f":"Q_d!$C$11","v":0},{"$f":"Q_d!$C$12","v":0},11233.589832572825,6052.604465817868,13960.921219527347,460.71160558531602,-13500.20961394203]
[53,63.729569651799899,-148.87417682500001,-1582.475608725802,515.83444299197527,{"$f":"Q_d!$C$11","v":0},{"$f":"Q_d!$C$12","v":0},11233.589832572825,6052.604465817868,13960.922450945438,460.71273998881298,-13500.209710956626]
[53,63.7296190948,-148.874703342,-1582.4949991076912,515.85234760309686,{"$f":"Q_d!$C$11","v":0},{"$f":"Q_d!$C$12","v":0},11233.589832572825,6052.604465817868,13960.933150451914,460.71462512058298,-13500.218525331331]
[53,63.729529177099899,-148.872708654999,-1582.4160234562626,515.79379163057229,{"$f":"Q_d!$C$11","v":0},{"$f":"Q_d!$C$12","v":0},11233.589832572825,6052.604465817868,13960.88387400906,460.71672538556697,-13500.167148623492]
[53,63.647378892600003,-151.91647678300001,-1713.8343772290336,587.55209917732009,{"$f":"Q_d!$C$11","v":0},{"$f":"Q_d!$C$12","v":0},11233.589832572825,6052.604465817868,14053.561507272338,460.736965572548,-13592.824541699789]
[53,63.7297789968,-148.872369501999,-1582.387583439295,515.80907991724143,{"$f":"Q_d!$C$11","v":0},{"$f":"Q_d!$C$12","v":0},11233.589832572825,6052.604465817868,13960.851702996602,460.74718346290501,-13500.104519533697]
[53,63.729981365299899,-148.872260396999,-1582.3715260543579,515.82561549595994,{"$f":"Q_d!$C$11","v":0},{"$f":"Q_d!$C$12","v":0},11233.589832572825,6052.604465817868,13960.830404499478,460.76964135780401,-13500.060763141675]
[53,63.7301075869999,-148.872213764999,-1582.3624134626291,515.83646593367803,{"$f":"Q_d!$C$11","v":0},{"$f":"Q_d!$C$12","v":0},11233.589832572825,6052.604465817868,13960.817735978177,460.78385033006498,-13500.033885648112]
[53,63.7302489855999,-148.872115043999,-1582.3502461981257,515.84745611609605,{"$f":"Q_d!$C$11","v":0},{"$f":"Q_d!$C$12","v":0},11233.589832572825,6052.604465817868,13960.802207865037,460.79990556639598,-13500.002302298641]
[53,63.648187584699897,-151.916579734999,-1713.7891472013064,587.62960542819337,{"$f":"Q_d!$C$11","v":0},{"$f":"Q_d!$C$12","v":0},11233.589832572825,6052.604465817868,14053.489697245599,460.82450476618499,-13592.665192479413]
[53,63.730530333700003,-148.87192478200001,-1582.3262964399944,515.86947852746334,{"$f":"Q_d!$C$11","v":0},{"$f":"Q_d!$C$12","v":0},11233.589832572825,6052.604465817868,13960.771488187056,460.832016086122,-13499.939472100934]
[53,63.648507169200002,-151.916775849,-1713.7776466220657,587.66445369727398,{"$f":"Q_d!$C$11","v":0},{"$f":"Q_d!$C$12","v":0},11233.589832572825,6052.604465817868,14053.46555043951,460.86150405951599,-13592.604046379995]
[53,63.730870749200001,-148.87176010300001,-1582.3000803876553,515.89776675821668,{"$f":"Q_d!$C$11","v":0},{"$f":"Q_d!$C$12","v":0},11233.589832572825,6052.604465817868,13960.736203099541,460.87008665132498,-13499.866116448216]
[53,63.6487661018,-151.917200094999,-1713.7792098594298,587.69989079774405,{"$f":"Q_d!$C$11","v":0},{"$f":"Q_d!$C$12","v":0},11233.589832572825,6052.604465817868,14053.453210332647,460.89388124925199,-13592.559329083395]
[53,63.731326985899898,-148.871638869999,-1582.2691372574645,515.93817271971739,{"$f":"Q_d!$C$11","v":0},{"$f":"Q_d!$C$12","v":0},11233.589832572825,6052.604465817868,13960.691772820883,460.92148082726601,-13499.770291993616]
[53,63.731418345800002,-148.871631038,-1582.2636340499844,515.94667600036337,{"$f":"Q_d!$C$11","v":0},{"$f":"Q_d!$C$12","v":0},11233.589832572825,6052.604465817868,13960.683348586299,460.93147893803001,-13499.751869648269]
[53,63.731669263299899,-148.87162941899899,-1582.249357939944,515.97052851929311,{"$f":"Q_d!$C$11","v":0},{"$f":"Q_d!$C$12","v":0},11233.589832572825,6052.604465817868,13960.660783527737,460.959011540071,-13499.701771987666]
[53,63.7317367805,-148.87164181200001,-1582.2460571469921,515.97726827368388,{"$f":"Q_d!$C$11","v":0},{"$f":"Q_d!$C$12","v":0},11233.589832572825,6052.604465817868,13960.655080504514,460.96637517502199,-13499.688705329492]
[53,63.731947888999898,-148.871673934,-1582.2354571126107,515.99817561087548,{"$f":"Q_d!$C$11","v":0},{"$f":"Q_d!$C$12","v":0},11233.589832572825,6052.604465817868,13960.637058118102,460.989696965127,-13499.647361152975]
[53,63.732151460399898,-148.871705972,-1582.2252802977646,516.01836312596197,{"$f":"Q_d!$C$11","v":0},{"$f":"Q_d!$C$12","v":0},11233.589832572825,6052.604465817868,13960.619709733639,461.01161517688399,-13499.608094556756]
[53,63.732313957400002,-148.87180587500001,-1582.2202892418784,516.03634009269217,{"$f":"Q_d!$C$11","v":0},{"$f":"Q_d!$C$12","v":0},11233.589832572825,6052.604465817868,13960.60799855093,461.02887999451798,{"$f":"K8836-J8836","v":-13499.579118556412}]
[53,63.732513206299899,-148.87198374600001,-1582.2165028125085,516.05977050441425,{"$f":"Q_d!$C$11","v":0},{"$f":"Q_d!$C$12","v":0},11233.589832572825,6052.604465817868,13960.595230480196,461.04947067532697,-13499.545759804869]
[53,63.732716485799898,-148.872152892999,-1582.2121203911386,516.08336605469412,{"$f":"Q_d!$C$11","v":0},{"$f":"Q_d!$C$12","v":0},11233.589832572825,6052.604465817868,13960.581849826955,461.07084986366198,-13499.510999963293]
[53,63.732733799899897,-148.872170788999,-1582.2118941539286,516.08546321242102,{"$f":"Q_d!$C$11","v":0},{"$f":"Q_d!$C$12","v":0},11233.589832572825,6052.604465817868,13960.580810445661,461.07304171573497,-13499.507768729925]
[53,63.732963047699897,-148.87241125099899,-1582.2090464504001,516.11331859923621,{"$f":"Q_d!$C$11","v":0},{"$f":"Q_d!$C$12","v":0},11233.589832572825,6052.604465817868,13960.567149324674,461.09634359101102,-13499.470805733663]
[53,63.650539281500002,-151.91903083400001,-1713.7458453614265,587.91339684274408,{"$f":"Q_d!$C$11","v":0},{"$f":"Q_d!$C$12","v":0},11233.589832572825,6052.604465817868,14053.339447848175,461.107109198069,-13592.232338650107]
[53,63.733297509700002,-148.872636814999,-1582.1996129740542,516.15081928493464,{"$f":"Q_d!$C$11","v":0},{"$f":"Q_d!$C$12","v":0},11233.589832572825,6052.604465817868,13960.543617381043,461.13166304212899,-13499.411954338913]
[53,63.733536098800002,-148.87287968499899,-1582.1963373805697,516.17962436152993,{"$f":"Q_d!$C$11","v":0},{"$f":"Q_d!$C$12","v":0},11233.589832572825,6052.604465817868,13960.529186927821,461.15636954291301,-13499.372817384909]
[53,63.733625177999897,-148.87298734199899,-1582.1958298734855,516.19080445243935,{"$f":"Q_d!$C$11","v":0},{"$f":"Q_d!$C$12","v":0},11233.589832572825,6052.604465817868,13960.524287272245,461.16565624512799,-13499.358631027117]
[53,63.733783126200002,-148.87316901899899,-1582.1945417354509,516.21039723794229,{"$f":"Q_d!$C$11","v":0},{"$f":"Q_d!$C$12","v":0},11233.589832572825,6052.604465817868,13960.515334735002,461.182037968739,-13499.333296766263]
[53,63.734077204499897,-148.873490438999,-1582.1914335904614,516.24645433480555,{"$f":"Q_d!$C$11","v":0},{"$f":"Q_d!$C$12","v":0},11233.589832572825,6052.604465817868,13960.498182137146,461.212264056366,-13499.285918080779]
[53,63.734096737100003,-148.873508616999,-1582.1910935299857,516.24876977973281,{"$f":"Q_d!$C$11","v":0},{"$f":"Q_d!$C$12","v":0},11233.589832572825,6052.604465817868,13960.496951717532,461.21384077236797,-13499.283110945164]
[53,63.651897206199898,-151.918128429999,-1713.6258022054599,588.01435394357713,{"$f":"Q_d!$C$11","v":0},{"$f":"Q_d!$C$12","v":0},11233.589832572825,6052.604465817868,14053.189594687801,461.24206309485697,-13591.947531592945]
[53,63.734429577699899,-148.873831378999,-1582.1858465996761,516.28855137291066,{"$f":"Q_d!$C$11","v":0},{"$f":"Q_d!$C$12","v":0},11233.589832572825,6052.604465817868,13960.476358756741,461.24906684783599,-13499.227291908905]
[53,63.652158971299897,-151.91786974799899,-1713.599188072367,588.03151607122254,{"$f":"Q_d!$C$11","v":0},{"$f":"Q_d!$C$12","v":0},11233.589832572825,6052.604465817868,14053.158401562909,461.26669559919401,-13591.891705963715]
[53,63.7349123617999,-148.87439326000001,-1582.1821842409379,516.34860264725148,{"$f":"Q_d!$C$11","v":0},{"$f":"Q_d!$C$12","v":0},11233.589832572825,6052.604465817868,13960.449182223247,461.29821680665498,-13499.150965416591]
[53,63.735078469900003,-148.87470892100001,-1582.1860789222692,516.37232970776722,{"$f":"Q_d!$C$11","v":0},{"$f":"Q_d!$C$12","v":0},11233.589832572825,6052.604465817868,13960.443348209114,461.31467901747902,-13499.128669191634]
[53,63.735151833800003,-148.87484864000001,-1582.1878117671611,516.38281667109277,{"$f":"Q_d!$C$11","v":0},{"$f":"Q_d!$C$12","v":0},11233.589832572825,6052.604465817868,13960.44078020626,461.32194853052403,-13499.118831675736]
[53,63.735378957099897,-148.87540040100001,-1582.198199314658,516.41827005170899,{"$f":"Q_d!$C$11","v":0},{"$f":"Q_d!$C$12","v":0},11233.589832572825,6052.604465817868,13960.436256523726,461.34356840103402,-13499.092688122691]
[53,63.735469288700003,-148.87576644800001,-1582.2085076663348,516.43604432425218,{"$f":"Q_d!$C$11","v":0},{"$f":"Q_d!$C$12","v":0},11233.589832572825,6052.604465817868,13960.438671074055,461.35161161634602,-13499.087059457708]
[53,63.735622888400002,-148.876269121999,-1582.2209898214505,516.46326677459365,{"$f":"Q_d!$C$11","v":0},{"$f":"Q_d!$C$12","v":0},11233.589832572825,6052.604465817868,13960.439334460165,461.36490779533699,-13499.074426664827]
[53,63.653126637,-151.917648622999,-1713.5309467260563,588.11491200408,{"$f":"Q_d!$C$11","v":0},{"$f":"Q_d!$C$12","v":0},11233.589832572825,6052.604465817868,14053.063102309505,461.36782795617597,-13591.695274353329]
[53,63.735751344500002,-148.87677020500001,-1582.2348285233759,516.48805525737635,{"$f":"Q_d!$C$11","v":0},{"$f":"Q_d!$C$12","v":0},11233.589832572825,6052.604465817868,13960.442208441635,461.37662833416198,-13499.065580107472]
[53,63.735911661099898,-148.87736366600001,-1582.2507549213501,516.51819249080563,{"$f":"Q_d!$C$11","v":0},{"$f":"Q_d!$C$12","v":0},11233.589832572825,6052.604465817868,13960.444877932197,461.390448918267,-13499.05442901393]
[53,63.736023574599898,-148.87786940500001,-1582.2657260105532,516.54152262516618,{"$f":"Q_d!$C$11","v":0},{"$f":"Q_d!$C$12","v":0},11233.589832572825,6052.604465817868,13960.449369897227,461.39936563567102,-13499.050004261557]
[53,63.736092741100002,-148.87813750800001,-1582.2731051897144,516.5548272707365,{"$f":"Q_d!$C$11","v":0},{"$f":"Q_d!$C$12","v":0},11233.589832572825,6052.604465817868,13960.450868076336,461.40470019279098,-13499.046167883545]
[53,63.736195486900002,-148.87880284400001,-1582.2953194707009,516.58128424171173,{"$f":"Q_d!$C$11","v":0},{"$f":"Q_d!$C$12","v":0},11233.589832572825,6052.604465817868,13960.460769520405,461.41247099422799,-13499.048298526177]
[53,63.7362129642,-148.878961863999,-1582.3010297388416,516.58693357105676,{"$f":"Q_d!$C$11","v":0},{"$f":"Q_d!$C$12","v":0},11233.589832572825,6052.604465817868,13960.46377138051,461.41272641313202,-13499.051044967378]
[53,63.736247257199899,-148.87959552800001,-1582.3257859788423,516.60607924227634,{"$f":"Q_d!$C$11","v":0},{"$f":"Q_d!$C$12","v":0},11233.589832572825,6052.604465817868,13960.478905754062,461.413749409356,-13499.065156344706]
[53,63.736278422700003,-148.879901915999,-1582.3369299951103,516.6167252427299,{"$f":"Q_d!$C$11","v":0},{"$f":"Q_d!$C$12","v":0},11233.589832572825,6052.604465817868,13960.484914475686,461.41487633256901,-13499.070038143118]
[53,63.736330469499897,-148.880096565999,-1582.3421834530739,516.62655914895777,{"$f":"Q_d!$C$11","v":0},{"$f":"Q_d!$C$12","v":0},11233.589832572825,6052.604465817868,13960.485837624849,461.41907678920199,-13499.066760835647]
[53,63.736516266400002,-148.88092273999899,-1582.3664693649177,516.66495526959261,{"$f":"Q_d!$C$11","v":0},{"$f":"Q_d!$C$12","v":0},11233.589832572825,6052.604465817868,13960.492906685895,461.43430341165498,-13499.058603274239]
[53,63.736623777200002,-148.88133550500001,-1582.3777708619036,516.68553662701606,{"$f":"Q_d!$C$11","v":0},{"$f":"Q_d!$C$12","v":0},11233.589832572825,6052.604465817868,13960.495120262107,461.44411050635301,-13499.051009755754]
[53,63.736673736100002,-148.881507744999,-1582.3821980762268,516.69461014658555,{"$f":"Q_d!$C$11","v":0},{"$f":"Q_d!$C$12","v":0},11233.589832572825,6052.604465817868,13960.49558649324,461.4481382875,-13499.04744820574]
[53,63.654020255500001,-151.918303858999,-1713.5031642926824,588.21525092907541,{"$f":"Q_d!$C$11","v":0},{"$f":"Q_d!$C$12","v":0},11233.589832572825,6052.604465817868,14052.998490047483,461.47207728853903,-13591.526412758943]
[53,63.736917851000001,-148.881942194,-1582.3866757270996,516.72874155202226,{"$f":"Q_d!$C$11","v":0},{"$f":"Q_d!$C$12","v":0},11233.589832572825,6052.604465817868,13960.486162588015,461.47250440844198,-13499.013658179572]
[53,63.737165006600002,-148.88251207100001,-1582.3966864430502,516.76655657718538,{"$f":"Q_d!$C$11","v":0},{"$f":"Q_d!$C$12","v":0},11233.589832572825,6052.604465817868,13960.480357530068,461.49634135169401,-13498.984016178374]
[53,63.737278393799897,-148.88286269400001,-1582.4050361096224,516.78614003314397,{"$f":"Q_d!$C$11","v":0},{"$f":"Q_d!$C$12","v":0},11233.589832572825,6052.604465817868,13960.480257146915,461.50659217827001,-13498.973664968646]
[53,63.737315106300002,-148.88311010800001,-1582.413380322726,516.79583640952796,{"$f":"Q_d!$C$11","v":0},{"$f":"Q_d!$C$12","v":0},11233.589832572825,6052.604465817868,13960.484072351535,461.50877865648403,-13498.975293695052]
[53,63.737439751899899,-148.883654132999,-1582.4292400386817,516.82133907696016,{"$f":"Q_d!$C$11","v":0},{"$f":"Q_d!$C$12","v":0},11233.589832572825,6052.604465817868,13960.488519240695,461.51946512471102,-13498.969054115983]
[53,63.7375503941999,-148.88434397200001,-1582.4520356778287,516.84916314534303,{"$f":"Q_d!$C$11","v":0},{"$f":"Q_d!$C$12","v":0},11233.589832572825,6052.604465817868,13960.498413015943,461.52743194094103,-13498.970981075001]
[53,63.737560435200002,-148.88443790700001,-1582.4554243513846,516.85247350168811,{"$f":"Q_d!$C$11","v":0},{"$f":"Q_d!$C$12","v":0},11233.589832572825,6052.604465817868,13960.500211237493,461.52795663968101,-13498.972254597813]
[53,63.737691508300003,-148.88492749700001,-1582.4686259632922,516.87722400247594,{"$f":"Q_d!$C$11","v":0},{"$f":"Q_d!$C$12","v":0},11233.589832572825,6052.604465817868,13960.502516327706,461.539700699734,-13498.962815627972]
[53,63.7377077234,-148.884949621,-1582.4686395420799,516.87932236398001,{"$f":"Q_d!$C$11","v":0},{"$f":"Q_d!$C$12","v":0},11233.589832572825,6052.604465817868,13960.50169673482,461.541279031464,-13498.960417703356]
[53,63.737857871099898,-148.88559261500001,-1582.4872230542437,516.90973391969783,{"$f":"Q_d!$C$11","v":0},{"$f":"Q_d!$C$12","v":0},11233.589832572825,6052.604465817868,13960.50669784359,461.55328583924,-13498.95341200435]
[53,63.737968769699897,-148.88615407200001,-1582.5045944050692,516.93436501735232,{"$f":"Q_d!$C$11","v":0},{"$f":"Q_d!$C$12","v":0},11233.589832572825,6052.604465817868,13960.512878333326,461.56257694163202,-13498.950301391693]
[53,63.737994899100002,-148.88633646100001,-1582.5107979749462,516.94142424920437,{"$f":"Q_d!$C$11","v":0},{"$f":"Q_d!$C$12","v":0},11233.589832572825,6052.604465817868,13960.51577421537,461.56441733955103,-13498.951356875819]
[53,63.738050943799898,-148.88664446600001,-1582.5205988570051,516.95448021422089,{"$f":"Q_d!$C$11","v":0},{"$f":"Q_d!$C$12","v":0},11233.589832572825,6052.604465817868,13960.519594689811,461.56853743837399,-13498.951057251437]
[53,63.738185070500002,-148.88703312300001,-1582.529374224499,516.97699182838005,{"$f":"Q_d!$C$11","v":0},{"$f":"Q_d!$C$12","v":0},11233.589832572825,6052.604465817868,13960.518724375055,461.58116515408199,-13498.937559220973]
[53,63.738307344100001,-148.887196281999,-1582.5293212463334,516.99272287588519,{"$f":"Q_d!$C$11","v":0},{"$f":"Q_d!$C$12","v":0},11233.589832572825,6052.604465817868,13960.512438069294,461.59300490800302,-13498.919433161291]
[53,63.738528703699899,-148.887514342,-1582.5301807166666,517.02177027718108,{"$f":"Q_d!$C$11","v":0},{"$f":"Q_d!$C$12","v":0},11233.589832572825,6052.604465817868,13960.50170925848,461.61528167295302,-13498.886427585527]
[53,63.7385848963999,-148.88757675400001,-1582.5296267452063,517.02868462981132,{"$f":"Q_d!$C$11","v":0},{"$f":"Q_d!$C$12","v":0},11233.589832572825,6052.604465817868,13960.498459037417,461.62142106709001,-13498.877037970327]
[53,63.738774896000002,-148.888022648,-1582.5376475440726,517.05795036403742,{"$f":"Q_d!$C$11","v":0},{"$f":"Q_d!$C$12","v":0},11233.589832572825,6052.604465817868,13960.494218019667,461.63940139572099,-13498.854816623945]
[53,63.738928712300002,-148.888355318999,-1582.5429481539575,517.08093322623336,{"$f":"Q_d!$C$11","v":0},{"$f":"Q_d!$C$12","v":0},11233.589832572825,6052.604465817868,13960.489971096838,461.65448809797101,-13498.835482998868]
[53,63.6555222540999,-151.920522734999,-1713.5022785671322,588.41422806543005,{"$f":"Q_d!$C$11","v":0},{"$f":"Q_d!$C$12","v":0},11233.589832572825,6052.604465817868,14052.920304644567,461.66024200595803,-13591.260062638608]
[53,63.7392244065,-148.88892571400001,-1582.5502254408839,517.12338242181841,{"$f":"Q_d!$C$11","v":0},{"$f":"Q_d!$C$12","v":0},11233.589832572825,6052.604465817868,13960.479820237524,461.68352287903798,-13498.796297358485]
[53,63.655865579,-151.920816395999,-1713.4933208631317,588.45391462065982,{"$f":"Q_d!$C$11","v":0},{"$f":"Q_d!$C$12","v":0},11233.589832572825,6052.604465817868,14052.896620559546,461.700026407839,-13591.196594151706]
[53,63.739443036300003,-148.88914150700001,-1582.5469303638922,517.1496063571426,{"$f":"Q_d!$C$11","v":0},{"$f":"Q_d!$C$12","v":0},11233.589832572825,6052.604465817868,13960.466397202688,461.70650405858402,-13498.759893144104]
[53,63.7396090891,-148.88958238800001,-1582.5560952961152,517.17646639857594,{"$f":"Q_d!$C$11","v":0},{"$f":"Q_d!$C$12","v":0},11233.589832572825,6052.604465817868,13960.464160664096,461.72168246791199,-13498.742478196184]
[53,63.739718926400002,-148.889843893999,-1582.5608886303914,517.19347829857361,{"$f":"Q_d!$C$11","v":0},{"$f":"Q_d!$C$12","v":0},11233.589832572825,6052.604465817868,13960.461815761935,461.73264920081101,-13498.729166561125]
[53,63.656256882800001,-151.921502102999,-1713.4975003229351,588.50867307212957,{"$f":"Q_d!$C$11","v":0},{"$f":"Q_d!$C$12","v":0},11233.589832572825,6052.604465817868,14052.87917965324,461.75062170396598,-13591.128557949274]
[53,63.740073922900002,-148.89089229199899,-1582.5849396283011,517.2535545181513,{"$f":"Q_d!$C$11","v":0},{"$f":"Q_d!$C$12","v":0},11233.589832572825,6052.604465817868,13960.460074898361,461.76529434118299,-13498.694780557178]
[53,63.740118993400003,-148.89102079099899,-1582.5877990219178,517.26106637052089,{"$f":"Q_d!$C$11","v":0},{"$f":"Q_d!$C$12","v":0},11233.589832572825,6052.604465817868,13960.459721455978,461.76977025894598,{"$f":"K9220-J9220","v":-13498.689951197031}]
[53,63.740280849100003,-148.891451082999,-1582.5967544531027,517.28726140743538,{"$f":"Q_d!$C$11","v":0},{"$f":"Q_d!$C$12","v":0},11233.589832572825,6052.604465817868,13960.457556502417,461.78477796696501,-13498.672778535452]
[53,63.740332573800004,-148.89156745700001,-1582.5987260226564,517.29510284876278,{"$f":"Q_d!$C$11","v":0},{"$f":"Q_d!$C$12","v":0},11233.589832572825,6052.604465817868,13960.456257345142,461.78986792912599,-13498.666389416016]
[53,63.740509430400003,-148.89205387600001,-1582.6091954011433,517.3241329056923,{"$f":"Q_d!$C$11","v":0},{"$f":"Q_d!$C$12","v":0},11233.589832572825,6052.604465817868,13960.454358242256,461.80601909026598,-13498.648339151991]
[53,63.740676494100001,-148.892383319,-1582.6136071830006,517.34829586894648,{"$f":"Q_d!$C$11","v":0},{"$f":"Q_d!$C$12","v":0},11233.589832572825,6052.604465817868,13960.448827891125,461.82251761905201,-13498.626310272073]
[53,63.740728588800003,-148.89255983300001,-1582.6180907847445,517.35767999731843,{"$f":"Q_d!$C$11","v":0},{"$f":"Q_d!$C$12","v":0},11233.589832572825,6052.604465817868,13960.449223240277,461.82655757546001,-13498.622665664818]
[53,63.7408803261999,-148.89311623,-1582.6329301040855,517.38607270322154,{"$f":"Q_d!$C$11","v":0},{"$f":"Q_d!$C$12","v":0},11233.589832572825,6052.604465817868,13960.451588757167,461.84087154018698,-13498.61071721698]
[53,63.741005010499897,-148.893666787,-1582.6490558027249,517.4117435449084,{"$f":"Q_d!$C$11","v":0},{"$f":"Q_d!$C$12","v":0},11233.589832572825,6052.604465817868,13960.456214487165,461.85018801446802,-13498.606026472697]
[53,63.741059649100002,-148.89388604300001,-1582.6551953046576,517.42244129778555,{"$f":"Q_d!$C$11","v":0},{"$f":"Q_d!$C$12","v":0},11233.589832572825,6052.604465817868,13960.457609232033,461.85519559706103,-13498.602413634972]
[53,63.7411532088,-148.89433774700001,-1582.6689203078038,517.44267117772097,{"$f":"Q_d!$C$11","v":0},{"$f":"Q_d!$C$12","v":0},11233.589832572825,6052.604465817868,13960.462188395959,461.86301862890002,-13498.59916976706]
[53,63.7413707203999,-148.895111063,-1582.6891683044344,517.48276344241731,{"$f":"Q_d!$C$11","v":0},{"$f":"Q_d!$C$12","v":0},11233.589832572825,6052.604465817868,13960.464880813786,461.88173421342299,-13498.583146600364]
[53,63.741416262999898,-148.895251344,-1582.6924964465757,517.49061562124871,{"$f":"Q_d!$C$11","v":0},{"$f":"Q_d!$C$12","v":0},11233.589832572825,6052.604465817868,13960.46482291236,461.88621365115398,-13498.578609261205]
[53,63.741613810700002,-148.89579798400001,-1582.7043274202285,517.52312520623082,{"$f":"Q_d!$C$11","v":0},{"$f":"Q_d!$C$12","v":0},11233.589832572825,6052.604465817868,13960.462794716341,461.90492248730101,-13498.557872229039]
[53,63.741636636800003,-148.895891656999,-1582.7069794790305,517.52764641619933,{"$f":"Q_d!$C$11","v":0},{"$f":"Q_d!$C$12","v":0},11233.589832572825,6052.604465817868,13960.463436837914,461.90624271706901,-13498.557194120845]
[53,63.741922220299898,-148.896715999999,-1582.7255180423165,517.57549842039316,{"$f":"Q_d!$C$11","v":0},{"$f":"Q_d!$C$12","v":0},11233.589832572825,6052.604465817868,13960.461483645247,461.93312501378301,-13498.528358631464]
[53,63.742132949499897,-148.897277618999,-1582.7372318316911,517.6096383929771,{"$f":"Q_d!$C$11","v":0},{"$f":"Q_d!$C$12","v":0},11233.589832572825,6052.604465817868,13960.458701683407,461.952628923139,-13498.506072760267]
[53,63.742172601,-148.897425532,-1582.7412147864206,517.61712107930134,{"$f":"Q_d!$C$11","v":0},{"$f":"Q_d!$C$12","v":0},11233.589832572825,6052.604465817868,13960.459391507167,461.95649714772901,-13498.502894359439]
[53,63.7424050204,-148.898002052999,-1582.7523265679488,517.65369950335571,{"$f":"Q_d!$C$11","v":0},{"$f":"Q_d!$C$12","v":0},11233.589832572825,6052.604465817868,13960.455090207295,461.978196751751,-13498.476893455545]
[53,63.742653964100001,-148.89850927699899,{"$f":"lcpx(B9336,C9336,63,-115,70,60)","v":-1582.7595829624363},{"$f":"lcpy(B9336,C9336,63,-115,70,60)","v":517.69011382818917},{"$f":"Q_d!$C$11","v":0},{"$f":"Q_d!$C$12","v":0},{"$f":"lcpx(F9336,G9336,63,-115,70,60)","v":11233.589832572825},{"$f":"lcpy(F9336,G9336,63,-115,70,60)","v":6052.604465817868},{"$f":"SQRT((H9336-D9336)^2+(I9336-E9336)^2)","v":13960.447314644054},462.00314027071198,-13498.444174373342]
[53,63.742736009799899,-148.898632595999,-1582.7601276232299,517.70101584237045,{"$f":"Q_d!$C$11","v":0},{"$f":"Q_d!$C$12","v":0},11233.589832572825,6052.604465817868,13960.443492338203,462.01121886162002,-13498.432273476583]
[53,63.742881686899899,-148.898898887,-1582.7630879712156,517.72155951072955,{"$f":"Q_d!$C$11","v":0},{"$f":"Q_d!$C$12","v":0},11233.589832572825,6052.604465817868,13960.438065134946,462.02518318918499,-13498.41288194576]
[53,63.742972370799897,-148.89909482900001,-1582.7662015878727,517.73510438528183,{"$f":"Q_d!$C$11","v":0},{"$f":"Q_d!$C$12","v":0},11233.589832572825,6052.604465817868,13960.435553466534,462.03440690277603,-13498.401146563758]
[53,63.7431339392,-148.899634090999,-1582.7797573745427,517.76400382568909,{"$f":"Q_d!$C$11","v":0},{"$f":"Q_d!$C$12","v":0},11233.589832572825,6052.604465817868,13960.43654066138,462.04935546757298,-13498.387185193807]
[53,63.743292378299898,-148.90013998000001,-1582.7920846236539,517.79176877960799,{"$f":"Q_d!$C$11","v":0},{"$f":"Q_d!$C$12","v":0},11233.589832572825,6052.604465817868,13960.436849853117,462.062725233273,-13498.374124619844]
[53,63.743343324900003,-148.900259833999,-1582.794245239523,517.79962333854792,{"$f":"Q_d!$C$11","v":0},{"$f":"Q_d!$C$12","v":0},11233.589832572825,6052.604465817868,13960.435719358276,462.06782170802501,-13498.367897650251]
[53,63.6588484725999,-151.92600305600001,-1713.5234975959277,588.87023258483396,{"$f":"Q_d!$C$11","v":0},{"$f":"Q_d!$C$12","v":0},11233.589832572825,6052.604465817868,14052.76255245338,462.083764670432,-13590.678787782948]
[53,63.743696445799898,-148.90097237000001,-1582.8042425976521,517.85110173200565,{"$f":"Q_d!$C$11","v":0},{"$f":"Q_d!$C$12","v":0},11233.589832572825,6052.604465817868,13960.424488221146,462.10278912164102,-13498.321699099504]
[53,63.743817902300002,-148.90130486499899,-1582.8113624015862,517.87099925245866,{"$f":"Q_d!$C$11","v":0},{"$f":"Q_d!$C$12","v":0},11233.589832572825,6052.604465817868,13960.423136010622,462.11430674780001,-13498.308829262822]
[53,63.743954077200002,-148.901687269999,-1582.8197498221548,517.89354910688189,{"$f":"Q_d!$C$11","v":0},{"$f":"Q_d!$C$12","v":0},11233.589832572825,6052.604465817868,13960.421896034002,462.12679313474098,-13498.295102899261]
[53,63.743989064700003,-148.90185026500001,-1582.824631298502,517.90096593216094,{"$f":"Q_d!$C$11","v":0},{"$f":"Q_d!$C$12","v":0},11233.589832572825,6052.604465817868,13960.423437037189,462.12926252835302,-13498.294174508836]
[53,63.744123472299897,-148.90240499800001,-1582.8403757180981,517.92766775084328,{"$f":"Q_d!$C$11","v":0},{"$f":"Q_d!$C$12","v":0},11233.589832572825,6052.604465817868,13960.427305174208,462.14080145557301,-13498.286503718635]
[53,63.7446637153,-148.910738159999,-1583.1606685598092,518.18802447518055,{"$f":"Q_d!$C$11","v":0},{"$f":"Q_d!$C$12","v":0},11233.589832572825,6052.604465817868,13960.618136547102,462.15125824019998,-13498.466878306903]
[53,63.744721301799899,-148.91057673200001,-1583.1506069857696,518.18945823516788,{"$f":"Q_d!$C$11","v":0},{"$f":"Q_d!$C$12","v":0},11233.589832572825,6052.604465817868,13960.608330985197,462.15816796633499,-13498.450163018861]
[53,63.7443556821,-148.90329265700001,-1582.8645973553776,517.97202627281195,{"$f":"Q_d!$C$11","v":0},{"$f":"Q_d!$C$12","v":0},11233.589832572825,6052.604465817868,13960.431955899168,462.16167041956197,-13498.270285479606]
[53,63.7444312549,-148.90363673100001,-1582.8748040121188,517.98784630450518,{"$f":"Q_d!$C$11","v":0},{"$f":"Q_d!$C$12","v":0},11233.589832572825,6052.604465817868,13960.435054317826,462.16740284230298,-13498.267651475524]
[53,63.744839596699897,-148.91102344500001,-1583.1627119346124,518.21191956586699,{"$f":"Q_d!$C$11","v":0},{"$f":"Q_d!$C$12","v":0},11233.589832572825,6052.604465817868,13960.610539770372,462.16822678544202,-13498.442312984931]
[53,63.744483965800001,-148.903926718999,-1582.8840285523877,518.00013411285363,{"$f":"Q_d!$C$11","v":0},{"$f":"Q_d!$C$12","v":0},11233.589832572825,6052.604465817868,13960.438651469147,462.17155486355898,-13498.267096605588]
[53,63.744532616100003,-148.90416756100001,-1582.8914135503555,518.01080329589331,{"$f":"Q_d!$C$11","v":0},{"$f":"Q_d!$C$12","v":0},11233.589832572825,6052.604465817868,13960.441201532838,462.17517308050998,-13498.266028452328]
[53,63.744583554099897,-148.904407284999,-1582.8986217595909,518.02166224049961,{"$f":"Q_d!$C$11","v":0},{"$f":"Q_d!$C$12","v":0},11233.589832572825,6052.604465817868,13960.443514075419,462.17958213880399,-13498.263931936615]
[53,63.744670341000003,-148.90474793300001,-1582.9080482079355,518.03846398906899,{"$f":"Q_d!$C$11","v":0},{"$f":"Q_d!$C$12","v":0},11233.589832572825,6052.604465817868,13960.445507098151,462.18689780758598,-13498.258609290566]
[53,63.744721746899899,-148.90488652100001,-1582.9109708702699,518.04683195186681,{"$f":"Q_d!$C$11","v":0},{"$f":"Q_d!$C$12","v":0},11233.589832572825,6052.604465817868,13960.444872827009,462.19138533295899,-13498.25348749405]
[53,63.745090104900001,-148.91119595000001,-1583.1557761711242,518.24009018164224,{"$f":"Q_d!$C$11","v":0},{"$f":"Q_d!$C$12","v":0},11233.589832572825,6052.604465817868,13960.593004653085,462.195448225098,-13498.397556427986]
[53,63.744886283299898,-148.905467399999,-1582.9261068716426,518.07705768628603,{"$f":"Q_d!$C$11","v":0},{"$f":"Q_d!$C$12","v":0},11233.589832572825,6052.604465817868,13960.446785736973,462.20670904044601,-13498.240076696527]
[53,63.745167247700003,-148.910430633,-1583.1191779583896,518.22824337211387,{"$f":"Q_d!$C$11","v":0},{"$f":"Q_d!$C$12","v":0},11233.589832572825,6052.604465817868,13960.564101504098,462.20798332352501,-13498.356118180573]
[53,63.745281435400003,-148.911268358,-1583.1479798653902,518.26011792193322,{"$f":"Q_d!$C$11","v":0},{"$f":"Q_d!$C$12","v":0},11233.589832572825,6052.604465817868,13960.577907589328,462.21555092510602,-13498.362356664222]
[53,63.7452678418,-148.91045585000001,-1583.1145379173602,518.23845096668674,{"$f":"Q_d!$C$11","v":0},{"$f":"Q_d!$C$12","v":0},11233.589832572825,6052.604465817868,13960.555795056367,462.21895222177898,-13498.336842834588]
[53,63.745086657199899,-148.906091425,-1582.9410282042177,518.11177662008276,{"$f":"Q_d!$C$11","v":0},{"$f":"Q_d!$C$12","v":0},11233.589832572825,6052.604465817868,13960.446720360851,462.224406799338,-13498.222313561513]
[53,63.745343543200001,-148.90992043099899,-1583.0877019131869,518.23223184447079,{"$f":"Q_d!$C$11","v":0},{"$f":"Q_d!$C$12","v":0},11233.589832572825,6052.604465817868,13960.533623295858,462.23072798765702,-13498.302895308201]
[53,63.745376591700001,-148.910356395999,-1583.1041860276132,518.2463089046787,{"$f":"Q_d!$C$11","v":0},{"$f":"Q_d!$C$12","v":0},11233.589832572825,6052.604465817868,13960.543176231353,462.23139864033402,-13498.31177759102]
[53,63.745333809400002,-148.90935949600001,-1583.0646339900968,518.21724077275212,{"$f":"Q_d!$C$11","v":0},{"$f":"Q_d!$C$12","v":0},11233.589832572825,6052.604465817868,13960.518388369748,462.23293929576198,-13498.285449073986]
[53,63.7455068234,-148.911323780999,-1583.1375378443308,518.28296157290242,{"$f":"Q_d!$C$11","v":0},{"$f":"Q_d!$C$12","v":0},11233.589832572825,6052.604465817868,13960.559265299817,462.23968295246999,-13498.319582347347]
[53,63.745352142900003,-148.90740438200001,-1582.9812686944761,518.16996628640163,{"$f":"Q_d!$C$11","v":0},{"$f":"Q_d!$C$12","v":0},11233.589832572825,6052.604465817868,13960.460594960477,462.24578036473099,-13498.214814595747]
[53,63.745369149600002,-148.90750676900001,-1582.9846161579335,518.17415219309942,{"$f":"Q_d!$C$11","v":0},{"$f":"Q_d!$C$12","v":0},11233.589832572825,6052.604465817868,13960.462008695375,462.24789777023301,-13498.214110925142]
[53,63.745469573999898,-148.90895158500001,-1583.0397626536658,518.21993647787349,{"$f":"Q_d!$C$11","v":0},{"$f":"Q_d!$C$12","v":0},11233.589832572825,6052.604465817868,13960.494486221949,462.24982069547599,-13498.244665526474]
[53,63.7454509603999,-148.90793635200001,-1582.9980683034032,518.19271027435798,{"$f":"Q_d!$C$11","v":0},{"$f":"Q_d!$C$12","v":0},11233.589832572825,6052.604465817868,13960.467001529178,462.25356227615998,-13498.213439253017]
[53,63.7455039285,-148.90862660100001,-1583.0241311186403,518.21505843320301,{"$f":"Q_d!$C$11","v":0},{"$f":"Q_d!$C$12","v":0},11233.589832572825,6052.604465817868,13960.482069286239,462.25583752939201,-13498.226231756847]
[53,63.745496593299897,-148.90833672599899,-1583.0123408589404,518.20709232486843,{"$f":"Q_d!$C$11","v":0},{"$f":"Q_d!$C$12","v":0},11233.589832572825,6052.604465817868,13960.474403104719,462.256855380209,-13498.217547724511]
[53,63.745799138300001,-148.911753707999,-1583.1390710758146,518.32156615178792,{"$f":"Q_d!$C$11","v":0},{"$f":"Q_d!$C$12","v":0},11233.589832572825,6052.604465817868,13960.545369116455,462.26930941713999,-13498.276059699314]
[53,63.746115005699899,-148.912030345999,-1583.1328144886118,518.35856887483897,{"$f":"Q_d!$C$11","v":0},{"$f":"Q_d!$C$12","v":0},11233.589832572825,6052.604465817868,13960.524956445166,462.30286065413799,-13498.222095791029]
[53,63.660871432199897,-151.926470805999,-1713.4189361224985,589.06979951724543,{"$f":"Q_d!$C$11","v":0},{"$f":"Q_d!$C$12","v":0},11233.589832572825,6052.604465817868,14052.588626532202,462.30626243865601,-13590.282364093546]
[53,63.746376560900003,-148.912120117999,-1583.1217682797303,518.38571623151711,{"$f":"Q_d!$C$11","v":0},{"$f":"Q_d!$C$12","v":0},11233.589832572825,6052.604465817868,13960.504053496836,462.33094853902998,-13498.173104957807]
[53,63.746476372700002,-148.91206782500001,-1583.1139087134745,518.39390572082948,{"$f":"Q_d!$C$11","v":0},{"$f":"Q_d!$C$12","v":0},11233.589832572825,6052.604465817868,13960.493591395392,462.342170891862,-13498.151420503531]
[53,63.746668585400002,-148.91232625500001,-1583.1138943595683,518.41868152306051,{"$f":"Q_d!$C$11","v":0},{"$f":"Q_d!$C$12","v":0},11233.589832572825,6052.604465817868,13960.483756627256,462.36194800177901,-13498.121808625478]
[53,63.746959399700003,-148.912383868999,-1583.0998354212334,518.44780750326981,{"$f":"Q_d!$C$11","v":0},{"$f":"Q_d!$C$12","v":0},11233.589832572825,6052.604465817868,13960.45930349118,462.39345350577702,-13498.065849985402]
[53,63.7471866757,-148.91231968899899,-1583.0842501092127,518.46783171184279,{"$f":"Q_d!$C$11","v":0},{"$f":"Q_d!$C$12","v":0},11233.589832572825,6052.604465817868,13960.437057150029,462.41845081051798,-13498.018606339512]
[53,63.7472803994999,-148.912285943999,-1583.0775166172727,518.47590678098368,{"$f":"Q_d!$C$11","v":0},{"$f":"Q_d!$C$12","v":0},11233.589832572825,6052.604465817868,13960.427674242048,462.42906141482899,-13497.998612827219]
[53,63.747535203299897,-148.91223008399899,-1583.0607212679045,518.49875989428347,{"$f":"Q_d!$C$11","v":0},{"$f":"Q_d!$C$12","v":0},11233.589832572825,6052.604465817868,13960.403195595814,462.45765539452299,-13497.945540201292]
[53,63.747564608799898,-148.9122327,-1583.0591645725706,518.5016244723397,{"$f":"Q_d!$C$11","v":0},{"$f":"Q_d!$C$12","v":0},11233.589832572825,6052.604465817868,13960.400630877923,462.46064038899499,-13497.939990488927]
[53,63.747850682299898,-148.912289974,-1583.0453600213502,518.53029063523445,{"$f":"Q_d!$C$11","v":0},{"$f":"Q_d!$C$12","v":0},11233.589832572825,6052.604465817868,13960.37659364771,462.49214600898898,-13497.884447638722]
[53,63.662660581600001,-151.92687161999899,-1713.3259297691227,589.2459499368133,{"$f":"Q_d!$C$11","v":0},{"$f":"Q_d!$C$12","v":0},11233.589832572825,6052.604465817868,14052.434452087951,462.50309117345302,-13589.931360914497]
[53,63.748145962400002,-148.91228070899899,-1583.0282321007533,518.55816479661416,{"$f":"Q_d!$C$11","v":0},{"$f":"Q_d!$C$12","v":0},11233.589832572825,6052.604465817868,13960.349819311981,462.52469558392198,-13497.82512372806]
[53,63.663283352199898,-151.92615996800001,-1713.2586728962081,589.28416749343251,{"$f":"Q_d!$C$11","v":0},{"$f":"Q_d!$C$12","v":0},11233.589832572825,6052.604465817868,14052.357628015647,462.56201755548398,-13589.795610460164]
[53,63.7487473873,-148.91236897300001,-1582.9978566093537,518.61762483729626,{"$f":"Q_d!$C$11","v":0},{"$f":"Q_d!$C$12","v":0},11233.589832572825,6052.604465817868,13960.298361805966,462.59033327664702,-13497.70802852932]
[53,63.7488307701,-148.912357157999,-1582.992632651396,518.62526545723222,{"$f":"Q_d!$C$11","v":0},{"$f":"Q_d!$C$12","v":0},11233.589832572825,6052.604465817868,13960.290537016668,462.59972056411698,-13497.690816452552]
[53,63.664270484900001,-151.921841784999,-1713.0213294474659,589.25818996730459,{"$f":"Q_d!$C$11","v":0},{"$f":"Q_d!$C$12","v":0},11233.589832572825,6052.604465817868,14052.14905665317,462.61576021575399,-13589.533296437416]
[53,63.664080924300002,-151.923596621999,-1713.1048401341627,589.28829100918801,{"$f":"Q_d!$C$11","v":0},{"$f":"Q_d!$C$12","v":0},11233.589832572825,6052.604465817868,14052.214294346129,462.616646969172,-13589.597647376957]
[53,63.749260689899899,-148.91223338,-1582.963051639641,518.66308433950644,{"$f":"Q_d!$C$11","v":0},{"$f":"Q_d!$C$12","v":0},11233.589832572825,6052.604465817868,13960.248387742015,462.64752129996299,-13497.600866442051]
[53,63.749436113100003,-148.91224055199899,-1582.9534098057197,518.67996194084299,{"$f":"Q_d!$C$11","v":0},{"$f":"Q_d!$C$12","v":0},11233.589832572825,6052.604465817868,13960.232845420942,462.66629588181502,-13497.566549539128]
[53,63.749547016400001,-148.912234850999,-1582.9468832921893,518.69037542186197,{"$f":"Q_d!$C$11","v":0},{"$f":"Q_d!$C$12","v":0},11233.589832572825,6052.604465817868,13960.222725622949,462.67927986565297,-13497.543445757296]
[53,63.749731592499899,-148.912162496999,-1582.9333745848069,518.70613043785033,{"$f":"Q_d!$C$11","v":0},{"$f":"Q_d!$C$12","v":0},11233.589832572825,6052.604465817868,13960.204078233666,462.69988936242402,-13497.504188871242]
[53,63.749975649,-148.912026005,{"$f":"lcpx(B9720,C9720,63,-115,70,60)","v":-1582.9137941238175},{"$f":"lcpy(B9720,C9720,63,-115,70,60)","v":518.72593918084567},{"$f":"Q_d!$C$11","v":0},{"$f":"Q_d!$C$12","v":0},{"$f":"lcpx(F9720,G9720,63,-115,70,60)","v":11233.589832572825},{"$f":"lcpy(F9720,G9720,63,-115,70,60)","v":6052.604465817868},{"$f":"SQRT((H9720-D9720)^2+(I9720-E9720)^2)","v":13960.178249603496},462.72715374937701,-13497.45109585412]
[53,63.666650167199897,-151.911387160999,-1712.447348700472,589.19443507788719,{"$f":"Q_d!$C$11","v":0},{"$f":"Q_d!$C$12","v":0},11233.589832572825,6052.604465817868,14051.645023373629,462.74543369329899,-13588.89958968033]
[53,63.752364430100002,-148.949296212999,-1584.3470421655088,519.88809417186667,{"$f":"Q_d!$C$11","v":0},{"$f":"Q_d!$C$12","v":0},11233.589832572825,6052.604465817868,13961.033492326291,462.77382668426702,-13498.259665642025]
[53,63.750388497300001,-148.91166440500001,-1582.8751691093007,518.75617109820087,{"$f":"Q_d!$C$11","v":0},{"$f":"Q_d!$C$12","v":0},11233.589832572825,6052.604465817868,13960.130804842574,462.77492147263098,-13497.355883369943]
[53,63.667216242899897,-151.910870340999,-1712.3915566374312,589.23271781847188,{"$f":"Q_d!$C$11","v":0},{"$f":"Q_d!$C$12","v":0},11233.589832572825,6052.604465817868,14051.578736448664,462.79985902331401,-13588.778877425349]
[53,63.750839683599899,-148.911052982,-1582.8238541522082,518.7837896992005,{"$f":"Q_d!$C$11","v":0},{"$f":"Q_d!$C$12","v":0},11233.589832572825,6052.604465817868,13960.072745681206,462.82808878135302,-13497.244656899853]
[53,63.750885867599898,-148.91098558100001,-1582.8183988230946,518.78649610783987,{"$f":"Q_d!$C$11","v":0},{"$f":"Q_d!$C$12","v":0},11233.589832572825,6052.604465817868,13960.066664442498,462.833520567601,-13497.233143874897]
[53,63.751112285700003,-148.91056767800001,-1582.7879717815299,518.79757173815551,{"$f":"Q_d!$C$11","v":0},{"$f":"Q_d!$C$12","v":0},11233.589832572825,6052.604465817868,13960.034339675211,462.86057404146999,-13497.173765633741]
[53,63.667663321699898,-151.912986216999,-1712.4509340018581,589.33140996376187,{"$f":"Q_d!$C$11","v":0},{"$f":"Q_d!$C$12","v":0},11233.589832572825,6052.604465817868,14051.595070049345,462.87368513882899,-13588.721384910516]
[53,63.751279275100003,-148.91026485,-1582.7657579330285,518.80587552816041,{"$f":"Q_d!$C$11","v":0},{"$f":"Q_d!$C$12","v":0},11233.589832572825,6052.604465817868,13960.01065401395,462.88097267548102,-13497.129681338469]
[53,63.751410223800001,-148.91005847100001,-1582.7496473669378,518.81316663654025,{"$f":"Q_d!$C$11","v":0},{"$f":"Q_d!$C$12","v":0},11233.589832572825,6052.604465817868,13959.992973062615,462.89708924662699,-13497.095883815988]
[53,63.7514903605,-148.90994698700001,{"$f":"lcpx(B9784,C9784,63,-115,70,60)","v":-1582.7404118474803},{"$f":"lcpy(B9784,C9784,63,-115,70,60)","v":518.8179999679196},{"$f":"Q_d!$C$11","v":0},{"$f":"Q_d!$C$12","v":0},{"$f":"lcpx(F9784,G9784,63,-115,70,60)","v":11233.589832572825},{"$f":"lcpy(F9784,G9784,63,-115,70,60)","v":6052.604465817868},{"$f":"SQRT((H9784-D9784)^2+(I9784-E9784)^2)","v":13959.982578200686},462.90655038895198,-13497.076027811734]
[53,63.751670122599897,-148.909417181999,-1582.7079189849278,518.8218301134084,{"$f":"Q_d!$C$11","v":0},{"$f":"Q_d!$C$12","v":0},11233.589832572825,6052.604465817868,13959.951228991044,462.92911285098398,-13497.022116140059]
[53,63.751799773899897,-148.90897775900001,-1582.6820714658604,518.82315625015372,{"$f":"Q_d!$C$11","v":0},{"$f":"Q_d!$C$12","v":0},11233.589832572825,6052.604465817868,13959.926973318032,462.94599075270099,-13496.98098256533]
[53,63.751879877299899,-148.908724565,-1582.6668722609502,518.82443437285747,{"$f":"Q_d!$C$11","v":0},{"$f":"Q_d!$C$12","v":0},11233.589832572825,6052.604465817868,13959.912512641913,462.956571532363,-13496.955941109551]
[53,63.751991579799899,-148.908178466999,-1582.6375513861365,518.82137837899199,{"$f":"Q_d!$C$11","v":0},{"$f":"Q_d!$C$12","v":0},11233.589832572825,6052.604465817868,13959.886805277616,462.971943669376,-13496.91486160824]
[53,63.752024459300003,-148.908034356,-1582.6296210235416,518.82089581964692,{"$f":"Q_d!$C$11","v":0},{"$f":"Q_d!$C$12","v":0},11233.589832572825,6052.604465817868,13959.879715897419,462.976048127762,-13496.903667769657]
[53,63.752122463600003,-148.907618071,-1582.6065415089024,518.81979016392643,{"$f":"Q_d!$C$11","v":0},{"$f":"Q_d!$C$12","v":0},11233.589832572825,6052.604465817868,13959.858965459787,462.98933193973198,-13496.869633520055]
[53,63.752177961900003,-148.90738143900001,-1582.5934342317346,518.81914166493743,{"$f":"Q_d!$C$11","v":0},{"$f":"Q_d!$C$12","v":0},11233.589832572825,6052.604465817868,13959.847189068065,462.99728753525102,-13496.849901532814]
[53,63.751790011700002,-148.900113293999,-1582.3094314875902,518.60004647703818,{"$f":"Q_d!$C$11","v":0},{"$f":"Q_d!$C$12","v":0},11233.589832572825,6052.604465817868,13959.673307775798,462.99802645367703,-13496.675281322121]
[53,63.751797932899898,-148.89975667100001,-1582.2939681741805,518.59186318461889,{"$f":"Q_d!$C$11","v":0},{"$f":"Q_d!$C$12","v":0},11233.589832572825,6052.604465817868,13959.662355528271,463.00010202374602,-13496.662253504524]
[53,63.7518816933,-148.900863869999,-1582.3358365386996,518.62758472521591,{"$f":"Q_d!$C$11","v":0},{"$f":"Q_d!$C$12","v":0},11233.589832572825,6052.604465817868,13959.686632466348,463.00344141809501,-13496.683191048252]
[53,63.7518100554,-148.89945455,-1582.2805613907551,518.58544579476074,{"$f":"Q_d!$C$11","v":0},{"$f":"Q_d!$C$12","v":0},11233.589832572825,6052.604465817868,13959.652591266364,463.003936667929,-13496.648654598435]
[53,63.669006892299898,-151.912017907999,-1712.3291006385605,589.42927902223846,{"$f":"Q_d!$C$11","v":0},{"$f":"Q_d!$C$12","v":0},11233.589832572825,6052.604465817868,14051.444770802058,463.00627074911199,-13588.438500052946]
[53,63.751948303399899,-148.90121785900001,-1582.3469652414301,518.64279729623104,{"$f":"Q_d!$C$11","v":0},{"$f":"Q_d!$C$12","v":0},11233.589832572825,6052.604465817868,13959.690818719313,463.00856071675298,-13496.68225800256]
[53,63.751958642399899,-148.901306484999,-1582.3501105933578,518.64600265319132,{"$f":"Q_d!$C$11","v":0},{"$f":"Q_d!$C$12","v":0},11233.589832572825,6052.604465817868,13959.69243568333,463.00927265984598,-13496.683163023483]
[53,63.752284520800004,-148.906553916999,-1582.5525575794898,518.80854287844159,{"$f":"Q_d!$C$11","v":0},{"$f":"Q_d!$C$12","v":0},11233.589832572825,6052.604465817868,13959.813862706053,463.013680649935,-13496.800182056117]
[53,63.669296617599898,-151.91006812200001,-1712.2314839001644,589.40316912095204,{"$f":"Q_d!$C$11","v":0},{"$f":"Q_d!$C$12","v":0},11233.589832572825,6052.604465817868,14051.364985875121,463.01426704260399,-13588.350718832517]
[53,63.752092072099899,-148.90181750100001,-1582.3640635097156,518.67151159454852,{"$f":"Q_d!$C$11","v":0},{"$f":"Q_d!$C$12","v":0},11233.589832572825,6052.604465817868,13959.695133073361,463.02046062134201,-13496.674672452018]
[53,63.752353828700002,-148.90590592500001,-1582.5213500642365,518.79889856192312,{"$f":"Q_d!$C$11","v":0},{"$f":"Q_d!$C$12","v":0},11233.589832572825,6052.604465817868,13959.789035007214,463.02474681165802,-13496.764288195556]
[53,63.752363334800002,-148.90582009400001,-1582.5171979475558,518.79765214541385,{"$f":"Q_d!$C$11","v":0},{"$f":"Q_d!$C$12","v":0},11233.589832572825,6052.604465817868,13959.785717152023,463.026404431755,-13496.759312720267]
[53,63.752387308000003,-148.90537537700001,-1582.4971173066879,518.78878764824458,{"$f":"Q_d!$C$11","v":0},{"$f":"Q_d!$C$12","v":0},11233.589832572825,6052.604465817868,13959.770795640876,463.03152998904898,-13496.739265651828]
[53,63.752044376800001,-148.898562580999,-1582.2297300811661,518.58539954471598,{"$f":"Q_d!$C$11","v":0},{"$f":"Q_d!$C$12","v":0},11233.589832572825,6052.604465817868,13959.605943162562,463.03518331224001,-13496.570759850321]
[53,63.752268794800003,-148.902372044,-1582.3773952140446,518.70223272962221,{"$f":"Q_d!$C$11","v":0},{"$f":"Q_d!$C$12","v":0},11233.589832572825,6052.604465817868,13959.695193989235,463.037005795433,-13496.658188193802]
[53,63.752305546599899,-148.902561824999,-1582.3833022798144,518.71048765212754,{"$f":"Q_d!$C$11","v":0},{"$f":"Q_d!$C$12","v":0},11233.589832572825,6052.604465817868,13959.697344672042,463.039655982076,-13496.657688689966]
[53,63.752339982599899,-148.902751636,-1582.3893418100795,518.71852288741184,{"$f":"Q_d!$C$11","v":0},{"$f":"Q_d!$C$12","v":0},11233.589832572825,6052.604465817868,13959.699704061675,463.04230636951502,-13496.657397692161]
[53,63.752421837599897,-148.903699520999,-1582.424608554905,518.75007158988728,{"$f":"Q_d!$C$11","v":0},{"$f":"Q_d!$C$12","v":0},11233.589832572825,6052.604465817868,13959.719574966786,463.04617478713698,-13496.673400179649]
[53,63.7521565228,-148.89851505799899,-1582.2213746572315,518.59488469097869,{"$f":"Q_d!$C$11","v":0},{"$f":"Q_d!$C$12","v":0},11233.589832572825,6052.604465817868,13959.594512139947,463.04719776713898,-13496.547314372809]
[53,63.669817552399898,-151.90880274700001,-1712.1477788766599,589.41698440973687,{"$f":"Q_d!$C$11","v":0},{"$f":"Q_d!$C$12","v":0},11233.589832572825,6052.604465817868,14051.282495256879,463.05536444468402,-13588.227130812194]
[53,63.752430135600001,-148.89853617099899,-1582.2067596137817,518.62146115126598,{"$f":"Q_d!$C$11","v":0},{"$f":"Q_d!$C$12","v":0},11233.589832572825,6052.604465817868,13959.570558876108,463.07772672198303,-13496.492832154125]
[53,63.752643078799899,-148.89856128700001,-1582.1957508556961,518.64236229315065,{"$f":"Q_d!$C$11","v":0},{"$f":"Q_d!$C$12","v":0},11233.589832572825,6052.604465817868,13959.552166300395,463.10106303052203,-13496.451103269872]
[53,63.752801823299897,-148.898433248,-1582.1813652423468,518.6542658750077,{"$f":"Q_d!$C$11","v":0},{"$f":"Q_d!$C$12","v":0},11233.589832572825,6052.604465817868,13959.534240446439,463.119124632097,-13496.415115814341]
[53,63.752945083999897,-148.898342181,-1582.1694135947994,518.66562195582583,{"$f":"Q_d!$C$11","v":0},{"$f":"Q_d!$C$12","v":0},11233.589832572825,6052.604465817868,13959.518766180163,463.13517053339802,-13496.383595646765]
[53,63.753013524499899,-148.898271171,-1582.1625459574907,518.67035792590696,{"$f":"Q_d!$C$11","v":0},{"$f":"Q_d!$C$12","v":0},11233.589832572825,6052.604465817868,13959.510583766734,463.14341105212702,-13496.367172714607]
[53,63.753284857399898,-148.898199465999,-1582.1441525282348,518.69439148249967,{"$f":"Q_d!$C$11","v":0},{"$f":"Q_d!$C$12","v":0},11233.589832572825,6052.604465817868,13959.48416982894,463.17340721699401,-13496.310762611945]
[53,63.6709560766,-151.90991475600001,-1712.1237391150637,589.55232966427002,{"$f":"Q_d!$C$11","v":0},{"$f":"Q_d!$C$12","v":0},11233.589832572825,6052.604465817868,14051.20772469457,463.19067286809599,-13588.017051826475]
[53,63.753550552900002,-148.898229474999,-1582.1303607288362,518.72043718916211,{"$f":"Q_d!$C$11","v":0},{"$f":"Q_d!$C$12","v":0},11233.589832572825,6052.604465817868,13959.461182843406,463.20253315909201,-13496.258649684314]
[53,63.671011835400002,-151.911346213999,-1712.1789876120927,589.5962991149504,{"$f":"Q_d!$C$11","v":0},{"$f":"Q_d!$C$12","v":0},11233.589832572825,6052.604465817868,14051.241531449625,463.21358471443801,-13588.027946735187]
[53,63.753860050299899,-148.89844600000001,-1582.1219391306379,518.75532649108709,{"$f":"Q_d!$C$11","v":0},{"$f":"Q_d!$C$12","v":0},11233.589832572825,6052.604465817868,13959.439620278692,463.235708616034,-13496.203911662658]
[53,63.671140543600004,-151.912388405999,-1712.2138237874879,589.63645299350264,{"$f":"Q_d!$C$11","v":0},{"$f":"Q_d!$C$12","v":0},11233.589832572825,6052.604465817868,14051.258015500756,463.24003311026502,-13588.017982390491]
[53,63.754070792199897,-148.898511850999,-1582.1127699872297,518.77703878659213,{"$f":"Q_d!$C$11","v":0},{"$f":"Q_d!$C$12","v":0},11233.589832572825,6052.604465817868,13959.42259513008,463.25861005058499,-13496.163985079495]
[53,63.754188665800001,-148.89858827,-1582.109307971449,518.79017501259841,{"$f":"Q_d!$C$11","v":0},{"$f":"Q_d!$C$12","v":0},11233.589832572825,6052.604465817868,13959.414209273535,463.270722493878,-13496.143486779656]
[53,63.754305794399897,-148.898598802999,-1582.1031144407925,518.80158933357825,{"$f":"Q_d!$C$11","v":0},{"$f":"Q_d!$C$12","v":0},11233.589832572825,6052.604465817868,13959.403998305957,463.28309226756801,-13496.12090603839]
[53,63.754502043599899,-148.898597418999,-1582.0919359449317,518.82023714360594,{"$f":"Q_d!$C$11","v":0},{"$f":"Q_d!$C$12","v":0},11233.589832572825,6052.604465817868,13959.38634329756,463.30546078370298,-13496.080882513856]
[53,63.754619582499899,-148.898593384999,-1582.0851059175664,518.83132550381379,{"$f":"Q_d!$C$11","v":0},{"$f":"Q_d!$C$12","v":0},11233.589832572825,6052.604465817868,13959.375677211066,463.31783057529702,-13496.057846635769]
[53,63.754765147100002,-148.89860174,-1582.0772093986561,518.84539228676613,{"$f":"Q_d!$C$11","v":0},{"$f":"Q_d!$C$12","v":0},11233.589832572825,6052.604465817868,13959.362851311011,463.33379673945598,-13496.029054571554]
[53,63.755085746100001,-148.901208066999,-1582.1687610491417,518.94122226329455,{"$f":"Q_d!$C$11","v":0},{"$f":"Q_d!$C$12","v":0},11233.589832572825,6052.604465817868,13959.40891381373,463.35393856748402,-13496.054975246245]
[53,63.755120139399899,-148.89858618599899,-1582.0564393961936,518.87879702038072,{"$f":"Q_d!$C$11","v":0},{"$f":"Q_d!$C$12","v":0},11233.589832572825,6052.604465817868,13959.330540743766,463.37274411104499,-13495.95779663272]
[53,63.755304692899898,-148.898509128,-1582.0427379835241,518.89443525765319,{"$f":"Q_d!$C$11","v":0},{"$f":"Q_d!$C$12","v":0},11233.589832572825,6052.604465817868,13959.311762613064,463.393966867286,-13495.917795745778]
[53,63.755353871600001,-148.898479734999,-1582.038713981842,518.89838046455407,{"$f":"Q_d!$C$11","v":0},{"$f":"Q_d!$C$12","v":0},11233.589832572825,6052.604465817868,13959.306504348386,463.39957887874601,-13495.906925469641]
[53,63.755541532800002,-148.898465189999,-1582.0274681210276,518.91588095762336,{"$f":"Q_d!$C$11","v":0},{"$f":"Q_d!$C$12","v":0},11233.589832572825,6052.604465817868,13959.289242366753,463.41975406859802,-13495.869488298154]
[53,63.755689584199899,-148.898271738999,-1582.0109353861083,518.92512791788386,{"$f":"Q_d!$C$11","v":0},{"$f":"Q_d!$C$12","v":0},11233.589832572825,6052.604465817868,13959.270398499015,463.43807263754201,-13495.832325861473]
[53,63.755893359700003,-148.89814212900001,-1581.9939326970866,518.94127940070985,{"$f":"Q_d!$C$11","v":0},{"$f":"Q_d!$C$12","v":0},11233.589832572825,6052.604465817868,13959.248386118725,463.46113338768703,-13495.787252731037]
[53,63.756103464699898,-148.898052984999,-1581.9782748909895,518.95904741235427,{"$f":"Q_d!$C$11","v":0},{"$f":"Q_d!$C$12","v":0},11233.589832572825,6052.604465817868,13959.226967625535,463.48454952673399,-13495.7424180988]
[53,63.756300397399897,-148.897874602,-1581.9596069362708,518.97332553427395,{"$f":"Q_d!$C$11","v":0},{"$f":"Q_d!$C$12","v":0},11233.589832572825,6052.604465817868,13959.204169049832,463.50725497342501,-13495.696914076407]
[53,63.756409381300003,-148.89786309799899,-1581.9529473468237,518.98341238361672,{"$f":"Q_d!$C$11","v":0},{"$f":"Q_d!$C$12","v":0},11233.589832572825,6052.604465817868,13959.194056497725,463.519447050498,-13495.674609447227]
[53,63.756645032599899,-148.90029653600001,-1582.0420297331389,519.06681865188239,{"$f":"Q_d!$C$11","v":0},{"$f":"Q_d!$C$12","v":0},11233.589832572825,6052.604465817868,13959.242777556206,463.52992074406501,-13495.712856812141]
[53,63.756872611699897,-148.900343028999,-1582.0310907324322,519.08964827675982,{"$f":"Q_d!$C$11","v":0},{"$f":"Q_d!$C$12","v":0},11233.589832572825,6052.604465817868,13959.22368492627,463.55483935021101,-13495.66884557606]
[53,63.6745121533,-151.90951166900001,-1711.8898042145599,589.86995085092713,{"$f":"Q_d!$C$11","v":0},{"$f":"Q_d!$C$12","v":0},11233.589832572825,6052.604465817868,14050.868706506653,463.56740398026199,-13587.301302526392]
[53,63.674712930799899,-151.908733369999,-1711.8456397083808,589.86739888474131,{"$f":"Q_d!$C$11","v":0},{"$f":"Q_d!$C$12","v":0},11233.589832572825,6052.604465817868,14050.829008618732,463.58014118920102,-13587.248867429531]
[53,63.757047301299899,-148.897716153999,-1581.9106155365544,519.04045964452371,{"$f":"Q_d!$C$11","v":0},{"$f":"Q_d!$C$12","v":0},11233.589832572825,6052.604465817868,13959.132578563356,463.59022850465601,-13495.5423500587]
[53,63.757266064200003,-148.897888792999,-1581.9054870226873,519.06561096824817,{"$f":"Q_d!$C$11","v":0},{"$f":"Q_d!$C$12","v":0},11233.589832572825,6052.604465817868,13959.117899950015,463.61305049038401,-13495.50484945963]
[53,63.757384298600002,-148.89793711799899,-1581.900821741473,519.07807745341552,{"$f":"Q_d!$C$11","v":0},{"$f":"Q_d!$C$12","v":0},11233.589832572825,6052.604465817868,13959.108675038777,463.626388369989,-13495.482286668788]
[53,63.757557624999897,-148.900805566,{"$f":"lcpx(B10168,C10168,63,-115,70,60)","v":-1582.0117429760037},{"$f":"lcpy(B10168,C10168,63,-115,70,60)","v":519.16644837016975},{"$f":"Q_d!$C$11","v":0},{"$f":"Q_d!$C$12","v":0},{"$f":"lcpx(F10168,G10168,63,-115,70,60)","v":11233.589832572825},{"$f":"lcpy(F10168,G10168,63,-115,70,60)","v":6052.604465817868},{"$f":"SQRT((H10168-D10168)^2+(I10168-E10168)^2)","v":13959.175478377838},463.62795847101302,-13495.547519906824]
[53,63.757594111700001,-148.89800582500001,-1581.8918252890276,519.0997727210115,{"$f":"Q_d!$C$11","v":0},{"$f":"Q_d!$C$12","v":0},11233.589832572825,6052.604465817868,13959.091815426907,463.648499754932,-13495.443315671975]
[53,63.7577494977999,-148.898098317999,-1581.8869140233214,519.11688256252864,{"$f":"Q_d!$C$11","v":0},{"$f":"Q_d!$C$12","v":0},11233.589832572825,6052.604465817868,13959.080524038378,463.664999219263,{"$f":"K10180-J10180","v":-13495.415524819115}]
[53,63.7580348093,-148.89831304000001,-1581.879785717151,519.14942339448635,{"$f":"Q_d!$C$11","v":0},{"$f":"Q_d!$C$12","v":0},11233.589832572825,6052.604465817868,13959.061080310315,463.695370230283,-13495.365710080032]
[53,63.6758241263,-151.90981238500001,-1711.8219113658388,589.99931918648053,{"$f":"Q_d!$C$11","v":0},{"$f":"Q_d!$C$12","v":0},11233.589832572825,6052.604465817868,14050.755858960358,463.71261365742401,-13587.043245302933]
[53,63.758249018900003,-148.89841473300001,-1581.8719284179244,519.17236354077522,{"$f":"Q_d!$C$11","v":0},{"$f":"Q_d!$C$12","v":0},11233.589832572825,6052.604465817868,13959.044773118496,463.71845017423999,-13495.326322944256]
[53,63.758425939799899,-148.89855539600001,-1581.86782429954,519.19273021718709,{"$f":"Q_d!$C$11","v":0},{"$f":"Q_d!$C$12","v":0},11233.589832572825,6052.604465817868,13959.032931789072,463.73670872166201,-13495.296223067409]
[53,63.758615667500003,-148.898946859999,-1581.8735511075126,519.22059966379084,{"$f":"Q_d!$C$11","v":0},{"$f":"Q_d!$C$12","v":0},11233.589832572825,6052.604465817868,13959.027141913068,463.75516554751101,-13495.271976365557]
[53,63.7587110212,-148.89915975100001,-1581.8771088982255,519.23501091514163,{"$f":"Q_d!$C$11","v":0},{"$f":"Q_d!$C$12","v":0},11233.589832572825,6052.604465817868,13959.024695600614,463.76457230042899,-13495.260123300184]
[53,63.758837432900002,-148.899347398999,-1581.8778441994396,519.2517463377053,{"$f":"Q_d!$C$11","v":0},{"$f":"Q_d!$C$12","v":0},11233.589832572825,6052.604465817868,13959.018736736949,463.77721982111098,-13495.241516915838]
[53,63.758903199599899,-148.899511547,-1581.8810267299118,519.26211975303886,{"$f":"Q_d!$C$11","v":0},{"$f":"Q_d!$C$12","v":0},11233.589832572825,6052.604465817868,13959.01754653213,463.78346519900799,-13495.234081333121]
[53,63.759082950299899,-148.89982228599899,-1581.8839204111534,519.28701681500525,{"$f":"Q_d!$C$11","v":0},{"$f":"Q_d!$C$12","v":0},11233.589832572825,6052.604465817868,13959.010334005086,463.80200279537303,-13495.208331209713]
[53,63.759271284999897,-148.899972528999,-1581.879572120117,519.30870986241553,{"$f":"Q_d!$C$11","v":0},{"$f":"Q_d!$C$12","v":0},11233.589832572825,6052.604465817868,13958.997742871637,463.82105343332501,-13495.176689438313]
[53,63.759357173200002,-148.90010799300001,-1581.8804069182406,519.32028007338249,{"$f":"Q_d!$C$11","v":0},{"$f":"Q_d!$C$12","v":0},11233.589832572825,6052.604465817868,13958.993922897567,463.82992737101301,-13495.163995526555]
[53,63.759444707500002,-148.90037608,-1581.8867305063627,519.33532977837194,{"$f":"Q_d!$C$11","v":0},{"$f":"Q_d!$C$12","v":0},11233.589832572825,6052.604465817868,13958.993762828295,463.83811111421102,-13495.155651714083]
[53,63.677167423299899,-151.909950301999,-1711.7454325329707,590.12716710078303,{"$f":"Q_d!$C$11","v":0},{"$f":"Q_d!$C$12","v":0},11233.589832572825,6052.604465817868,14050.635692558228,463.85859723087998,-13586.777095327348]
[53,63.759687579199898,-148.900895109,-1581.8948135498199,519.37145419298213,{"$f":"Q_d!$C$11","v":0},{"$f":"Q_d!$C$12","v":0},11233.589832572825,6052.604465817868,13958.986864236984,463.86167277971998,-13495.125191457264]
[53,63.759857407799899,-148.901368934999,-1581.9051327606405,519.39949266371468,{"$f":"Q_d!$C$11","v":0},{"$f":"Q_d!$C$12","v":0},11233.589832572825,6052.604465817868,13958.985223913136,463.87707426968097,-13495.108149643454]
[53,63.677514609500001,-151.90891119700001,-1711.6816349207247,590.13107322448923,{"$f":"Q_d!$C$11","v":0},{"$f":"Q_d!$C$12","v":0},11233.589832572825,6052.604465817868,14050.575395046752,463.88364786980799,-13586.691747176943]
[53,63.760081418200002,-148.901718751999,-1581.9071618789485,519.42958192416245,{"$f":"Q_d!$C$11","v":0},{"$f":"Q_d!$C$12","v":0},11233.589832572825,6052.604465817868,13958.975159751326,463.899568860545,-13495.075590890781]
[53,63.760199165800003,-148.901957748999,{"$f":"lcpx(B10296,C10296,63,-115,70,60)","v":-1581.9105482926013},{"$f":"lcpy(B10296,C10296,63,-115,70,60)","v":519.44677890682806},{"$f":"Q_d!$C$11","v":0},{"$f":"Q_d!$C$12","v":0},{"$f":"lcpx(F10296,G10296,63,-115,70,60)","v":11233.589832572825},{"$f":"lcpy(F10296,G10296,63,-115,70,60)","v":6052.604465817868},{"$f":"SQRT((H10296-D10296)^2+(I10296-E10296)^2)","v":13958.971452087169},463.91117331769402,-13495.060278769475]
[53,63.760332257199899,-148.902013218999,-1581.9053407927518,519.46083827168104,{"$f":"Q_d!$C$11","v":0},{"$f":"Q_d!$C$12","v":0},11233.589832572825,6052.604465817868,13958.961098219715,463.92530392294799,-13495.035794296768]
[53,63.7603836973,-148.90225840100001,-1581.9127449430314,519.47187808578565,{"$f":"Q_d!$C$11","v":0},{"$f":"Q_d!$C$12","v":0},11233.589832572825,6052.604465817868,13958.963519822604,463.92971585144198,-13495.033803971162]
[53,63.760544081900001,-148.90267918699899,-1581.9213659260356,519.49768854586864,{"$f":"Q_d!$C$11","v":0},{"$f":"Q_d!$C$12","v":0},11233.589832572825,6052.604465817868,13958.961203740879,463.944764446156,-13495.016439294723]
[53,63.760568922700003,-148.90272690500001,-1581.9219665293392,519.50124881590637,{"$f":"Q_d!$C$11","v":0},{"$f":"Q_d!$C$12","v":0},11233.589832572825,6052.604465817868,13958.960343912588,463.94731516628002,-13495.013028746307]
[53,63.760780894600003,-148.90304758400001,-1581.9234505262621,519.52946184707571,{"$f":"Q_d!$C$11","v":0},{"$f":"Q_d!$C$12","v":0},11233.589832572825,6052.604465817868,13958.950523189613,463.968843657631,-13494.981679531982]
[53,63.760895183199899,-148.903256217999,-1581.9257544734476,519.54556872428111,{"$f":"Q_d!$C$11","v":0},{"$f":"Q_d!$C$12","v":0},11233.589832572825,6052.604465817868,13958.946253945263,463.98027150408001,-13494.965982441183]
[53,63.7611087169999,-148.903720397,-1581.933188936968,519.5775257766677,{"$f":"Q_d!$C$11","v":0},{"$f":"Q_d!$C$12","v":0},11233.589832572825,6052.604465817868,13958.940412297388,464.00067971609599,-13494.939732581292]
[53,63.761350693099899,-148.90451200499899,-1581.952791174084,519.62039417216783,{"$f":"Q_d!$C$11","v":0},{"$f":"Q_d!$C$12","v":0},11233.589832572825,6052.604465817868,13958.941416818068,464.02305643254402,-13494.918360385524]
[53,63.7616260271,-148.905073098,-1581.9608008818243,519.66066229487524,{"$f":"Q_d!$C$11","v":0},{"$f":"Q_d!$C$12","v":0},11233.589832572825,6052.604465817868,13958.932809193666,464.049795523066,-13494.8830136706]
[53,63.761685368199899,-148.90519784200001,-1581.9626876410534,519.6694366213419,{"$f":"Q_d!$C$11","v":0},{"$f":"Q_d!$C$12","v":0},11233.589832572825,6052.604465817868,13958.931063504479,464.05568971191298,-13494.875373792565]
[53,63.7619591873,-148.905575072,-1581.9630447691486,519.70495361987787,{"$f":"Q_d!$C$11","v":0},{"$f":"Q_d!$C$12","v":0},11233.589832572825,6052.604465817868,13958.917313460557,464.08275990387699,-13494.83455355668]
[53,63.762001038599898,-148.905609854999,-1581.9621366929819,519.7098090092295,{"$f":"Q_d!$C$11","v":0},{"$f":"Q_d!$C$12","v":0},11233.589832572825,6052.604465817868,13958.91455523295,464.08732647423102,-13494.827228758719]
[53,63.762255184600001,-148.905792047999,-1581.9554005192201,519.73856641614748,{"$f":"Q_d!$C$11","v":0},{"$f":"Q_d!$C$12","v":0},11233.589832572825,6052.604465817868,13958.896972260762,464.11454705492599,-13494.782425205836]
[53,63.762450048200002,-148.90598227800001,-1581.9523622335514,519.7618819890622,{"$f":"Q_d!$C$11","v":0},{"$f":"Q_d!$C$12","v":0},11233.589832572825,6052.604465817868,13958.884941294273,464.134574719444,-13494.750366574828]
[53,63.762536573299897,-148.90604423600001,-1581.9500658300663,519.77167077543891,{"$f":"Q_d!$C$11","v":0},{"$f":"Q_d!$C$12","v":0},11233.589832572825,6052.604465817868,13958.878953033922,464.14370812712701,-13494.735244906795]
[53,63.680217814800002,-151.90804788400001,-1711.4809991823925,590.35742554431545,{"$f":"Q_d!$C$11","v":0},{"$f":"Q_d!$C$12","v":0},11233.589832572825,6052.604465817868,14050.302543651396,464.16330688347102,-13586.139236767925]
[53,63.763158129700003,-148.91384566900001,-1582.2431285079347,520.02632217892005,{"$f":"Q_d!$C$11","v":0},{"$f":"Q_d!$C$12","v":0},11233.589832572825,6052.604465817868,13959.047080721357,464.16629566998898,-13494.880785051368]
[53,63.7634224731,-148.914278362,-1582.2463508956598,520.06232669600877,{"$f":"Q_d!$C$11","v":0},{"$f":"Q_d!$C$12","v":0},11233.589832572825,6052.604465817868,13959.035769087315,464.19295614754799,-13494.842812939767]
[53,63.763231014900001,-148.906510854,-1581.930344662484,519.84946634985317,{"$f":"Q_d!$C$11","v":0},{"$f":"Q_d!$C$12","v":0},11233.589832572825,6052.604465817868,13958.83001176186,464.217642122744,-13494.612369639117]
[53,63.7632827726,-148.90653252600001,-1581.9283232631849,519.8549361786113,{"$f":"Q_d!$C$11","v":0},{"$f":"Q_d!$C$12","v":0},11233.589832572825,6052.604465817868,13958.825987893317,464.22282079298901,-13494.603167100327]
[53,63.763570319499898,-148.90671846199899,-1581.9198508104896,519.88696648205632,{"$f":"Q_d!$C$11","v":0},{"$f":"Q_d!$C$12","v":0},11233.589832572825,6052.604465817868,13958.805513809131,464.25363964539901,-13494.551874163732]
[53,63.763843469500003,-148.906744016,-1581.9054451352463,519.91360791775151,{"$f":"Q_d!$C$11","v":0},{"$f":"Q_d!$C$12","v":0},11233.589832572825,6052.604465817868,13958.781728433516,464.283562398024,-13494.498166035492]
[53,63.763902740399899,-148.906749587999,-1581.9023203782906,519.91938952603277,{"$f":"Q_d!$C$11","v":0},{"$f":"Q_d!$C$12","v":0},11233.589832572825,6052.604465817868,13958.776568015335,464.29014393372597,{"$f":"K10436-J10436","v":-13494.48642408161}]
[53,63.764109004600002,-148.90687991300001,-1581.8961143045042,519.94228907951947,{"$f":"Q_d!$C$11","v":0},{"$f":"Q_d!$C$12","v":0},11233.589832572825,6052.604465817868,13958.761793816864,464.31200856428399,-13494.44978525258]
[53,63.764238868,-148.906990428,-1581.8934046488682,519.95741968133689,{"$f":"Q_d!$C$11","v":0},{"$f":"Q_d!$C$12","v":0},11233.589832572825,6052.604465817868,13958.7533089683,464.325709666178,-13494.427599302122]
[53,63.764315571399898,-148.907085854999,-1581.8930729604019,519.96711195262924,{"$f":"Q_d!$C$11","v":0},{"$f":"Q_d!$C$12","v":0},11233.589832572825,6052.604465817868,13958.749162851209,464.333620338868,-13494.415542512341]
[53,63.681964237300001,-151.90818787800001,-1711.3799622107574,590.52257686325402,{"$f":"Q_d!$C$11","v":0},{"$f":"Q_d!$C$12","v":0},11233.589832572825,6052.604465817868,14050.14525012127,464.35284724011302,-13585.792402881158]
[53,63.764572858800001,-148.907612438999,-1581.9006492500957,520.00479641897437,{"$f":"Q_d!$C$11","v":0},{"$f":"Q_d!$C$12","v":0},11233.589832572825,6052.604465817868,13958.741182195714,464.35860876374397,-13494.382573431971]
[53,63.764806262599897,-148.907889474,-1581.8990779438782,520.03395497099018,{"$f":"Q_d!$C$11","v":0},{"$f":"Q_d!$C$12","v":0},11233.589832572825,6052.604465817868,13958.728182505347,464.38216289280501,-13494.346019612542]
[53,63.7649869490999,-148.908027567999,-1581.8946478798921,520.05461423540419,{"$f":"Q_d!$C$11","v":0},{"$f":"Q_d!$C$12","v":0},11233.589832572825,6052.604465817868,13958.715926938608,464.40183495869098,-13494.314091979917]
[53,63.7651238885,-148.90813064400001,-1581.8912237312052,520.07023187120603,{"$f":"Q_d!$C$11","v":0},{"$f":"Q_d!$C$12","v":0},11233.589832572825,6052.604465817868,13958.706593172566,464.41632819271098,-13494.290264979856]
[53,63.765221338700002,-148.90819685400001,-1581.888486453624,520.08116690018869,{"$f":"Q_d!$C$11","v":0},{"$f":"Q_d!$C$12","v":0},11233.589832572825,6052.604465817868,13958.699745982933,464.42686574529603,-13494.272880237637]
[53,63.766229969000001,-148.90951018300001,-1581.8865794798207,520.2100813932052,{"$f":"Q_d!$C$11","v":0},{"$f":"Q_d!$C$12","v":0},11233.589832572825,6052.604465817868,13958.646900494734,464.530154776845,-13494.116745717889]
[53,63.766646944800002,-148.90989554999899,-1581.8791597913362,520.25942737755759,{"$f":"Q_d!$C$11","v":0},{"$f":"Q_d!$C$12","v":0},11233.589832572825,6052.604465817868,13958.620530647089,464.57320750663098,-13494.047323140458]
[53,63.767390898099897,-148.91151715500001,-1581.905219434936,520.37087031758892,{"$f":"Q_d!$C$11","v":0},{"$f":"Q_d!$C$12","v":0},11233.589832572825,6052.604465817868,13958.600287393338,464.64515191702998,-13493.955135476308]
[53,63.767450834199899,-148.91188389800001,-1581.9172522282581,520.38576408086738,{"$f":"Q_d!$C$11","v":0},{"$f":"Q_d!$C$12","v":0},11233.589832572825,6052.604465817868,13958.605431934646,464.64968795964899,-13493.955743974997]
[53,63.769405430200003,-148.915837643999,-1581.9727916046245,520.67087232516951,{"$f":"Q_d!$C$11","v":0},{"$f":"Q_d!$C$12","v":0},11233.589832572825,6052.604465817868,13958.543428919331,464.84167820990399,-13493.701750709426]
[53,63.686886433399899,-151.91036162500001,-1711.1680575988389,591.03626225244079,{"$f":"Q_d!$C$11","v":0},{"$f":"Q_d!$C$12","v":0},11233.589832572825,6052.604465817868,14049.750320819174,464.907770919136,-13584.842549900039]
[53,63.687075004900002,-151.910394889999,-1711.1578905842348,591.05458596500284,{"$f":"Q_d!$C$11","v":0},{"$f":"Q_d!$C$12","v":0},11233.589832572825,6052.604465817868,14049.733830443221,464.92840617024001,-13584.805424272981]
[53,63.687914039399899,-151.90809039800001,-1711.0122148239464,591.06965183239208,{"$f":"Q_d!$C$11","v":0},{"$f":"Q_d!$C$12","v":0},11233.589832572825,6052.604465817868,14049.593755331292,464.99084136571901,-13584.602913965573]
[53,63.689103023800001,-151.90438685000001,-1710.7878525726544,591.07914872504944,{"$f":"Q_d!$C$11","v":0},{"$f":"Q_d!$C$12","v":0},11233.589832572825,6052.604465817868,14049.383347497427,465.07528206624698,-13584.30806543118]
[53,63.690398512500003,-151.89486002999899,-1710.3184969496447,590.94074818482522,{"$f":"Q_d!$C$11","v":0},{"$f":"Q_d!$C$12","v":0},11233.589832572825,6052.604465817868,14049.0047123485,465.10096064940501,-13583.903751699096]
[53,63.689623369300001,-151.902599936,-1710.6828628578321,591.07881004353703,{"$f":"Q_d!$C$11","v":0},{"$f":"Q_d!$C$12","v":0},11233.589832572825,6052.604465817868,14049.286747104026,465.10937815636402,-13584.177368947663]
[53,63.690703448299899,-151.89368906600001,-1710.2519022898002,590.93720673182679,{"$f":"Q_d!$C$11","v":0},{"$f":"Q_d!$C$12","v":0},11233.589832572825,6052.604465817868,14048.944732831143,465.120555637998,-13583.824177193146]
[53,63.690480887,-151.897463017999,-1710.420068417216,591.01887350436255,{"$f":"Q_d!$C$11","v":0},{"$f":"Q_d!$C$12","v":0},11233.589832572825,6052.604465817868,14049.067922787428,465.14035266035501,-13583.927570127073]
[53,63.691495863,-151.892228523,-1710.1436563573159,590.97086994725805,{"$f":"Q_d!$C$11","v":0},{"$f":"Q_d!$C$12","v":0},11233.589832572825,6052.604465817868,14048.831914717826,465.18781090222001,-13583.644103815606]
[53,63.773516338199897,-148.91475280399899,-1581.6941150845282,521.03497806121732,{"$f":"Q_d!$C$11","v":0},{"$f":"Q_d!$C$12","v":0},11233.589832572825,6052.604465817868,13958.143273980411,465.30048180718597,-13492.842792173225]
[53,63.773950789399898,-148.9116937,-1581.5408117274451,520.99969946311148,{"$f":"Q_d!$C$11","v":0},{"$f":"Q_d!$C$12","v":0},11233.589832572825,6052.604465817868,13958.016503846187,465.36607763995801,-13492.65042620623]
[53,63.693533678999898,-151.892304432999,-1710.0222263698408,591.16123551755845,{"$f":"Q_d!$C$11","v":0},{"$f":"Q_d!$C$12","v":0},11233.589832572825,6052.604465817868,14048.646030496999,465.40830724214601,-13583.237723254853]
[53,63.774550857500003,-148.91192504700001,-1581.5165290863961,521.06261201223151,{"$f":"Q_d!$C$11","v":0},{"$f":"Q_d!$C$12","v":0},11233.589832572825,6052.604465817868,13957.969277120586,465.43061168878802,-13492.538665431799]
[53,63.774759379599899,-148.91188873799899,-1581.503182091697,521.08155070968041,{"$f":"Q_d!$C$11","v":0},{"$f":"Q_d!$C$12","v":0},11233.589832572825,6052.604465817868,13957.94951756419,465.453595518393,-13492.495922045797]
[53,63.695127056700002,-151.885932908999,-1709.6639256544081,591.13593217238167,{"$f":"Q_d!$C$11","v":0},{"$f":"Q_d!$C$12","v":0},11233.589832572825,6052.604465817868,14048.325750560567,465.50420642245501,-13582.821544138113]
[53,63.775783204,-148.910423011999,-1581.3834981763359,521.14229136887434,{"$f":"Q_d!$C$11","v":0},{"$f":"Q_d!$C$12","v":0},11233.589832572825,6052.604465817868,13957.81556172642,465.57521511781499,-13492.240346608605]
[53,63.801953388100003,-149.741080275,-1614.6682636646178,544.64792323058509,{"$f":"Q_d!$C$11","v":0},{"$f":"Q_d!$C$12","v":0},11233.589832572825,6052.604465817868,13979.103024964123,465.61882947535503,-13513.484195488767]
[53,63.696761720300003,-151.88314170199899,-1709.4497375328096,591.21142297133474,{"$f":"Q_d!$C$11","v":0},{"$f":"Q_d!$C$12","v":0},11233.589832572825,6052.604465817868,14048.099062925658,465.64767085104103,-13582.451392074616]
[53,63.697386201299899,-151.882721554,-1709.394376102839,591.25775995970571,{"$f":"Q_d!$C$11","v":0},{"$f":"Q_d!$C$12","v":0},11233.589832572825,6052.604465817868,14048.030042237786,465.70948043817998,-13582.320561799606]
[53,63.801904216399898,-149.61045093800001,-1609.2218275557891,541.30823011043503,{"$f":"Q_d!$C$11","v":0},{"$f":"Q_d!$C$12","v":0},11233.589832572825,6052.604465817868,13975.414038061928,465.79099916164103,-13509.623038900287]
[53,63.778531736300003,-148.909972210999,-1581.208748766355,521.39262410071842,{"$f":"Q_d!$C$11","v":0},{"$f":"Q_d!$C$12","v":0},11233.589832572825,6052.604465817868,13957.555914924527,465.88004460053799,-13491.67587032399]
[53,63.779509789899897,-148.91430146100001,-1581.3353794193395,521.59414497310809,{"$f":"Q_d!$C$11","v":0},{"$f":"Q_d!$C$12","v":0},11233.589832572825,6052.604465817868,13957.592319531463,465.96236447592997,-13491.629955055532]
[53,63.8018594666,-149.514698264,-1605.2256454020228,538.86653330332229,{"$f":"Q_d!$C$11","v":0},{"$f":"Q_d!$C$12","v":0},11233.589832572825,6052.604465817868,13972.705137729639,465.97922200887803,-13506.725915720761]
[53,63.780336709899899,-148.910077620999,-1581.1108751376439,521.56707309161675,{"$f":"Q_d!$C$11","v":0},{"$f":"Q_d!$C$12","v":0},11233.589832572825,6052.604465817868,13957.396923063096,466.078452805962,-13491.318470257134]
[53,63.701312448000003,-151.882121656999,-1709.1299206235976,591.60437069006366,{"$f":"Q_d!$C$11","v":0},{"$f":"Q_d!$C$12","v":0},11233.589832572825,6052.604465817868,14047.651641778662,466.12538509289499,-13581.526256685767]
[53,63.701964950499899,-151.88114767299899,-1709.050174074481,591.63830832373878,{"$f":"Q_d!$C$11","v":0},{"$f":"Q_d!$C$12","v":0},11233.589832572825,6052.604465817868,14047.564974577037,466.18398388726303,-13581.380990689773]
[53,63.702411650999899,-151.881539664999,-1709.0389316410854,591.69020200054683,{"$f":"Q_d!$C$11","v":0},{"$f":"Q_d!$C$12","v":0},11233.589832572825,6052.604465817868,14047.534442919896,466.236989241522,-13581.297453678373]
[53,63.801921635600003,-149.37504375,-1599.383293603827,535.32827956969095,{"$f":"Q_d!$C$11","v":0},{"$f":"Q_d!$C$12","v":0},11233.589832572825,6052.604465817868,13968.734222273448,466.36525175016999,-13502.368970523277]
[53,63.801921647500002,-149.374496394,-1599.3603932733172,535.31441536916464,{"$f":"Q_d!$C$11","v":0},{"$f":"Q_d!$C$12","v":0},11233.589832572825,6052.604465817868,13968.718659913829,466.36691043962298,-13502.351749474206]
[53,63.801921599899899,-149.37321701900001,-1599.3068705230839,535.28200319212283,{"$f":"Q_d!$C$11","v":0},{"$f":"Q_d!$C$12","v":0},11233.589832572825,6052.604465817868,13968.682291072571,466.37152427758701,-13502.310766794984]
[53,63.801924928399899,-149.37084366600001,-1599.2073833479376,535.22220243726906,{"$f":"Q_d!$C$11","v":0},{"$f":"Q_d!$C$12","v":0},11233.589832572825,6052.604465817868,13968.614513444434,466.37891105409102,-13502.235602390343]
[53,63.801928178099899,-149.368833633999,-1599.1230995497483,535.17159993867745,{"$f":"Q_d!$C$11","v":0},{"$f":"Q_d!$C$12","v":0},11233.589832572825,6052.604465817868,13968.557070354467,466.38512650062,-13502.171943853848]
[53,63.801930321599897,-149.366460458999,-1599.0236836735191,535.11169830660947,{"$f":"Q_d!$C$11","v":0},{"$f":"Q_d!$C$12","v":0},11233.589832572825,6052.604465817868,13968.489399247414,466.39313847975899,-13502.096260767654]
[53,63.703856113599898,-151.881937867,-1708.9669811693177,591.83447380006419,{"$f":"Q_d!$C$11","v":0},{"$f":"Q_d!$C$12","v":0},11233.589832572825,6052.604465817868,14047.412067091409,466.39648395329903,-13581.015583138111]
[53,63.801932228399899,-149.36207746599899,{"$f":"lcpx(B10744,C10744,63,-115,70,60)","v":-1598.8401852976456},{"$f":"lcpy(B10744,C10744,63,-115,70,60)","v":535.00088193779811},{"$f":"Q_d!$C$11","v":0},{"$f":"Q_d!$C$12","v":0},{"$f":"lcpx(F10744,G10744,63,-115,70,60)","v":11233.589832572825},{"$f":"lcpy(F10744,G10744,63,-115,70,60)","v":6052.604465817868},{"$f":"SQRT((H10744-D10744)^2+(I10744-E10744)^2)","v":13968.36459548466},466.406891806928,-13501.957703677732]
[53,63.801936574099898,-149.360980463,-1598.7940350825208,534.97351476173799,{"$f":"Q_d!$C$11","v":0},{"$f":"Q_d!$C$12","v":0},11233.589832572825,6052.604465817868,13968.333008591746,466.41110340342402,-13501.921905188323]
[53,63.801936516200001,-149.36006852200001,-1598.7558804791902,534.95041709560928,{"$f":"Q_d!$C$11","v":0},{"$f":"Q_d!$C$12","v":0},11233.589832572825,6052.604465817868,13968.307080697559,466.41458975893897,-13501.892490938621]
[53,63.801939613199899,-149.358058169,-1598.671583407558,534.89980640196245,{"$f":"Q_d!$C$11","v":0},{"$f":"Q_d!$C$12","v":0},11233.589832572825,6052.604465817868,13968.249631095474,466.420915874277,-13501.828715221196]
[53,63.801938422600003,-149.35714640699899,-1598.6335001926732,534.87660767708849,{"$f":"Q_d!$C$11","v":0},{"$f":"Q_d!$C$12","v":0},11233.589832572825,6052.604465817868,13968.223809005713,466.42384299690298,-13501.79996600881]
[53,63.801941536599898,-149.348379464,-1598.2664632451874,534.65495135249012,{"$f":"Q_d!$C$11","v":0},{"$f":"Q_d!$C$12","v":0},11233.589832572825,6052.604465817868,13967.97418528231,466.45243734490202,-13501.521747937408]
[53,63.801944566099898,-149.346553462999,-1598.1898754830715,534.60901632026571,{"$f":"Q_d!$C$11","v":0},{"$f":"Q_d!$C$12","v":0},11233.589832572825,6052.604465817868,13967.921973463028,466.45977840859899,-13501.46219505443]
[53,63.801944280599898,-149.34527408400001,-1598.1363519100039,534.57660520823993,{"$f":"Q_d!$C$11","v":0},{"$f":"Q_d!$C$12","v":0},11233.589832572825,6052.604465817868,13967.885607492864,466.46318236383797,-13501.422425129027]
[53,63.8019460696,-149.343082723999,-1598.0445429462256,534.52130891362185,{"$f":"Q_d!$C$11","v":0},{"$f":"Q_d!$C$12","v":0},11233.589832572825,6052.604465817868,13967.823111477051,466.470979884065,-13501.352131592987]
[53,63.8019442298,-149.339796554999,-1597.9071216705825,534.43796369833808,{"$f":"Q_d!$C$11","v":0},{"$f":"Q_d!$C$12","v":0},11233.589832572825,6052.604465817868,13967.729795205516,466.480919846674,-13501.248875358842]
[53,63.801947246600001,-149.33851695800001,-1597.8533962018537,534.40586585125538,{"$f":"Q_d!$C$11","v":0},{"$f":"Q_d!$C$12","v":0},11233.589832572825,6052.604465817868,13967.693120982471,466.485760915593,-13501.207360066877]
[53,63.801946819100003,-149.336872994,-1597.7846180626254,534.36422174359677,{"$f":"Q_d!$C$11","v":0},{"$f":"Q_d!$C$12","v":0},11233.589832572825,6052.604465817868,13967.646390274243,466.491868024513,-13501.15452224973]
[53,63.801945500499897,-149.33596123000001,-1597.7465343290862,534.34102361924261,{"$f":"Q_d!$C$11","v":0},{"$f":"Q_d!$C$12","v":0},11233.589832572825,6052.604465817868,13967.620569663444,466.49489333324902,-13501.125676330195]
[53,63.7847217943999,-148.920318871999,-1581.2929305659004,522.24093187371182,{"$f":"Q_d!$C$11","v":0},{"$f":"Q_d!$C$12","v":0},11233.589832572825,6052.604465817868,13957.297053891534,466.50026887559198,{"$f":"K10820-J10820","v":-13490.796785015942}]
[53,63.801946453100001,-149.33139514600001,-1597.5553741124299,534.22557279467674,{"$f":"Q_d!$C$11","v":0},{"$f":"Q_d!$C$12","v":0},11233.589832572825,6052.604465817868,13967.49057354276,466.50984037316903,-13500.980733169592]
[53,63.801948951100002,-149.32865466800001,-1597.4405289346878,534.15647064022187,{"$f":"Q_d!$C$11","v":0},{"$f":"Q_d!$C$12","v":0},11233.589832572825,6052.604465817868,13967.412373571842,466.51958062765101,-13500.892792944191]
[53,63.801947582899899,-149.32774290500001,-1597.4024450691611,534.1332727977906,{"$f":"Q_d!$C$11","v":0},{"$f":"Q_d!$C$12","v":0},11233.589832572825,6052.604465817868,13967.386553579045,466.52264403134802,-13500.863909547697]
[53,63.801949938200003,-149.324819340999,-1597.2799406835481,534.0595319787235,{"$f":"Q_d!$C$11","v":0},{"$f":"Q_d!$C$12","v":0},11233.589832572825,6052.604465817868,13967.303151470069,466.53295439121899,-13500.770197078849]
[53,63.801948574800001,-149.324089079999,-1597.2494522935388,534.04092850471397,{"$f":"Q_d!$C$11","v":0},{"$f":"Q_d!$C$12","v":0},11233.589832572825,6052.604465817868,13967.282494079951,466.53469815223798,-13500.747795927713]
[53,63.8019427252,-149.317331620999,-1596.9669304869426,533.86943982483126,{"$f":"Q_d!$C$11","v":0},{"$f":"Q_d!$C$12","v":0},11233.589832572825,6052.604465817868,13967.090718443162,466.558007722512,-13500.53271072065]
[53,63.785013509499898,-148.91447008399899,-1581.0304807720458,522.12222578101682,{"$f":"Q_d!$C$11","v":0},{"$f":"Q_d!$C$12","v":0},11233.589832572825,6052.604465817868,13957.103122874532,466.566729659327,-13490.536393215205]
[53,63.8019345242,-149.313678912,-1596.8144958134246,533.77627728648849,{"$f":"Q_d!$C$11","v":0},{"$f":"Q_d!$C$12","v":0},11233.589832572825,6052.604465817868,13966.987499256995,466.56967971461597,-13500.417819542379]
[53,63.801927265899899,-149.309843258,-1596.6543431110554,533.67858652963105,{"$f":"Q_d!$C$11","v":0},{"$f":"Q_d!$C$12","v":0},11233.589832572825,6052.604465817868,13966.878980958758,466.581953265447,-13500.29702769331]
[53,63.7054858533999,-151.883247036,-1708.921002844819,592.02052366008411,{"$f":"Q_d!$C$11","v":0},{"$f":"Q_d!$C$12","v":0},11233.589832572825,6052.604465817868,14047.297381142558,466.58711526573398,-13580.710265876824]
[53,63.801918892400003,-149.306190869999,-1596.5019206228819,533.5854337789151,{"$f":"Q_d!$C$11","v":0},{"$f":"Q_d!$C$12","v":0},11233.589832572825,6052.604465817868,13966.775772218463,466.59434181845802,-13500.181430400005]
[53,63.801910421800002,-149.302538166999,-1596.3494850736304,533.49227264547972,{"$f":"Q_d!$C$11","v":0},{"$f":"Q_d!$C$12","v":0},11233.589832572825,6052.604465817868,13966.67255631471,466.60622098296102,-13500.066335331749]
[53,63.785528486399897,-148.916564201,-1581.0893347881042,522.22368168580942,{"$f":"Q_d!$C$11","v":0},{"$f":"Q_d!$C$12","v":0},11233.589832572825,6052.604465817868,13957.116958021499,466.61069644083301,-13490.506261580666]
[53,63.801896864100001,-149.297791477999,-1596.1515329257222,533.37098100449293,{"$f":"Q_d!$C$11","v":0},{"$f":"Q_d!$C$12","v":0},11233.589832572825,6052.604465817868,13966.538646546242,466.62191485291299,-13499.916731693329]
[53,63.801894948200001,-149.296329514999,-1596.0904331254583,533.33384091985772,{"$f":"Q_d!$C$11","v":0},{"$f":"Q_d!$C$12","v":0},11233.589832572825,6052.604465817868,13966.497196896224,466.62618376811997,-13499.871013128104]
[53,63.8018883023,-149.294321865999,-1596.0067559542604,533.28245962197161,{"$f":"Q_d!$C$11","v":0},{"$f":"Q_d!$C$12","v":0},11233.589832572825,6052.604465817868,13966.440635767731,466.633163477479,-13499.807472290251]
[53,63.801885728400002,-149.29176361,-1595.8997900406796,533.21754966179515,{"$f":"Q_d!$C$11","v":0},{"$f":"Q_d!$C$12","v":0},11233.589832572825,6052.604465817868,13966.368028481222,466.64205498968897,-13499.725973491533]
[53,63.706149895400003,-151.88324996,{"$f":"lcpx(B10936,C10936,63,-115,70,60)","v":-1708.8805493774962},{"$f":"lcpy(B10936,C10936,63,-115,70,60)","v":592.08197072787561},{"$f":"Q_d!$C$11","v":0},{"$f":"Q_d!$C$12","v":0},{"$f":"lcpx(F10936,G10936,63,-115,70,60)","v":11233.589832572825},{"$f":"lcpy(F10936,G10936,63,-115,70,60)","v":6052.604465817868},{"$f":"SQRT((H10936-D10936)^2+(I10936-E10936)^2)","v":14047.23622308122},466.65929685906798,-13580.576926222151]
[53,63.8018838399,-149.28539380199899,-1595.633185114488,533.05637772824639,{"$f":"Q_d!$C$11","v":0},{"$f":"Q_d!$C$12","v":0},11233.589832572825,6052.604465817868,13966.186821544805,466.66478388239199,-13499.522037662413]
[53,63.801886318500003,-149.28393270000001,-1595.5718624941017,533.01968819423246,{"$f":"Q_d!$C$11","v":0},{"$f":"Q_d!$C$12","v":0},11233.589832572825,6052.604465817868,13966.144991211679,466.67054019404299,{"$f":"K10948-J10948","v":-13499.474451017635}]
[53,63.801886232500003,-149.283750884,-1595.5642541746413,533.01508532564867,{"$f":"Q_d!$C$11","v":0},{"$f":"Q_d!$C$12","v":0},11233.589832572825,6052.604465817868,13966.139821394878,466.67133540640702,-13499.468485988471]
[53,63.801888567200002,-149.28210669800001,-1595.4952723841318,532.97375718600915,{"$f":"Q_d!$C$11","v":0},{"$f":"Q_d!$C$12","v":0},11233.589832572825,6052.604465817868,13966.09278896214,466.67708567380902,-13499.41570328833]
[53,63.8018911351,-149.280828364999,-1595.4415961260379,532.94169773901467,{"$f":"Q_d!$C$11","v":0},{"$f":"Q_d!$C$12","v":0},11233.589832572825,6052.604465817868,13966.05615311134,466.682304186691,-13499.37384892465]
[53,63.801894724999897,-149.27936834900001,-1595.3802527390712,532.90514549981526,{"$f":"Q_d!$C$11","v":0},{"$f":"Q_d!$C$12","v":0},11233.589832572825,6052.604465817868,13966.014250191323,466.68832996979899,-13499.325920221525]
[53,63.801896662300003,-149.27717649300001,-1595.288356683649,532.84994650537647,{"$f":"Q_d!$C$11","v":0},{"$f":"Q_d!$C$12","v":0},11233.589832572825,6052.604465817868,13965.951652080539,466.69604927618502,-13499.255602804355]
[53,63.801899061199897,-149.275715394,-1595.227034003676,532.81325748547943,{"$f":"Q_d!$C$11","v":0},{"$f":"Q_d!$C$12","v":0},11233.589832572825,6052.604465817868,13965.909822841519,466.70210197619599,-13499.207720865323]
[53,63.801901925000003,-149.27498441200001,-1595.1962589860857,532.79506045599464,{"$f":"Q_d!$C$11","v":0},{"$f":"Q_d!$C$12","v":0},11233.589832572825,6052.604465817868,13965.888745600716,466.705422383327,-13499.183323217389]
[53,63.8019083135,-149.272793417999,-1595.1041404964233,532.74031186808043,{"$f":"Q_d!$C$11","v":0},{"$f":"Q_d!$C$12","v":0},11233.589832572825,6052.604465817868,13965.82576623105,466.71400528053499,-13499.111760950515]
[53,63.707762752000001,-151.87313191300001,-1708.3677942653799,591.95721886742513,{"$f":"Q_d!$C$11","v":0},{"$f":"Q_d!$C$12","v":0},11233.589832572825,6052.604465817868,14046.812292136001,466.71453761480302,-13580.097754521197]
[53,63.8019101533,-149.270601558999,-1595.0122441916074,532.68511314595753,{"$f":"Q_d!$C$11","v":0},{"$f":"Q_d!$C$12","v":0},11233.589832572825,6052.604465817868,13965.763169407055,466.72261263624199,-13499.040556770813]
[53,63.8019100608999,-149.27042005800001,-1595.0046484650138,532.68051923838402,{"$f":"Q_d!$C$11","v":0},{"$f":"Q_d!$C$12","v":0},11233.589832572825,6052.604465817868,13965.75800788973,466.723185244744,-13499.034822644986]
[53,63.8019136055999,-149.269140276,-1594.9508497391914,532.64852580933575,{"$f":"Q_d!$C$11","v":0},{"$f":"Q_d!$C$12","v":0},11233.589832572825,6052.604465817868,13965.721235130319,466.72848013914899,-13498.99275499117]
[53,63.801918508900002,-149.266583604999,-1594.843496603097,532.58440792911097,{"$f":"Q_d!$C$11","v":0},{"$f":"Q_d!$C$12","v":0},11233.589832572825,6052.604465817868,13965.64796637112,466.738514245396,-13498.909452125723]
[53,63.801921952100002,-149.265123273,-1594.7821401900703,532.54784766846433,{"$f":"Q_d!$C$11","v":0},{"$f":"Q_d!$C$12","v":0},11233.589832572825,6052.604465817868,13965.606056993862,466.74383105296602,-13498.862225940895]
[53,63.801920548200002,-149.26475760100001,-1594.7669058602023,532.53847810606294,{"$f":"Q_d!$C$11","v":0},{"$f":"Q_d!$C$12","v":0},11233.589832572825,6052.604465817868,13965.595766639988,466.74580116483099,-13498.849965475158]
[53,63.787063059700003,-148.92144884300001,-1581.2076948351803,522.49206492035773,{"$f":"Q_d!$C$11","v":0},{"$f":"Q_d!$C$12","v":0},11233.589832572825,6052.604465817868,13957.119288557462,466.75179337202297,-13490.367495185439]
[53,63.801930305699898,-149.261288084,-1594.6210386740192,532.4517728885412,{"$f":"Q_d!$C$11","v":0},{"$f":"Q_d!$C$12","v":0},11233.589832572825,6052.604465817868,13965.496049565536,466.759263304971,-13498.736786260564]
[53,63.8019326955,-149.26000974799899,-1594.5673619908157,532.41971421836388,{"$f":"Q_d!$C$11","v":0},{"$f":"Q_d!$C$12","v":0},11233.589832572825,6052.604465817868,13965.45941601015,466.76461779894998,-13498.6947982112]
[53,63.801937021500002,-149.255659293999,-1594.3849015568369,532.31025860510408,{"$f":"Q_d!$C$11","v":0},{"$f":"Q_d!$C$12","v":0},11233.589832572825,6052.604465817868,13965.335080607832,466.78237402991101,-13498.552706577921]
[53,63.801940216399899,-149.252521997999,-1594.2533126707137,532.23134049397004,{"$f":"Q_d!$C$11","v":0},{"$f":"Q_d!$C$12","v":0},11233.589832572825,6052.604465817868,13965.245404280226,466.79435309459302,-13498.451051185633]
[53,63.8019413216999,-149.249782783,-1594.1385137864706,532.16228159574484,{"$f":"Q_d!$C$11","v":0},{"$f":"Q_d!$C$12","v":0},11233.589832572825,6052.604465817868,13965.167254183851,466.80519561911399,-13498.362058564737]
[53,63.801942957599898,-149.24777273999899,-1594.0542249968846,532.11168742953214,{"$f":"Q_d!$C$11","v":0},{"$f":"Q_d!$C$12","v":0},11233.589832572825,6052.604465817868,13965.109830715304,466.81265183583002,-13498.297178879475]
[53,63.801945404500003,-149.246677486999,-1594.0082072197322,532.08426787860708,{"$f":"Q_d!$C$11","v":0},{"$f":"Q_d!$C$12","v":0},11233.589832572825,6052.604465817868,13965.07840029354,466.81749847772397,-13498.260901815816]
[53,63.801946702099897,-149.244302855,-1593.908663034935,532.024441696552,{"$f":"Q_d!$C$11","v":0},{"$f":"Q_d!$C$12","v":0},11233.589832572825,6052.604465817868,13965.010614301254,466.82699549726101,-13498.183618803994]
[53,63.8019465681,-149.244121038,-1593.9010545472602,532.01983903466498,{"$f":"Q_d!$C$11","v":0},{"$f":"Q_d!$C$12","v":0},11233.589832572825,6052.604465817868,13965.00544506245,466.82701124185098,-13498.1784338206]
[53,63.8019452371,-149.24010294300001,-1593.7328128990468,531.91828203153227,{"$f":"Q_d!$C$11","v":0},{"$f":"Q_d!$C$12","v":0},11233.589832572825,6052.604465817868,13964.891055460648,466.84345557049397,-13498.047599890155]
[53,63.8019472667999,-149.23864151999899,-1593.6714763291,531.88158587865883,{"$f":"Q_d!$C$11","v":0},{"$f":"Q_d!$C$12","v":0},11233.589832572825,6052.604465817868,13964.84922238463,466.848969133487,-13498.000253251143]
[53,63.801946601799898,-149.23791108,-1593.6409151438293,531.86308578747958,{"$f":"Q_d!$C$11","v":0},{"$f":"Q_d!$C$12","v":0},11233.589832572825,6052.604465817868,13964.828464408269,466.85242775206802,-13497.9760366562]
[53,63.801947626100002,-149.23535494999899,-1593.5337748587165,531.79866665731288,{"$f":"Q_d!$C$11","v":0},{"$f":"Q_d!$C$12","v":0},11233.589832572825,6052.604465817868,13964.755519248176,466.86205491558201,-13497.893464332594]
[53,63.8019492877999,-149.233528941999,-1593.4571829063075,531.75273883770797,{"$f":"Q_d!$C$11","v":0},{"$f":"Q_d!$C$12","v":0},11233.589832572825,6052.604465817868,13964.70332404566,466.86904977306,-13497.8342742726]
[53,63.801950895600001,-149.23170198099899,-1593.3805527862785,531.70678407067635,{"$f":"Q_d!$C$11","v":0},{"$f":"Q_d!$C$12","v":0},11233.589832572825,6052.604465817868,13964.651104814649,466.876645216913,{"$f":"K11140-J11140","v":-13497.774459597736}]
[53,63.801952843599899,-149.23024055600001,-1593.3192159330299,531.67008828341113,{"$f":"Q_d!$C$11","v":0},{"$f":"Q_d!$C$12","v":0},11233.589832572825,6052.604465817868,13964.609272718058,466.883032996488,-13497.726239721571]
[53,63.801951996500001,-149.229328616,-1593.2810587583415,531.64699481912248,{"$f":"Q_d!$C$11","v":0},{"$f":"Q_d!$C$12","v":0},11233.589832572825,6052.604465817868,13964.583354309416,466.88655189135602,-13497.696802418061]
[53,63.801951709800001,-149.226771081999,-1593.1739258487551,531.58243042423328,{"$f":"Q_d!$C$11","v":0},{"$f":"Q_d!$C$12","v":0},11233.589832572825,6052.604465817868,13964.510475833351,466.896874900657,-13497.613600932695]
[53,63.7886554492,-148.92366394800001,-1581.210527141455,522.69909517650558,{"$f":"Q_d!$C$11","v":0},{"$f":"Q_d!$C$12","v":0},11233.589832572825,6052.604465817868,13957.039860499841,466.91400422133398,-13490.125856278506]
[53,63.801947243000001,-149.218004140999,-1592.8068654313033,531.36081315563388,{"$f":"Q_d!$C$11","v":0},{"$f":"Q_d!$C$12","v":0},11233.589832572825,6052.604465817868,13964.260944519556,466.93129789830903,-13497.329646621247]
[53,63.814110692,-149.77151813500001,-1615.2322050764462,546.57432755721447,{"$f":"Q_d!$C$11","v":0},{"$f":"Q_d!$C$12","v":0},11233.589832572825,6052.604465817868,13978.862458677251,466.939253232152,-13511.923205445099]
[53,63.789084131700001,-148.92590808899899,-1581.280554461948,522.79609724624243,{"$f":"Q_d!$C$11","v":0},{"$f":"Q_d!$C$12","v":0},11233.589832572825,6052.604465817868,13957.065724199536,466.94820927914401,-13490.117514920392]
[53,63.801937849200002,-149.21234300200001,-1592.5701964395309,531.21711589895676,{"$f":"Q_d!$C$11","v":0},{"$f":"Q_d!$C$12","v":0},11233.589832572825,6052.604465817868,13964.100377671266,466.95344385709302,-13497.146933814172]
[53,63.801934139499899,-149.20996910400001,-1592.4709365400445,531.15688708537027,{"$f":"Q_d!$C$11","v":0},{"$f":"Q_d!$C$12","v":0},11233.589832572825,6052.604465817868,13964.033021218018,466.962546880368,-13497.07047433765]
[53,63.801931028299897,-149.208143825999,-1592.39462934997,531.11055542455006,{"$f":"Q_d!$C$11","v":0},{"$f":"Q_d!$C$12","v":0},11233.589832572825,6052.604465817868,13963.981252493697,466.96977647916299,-13497.011476014533]
[53,63.8019272433,-149.205769613,-1592.2953565222974,531.05031810656556,{"$f":"Q_d!$C$11","v":0},{"$f":"Q_d!$C$12","v":0},11233.589832572825,6052.604465817868,13963.913888661642,466.97915518789398,-13496.934733473749]
[53,63.801923430099897,-149.20339571599899,-1592.196096268917,530.99008980549615,{"$f":"Q_d!$C$11","v":0},{"$f":"Q_d!$C$12","v":0},11233.589832572825,6052.604465817868,13963.846533454216,466.988562404905,-13496.85797104931]
[53,63.801925728800001,-149.20248196099899,-1592.1576734905691,530.96726537940822,{"$f":"Q_d!$C$11","v":0},{"$f":"Q_d!$C$12","v":0},11233.589832572825,6052.604465817868,13963.820267482579,466.99279163708701,-13496.827475845492]
[53,63.801919896199898,-149.19937781100001,-1592.0279227916083,530.88843693993749,{"$f":"Q_d!$C$11","v":0},{"$f":"Q_d!$C$12","v":0},11233.589832572825,6052.604465817868,13963.732262911906,467.005030662411,-13496.727232249496]
[53,63.801917953299899,-149.197733851999,-1591.9591397378256,530.84680073623713,{"$f":"Q_d!$C$11","v":0},{"$f":"Q_d!$C$12","v":0},11233.589832572825,6052.604465817868,13963.685550492268,467.01090403115802,-13496.67464646111]
[53,63.801911983499899,-149.19462843900001,-1591.8293379791105,530.76793716567681,{"$f":"Q_d!$C$11","v":0},{"$f":"Q_d!$C$12","v":0},11233.589832572825,6052.604465817868,13963.59751459196,467.02321816479298,-13496.574296427167]
[53,63.7898451257999,-148.924549208,-1581.1802832368605,522.83449096725144,{"$f":"Q_d!$C$11","v":0},{"$f":"Q_d!$C$12","v":0},11233.589832572825,6052.604465817868,13956.95844716206,467.03929641198198,-13489.919150750078]
[53,63.8019030532,-149.18732438999899,-1591.5237321072912,530.58295736938453,{"$f":"Q_d!$C$11","v":0},{"$f":"Q_d!$C$12","v":0},11233.589832572825,6052.604465817868,13963.389971160641,467.053169876835,-13496.336801283805]
[53,63.801896425099898,-149.183854392999,{"$f":"lcpx(B11256,C11256,63,-115,70,60)","v":-1591.3786739751267},{"$f":"lcpy(B11256,C11256,63,-115,70,60)","v":530.49486332591732},{"$f":"Q_d!$C$11","v":0},{"$f":"Q_d!$C$12","v":0},{"$f":"lcpx(F11256,G11256,63,-115,70,60)","v":11233.589832572825},{"$f":"lcpy(F11256,G11256,63,-115,70,60)","v":6052.604465817868},{"$f":"SQRT((H11256-D11256)^2+(I11256-E11256)^2)","v":13963.291576697831},467.06718530100102,-13496.22439139683]
[53,63.8018997211,-149.182940451999,-1591.3401793646233,530.47214076603541,{"$f":"Q_d!$C$11","v":0},{"$f":"Q_d!$C$12","v":0},11233.589832572825,6052.604465817868,13963.265206479329,467.07172755905401,-13496.193478920275]
[53,63.711590811500002,-151.86907758300001,-1707.9679913687539,592.2013478301883,{"$f":"Q_d!$C$11","v":0},{"$f":"Q_d!$C$12","v":0},11233.589832572825,6052.604465817868,14046.349031736077,467.07901150233602,-13579.270020233742]
[53,63.8018962931,-149.178557468999,-1591.1566644095301,530.36135185681542,{"$f":"Q_d!$C$11","v":0},{"$f":"Q_d!$C$12","v":0},11233.589832572825,6052.604465817868,13963.140467729725,467.09016173111502,-13496.050305998609]
[53,63.801889968700003,-149.175453328999,-1591.0269122032685,530.28252606346268,{"$f":"Q_d!$C$11","v":0},{"$f":"Q_d!$C$12","v":0},11233.589832572825,6052.604465817868,13963.052469166052,467.10277928631501,-13495.949689879737]
[53,63.801893721600003,-149.17490523999899,-1591.0037238770174,530.2690710348179,{"$f":"Q_d!$C$11","v":0},{"$f":"Q_d!$C$12","v":0},11233.589832572825,6052.604465817868,13963.036492848127,467.10580652032098,-13495.930686327805]
[53,63.801891371799897,-149.173991903999,-1590.9655736500786,530.24583311738115,{"$f":"Q_d!$C$11","v":0},{"$f":"Q_d!$C$12","v":0},11233.589832572825,6052.604465817868,13963.010643677197,467.10877275534,-13495.901870921856]
[53,63.801887100199899,-149.17161928300001,-1590.8663626181929,530.18564333140557,{"$f":"Q_d!$C$11","v":0},{"$f":"Q_d!$C$12","v":0},11233.589832572825,6052.604465817868,13962.943327011182,467.11856263907902,-13495.824764372102]
[53,63.801887214399898,-149.169244655,-1590.7668148787309,530.12582313899748,{"$f":"Q_d!$C$11","v":0},{"$f":"Q_d!$C$12","v":0},11233.589832572825,6052.604465817868,13962.875555553705,467.128970073576,-13495.746585480128]
[53,63.8018828274,-149.166870767999,-1590.6675528212756,530.06559795095836,{"$f":"Q_d!$C$11","v":0},{"$f":"Q_d!$C$12","v":0},11233.589832572825,6052.604465817868,13962.808207303282,467.13881712077801,-13495.669390182504]
[53,63.801885433000002,-149.16632286199899,-1590.6444358034551,530.05204173968696,{"$f":"Q_d!$C$11","v":0},{"$f":"Q_d!$C$12","v":0},11233.589832572825,6052.604465817868,13962.792337025152,467.14186783567101,-13495.650469189481]
[53,63.7123432462,-151.868917248999,-1707.9154698517209,592.26655762288783,{"$f":"Q_d!$C$11","v":0},{"$f":"Q_d!$C$12","v":0},11233.589832572825,6052.604465817868,14046.275291491114,467.15810694453302,-13579.117184546581]
[53,63.801878733099898,-149.156096112,-1590.2160887287214,529.79379529580001,{"$f":"Q_d!$C$11","v":0},{"$f":"Q_d!$C$12","v":0},11233.589832572825,6052.604465817868,13962.501065698832,467.18511261597303,-13495.31595308286]
[53,63.8018821333999,-149.155364934999,-1590.1852404860269,529.77570262839345,{"$f":"Q_d!$C$11","v":0},{"$f":"Q_d!$C$12","v":0},11233.589832572825,6052.604465817868,13962.479889758786,467.18887844746399,-13495.291011311323]
[53,63.801882794500003,-149.153537975999,-1590.1086074385039,529.72975279884622,{"$f":"Q_d!$C$11","v":0},{"$f":"Q_d!$C$12","v":0},11233.589832572825,6052.604465817868,13962.42768203488,467.19720261362801,-13495.230479421252]
[53,63.801880875400002,-149.15299049500001,-1590.085763492199,529.71578247631032,{"$f":"Q_d!$C$11","v":0},{"$f":"Q_d!$C$12","v":0},11233.589832572825,6052.604465817868,13962.412227179653,467.19948273194802,-13495.212744447705]
[53,63.801884410200003,-149.15006936,-1589.9630897430732,529.64255401485343,{"$f":"Q_d!$C$11","v":0},{"$f":"Q_d!$C$12","v":0},11233.589832572825,6052.604465817868,13962.328524664625,467.212620433138,-13495.115904231487]
[53,63.8018858585,-149.14879101700001,-1589.9094099920439,529.61050030304114,{"$f":"Q_d!$C$11","v":0},{"$f":"Q_d!$C$12","v":0},11233.589832572825,6052.604465817868,13962.291902376735,467.21870048190499,-13495.073201894831]
[53,63.8018847576,-149.148060581999,-1589.8788475156234,529.59200240912924,{"$f":"Q_d!$C$11","v":0},{"$f":"Q_d!$C$12","v":0},11233.589832572825,6052.604465817868,13962.271149787117,467.22249346216199,-13495.048656324954]
[53,63.801885614200003,-149.146416391,-1589.8098611571386,529.55068210724994,{"$f":"Q_d!$C$11","v":0},{"$f":"Q_d!$C$12","v":0},11233.589832572825,6052.604465817868,13962.224135248434,467.22938434991403,-13494.994750898521]
[53,63.801890092500003,-149.14422410700001,-1589.7176861749588,529.49590728105659,{"$f":"Q_d!$C$11","v":0},{"$f":"Q_d!$C$12","v":0},11233.589832572825,6052.604465817868,13962.161146103279,467.23940030887798,-13494.921745794401]
[53,63.801889837799898,-149.144042288999,-1589.7100772275962,529.49130518705306,{"$f":"Q_d!$C$11","v":0},{"$f":"Q_d!$C$12","v":0},11233.589832572825,6052.604465817868,13962.155978280032,467.24031242391698,-13494.915665856115]
[53,63.8018884021999,-149.141667845999,-1589.6105995197493,529.43138594840866,{"$f":"Q_d!$C$11","v":0},{"$f":"Q_d!$C$12","v":0},11233.589832572825,6052.604465817868,13962.088317720019,467.25105366815302,-13494.837264051866]
[53,63.714055791200003,-151.86130317000001,-1707.4991940071657,592.21891282506158,{"$f":"Q_d!$C$11","v":0},{"$f":"Q_d!$C$12","v":0},11233.589832572825,6052.604465817868,14045.910279551183,467.25383147492698,{"$f":"K11396-J11396","v":-13578.656448076255}]
[53,63.801893113200002,-149.13965864400001,-1589.5260839620846,529.38124933576728,{"$f":"Q_d!$C$11","v":0},{"$f":"Q_d!$C$12","v":0},11233.589832572825,6052.604465817868,13962.030529546115,467.26042112081302,-13494.770108425302]
[53,63.8018930596999,-149.137468052,-1589.4342325055832,529.3260965505292,{"$f":"Q_d!$C$11","v":0},{"$f":"Q_d!$C$12","v":0},11233.589832572825,6052.604465817868,13961.967988718368,467.27051202595698,-13494.697476692412]
[53,63.801893248900001,-149.135459591,-1589.3500025297881,529.27555472846188,{"$f":"Q_d!$C$11","v":0},{"$f":"Q_d!$C$12","v":0},11233.589832572825,6052.604465817868,13961.910624077836,467.27911595747503,-13494.631508120361]
[53,63.801896549600002,-149.13472841199899,-1589.3191539862999,529.25746264363852,{"$f":"Q_d!$C$11","v":0},{"$f":"Q_d!$C$12","v":0},11233.589832572825,6052.604465817868,13961.889449320694,467.28295843631997,-13494.606490884373]
[53,63.801897259100002,-149.133084217,-1589.2501671526286,529.21614285439364,{"$f":"Q_d!$C$11","v":0},{"$f":"Q_d!$C$12","v":0},11233.589832572825,6052.604465817868,13961.842436613024,467.29076694174,-13494.551669671284]
[53,63.801894708699898,-149.13217247,-1589.2120796167408,529.19295115669411,{"$f":"Q_d!$C$11","v":0},{"$f":"Q_d!$C$12","v":0},11233.589832572825,6052.604465817868,13961.816631067177,467.29392863699798,-13494.522702430178]
[53,63.8018950786999,-149.13034519300001,-1589.135432991066,529.14699384603136,{"$f":"Q_d!$C$11","v":0},{"$f":"Q_d!$C$12","v":0},11233.589832572825,6052.604465817868,13961.764418611714,467.30327433584199,-13494.461144275872]
[53,63.801880563700003,-149.123415184999,-1588.8456434307752,528.97120727186621,{"$f":"Q_d!$C$11","v":0},{"$f":"Q_d!$C$12","v":0},11233.589832572825,6052.604465817868,13961.56781708957,467.333373609246,-13494.234443480324]
[53,63.8018731258,-149.122319836,-1588.8001310384734,528.94293693206191,{"$f":"Q_d!$C$11","v":0},{"$f":"Q_d!$C$12","v":0},11233.589832572825,6052.604465817868,13961.537202780102,467.33670558281602,-13494.200497197286]
[53,63.8018641221,-149.120310966999,-1588.7163957323517,528.89153172544638,{"$f":"Q_d!$C$11","v":0},{"$f":"Q_d!$C$12","v":0},11233.589832572825,6052.604465817868,13961.480637478737,467.34546415473,-13494.135173324006]
[53,63.801860812199898,-149.119032105,-1588.6629502665453,528.85903821815327,{"$f":"Q_d!$C$11","v":0},{"$f":"Q_d!$C$12","v":0},11233.589832572825,6052.604465817868,13961.444408654885,467.35173798114801,-13494.092670673737]
[53,63.8018476178,-149.117206753,-1588.5871477811868,528.81185663182532,{"$f":"Q_d!$C$11","v":0},{"$f":"Q_d!$C$12","v":0},11233.589832572825,6052.604465817868,13961.393458563463,467.35760368801101,-13494.035854875452]
[53,63.801836919899898,-149.11428342400001,-1588.4651514714849,528.73729029002743,{"$f":"Q_d!$C$11","v":0},{"$f":"Q_d!$C$12","v":0},11233.589832572825,6052.604465817868,13961.310919348851,467.37046447652199,-13493.940454872329]
[53,63.801830061700002,-149.11355360799899,-1588.4349328860314,528.71827768556568,{"$f":"Q_d!$C$11","v":0},{"$f":"Q_d!$C$12","v":0},11233.589832572825,6052.604465817868,13961.290689097448,467.37358097457701,-13493.917108122871]
[53,63.818110691900003,-149.77151813699899,-1615.0003128232033,546.95193930174491,{"$f":"Q_d!$C$11","v":0},{"$f":"Q_d!$C$12","v":0},11233.589832572825,6052.604465817868,13978.500580073005,467.38186849085099,-13511.118711582154]
[53,63.793197749999898,-148.928395897999,-1581.1518542006581,523.24989769752938,{"$f":"Q_d!$C$11","v":0},{"$f":"Q_d!$C$12","v":0},11233.589832572825,6052.604465817868,13956.767764734188,467.38597476282899,-13489.381789971359]
[53,63.801803638400003,-149.108076277999,-1588.2067054310066,528.57797725819592,{"$f":"Q_d!$C$11","v":0},{"$f":"Q_d!$C$12","v":0},11233.589832572825,6052.604465817868,13961.136598009343,467.39638101401601,-13493.740216995328]
[53,63.801792764399899,-149.10515295600001,-1588.0847084726952,528.5034118880867,{"$f":"Q_d!$C$11","v":0},{"$f":"Q_d!$C$12","v":0},11233.589832572825,6052.604465817868,13961.054060869579,467.408572940206,-13493.645487929372]
[53,63.801785527500002,-149.104240379,-1588.0468427245271,528.47977081135195,{"$f":"Q_d!$C$11","v":0},{"$f":"Q_d!$C$12","v":0},11233.589832572825,6052.604465817868,13961.028639728198,467.411865243063,-13493.616774485135]
[53,63.801776283099898,-149.10223152200001,-1587.963106653149,528.42836685784823,{"$f":"Q_d!$C$11","v":0},{"$f":"Q_d!$C$12","v":0},11233.589832572825,6052.604465817868,13960.97207739115,467.42021372636401,-13493.551863664787]
[53,63.8017602225,-149.098945641,-1587.8261897639334,528.34420200841578,{"$f":"Q_d!$C$11","v":0},{"$f":"Q_d!$C$12","v":0},11233.589832572825,6052.604465817868,13960.879638480443,467.43418309426198,-13493.445455386181]
[53,63.801757372600001,-149.098031050999,-1587.7879873088989,528.32093084209055,{"$f":"Q_d!$C$11","v":0},{"$f":"Q_d!$C$12","v":0},11233.589832572825,6052.604465817868,13960.853762394314,467.43750435432497,-13493.41625803999]
[53,63.801746092499897,-149.09148665000001,-1587.5140985214398,528.15529465458803,{"$f":"Q_d!$C$11","v":0},{"$f":"Q_d!$C$12","v":0},11233.589832572825,6052.604465817868,13960.667772591949,467.46804811665999,-13493.199724475289]
[53,63.801749231099897,-149.090757056,-1587.4833129468093,528.13724841060593,{"$f":"Q_d!$C$11","v":0},{"$f":"Q_d!$C$12","v":0},11233.589832572825,6052.604465817868,13960.646641147116,467.47205392087301,-13493.174587226242]
[53,63.801753967499899,-149.089113384999,-1587.4140896403151,528.09637228643305,{"$f":"Q_d!$C$11","v":0},{"$f":"Q_d!$C$12","v":0},11233.589832572825,6052.604465817868,13960.599243904218,467.48022848993298,-13493.119015414286]
[53,63.8017572997,-149.086739604,-1587.3143156202868,528.03700903478011,{"$f":"Q_d!$C$11","v":0},{"$f":"Q_d!$C$12","v":0},11233.589832572825,6052.604465817868,13960.531106003888,467.49243738268098,-13493.038668621206]
[53,63.8017610437999,-149.08637300300001,-1587.2987226590553,528.02814834079754,{"$f":"Q_d!$C$11","v":0},{"$f":"Q_d!$C$12","v":0},11233.589832572825,6052.604465817868,13960.520292356741,467.49474675658098,-13493.02554560016]
[53,63.801762002799897,-149.085096249999,-1587.245104928237,527.99614213206496,{"$f":"Q_d!$C$11","v":0},{"$f":"Q_d!$C$12","v":0},11233.589832572825,6052.604465817868,13960.483717435665,467.50064530864501,-13492.983072127021]
[53,63.7168167901999,-151.85805733199899,-1707.1977257942508,592.38636168662015,{"$f":"Q_d!$C$11","v":0},{"$f":"Q_d!$C$12","v":0},11233.589832572825,6052.604465817868,14045.56742803475,467.51433689246301,-13578.053091142287]
[53,63.801767890500003,-149.082356051,-1587.1298089955285,527.92781719342429,{"$f":"Q_d!$C$11","v":0},{"$f":"Q_d!$C$12","v":0},11233.589832572825,6052.604465817868,13960.404872336359,467.51441670284299,-13492.890455633516]
[53,63.801772536100003,-149.08071238100001,-1587.0605855087863,527.88694170425197,{"$f":"Q_d!$C$11","v":0},{"$f":"Q_d!$C$12","v":0},11233.589832572825,6052.604465817868,13960.357476221885,467.52266119301601,-13492.834815028869]
[53,63.801775622000001,-149.079982784999,-1587.0297998006831,527.8688956728688,{"$f":"Q_d!$C$11","v":0},{"$f":"Q_d!$C$12","v":0},11233.589832572825,6052.604465817868,13960.33634544764,467.52670698902301,-13492.809638458617]
[53,63.801776476199898,-149.07870444599899,-1586.9761182842776,527.83684508390934,{"$f":"Q_d!$C$11","v":0},{"$f":"Q_d!$C$12","v":0},11233.589832572825,6052.604465817868,13960.299730427956,467.53264658310201,-13492.767083844854]
[53,63.801784108900002,-149.07632990600001,-1586.8760578849731,527.77788795626248,{"$f":"Q_d!$C$11","v":0},{"$f":"Q_d!$C$12","v":0},11233.589832572825,6052.604465817868,13960.231171575842,467.54498059758902,-13492.686190978253]
[53,63.8017845518999,-149.07486848600001,-1586.8147164348929,527.74120009490071,{"$f":"Q_d!$C$11","v":0},{"$f":"Q_d!$C$12","v":0},11233.589832572825,6052.604465817868,13960.189357782825,467.553107308677,-13492.636250474148]
[53,63.801788318699899,-149.07450346900001,-1586.7991869906843,527.73238430883566,{"$f":"Q_d!$C$11","v":0},{"$f":"Q_d!$C$12","v":0},11233.589832572825,6052.604465817868,13960.178585175139,467.55484217362101,-13492.623743001519]
[53,63.801792165599899,-149.072495212999,-1586.7147067247427,527.6822790990168,{"$f":"Q_d!$C$11","v":0},{"$f":"Q_d!$C$12","v":0},11233.589832572825,6052.604465817868,13960.120832200273,467.56548741860701,-13492.555344781666]
[53,63.801796672800002,-149.07085058800001,-1586.6454447227093,527.64137730492575,{"$f":"Q_d!$C$11","v":0},{"$f":"Q_d!$C$12","v":0},11233.589832572825,6052.604465817868,13960.073412938895,467.57381373318998,-13492.499599205705]
[53,63.794996721399897,-148.92963108199899,-1581.1017471448042,523.4520359625576,{"$f":"Q_d!$C$11","v":0},{"$f":"Q_d!$C$12","v":0},11233.589832572825,6052.604465817868,13956.641676128997,467.57741234152797,-13489.064263787468]
[53,63.8017974905,-149.06957351400001,-1586.5918137673095,527.60936282423199,{"$f":"Q_d!$C$11","v":0},{"$f":"Q_d!$C$12","v":0},11233.589832572825,6052.604465817868,13960.036831371903,467.580409218564,-13492.456422153338]
[53,63.717506977600003,-151.857929595999,-1707.1503522934634,592.44670857352367,{"$f":"Q_d!$C$11","v":0},{"$f":"Q_d!$C$12","v":0},11233.589832572825,6052.604465817868,14045.500320964318,467.58673138680899,-13577.913589577509]
[53,63.801807568599898,-149.06628502199899,-1586.4532562150628,527.5276876185535,{"$f":"Q_d!$C$11","v":0},{"$f":"Q_d!$C$12","v":0},11233.589832572825,6052.604465817868,13959.941912607495,467.597124046972,-13492.344788560524]
[53,63.8018083475,-149.06500794799899,-1586.3996251739811,527.49567334081758,{"$f":"Q_d!$C$11","v":0},{"$f":"Q_d!$C$12","v":0},11233.589832572825,6052.604465817868,13959.905331535972,467.603749177655,-13492.301582358317]
[53,63.801814170900002,-149.061934839999,-1586.2703418519736,527.41901506367594,{"$f":"Q_d!$C$11","v":0},{"$f":"Q_d!$C$12","v":0},11233.589832572825,6052.604465817868,13959.816945684812,467.61996580342799,-13492.196979881384]
[53,63.801804937199897,-149.05700378200001,-1586.063945347408,527.29425776258267,{"$f":"Q_d!$C$11","v":0},{"$f":"Q_d!$C$12","v":0},11233.589832572825,6052.604465817868,13959.676782826473,467.64364614522401,-13492.03313668125]
[53,63.8018045771,-149.05682196800001,-1586.056336191798,527.28965625210594,{"$f":"Q_d!$C$11","v":0},{"$f":"Q_d!$C$12","v":0},11233.589832572825,6052.604465817868,13959.671616378668,467.64382986413898,-13492.027786514529]
[53,63.801802095699898,-149.054081819,-1585.9414881239134,527.22058877891641,{"$f":"Q_d!$C$11","v":0},{"$f":"Q_d!$C$12","v":0},11233.589832572825,6052.604465817868,13959.593485161618,467.65739755936698,-13491.936087602251]
[53,63.801799243399898,-149.05170739100001,-1585.8420060591732,527.16067685968983,{"$f":"Q_d!$C$11","v":0},{"$f":"Q_d!$C$12","v":0},11233.589832572825,6052.604465817868,13959.525841885472,467.66862757833098,-13491.857214307141]
[53,63.8017973052999,-149.050795147,-1585.8038328368016,527.13757991261082,{"$f":"Q_d!$C$11","v":0},{"$f":"Q_d!$C$12","v":0},11233.589832572825,6052.604465817868,13959.499928578387,467.67356888859899,-13491.826359689789]
[53,63.801788763600001,-149.047874132,-1585.6817323923556,527.06340488894193,{"$f":"Q_d!$C$11","v":0},{"$f":"Q_d!$C$12","v":0},11233.589832572825,6052.604465817868,13959.417160910994,467.68741208738902,-13491.729748823605]
[53,63.801787302199898,-149.045681333999,-1585.5897880170517,527.00819624226369,{"$f":"Q_d!$C$11","v":0},{"$f":"Q_d!$C$12","v":0},11233.589832572825,6052.604465817868,13959.354579610572,467.69852271308201,-13491.656056897489]
[53,63.801785702799897,-149.04495090500001,-1585.5592238724682,526.98970098057998,{"$f":"Q_d!$C$11","v":0},{"$f":"Q_d!$C$12","v":0},11233.589832572825,6052.604465817868,13959.333832986087,467.70129840850302,-13491.632534577584]
[53,63.801781501000001,-149.04202881800001,-1585.4368246713238,526.91592289114124,{"$f":"Q_d!$C$11","v":0},{"$f":"Q_d!$C$12","v":0},11233.589832572825,6052.604465817868,13959.250635781556,467.715827572683,-13491.534808208873]
[53,63.801781133299897,-149.04184731999899,-1585.4292281129106,526.91133039409306,{"$f":"Q_d!$C$11","v":0},{"$f":"Q_d!$C$12","v":0},11233.589832572825,6052.604465817868,13959.245477642897,467.71682489407999,-13491.528652748817]
[53,63.801774318,-149.039290381,-1585.3222995855426,526.84647827976414,{"$f":"Q_d!$C$11","v":0},{"$f":"Q_d!$C$12","v":0},11233.589832572825,6052.604465817868,13959.172955044227,467.72900083809202,-13491.443954206135]
[53,63.801775208700001,-149.03819385700001,-1585.2762264013973,526.81903080231086,{"$f":"Q_d!$C$11","v":0},{"$f":"Q_d!$C$12","v":0},11233.589832572825,6052.604465817868,13959.141510556849,467.735000668113,-13491.406509888735]
[53,63.801773572800002,-149.03746342900001,-1585.2456621681401,526.80053571237522,{"$f":"Q_d!$C$11","v":0},{"$f":"Q_d!$C$12","v":0},11233.589832572825,6052.604465817868,13959.120764403471,467.738404003776,-13491.382360399695]
[53,63.719139481900001,-151.85666549600001,-1706.9989272689204,592.56343997291242,{"$f":"Q_d!$C$11","v":0},{"$f":"Q_d!$C$12","v":0},11233.589832572825,6052.604465817868,14045.315427403279,467.74840738371302,-13577.567020019565]
[53,63.801768807800002,-149.034358577999,-1585.1156150385659,526.72213013794317,{"$f":"Q_d!$C$11","v":0},{"$f":"Q_d!$C$12","v":0},11233.589832572825,6052.604465817868,13959.032378370694,467.75404804234398,-13491.27833032835]
[53,63.801766047599898,-149.03362866000001,-1585.0851350159587,526.7035428117947,{"$f":"Q_d!$C$11","v":0},{"$f":"Q_d!$C$12","v":0},11233.589832572825,6052.604465817868,13959.011746379709,467.75686542583202,-13491.254880953877]
[53,63.720897264800001,-151.842403023,-1706.3078222241868,592.34041948420145,{"$f":"Q_d!$C$11","v":0},{"$f":"Q_d!$C$12","v":0},11233.589832572825,6052.604465817868,14044.765386872979,467.77403790291697,-13576.991348970063]
[53,63.719792152300002,-151.852888938999,-1706.8044997771747,592.52167704254543,{"$f":"Q_d!$C$11","v":0},{"$f":"Q_d!$C$12","v":0},11233.589832572825,6052.604465817868,14045.152528078735,467.77486819409103,{"$f":"K11780-J11780","v":-13577.377659884645}]
[53,63.7211021034,-151.84224152799899,-1706.2887082992536,592.35499337526244,{"$f":"Q_d!$C$11","v":0},{"$f":"Q_d!$C$12","v":0},11233.589832572825,6052.604465817868,14044.742110620309,467.79462147613401,-13576.947489144175]
[53,63.801752050399898,-149.02413243000001,-1584.6873244008439,526.46383728323417,{"$f":"Q_d!$C$11","v":0},{"$f":"Q_d!$C$12","v":0},11233.589832572825,6052.604465817868,13958.741330053155,467.80413849067202,-13490.937191562483]
[53,63.801750347099897,-149.023402003999,-1584.6567599394809,526.44534262701791,{"$f":"Q_d!$C$11","v":0},{"$f":"Q_d!$C$12","v":0},11233.589832572825,6052.604465817868,13958.720584683926,467.80839385586,-13490.912190828067]
[53,63.7971371394,-148.92857518700001,-1580.9359941717078,523.62929647957935,{"$f":"Q_d!$C$11","v":0},{"$f":"Q_d!$C$12","v":0},11233.589832572825,6052.604465817868,13956.419260951645,467.81829409504701,-13488.600966856598]
[53,63.801744017200001,-149.01974981500001,-1584.5038076208423,526.35308106991988,{"$f":"Q_d!$C$11","v":0},{"$f":"Q_d!$C$12","v":0},11233.589832572825,6052.604465817868,13958.616655535818,467.82691051819501,-13490.789745017622]
[53,63.801744369700003,-149.018471793,-1584.4501373177716,526.32104192036559,{"$f":"Q_d!$C$11","v":0},{"$f":"Q_d!$C$12","v":0},11233.589832572825,6052.604465817868,13958.580054968243,467.83323609380199,-13490.746818874441]
[53,63.801742513699899,-149.01627994699899,-1584.3582294902701,526.26586237578749,{"$f":"Q_d!$C$11","v":0},{"$f":"Q_d!$C$12","v":0},11233.589832572825,6052.604465817868,13958.517503003004,467.84387396010601,-13490.673629042898]
[53,63.801739255800001,-149.015368214999,-1584.3201397457526,526.24267415183613,{"$f":"Q_d!$C$11","v":0},{"$f":"Q_d!$C$12","v":0},11233.589832572825,6052.604465817868,13958.491706156872,467.84837918389701,-13490.643326972975]
[53,63.801737365199898,-149.01317668900001,-1584.2282445897661,526.18750385417434,{"$f":"Q_d!$C$11","v":0},{"$f":"Q_d!$C$12","v":0},11233.589832572825,6052.604465817868,13958.4291629365,467.85985012821902,-13490.56931280828]
[53,63.801735845899898,-149.01116665699899,-1584.1439459547985,526.13692577513211,{"$f":"Q_d!$C$11","v":0},{"$f":"Q_d!$C$12","v":0},11233.589832572825,6052.604465817868,13958.371777838347,467.87032235011401,-13490.501455488233]
[53,63.801731192699897,-149.00970600100001,-1584.0828882592016,526.09983571874,{"$f":"Q_d!$C$11","v":0},{"$f":"Q_d!$C$12","v":0},11233.589832572825,6052.604465817868,13958.33039460195,467.87753123440302,-13490.452863367547]
[53,63.798157215899899,-148.93594512300001,-1581.1878252054717,523.91092693461269,{"$f":"Q_d!$C$11","v":0},{"$f":"Q_d!$C$12","v":0},11233.589832572825,6052.604465817868,13956.538921422576,467.88836296278998,-13488.650558459785]
[53,63.801729047999899,-149.00605463599899,-1583.9297125976193,526.00802596105768,{"$f":"Q_d!$C$11","v":0},{"$f":"Q_d!$C$12","v":0},11233.589832572825,6052.604465817868,13958.226087145325,467.89709884546198,-13490.328988299863]
[53,63.801724757700001,-149.00477547899899,-1583.8762514812015,525.97552843130734,{"$f":"Q_d!$C$11","v":0},{"$f":"Q_d!$C$12","v":0},11233.589832572825,6052.604465817868,13958.189862135914,467.90271420670302,-13490.287147929212]
[53,63.801723635800002,-149.002949798999,-1583.799663633662,525.92962376683136,{"$f":"Q_d!$C$11","v":0},{"$f":"Q_d!$C$12","v":0},11233.589832572825,6052.604465817868,13958.137709136712,467.91243746346299,-13490.225271673249]
[53,63.798689746599898,-148.937011173,-1581.2024122851487,523.98830135234584,{"$f":"Q_d!$C$11","v":0},{"$f":"Q_d!$C$12","v":0},11233.589832572825,6052.604465817868,13956.521664543123,467.94113004629099,-13488.580534496832]
[53,63.801673551100002,-148.992055948999,-1583.3451002887889,525.65162925385266,{"$f":"Q_d!$C$11","v":0},{"$f":"Q_d!$C$12","v":0},11233.589832572825,6052.604465817868,13957.830373335655,467.96470859350001,-13489.865664742156]
[53,63.801654846399899,-148.98913364800001,{"$f":"lcpx(B11896,C11896,63,-115,70,60)","v":-1583.2234535946013},{"$f":"lcpy(B11896,C11896,63,-115,70,60)","v":525.57656863422653},{"$f":"Q_d!$C$11","v":0},{"$f":"Q_d!$C$12","v":0},{"$f":"lcpx(F11896,G11896,63,-115,70,60)","v":11233.589832572825},{"$f":"lcpy(F11896,G11896,63,-115,70,60)","v":6052.604465817868},{"$f":"SQRT((H11896-D11896)^2+(I11896-E11896)^2)","v":13957.748392513889},467.97862205019499,-13489.769770463694]
[53,63.801653447299898,-148.988585989999,-1583.200536192777,525.56270275148108,{"$f":"Q_d!$C$11","v":0},{"$f":"Q_d!$C$12","v":0},11233.589832572825,6052.604465817868,13957.732839095421,467.981360980327,-13489.751478115093]
[53,63.722890952100002,-151.843061836999,-1706.213093088603,592.54254846940376,{"$f":"Q_d!$C$11","v":0},{"$f":"Q_d!$C$12","v":0},11233.589832572825,6052.604465817868,14044.5995277984,467.99599035889099,{"$f":"K11908-J11908","v":-13576.603537439509}]
[53,63.801628799299898,-148.98511680300001,-1583.0562576024599,525.47337125176182,{"$f":"Q_d!$C$11","v":0},{"$f":"Q_d!$C$12","v":0},11233.589832572825,6052.604465817868,13957.63572878032,467.99747017478597,-13489.638258605535]
[53,63.801614467,-148.982195007999,-1582.9343754083125,525.39875247680084,{"$f":"Q_d!$C$11","v":0},{"$f":"Q_d!$C$12","v":0},11233.589832572825,6052.604465817868,13957.553359072523,468.01148651822598,-13489.541872554297]
[53,63.801599626600002,-148.980370053,-1582.8585803097358,525.35158826283805,{"$f":"Q_d!$C$11","v":0},{"$f":"Q_d!$C$12","v":0},11233.589832572825,6052.604465817868,13957.502437489318,468.02001801846001,-13489.482419470858]
[53,63.799483461999898,-148.938095567,-1581.2029529302395,524.0909893856101,{"$f":"Q_d!$C$11","v":0},{"$f":"Q_d!$C$12","v":0},11233.589832572825,6052.604465817868,13956.481483327898,468.02287150309201,-13488.458611824806]
[53,63.801579752000002,-148.97708319,-1582.7216756782507,525.26729988460829,{"$f":"Q_d!$C$11","v":0},{"$f":"Q_d!$C$12","v":0},11233.589832572825,6052.604465817868,13957.410104401035,468.03601602547599,-13489.374088375558]
[53,63.8015647621,-148.97397832600001,-1582.5921327068397,525.18804516968794,{"$f":"Q_d!$C$11","v":0},{"$f":"Q_d!$C$12","v":0},11233.589832572825,6052.604465817868,13957.322538882981,468.05120530664101,-13489.27133357634]
[53,63.801558843800002,-148.973431438999,-1582.5695008631142,525.17377416362024,{"$f":"Q_d!$C$11","v":0},{"$f":"Q_d!$C$12","v":0},11233.589832572825,6052.604465817868,13957.307409062052,468.053190516847,-13489.254218545206]
[53,63.8015483191,-148.971604458999,-1582.4933690050266,525.1269801784315,{"$f":"Q_d!$C$11","v":0},{"$f":"Q_d!$C$12","v":0},11233.589832572825,6052.604465817868,13957.256033476524,468.06259890852198,-13489.193434568002]
[53,63.8015368517,-148.969414169,-1582.4020305803947,525.07099312874425,{"$f":"Q_d!$C$11","v":0},{"$f":"Q_d!$C$12","v":0},11233.589832572825,6052.604465817868,13957.194335829397,468.07315331046198,-13489.121182518935]
[53,63.8015363548,-148.96923140499899,-1582.3943828417837,525.06636531127515,{"$f":"Q_d!$C$11","v":0},{"$f":"Q_d!$C$12","v":0},11233.589832572825,6052.604465817868,13957.18914618228,468.07402112165897,-13489.11512506062]
[53,63.824547052600003,-149.77951814400001,-1614.960309325591,547.76415526657138,{"$f":"Q_d!$C$11","v":0},{"$f":"Q_d!$C$12","v":0},11233.589832572825,6052.604465817868,13978.14392519795,468.08940220111799,-13510.054522996832]
[53,63.8015109782,-148.963204321999,-1582.1426829458348,524.91290894232998,{"$f":"Q_d!$C$11","v":0},{"$f":"Q_d!$C$12","v":0},11233.589832572825,6052.604465817868,13957.018802641032,468.10423708934701,-13488.914565551686]
[53,63.801508328899899,-148.961012815999,-1582.0507853875506,524.85774245523999,{"$f":"Q_d!$C$11","v":0},{"$f":"Q_d!$C$12","v":0},11233.589832572825,6052.604465817868,13956.95626869849,468.11628607644002,-13488.83998262205]
[53,63.723913183000001,-151.844693003,-1706.2174565930056,592.68113702576329,{"$f":"Q_d!$C$11","v":0},{"$f":"Q_d!$C$12","v":0},11233.589832572825,6052.604465817868,14044.549670140279,468.12528197588301,-13576.424388164396]
[53,63.801501009900001,-148.95754375000001,-1581.9054886742852,524.77012528475825,{"$f":"Q_d!$C$11","v":0},{"$f":"Q_d!$C$12","v":0},11233.589832572825,6052.604465817868,13956.857555527451,468.135074951663,-13488.722480575789]
[53,63.8014978665,-148.95681353000001,-1581.8749948273937,524.75153085383681,{"$f":"Q_d!$C$11","v":0},{"$f":"Q_d!$C$12","v":0},11233.589832572825,6052.604465817868,13956.836920051857,468.13817497508097,-13488.698745076776]
[53,63.800390550099898,-148.93322007800001,-1580.9466604648105,524.05521999612347,{"$f":"Q_d!$C$11","v":0},{"$f":"Q_d!$C$12","v":0},11233.589832572825,6052.604465817868,13956.260326279009,468.15009917973902,-13488.110227099271]
[53,63.801493557100002,-148.95407310300001,-1581.7601282910798,524.68246373620104,{"$f":"Q_d!$C$11","v":0},{"$f":"Q_d!$C$12","v":0},11233.589832572825,6052.604465817868,13956.758802835027,468.15312946193097,-13488.605673373097]
[53,63.801487358400003,-148.95224821100001,-1581.6838241454418,524.6361569047699,{"$f":"Q_d!$C$11","v":0},{"$f":"Q_d!$C$12","v":0},11233.589832572825,6052.604465817868,13956.707080143393,468.16332258732098,-13488.543757556072]
[53,63.800579238700003,-148.93332738800001,-1580.9404676266483,524.07586351787131,{"$f":"Q_d!$C$11","v":0},{"$f":"Q_d!$C$12","v":0},11233.589832572825,6052.604465817868,13956.246462469038,468.169618888282,-13488.076843580757]
[53,63.8014850697,-148.95023947000001,-1581.5995738712907,524.58561887800033,{"$f":"Q_d!$C$11","v":0},{"$f":"Q_d!$C$12","v":0},11233.589832572825,6052.604465817868,13956.649737496455,468.17381170351598,{"$f":"K12036-J12036","v":-13488.475925792938}]
[53,63.801481596000002,-148.94822965500001,-1581.5153441001255,524.53494387093406,{"$f":"Q_d!$C$11","v":0},{"$f":"Q_d!$C$12","v":0},11233.589832572825,6052.604465817868,13956.592468388137,468.18432121120799,-13488.40814717693]
[53,63.801479524999898,-148.947499241,-1581.4847784954354,524.51645110762411,{"$f":"Q_d!$C$11","v":0},{"$f":"Q_d!$C$12","v":0},11233.589832572825,6052.604465817868,13956.571727527837,468.18885730973898,-13488.382870218098]
[53,63.801478729800003,-148.94603815100001,-1581.4234457529733,524.47977853462999,{"$f":"Q_d!$C$11","v":0},{"$f":"Q_d!$C$12","v":0},11233.589832572825,6052.604465817868,13956.529936979927,468.19653574647401,-13488.333401233453]
[53,63.801471894199899,-148.94403018200001,-1581.3394808647556,524.4288354535779,{"$f":"Q_d!$C$11","v":0},{"$f":"Q_d!$C$12","v":0},11233.589832572825,6052.604465817868,13956.473018229046,468.207087866042,-13488.265930363004]
[53,63.801472664000002,-148.943117696,-1581.3011040724646,524.40605498550167,{"$f":"Q_d!$C$11","v":0},{"$f":"Q_d!$C$12","v":0},11233.589832572825,6052.604465817868,13956.44680381232,468.21271885329998,-13488.23408495902]
[53,63.725215398400003,-151.84257954200001,-1706.0514675590866,592.74442033110017,{"$f":"Q_d!$C$11","v":0},{"$f":"Q_d!$C$12","v":0},11233.589832572825,6052.604465817868,14044.372135926273,468.24115859245001,-13576.130977333823]
[53,63.8014537984999,-148.93685397799899,-1581.039029280771,524.24739637330276,{"$f":"Q_d!$C$11","v":0},{"$f":"Q_d!$C$12","v":0},11233.589832572825,6052.604465817868,13956.269012681323,468.24584739749599,-13488.023165283827]
[53,63.7261699325,-151.839650057,-1705.8733087444516,592.75351868497773,{"$f":"Q_d!$C$11","v":0},{"$f":"Q_d!$C$12","v":0},11233.589832572825,6052.604465817868,14044.204454166005,468.31042647479001,-13575.894027691214]
[53,63.727281921500001,-151.837861846999,-1705.7322532383487,592.80801854302172,{"$f":"Q_d!$C$11","v":0},{"$f":"Q_d!$C$12","v":0},11233.589832572825,6052.604465817868,14044.053306863936,468.41032041256301,-13575.642986451374]
[53,63.728324435300003,-151.83848475400001,-1705.6941174710619,592.92123605281631,{"$f":"Q_d!$C$11","v":0},{"$f":"Q_d!$C$12","v":0},11233.589832572825,6052.604465817868,14043.974156528524,468.52950245848899,-13575.444654070036]
[53,63.730114982700002,-151.841292068999,-1705.6997119836758,593.16262519729753,{"$f":"Q_d!$C$11","v":0},{"$f":"Q_d!$C$12","v":0},11233.589832572825,6052.604465817868,14043.885471228668,468.75426707391102,-13575.131204154757]
[53,63.731686271000001,-151.840840426,-1705.5853227632631,593.29569854079409,{"$f":"Q_d!$C$11","v":0},{"$f":"Q_d!$C$12","v":0},11233.589832572825,6052.604465817868,14043.728348160792,468.91822859108299,-13574.810119569709]
[53,63.731787605999898,-151.84064510799899,-1705.5711454005491,593.29979130877837,{"$f":"Q_d!$C$11","v":0},{"$f":"Q_d!$C$12","v":0},11233.589832572825,6052.604465817868,14043.713694853854,468.926775056618,-13574.786919797236]
[53,63.732932726199898,-151.834619626999,-1705.2546987557639,593.24291359043082,{"$f":"Q_d!$C$11","v":0},{"$f":"Q_d!$C$12","v":0},11233.589832572825,6052.604465817868,14043.444248610484,468.98172854067502,-13574.462520069808]
[53,63.734404803399897,-151.835210971999,-1705.1890564293922,593.3949948947884,{"$f":"Q_d!$C$11","v":0},{"$f":"Q_d!$C$12","v":0},11233.589832572825,6052.604465817868,14043.324648597485,469.14773846305599,-13574.176910134429]
[53,63.736223789599897,-151.83648705300001,-1705.1302548648182,593.59764218657619,{"$f":"Q_d!$C$11","v":0},{"$f":"Q_d!$C$12","v":0},11233.589832572825,6052.604465817868,14043.191695676427,469.35772673942398,-13573.833968937002]
[53,63.736307460200003,-151.84356041000001,-1705.4145350027545,593.79642064012205,{"$f":"Q_d!$C$11","v":0},{"$f":"Q_d!$C$12","v":0},11233.589832572825,6052.604465817868,14043.376349661687,469.44750082304199,-13573.928848838645]
[53,63.736754817600001,-151.84001002700001,-1705.241978677105,593.74188632943105,{"$f":"Q_d!$C$11","v":0},{"$f":"Q_d!$C$12","v":0},11233.589832572825,6052.604465817868,14043.238561726148,469.454664531091,-13573.783897195057]
[53,63.736709887300002,-151.84499612299899,-1705.4487050148587,593.87240636000115,{"$f":"Q_d!$C$11","v":0},{"$f":"Q_d!$C$12","v":0},11233.589832572825,6052.604465817868,14043.378296340676,469.507297277688,-13573.870999062987]
[53,63.738748322200003,-151.842916352999,-1705.2391948154955,594.00469035980814,{"$f":"Q_d!$C$11","v":0},{"$f":"Q_d!$C$12","v":0},11233.589832572825,6052.604465817868,14043.133842152805,469.702811752282,{"$f":"K12164-J12164","v":-13573.431030400523}]
[53,63.738965662699897,-151.843079528999,-1705.2326033115878,594.02919130594728,{"$f":"Q_d!$C$11","v":0},{"$f":"Q_d!$C$12","v":0},11233.589832572825,6052.604465817868,14043.118245420377,469.72869798852997,-13573.389547431847]
[53,63.7415166251999,-151.84566350700001,-1705.1825827435866,594.3348202172624,{"$f":"Q_d!$C$11","v":0},{"$f":"Q_d!$C$12","v":0},11233.589832572825,6052.604465817868,14042.953362431916,470.03240246710601,-13572.920959964809]
[53,63.741982310600001,-151.84768699099899,-1705.2369179046004,594.43252246816019,{"$f":"Q_d!$C$11","v":0},{"$f":"Q_d!$C$12","v":0},11233.589832572825,6052.604465817868,14042.965450432474,470.10603186621597,-13572.859418566257]
[53,63.7424696625,-151.85091511799899,-1705.3391942462295,594.5647652517473,{"$f":"Q_d!$C$11","v":0},{"$f":"Q_d!$C$12","v":0},11233.589832572825,6052.604465817868,14043.008286475395,470.19489185655698,-13572.813394618837]
[53,63.745960995700003,-151.853176937999,-1705.2185338991578,594.94860864508519,{"$f":"Q_d!$C$11","v":0},{"$f":"Q_d!$C$12","v":0},11233.589832572825,6052.604465817868,14042.747929077763,470.59712723836299,-13572.1508018394]
[53,63.745812202300002,-151.85868679800001,-1705.4529248697347,595.08367409037055,{"$f":"Q_d!$C$11","v":0},{"$f":"Q_d!$C$12","v":0},11233.589832572825,6052.604465817868,14042.91140294863,470.64416940401998,-13572.26723354461]
[53,63.746014333600002,-151.859828534,-1705.4872673805114,595.13319901944396,{"$f":"Q_d!$C$11","v":0},{"$f":"Q_d!$C$12","v":0},11233.589832572825,6052.604465817868,14042.923799069311,470.67924074575399,-13572.244558323557]
[53,63.850983547699897,-149.797661220999,-1614.1820908992531,550.72336024290644,{"$f":"Q_d!$C$11","v":0},{"$f":"Q_d!$C$12","v":0},11233.589832572825,6052.604465817868,13976.263416859321,471.005178266651,-13505.258238592671]
[53,63.7521297455,-151.862049576999,-1705.2046267963804,595.75847107753225,{"$f":"Q_d!$C$11","v":0},{"$f":"Q_d!$C$12","v":0},11233.589832572825,6052.604465817868,14042.420385108719,471.36328010675498,-13571.057105001964]
[53,63.753935462900003,-151.86508934899899,-1705.2186098571235,596.00747634126174,{"$f":"Q_d!$C$11","v":0},{"$f":"Q_d!$C$12","v":0},11233.589832572825,6052.604465817868,14042.336508411328,471.59259247999199,-13570.743915931336]
[53,63.8574200163999,-149.79766122500001,-1613.8087031500713,551.33081815842434,{"$f":"Q_d!$C$11","v":0},{"$f":"Q_d!$C$12","v":0},11233.589832572825,6052.604465817868,13975.681052532898,471.71809854721403,-13503.962953985685]
[53,63.757098833999898,-151.862166438,-1704.9059508188477,596.22094101691118,{"$f":"Q_d!$C$11","v":0},{"$f":"Q_d!$C$12","v":0},11233.589832572825,6052.604465817868,14041.965471634068,471.89956399640801,-13570.06590763766]
[53,63.757863542899898,-151.86184294399899,-1704.8460298894424,596.28289117863096,{"$f":"Q_d!$C$11","v":0},{"$f":"Q_d!$C$12","v":0},11233.589832572825,6052.604465817868,14041.886187151757,471.97797700422399,-13569.908210147532]
[53,63.7586886226999,-151.86174890500001,-1704.7918008469592,596.35661775985727,{"$f":"Q_d!$C$11","v":0},{"$f":"Q_d!$C$12","v":0},11233.589832572825,6052.604465817868,14041.807571372428,472.06630616471602,-13569.741265207713]
[53,63.759933107899897,-151.855164707,-1704.4467089109758,596.2938921229279,{"$f":"Q_d!$C$11","v":0},{"$f":"Q_d!$C$12","v":0},11233.589832572825,6052.604465817868,14041.513971982698,472.12498736033803,-13569.388984622361]
[53,63.763645218999898,-151.85468868999899,-1704.2006029410288,596.62419368812107,{"$f":"Q_d!$C$11","v":0},{"$f":"Q_d!$C$12","v":0},11233.589832572825,6052.604465817868,14041.158858268884,472.52018121240002,-13568.638677056484]
[53,63.7640952154999,-151.85475537900001,-1704.1758527660522,596.66759188259266,{"$f":"Q_d!$C$11","v":0},{"$f":"Q_d!$C$12","v":0},11233.589832572825,6052.604465817868,14041.119189761859,472.569141062977,-13568.550048698882]
[53,63.767217914699899,-151.847426407999,-1703.6857119794693,596.75847759331009,{"$f":"Q_d!$C$11","v":0},{"$f":"Q_d!$C$12","v":0},11233.589832572825,6052.604465817868,14040.632249400198,472.822567194079,-13567.80968220612]
[53,63.767874387200003,-151.843609974,-1703.4896834180413,596.71619305314698,{"$f":"Q_d!$C$11","v":0},{"$f":"Q_d!$C$12","v":0},11233.589832572825,6052.604465817868,14040.468056584228,472.85041778981201,-13567.617638794416]
[53,63.767214727800003,-151.85261378800001,-1703.8978767539652,596.8981660159875,{"$f":"Q_d!$C$11","v":0},{"$f":"Q_d!$C$12","v":0},11233.589832572825,6052.604465817868,14040.773463690655,472.88138164237301,-13567.892082048282]
[53,63.871856453200003,-149.79766123900001,-1612.971230644767,552.69328781119975,{"$f":"Q_d!$C$11","v":0},{"$f":"Q_d!$C$12","v":0},11233.589832572825,6052.604465817868,13974.374909703154,473.31744037696302,-13501.057469326191]
[53,63.774159286600003,-151.839420488999,-1702.9348832041769,597.18423826232583,{"$f":"Q_d!$C$11","v":0},{"$f":"Q_d!$C$12","v":0},11233.589832572825,6052.604465817868,14039.774983279875,473.48074031896999,-13566.294242960905]
[53,63.774229049699898,-151.84030246,-1702.9666597210955,597.21447672116392,{"$f":"Q_d!$C$11","v":0},{"$f":"Q_d!$C$12","v":0},11233.589832572825,6052.604465817868,14039.792513119577,473.49789172181102,-13566.294621397767]
[53,63.7747022398,-151.845035803,-1703.1311582801843,597.38589925471842,{"$f":"Q_d!$C$11","v":0},{"$f":"Q_d!$C$12","v":0},11233.589832572825,6052.604465817868,14039.877478245749,473.60170159850497,-13566.275776647244]
[53,63.774773921300003,-151.845036558,-1703.1268135001171,597.39254657602669,{"$f":"Q_d!$C$11","v":0},{"$f":"Q_d!$C$12","v":0},11233.589832572825,6052.604465817868,14039.870892021016,473.609993810307,-13566.260898210709]
[53,63.7790686296999,-151.835519110999,-1702.4758708235943,597.53292988907242,{"$f":"Q_d!$C$11","v":0},{"$f":"Q_d!$C$12","v":0},11233.589832572825,6052.604465817868,14039.216550245588,473.965587822575,-13565.250962423013]
[53,63.779763265200003,-151.83258308500001,-1702.3135382735311,597.51799160760947,{"$f":"Q_d!$C$11","v":0},{"$f":"Q_d!$C$12","v":0},11233.589832572825,6052.604465817868,14039.07277782211,474.00834355525802,-13565.064434266851]
[53,63.780778374999898,-151.82772273800001,-1702.0530404917195,597.4808187802987,{"$f":"Q_d!$C$11","v":0},{"$f":"Q_d!$C$12","v":0},11233.589832572825,6052.604465817868,14038.847194265418,474.06249905682199,-13564.784695208597]
[53,63.783306553000003,-151.827924744999,-1701.9070302116047,597.72003564668876,{"$f":"Q_d!$C$11","v":0},{"$f":"Q_d!$C$12","v":0},11233.589832572825,6052.604465817868,14038.619705427946,474.33817722801899,-13564.281528199926]
[53,63.787491212100001,-151.828296534,-1701.6668784732815,598.116995226982,{"$f":"Q_d!$C$11","v":0},{"$f":"Q_d!$C$12","v":0},11233.589832572825,6052.604465817868,14038.244183212382,474.79403248355999,-13563.450150728822]
[53,63.788955399800003,-151.81794801800001,-1701.1548795706076,597.97352202837465,{"$f":"Q_d!$C$11","v":0},{"$f":"Q_d!$C$12","v":0},11233.589832572825,6052.604465817868,14037.828161837157,474.836365517638,-13562.991796319518]
[53,63.7887804293999,-151.82513166800001,-1701.4589568888478,598.15091240465836,{"$f":"Q_d!$C$11","v":0},{"$f":"Q_d!$C$12","v":0},11233.589832572825,6052.604465817868,14038.039419808447,474.89699457566502,-13563.142425232782]
[53,63.788939512399899,-151.823662683999,-1701.3892547833664,598.12603682258396,{"$f":"Q_d!$C$11","v":0},{"$f":"Q_d!$C$12","v":0},11233.589832572825,6052.604465817868,14037.984859755223,474.898383555892,-13563.086476199331]
[53,63.792800215699899,-151.815573494999,-1700.8233619867472,598.26510619295505,{"$f":"Q_d!$C$11","v":0},{"$f":"Q_d!$C$12","v":0},11233.589832572825,6052.604465817868,14037.409395524171,475.22513207636598,-13562.184263447805]
[53,63.794168781899899,-151.816197294999,-1700.7653554525198,598.40847155841766,{"$f":"Q_d!$C$11","v":0},{"$f":"Q_d!$C$12","v":0},11233.589832572825,6052.604465817868,14037.300241634572,475.37937505533398,-13561.920866579238]
[53,63.7947927706999,-151.816753449,-1700.7500036640997,598.4811573476004,{"$f":"Q_d!$C$11","v":0},{"$f":"Q_d!$C$12","v":0},11233.589832572825,6052.604465817868,14037.257854127496,475.453038894484,-13561.804815233012]
[53,63.8009155417,-151.81964372300001,-1700.4945119217159,599.12521089816892,{"$f":"Q_d!$C$11","v":0},{"$f":"Q_d!$C$12","v":0},11233.589832572825,6052.604465817868,14036.772200699785,476.14586387996599,-13560.626336819818]
[53,63.802863278700002,-151.820823649,-1700.4238590888176,599.33710228621248,{"$f":"Q_d!$C$11","v":0},{"$f":"Q_d!$C$12","v":0},11233.589832572825,6052.604465817868,14036.624776428638,476.36932486989502,-13560.255451558744]
[53,63.8036837890999,-151.82180578000001,-1700.4138947678982,599.43942705017525,{"$f":"Q_d!$C$11","v":0},{"$f":"Q_d!$C$12","v":0},11233.589832572825,6052.604465817868,14036.575841668151,476.46844536128498,-13560.107396306867]
[53,63.806650536299898,-151.81037763500001,-1699.7664098621708,599.40606047225219,{"$f":"Q_d!$C$11","v":0},{"$f":"Q_d!$C$12","v":0},11233.589832572825,6052.604465817868,14035.992182307464,476.66266776515999,-13559.329514542304]
[53,63.806143504700003,-151.81580030999899,-1700.0186956136702,599.50516799781371,{"$f":"Q_d!$C$11","v":0},{"$f":"Q_d!$C$12","v":0},11233.589832572825,6052.604465817868,14036.186145540531,476.66768344623398,-13559.518462094296]
[53,63.806055346000001,-151.82364208600001,-1700.3441645689413,599.70817998694429,{"$f":"Q_d!$C$11","v":0},{"$f":"Q_d!$C$12","v":0},11233.589832572825,6052.604465817868,14036.407180843975,476.74466278396801,-13559.662518060008]
[53,63.809344960300002,-151.79646306199899,-1699.0340693084554,599.28074380222097,{"$f":"Q_d!$C$11","v":0},{"$f":"Q_d!$C$12","v":0},11233.589832572825,6052.604465817868,14035.366065928227,476.800316028628,-13558.565749899599]
[53,63.806746520799898,-151.82482029400001,-1700.3500851627607,599.80382220292267,{"$f":"Q_d!$C$11","v":0},{"$f":"Q_d!$C$12","v":0},11233.589832572825,6052.604465817868,14036.375481391256,476.83166549422799,-13559.543815897028]
[53,63.809196185200001,-151.804534498999,-1699.3726350685808,599.48420695171171,{"$f":"Q_d!$C$11","v":0},{"$f":"Q_d!$C$12","v":0},11233.589832572825,6052.604465817868,14035.598980701814,476.87325094725099,-13558.725729754564]
[53,63.809760314499897,-151.801593674,-1699.2181874225173,599.45723322443064,{"$f":"Q_d!$C$11","v":0},{"$f":"Q_d!$C$12","v":0},11233.589832572825,6052.604465817868,14035.467146568271,476.90176628106502,-13558.565380287206]
[53,63.808221348499899,-151.81861583200001,-1700.0068694009453,599.77312723184286,{"$f":"Q_d!$C$11","v":0},{"$f":"Q_d!$C$12","v":0},11233.589832572825,6052.604465817868,14036.07114745336,476.92310794298902,-13559.148039510372]
[53,63.811768705200002,-151.79280671999899,-1698.7370364580052,599.40655043061724,{"$f":"Q_d!$C$11","v":0},{"$f":"Q_d!$C$12","v":0},11233.589832572825,6052.604465817868,14035.043489488753,477.02236593266701,-13558.021123556086]
[53,63.812086451200003,-151.792709285999,-1698.7136876256984,599.43332018982028,{"$f":"Q_d!$C$11","v":0},{"$f":"Q_d!$C$12","v":0},11233.589832572825,6052.604465817868,14035.011573990576,477.05606541055499,-13557.95550858002]
[53,63.8108184544,-151.822805047,{"$f":"lcpx(B12472,C12472,63,-115,70,60)","v":-1700.0194055022371},{"$f":"lcpy(B12472,C12472,63,-115,70,60)","v":600.12608390011474},{"$f":"Q_d!$C$11","v":0},{"$f":"Q_d!$C$12","v":0},{"$f":"lcpx(F12472,G12472,63,-115,70,60)","v":11233.589832572825},{"$f":"lcpy(F12472,G12472,63,-115,70,60)","v":6052.604465817868},{"$f":"SQRT((H12472-D12472)^2+(I12472-E12472)^2)","v":14035.945583696917},477.24955015589001,-13558.696033541028]
[53,63.810131091499898,-151.839403258,-1700.7386792133436,600.50953949057566,{"$f":"Q_d!$C$11","v":0},{"$f":"Q_d!$C$12","v":0},11233.589832572825,6052.604465817868,14036.459423105543,477.35937863416899,-13559.100044471374]
[53,63.9087292448,-149.797661271999,-1610.8322229607184,556.17320245676865,{"$f":"Q_d!$C$11","v":0},{"$f":"Q_d!$C$12","v":0},11233.589832572825,6052.604465817868,13971.039137212731,477.40192789095403,-13493.637209321776]
[53,63.811231346200003,-151.83662891200001,-1700.5583242586295,600.53653557443477,{"$f":"Q_d!$C$11","v":0},{"$f":"Q_d!$C$12","v":0},11233.589832572825,6052.604465817868,14036.282743620384,477.44702925141303,-13558.835714368972]
[53,63.811390043700001,-151.83574783500001,-1700.5126876742274,600.52747760781858,{"$f":"Q_d!$C$11","v":0},{"$f":"Q_d!$C$12","v":0},11233.589832572825,6052.604465817868,14036.244208819919,477.45452221756102,-13558.789686602358]
[53,63.817313618100002,-151.79634526999899,-1698.5434089261469,600.01463988862361,{"$f":"Q_d!$C$11","v":0},{"$f":"Q_d!$C$12","v":0},11233.589832572825,6052.604465817868,14034.628815387667,477.65979384913601,-13556.969021538531]
[53,63.911165657200002,-149.77748138300001,-1609.8532794708735,555.88847007887398,{"$f":"Q_d!$C$11","v":0},{"$f":"Q_d!$C$12","v":0},11233.589832572825,6052.604465817868,13970.251168469222,477.68517416809101,-13492.565994301131]
[53,63.9111656591,-149.765481383999,-1609.355117197762,555.58254795985613,{"$f":"Q_d!$C$11","v":0},{"$f":"Q_d!$C$12","v":0},11233.589832572825,6052.604465817868,13969.913562662052,477.69419383115797,-13492.219368830894]
[53,63.9111656655,-149.73269714099899,-1607.9938312800402,554.74724532288064,{"$f":"Q_d!$C$11","v":0},{"$f":"Q_d!$C$12","v":0},11233.589832572825,6052.604465817868,13968.990837303949,477.72410587806797,-13491.266731425882]
[53,63.9111656705999,-149.699912896,-1606.6321118079766,553.91264947185982,{"$f":"Q_d!$C$11","v":0},{"$f":"Q_d!$C$12","v":0},11233.589832572825,6052.604465817868,13968.067556827926,477.75881549271202,-13490.308741335213]
[53,63.9111656713999,-149.695128651999,-1606.4333582285444,553.7909150333594,{"$f":"Q_d!$C$11","v":0},{"$f":"Q_d!$C$12","v":0},11233.589832572825,6052.604465817868,13967.932774988873,477.76441344244103,-13490.168361546432]
[53,63.911165676499898,-149.666344409,-1605.2373693428901,553.05882182508185,{"$f":"Q_d!$C$11","v":0},{"$f":"Q_d!$C$12","v":0},11233.589832572825,6052.604465817868,13967.121615100621,477.801485707192,-13489.320129393429]
[53,63.911165681299899,-149.638344410999,-1604.0736458193517,552.34719818356825,{"$f":"Q_d!$C$11","v":0},{"$f":"Q_d!$C$12","v":0},11233.589832572825,6052.604465817868,13966.3321453633,477.84269785882401,{"$f":"K12548-J12548","v":-13488.489447504477}]
[53,63.911165682799897,-149.62956016499899,-1603.7084938545047,552.12405177076516,{"$f":"Q_d!$C$11","v":0},{"$f":"Q_d!$C$12","v":0},11233.589832572825,6052.604465817868,13966.084387078925,477.85638106548203,-13488.228006013444]
[53,63.911165688399898,-149.59738027399899,-1602.3705441632517,551.30701923417701,{"$f":"Q_d!$C$11","v":0},{"$f":"Q_d!$C$12","v":0},11233.589832572825,6052.604465817868,13965.176418109684,477.91019701404099,-13487.266221095642]
[53,63.911165689599898,-149.589380274999,-1602.0378620175065,551.10400878911378,{"$f":"Q_d!$C$11","v":0},{"$f":"Q_d!$C$12","v":0},11233.589832572825,6052.604465817868,13964.950611900564,477.92466745712102,-13487.025944443443]
[53,63.911165695100003,-149.556596030999,-1600.6742516196084,550.27250612648368,{"$f":"Q_d!$C$11","v":0},{"$f":"Q_d!$C$12","v":0},11233.589832572825,6052.604465817868,13964.024906073215,477.98629169150797,-13486.038614381707]
[53,63.911165699400001,-149.531811787999,-1599.6431025240818,549.64437652618562,{"$f":"Q_d!$C$11","v":0},{"$f":"Q_d!$C$12","v":0},11233.589832572825,6052.604465817868,13963.324722672358,478.03755756216401,-13485.287165110194]
[53,63.911165701000002,-149.52381178600001,-1599.3102095839681,549.44171164249201,{"$f":"Q_d!$C$11","v":0},{"$f":"Q_d!$C$12","v":0},11233.589832572825,6052.604465817868,13963.098645749478,478.05462988449301,-13485.044015864985]
[53,63.911165705800002,-149.491027543999,-1597.9457365310782,548.61162552042106,{"$f":"Q_d!$C$11","v":0},{"$f":"Q_d!$C$12","v":0},11233.589832572825,6052.604465817868,13962.171831317082,478.12968250151499,-13484.042148815568]
[53,63.911165710900001,-149.466243300999,-1596.9139356342716,547.98456718169928,{"$f":"Q_d!$C$11","v":0},{"$f":"Q_d!$C$12","v":0},11233.589832572825,6052.604465817868,13961.470809855162,478.19038762819099,-13483.280422226971]
[53,63.911165712500001,-149.4542433,-1596.4142713094902,547.68110438615213,{"$f":"Q_d!$C$11","v":0},{"$f":"Q_d!$C$12","v":0},11233.589832572825,6052.604465817868,13961.131276543234,478.22097272495199,-13482.910303818282]
[53,63.822469617899898,-151.80063575400001,-1698.4041145566189,600.60695394272079,{"$f":"Q_d!$C$11","v":0},{"$f":"Q_d!$C$12","v":0},11233.589832572825,6052.604465817868,14034.270352180243,478.262969180136,-13556.007383000107]
[53,63.8235244567,-151.79089506899899,-1697.9423416782597,600.44253356241097,{"$f":"Q_d!$C$11","v":0},{"$f":"Q_d!$C$12","v":0},11233.589832572825,6052.604465817868,14033.908725270609,478.27144765394399,-13555.637277616665]
[53,63.9111657188,-149.417459057,-1594.8822642884668,546.75147563344217,{"$f":"Q_d!$C$11","v":0},{"$f":"Q_d!$C$12","v":0},11233.589832572825,6052.604465817868,13960.090024404266,478.319520874906,-13481.77050352936]
[53,63.9111657196,-149.409459056999,-1594.5490049649648,546.549413979777,{"$f":"Q_d!$C$11","v":0},{"$f":"Q_d!$C$12","v":0},11233.589832572825,6052.604465817868,13959.863476016417,478.34194876991501,-13481.521527246501]
[53,63.9111657212,-149.40527916299899,-1594.374871133816,546.4438563505596,{"$f":"Q_d!$C$11","v":0},{"$f":"Q_d!$C$12","v":0},11233.589832572825,6052.604465817868,13959.745094262746,478.35399044849601,-13481.391103814251]
[53,63.823796960800003,-151.79834938299899,-1698.2298909361157,600.66822265326209,{"$f":"Q_d!$C$11","v":0},{"$f":"Q_d!$C$12","v":0},11233.589832572825,6052.604465817868,14034.086010883169,478.382363541968,-13555.703647341201]
[53,63.825563166400002,-151.78527417500001,-1697.5887047826266,600.4799756263651,{"$f":"Q_d!$C$11","v":0},{"$f":"Q_d!$C$12","v":0},11233.589832572825,6052.604465817868,14033.568321047511,478.43147613529698,-13555.136844912215]
[53,63.911165727099899,-149.372494920999,-1593.0088420496668,545.61633340863818,{"$f":"Q_d!$C$11","v":0},{"$f":"Q_d!$C$12","v":0},11233.589832572825,6052.604465817868,13958.816276831052,478.45131407594602,-13480.364962755106]
[53,63.911165729499899,-149.35649491999899,-1592.3420101144329,545.21272716805106,{"$f":"Q_d!$C$11","v":0},{"$f":"Q_d!$C$12","v":0},11233.589832572825,6052.604465817868,13958.362776350499,478.50004010553602,-13479.862736244962]
[53,63.911165731799898,-149.34449492100001,-1591.8418190981406,544.91013348243223,{"$f":"Q_d!$C$11","v":0},{"$f":"Q_d!$C$12","v":0},11233.589832572825,6052.604465817868,13958.022564465331,478.539092355055,-13479.483472110276]
[53,63.911165734999898,-149.323710675999,-1590.9753419812776,544.38625986579245,{"$f":"Q_d!$C$11","v":0},{"$f":"Q_d!$C$12","v":0},11233.589832572825,6052.604465817868,13957.433135099298,478.60665378157802,-13478.826481317719]
[53,63.911165738199898,-149.30292643300001,-1590.108692541615,543.86267156259419,{"$f":"Q_d!$C$11","v":0},{"$f":"Q_d!$C$12","v":0},11233.589832572825,6052.604465817868,13956.843483352426,478.676922252368,-13478.166561100059]
[53,63.911165740900003,-149.286926432,-1589.4414162798773,543.45980034580407,{"$f":"Q_d!$C$11","v":0},{"$f":"Q_d!$C$12","v":0},11233.589832572825,6052.604465817868,13956.38940966295,478.73253386938302,-13477.656875793567]
[53,63.911165743700003,-149.274142189,-1588.9081790459404,543.13802174772263,{"$f":"Q_d!$C$11","v":0},{"$f":"Q_d!$C$12","v":0},11233.589832572825,6052.604465817868,13956.026503138426,478.778726454089,-13477.247776684337]
[53,63.911165748800002,-149.242142190999,-1587.5731575161531,542.33305704378381,{"$f":"Q_d!$C$11","v":0},{"$f":"Q_d!$C$12","v":0},11233.589832572825,6052.604465817868,13955.117750014884,478.89714393071898,-13476.220606084165]
[53,63.911165749200002,-149.237357946,-1587.3735265332266,542.21276676209663,{"$f":"Q_d!$C$11","v":0},{"$f":"Q_d!$C$12","v":0},11233.589832572825,6052.604465817868,13954.981839205764,478.91499292880701,-13476.066846276957]
[53,63.831254522800002,-151.78053987600001,-1697.0486477327256,600.87920066186734,{"$f":"Q_d!$C$11","v":0},{"$f":"Q_d!$C$12","v":0},11233.589832572825,6052.604465817868,14032.915587115134,478.99511125897698,-13553.920475856157]
[53,63.863982049699899,-151.44741511800001,-1681.4554734274166,594.99929333679711,{"$f":"Q_d!$C$11","v":0},{"$f":"Q_d!$C$12","v":0},11233.589832572825,6052.604465817868,14020.836261604763,479.28048670167999,-13541.555774903083]
[53,63.864036662099899,-151.44879078700001,-1681.5084245793446,595.04099968552373,{"$f":"Q_d!$C$11","v":0},{"$f":"Q_d!$C$12","v":0},11233.589832572825,6052.604465817868,14020.868802565605,479.29885464707701,-13541.569947918528]
[53,63.864822804500001,-151.444669787999,-1681.292384659318,595.00423230370689,{"$f":"Q_d!$C$11","v":0},{"$f":"Q_d!$C$12","v":0},11233.589832572825,6052.604465817868,14020.684112903795,479.34786553086798,-13541.336247372927]
[53,63.833837019699899,-151.789306844999,-1697.2488828324877,601.35375387116892,{"$f":"Q_d!$C$11","v":0},{"$f":"Q_d!$C$12","v":0},11233.589832572825,6052.604465817868,14032.915741510184,479.36828281604102,-13553.547458694142]
[53,63.834345411599898,-151.791597053999,-1697.3113085983009,601.46234618593826,{"$f":"Q_d!$C$11","v":0},{"$f":"Q_d!$C$12","v":0},11233.589832572825,6052.604465817868,14032.931081251914,479.44815124474002,-13553.482930007174]
[53,63.834676421600001,-151.792022559999,-1697.3084851206499,601.50440307590452,{"$f":"Q_d!$C$11","v":0},{"$f":"Q_d!$C$12","v":0},11233.589832572825,6052.604465817868,14032.91214240841,479.488523121252,-13553.423619287158]
[53,63.836960935100002,-151.77554117400001,-1696.4969577915165,601.27277943737772,{"$f":"Q_d!$C$11","v":0},{"$f":"Q_d!$C$12","v":0},11233.589832572825,6052.604465817868,14032.254329269064,479.55765071261197,-13552.696678556453]
[53,63.837495090600001,-151.77720910100001,-1696.5324433949772,601.36701358580376,{"$f":"Q_d!$C$11","v":0},{"$f":"Q_d!$C$12","v":0},11233.589832572825,6052.604465817868,14032.250419376654,479.63380809321598,-13552.616611283438]
[53,63.866742105299899,-151.45417987600001,-1681.5651937435825,595.43566006061201,{"$f":"Q_d!$C$11","v":0},{"$f":"Q_d!$C$12","v":0},11233.589832572825,6052.604465817868,14020.767480003227,479.640628913981,-13541.126851089246]
[53,63.866799926799899,-151.455816319999,-1681.6286023250846,595.48461184538655,{"$f":"Q_d!$C$11","v":0},{"$f":"Q_d!$C$12","v":0},11233.589832572825,6052.604465817868,14020.806835619249,479.66165338183902,-13541.145182237409]
[53,63.838637840300002,-151.77161709200001,-1696.234702553937,601.32249013500177,{"$f":"Q_d!$C$11","v":0},{"$f":"Q_d!$C$12","v":0},11233.589832572825,6052.604465817868,14031.993361157596,479.69705146581799,-13552.296309691777]
[53,63.863376580599898,-151.502447042,-1683.7418340041756,596.40968512122345,{"$f":"Q_d!$C$11","v":0},{"$f":"Q_d!$C$12","v":0},11233.589832572825,6052.604465817868,14022.393478620339,479.70926881289199,-13542.684209807447]
[53,63.867448007900002,-151.455919416,-1681.5936281883378,595.54751330113322,{"$f":"Q_d!$C$11","v":0},{"$f":"Q_d!$C$12","v":0},11233.589832572825,6052.604465817868,14020.750137140665,479.73326561434101,-13541.016871526324]
[53,63.837158262000003,-151.79202665400001,-1697.1573505504186,601.73408076626993,{"$f":"Q_d!$C$11","v":0},{"$f":"Q_d!$C$12","v":0},11233.589832572825,6052.604465817868,14032.683658818873,479.75693860954198,-13552.926720209331]
[53,63.838129700499898,-151.78319634600001,-1696.7379804348905,601.58661052879052,{"$f":"Q_d!$C$11","v":0},{"$f":"Q_d!$C$12","v":0},11233.589832572825,6052.604465817868,14032.354507014183,479.76601088551399,-13552.588496128668]
[53,63.868045016000003,-151.45425462700001,-1681.489466822231,595.5585905235539,{"$f":"Q_d!$C$11","v":0},{"$f":"Q_d!$C$12","v":0},11233.589832572825,6052.604465817868,14020.649877759924,479.78339325991601,-13540.866484500009]
[53,63.838185242500003,-151.78499575999899,-1696.8079875447677,601.64010622905835,{"$f":"Q_d!$C$11","v":0},{"$f":"Q_d!$C$12","v":0},11233.589832572825,6052.604465817868,14032.398235369792,479.79186182864697,-13552.606373541144]
[53,63.8689637782999,-151.446238295999,-1681.1061794002594,595.43040876382383,{"$f":"Q_d!$C$11","v":0},{"$f":"Q_d!$C$12","v":0},11233.589832572825,6052.604465817868,14020.34670650684,479.81263970116498,-13540.534066805674]
[53,63.8658296232,-151.48583500800001,-1682.9144113238033,596.19439280850656,{"$f":"Q_d!$C$11","v":0},{"$f":"Q_d!$C$12","v":0},11233.589832572825,6052.604465817868,14021.715043725488,479.82522529875303,-13541.889818426735]
[53,63.865298166300001,-151.49254234399899,-1683.2207143841547,596.32387724537466,{"$f":"Q_d!$C$11","v":0},{"$f":"Q_d!$C$12","v":0},11233.589832572825,6052.604465817868,14021.946818013968,479.82786748791398,-13542.118950526054]
[53,63.866798050200003,-151.47546327699899,-1682.4318797406233,596.00784515373698,{"$f":"Q_d!$C$11","v":0},{"$f":"Q_d!$C$12","v":0},11233.589832572825,6052.604465817868,14021.343143707583,479.83687682065403,-13541.506266886929]
[53,63.840095602300003,-151.77060302500001,-1696.1045127034993,601.43011835456673,{"$f":"Q_d!$C$11","v":0},{"$f":"Q_d!$C$12","v":0},11233.589832572825,6052.604465817868,14031.831584961121,479.84406482210397,-13551.987520139017]
[53,63.866619242500001,-151.47857275499899,-1682.5697980503639,596.07411330278546,{"$f":"Q_d!$C$11","v":0},{"$f":"Q_d!$C$12","v":0},11233.589832572825,6052.604465817868,14021.444401047223,479.84603218949297,-13541.598368857731]
[53,63.8666031258999,-151.479620506,{"$f":"lcpx(B12856,C12856,63,-115,70,60)","v":-1682.6135993649216},{"$f":"lcpy(B12856,C12856,63,-115,70,60)","v":596.10053977331381},{"$f":"Q_d!$C$11","v":0},{"$f":"Q_d!$C$12","v":0},{"$f":"lcpx(F12856,G12856,63,-115,70,60)","v":11233.589832572825},{"$f":"lcpy(F12856,G12856,63,-115,70,60)","v":6052.604465817868},{"$f":"SQRT((H12856-D12856)^2+(I12856-E12856)^2)","v":14021.474465623794},479.85324745384298,-13541.621218169952]
[53,63.867250748099899,-151.47373052,-1682.3336652606506,596.00368552032842,{"$f":"Q_d!$C$11","v":0},{"$f":"Q_d!$C$12","v":0},11233.589832572825,6052.604465817868,14021.254290448864,479.87066826906602,-13541.383622179797]
[53,63.868922404899898,-151.45573412600001,-1681.4968974418657,595.67943362562391,{"$f":"Q_d!$C$11","v":0},{"$f":"Q_d!$C$12","v":0},11233.589832572825,6052.604465817868,14020.609688981713,479.89240624331597,-13540.717282738397]
[53,63.866194368899897,-151.49153526200001,-1683.12531423875,596.3801852001593,{"$f":"Q_d!$C$11","v":0},{"$f":"Q_d!$C$12","v":0},11233.589832572825,6052.604465817868,14021.837026020301,479.91675330206999,-13541.920272718231]
[53,63.866239491400002,-151.49202643999899,-1683.1426575917385,596.39746585072226,{"$f":"Q_d!$C$11","v":0},{"$f":"Q_d!$C$12","v":0},11233.589832572825,6052.604465817868,14021.846278181889,479.925996405695,-13541.920281776194]
[53,63.8702929423999,-151.44667251300001,-1681.0435765685104,595.56535633969906,{"$f":"Q_d!$C$11","v":0},{"$f":"Q_d!$C$12","v":0},11233.589832572825,6052.604465817868,14020.236514940962,479.96148991038802,-13540.275025030574]
[53,63.868976130599897,-151.468865475999,-1682.0304322964703,596.03419227374616,{"$f":"Q_d!$C$11","v":0},{"$f":"Q_d!$C$12","v":0},11233.589832572825,6052.604465817868,14020.963090188485,480.01531558170097,-13540.947774606784]
[53,63.869785770199897,-151.45924354600001,-1681.5881515881081,595.85303680831885,{"$f":"Q_d!$C$11","v":0},{"$f":"Q_d!$C$12","v":0},11233.589832572825,6052.604465817868,14020.626181471105,480.01770660049601,-13540.608474870609]
[53,63.869495726499899,-151.46792000600001,-1681.9603569658902,596.05722805842561,{"$f":"Q_d!$C$11","v":0},{"$f":"Q_d!$C$12","v":0},11233.589832572825,6052.604465817868,14020.889574359886,480.06338274232002,-13540.826191617565]
[53,63.870141277800002,-151.461866342999,-1681.6738647148832,595.95589018249666,{"$f":"Q_d!$C$11","v":0},{"$f":"Q_d!$C$12","v":0},11233.589832572825,6052.604465817868,14020.665107207336,480.07925509961302,-13540.585852107723]
[53,63.8701945287999,-151.46356933600001,-1681.7402558277472,596.00619274690507,{"$f":"Q_d!$C$11","v":0},{"$f":"Q_d!$C$12","v":0},11233.589832572825,6052.604465817868,14020.706687111966,480.10063987564098,-13540.606047236324]
[53,63.8727228049,-151.444364065999,-1680.8023090349513,595.72946452222368,{"$f":"Q_d!$C$11","v":0},{"$f":"Q_d!$C$12","v":0},11233.589832572825,6052.604465817868,14019.950398164254,480.20569875210703,-13539.744699412147]
[53,63.842938633499898,-151.77770481900001,-1696.2209216873025,601.88393019137038,{"$f":"Q_d!$C$11","v":0},{"$f":"Q_d!$C$12","v":0},11233.589832572825,6052.604465817868,14031.762558512786,480.22676128887201,-13551.535797223914]
[53,63.8429387714,-151.780911011999,-1696.3516679840443,601.9700819119862,{"$f":"Q_d!$C$11","v":0},{"$f":"Q_d!$C$12","v":0},11233.589832572825,6052.604465817868,14031.849571415732,480.261874784996,-13551.587696630737]
[53,63.843978501000002,-151.78444586500001,-1696.4324472294686,602.16123971431489,{"$f":"Q_d!$C$11","v":0},{"$f":"Q_d!$C$12","v":0},11233.589832572825,6052.604465817868,14031.849753940562,480.41199011889699,-13551.437763821665]
[53,63.868602408199898,-151.51782391200001,-1684.0537475420465,597.30458505105389,{"$f":"Q_d!$C$11","v":0},{"$f":"Q_d!$C$12","v":0},11233.589832572825,6052.604465817868,14022.332632339649,480.419115377396,-13541.913516962253]
[53,63.8750323850999,-151.444216028,-1680.6566382855781,595.93992655788179,{"$f":"Q_d!$C$11","v":0},{"$f":"Q_d!$C$12","v":0},11233.589832572825,6052.604465817868,14019.734298626921,480.45575530947599,-13539.278543317445]
[53,63.878913362600002,-151.39720365700001,-1678.5001153296423,595.04967845717692,{"$f":"Q_d!$C$11","v":0},{"$f":"Q_d!$C$12","v":0},11233.589832572825,6052.604465817868,14018.094416851654,480.47168842502998,-13537.622728426624]
[53,63.8448872901999,-151.78585423000001,-1696.4344828851372,602.28314853877146,{"$f":"Q_d!$C$11","v":0},{"$f":"Q_d!$C$12","v":0},11233.589832572825,6052.604465817868,14031.804276710856,480.52544030259202,-13551.278836408264]
[53,63.866491797999899,-151.55585675,-1685.7352157985797,598.12378423311384,{"$f":"Q_d!$C$11","v":0},{"$f":"Q_d!$C$12","v":0},11233.589832572825,6052.604465817868,14023.562999867689,480.54398168429901,-13543.01901818339]
[53,63.866009716299899,-151.56289990600001,-1686.0520899821713,598.26714986240495,{"$f":"Q_d!$C$11","v":0},{"$f":"Q_d!$C$12","v":0},11233.589832572825,6052.604465817868,14023.799162968102,480.55872572038402,-13543.240437247718]
[53,63.867181082499897,-151.55159454899899,-1685.5193569209214,598.07390912513438,{"$f":"Q_d!$C$11","v":0},{"$f":"Q_d!$C$12","v":0},11233.589832572825,6052.604465817868,14023.383537647271,480.57867935750102,-13542.80485828977]
[53,63.879189964699897,-151.40801486999899,-1678.9254639297219,595.36281651061199,{"$f":"Q_d!$C$11","v":0},{"$f":"Q_d!$C$12","v":0},11233.589832572825,6052.604465817868,14018.364301920035,480.59436617588398,-13537.769935744151]
[53,63.867394404300001,-151.551003541,-1685.4822890840994,598.07791304992043,{"$f":"Q_d!$C$11","v":0},{"$f":"Q_d!$C$12","v":0},11233.589832572825,6052.604465817868,14023.347831364083,480.59627837302202,{"$f":"K12996-J12996","v":-13542.75155299106}]
[53,63.925602075199897,-149.209357957999,-1585.3802768209623,542.87924127510678,{"$f":"Q_d!$C$11","v":0},{"$f":"Q_d!$C$12","v":0},11233.589832572825,6052.604465817868,13952.887397076425,480.61837723707498,-13472.26901983935]
[53,63.8793799319999,-151.40942429,-1678.9716147183565,595.41793703019312,{"$f":"Q_d!$C$11","v":0},{"$f":"Q_d!$C$12","v":0},11233.589832572825,6052.604465817868,14018.385354242913,480.62713572685402,-13537.758218516059]
[53,63.879593897200003,-151.408901847999,-1678.9373311104421,595.42391424815605,{"$f":"Q_d!$C$11","v":0},{"$f":"Q_d!$C$12","v":0},11233.589832572825,6052.604465817868,14018.351448201352,480.64589016135301,-13537.705558039999]
[53,63.871343640600003,-151.516884438999,-1683.8493588230297,597.53381066934253,{"$f":"Q_d!$C$11","v":0},{"$f":"Q_d!$C$12","v":0},11233.589832572825,6052.604465817868,14022.055167345199,480.70831333876401,-13541.346854006435]
[53,63.881895122099898,-151.393286931999,-1678.1599241136853,595.22250571313134,{"$f":"Q_d!$C$11","v":0},{"$f":"Q_d!$C$12","v":0},11233.589832572825,6052.604465817868,14017.713780705139,480.76407213933902,-13536.9497085658]
[53,63.847079876000002,-151.78667487499899,-1696.3342957090317,602.50802089988701,{"$f":"Q_d!$C$11","v":0},{"$f":"Q_d!$C$12","v":0},11233.589832572825,6052.604465817868,14031.624610929161,480.771251899486,-13550.853359029674]
[53,63.878073956599899,-151.44780805100001,-1680.6195805539917,596.31789082477053,{"$f":"Q_d!$C$11","v":0},{"$f":"Q_d!$C$12","v":0},11233.589832572825,6052.604465817868,14019.553058301935,480.81879888893599,-13538.734259412999]
[53,63.870001220900001,-151.54515648,-1685.0854965367998,598.16357924304975,{"$f":"Q_d!$C$11","v":0},{"$f":"Q_d!$C$12","v":0},11233.589832572825,6052.604465817868,14022.948963897885,480.82516905108002,-13542.123794846804]
[53,63.8829644473999,-151.39299800200001,-1678.0835481095373,595.31414587336121,{"$f":"Q_d!$C$11","v":0},{"$f":"Q_d!$C$12","v":0},11233.589832572825,6052.604465817868,14017.60775330732,480.878449860253,-13536.729303447068]
[53,63.880588717499897,-151.42509050000001,-1679.539036762598,595.94685125345995,{"$f":"Q_d!$C$11","v":0},{"$f":"Q_d!$C$12","v":0},11233.589832572825,6052.604465817868,14018.702133886993,480.89406775713002,-13537.808066129863]
[53,63.8798377703,-151.434945432999,-1679.9872387722789,596.13931711799114,{"$f":"Q_d!$C$11","v":0},{"$f":"Q_d!$C$12","v":0},11233.589832572825,6052.604465817868,14019.040077571159,480.89857927529698,-13538.141498295861]
[53,63.880494902199899,-151.42892250099899,-1679.7013421789929,596.04008134702917,{"$f":"Q_d!$C$11","v":0},{"$f":"Q_d!$C$12","v":0},11233.589832572825,6052.604465817868,14018.815351013038,480.91796278783301,-13537.897388225205]
[53,63.869064951799899,-151.56641626300001,-1686.0104505787256,598.64432219241644,{"$f":"Q_d!$C$11","v":0},{"$f":"Q_d!$C$12","v":0},11233.589832572825,6052.604465817868,14023.614110658657,480.92404944335999,-13542.690061215297]
[53,63.880255459099899,-151.436586814999,-1680.0290819586689,596.22177019371611,{"$f":"Q_d!$C$11","v":0},{"$f":"Q_d!$C$12","v":0},11233.589832572825,6052.604465817868,14019.046529306201,480.95796603133601,-13538.088563274865]
[53,63.879807091899899,-151.44788537599899,-1680.5179600927474,596.48083312286781,{"$f":"Q_d!$C$11","v":0},{"$f":"Q_d!$C$12","v":0},11233.589832572825,6052.604465817868,14019.396034631396,481.00851962933001,-13538.387515002067]
[53,63.871833076400002,-151.544356956,-1684.9418334315769,598.31212010024456,{"$f":"Q_d!$C$11","v":0},{"$f":"Q_d!$C$12","v":0},11233.589832572825,6052.604465817868,14022.758836909101,481.01739632990399,-13541.741440579197]
[53,63.885279971099898,-151.38295148700001,-1677.5329894228171,595.26225059144917,{"$f":"Q_d!$C$11","v":0},{"$f":"Q_d!$C$12","v":0},11233.589832572825,6052.604465817868,14017.120837702339,481.04572617579697,-13536.075111526543]
[53,63.872364130800001,-151.544013118999,-1684.8956101373092,598.35219232220879,{"$f":"Q_d!$C$11","v":0},{"$f":"Q_d!$C$12","v":0},11233.589832572825,6052.604465817868,14022.700667005847,481.07176616384299,-13541.628900842004]
[53,63.874830600400003,-151.51516134900001,-1683.5678097327896,597.8113222930233,{"$f":"Q_d!$C$11","v":0},{"$f":"Q_d!$C$12","v":0},11233.589832572825,6052.604465817868,14021.687836876843,481.07244166029699,-13540.615395216546]
[53,63.850536245999898,-151.782489994999,-1695.9530001678916,602.71533139123221,{"$f":"Q_d!$C$11","v":0},{"$f":"Q_d!$C$12","v":0},11233.589832572825,6052.604465817868,14031.192730527877,481.09943360702403,{"$f":"K13124-J13124","v":-13550.093296920853}]
[53,63.885333568999897,-151.39058551900001,-1677.8418776063875,595.47007951007572,{"$f":"Q_d!$C$11","v":0},{"$f":"Q_d!$C$12","v":0},11233.589832572825,6052.604465817868,14017.324442162429,481.116618079234,-13536.207824083196]
[53,63.8814788976999,-151.44016491100001,-1680.1013722720447,596.43056239970838,{"$f":"Q_d!$C$11","v":0},{"$f":"Q_d!$C$12","v":0},11233.589832572825,6052.604465817868,14019.031856673595,481.12291314382401,-13537.908943529772]
[53,63.8812362096999,-151.447273263,-1680.4065447149119,596.59720418533243,{"$f":"Q_d!$C$11","v":0},{"$f":"Q_d!$C$12","v":0},11233.589832572825,6052.604465817868,14019.248113632477,481.15926922589699,-13538.08884440658]
[53,63.881880239799898,-151.442035156999,-1680.1535459604563,596.51758906435361,{"$f":"Q_d!$C$11","v":0},{"$f":"Q_d!$C$12","v":0},11233.589832572825,6052.604465817868,14019.046046478843,481.18308292894,-13537.862963549904]
[53,63.852642246599899,-151.771038013999,-1695.3577579902856,602.60260465082592,{"$f":"Q_d!$C$11","v":0},{"$f":"Q_d!$C$12","v":0},11233.589832572825,6052.604465817868,14030.688011863562,481.20467405876201,-13549.483337804801]
[53,63.887355313900002,-151.375881864999,-1677.1186702787541,595.26722410214188,{"$f":"Q_d!$C$11","v":0},{"$f":"Q_d!$C$12","v":0},11233.589832572825,6052.604465817868,14016.737274252575,481.21301354181998,-13535.524260710756]
[53,63.852456955599898,-151.774572538999,-1695.5131533898582,602.68037454257274,{"$f":"Q_d!$C$11","v":0},{"$f":"Q_d!$C$12","v":0},11233.589832572825,6052.604465817868,14030.800997173756,481.22234043319298,-13549.578656740563]
[53,63.852470144900003,-151.775619449999,-1695.5550319607614,602.70970903638045,{"$f":"Q_d!$C$11","v":0},{"$f":"Q_d!$C$12","v":0},11233.589832572825,6052.604465817868,14030.828193235406,481.23458925247598,-13549.59360398293]
[53,63.852498327100001,-151.778826788999,-1695.684073921457,602.79845212861983,{"$f":"Q_d!$C$11","v":0},{"$f":"Q_d!$C$12","v":0},11233.589832572825,6052.604465817868,14030.912633752567,481.27217571037698,-13549.640458042189]
[53,63.853582939299898,-151.768681944999,-1695.2043816942662,602.6263756280191,{"$f":"Q_d!$C$11","v":0},{"$f":"Q_d!$C$12","v":0},11233.589832572825,6052.604465817868,14030.537445814953,481.28137060247798,-13549.256075212475]
[53,63.874929325700002,-151.54450419899899,-1684.7602156260439,598.6031829794556,{"$f":"Q_d!$C$11","v":0},{"$f":"Q_d!$C$12","v":0},11233.589832572825,6052.604465817868,14022.478310234706,481.355119613368,-13541.123190621338]
[53,63.8753036855,-151.544010356999,-1684.7173640317114,598.6247221829658,{"$f":"Q_d!$C$11","v":0},{"$f":"Q_d!$C$12","v":0},11233.589832572825,6052.604465817868,14022.430455160915,481.39076111200899,-13541.039694048906]
[53,63.858510347200003,-151.737488743,-1693.6324061387322,602.24521011106299,{"$f":"Q_d!$C$11","v":0},{"$f":"Q_d!$C$12","v":0},11233.589832572825,6052.604465817868,14029.237000824654,481.485486620313,-13547.751514204341]
[53,63.878553653799898,-151.518082117999,-1683.4616425944976,598.23456195106337,{"$f":"Q_d!$C$11","v":0},{"$f":"Q_d!$C$12","v":0},11233.589832572825,6052.604465817868,14021.425386184183,481.50405638997398,-13539.921329794208]
[53,63.856224704799899,-151.766392322999,-1694.9500800378578,602.80932667518573,{"$f":"Q_d!$C$11","v":0},{"$f":"Q_d!$C$12","v":0},11233.589832572825,6052.604465817868,14030.23204835154,481.54260531961199,-13548.689443031928]
[53,63.858840023699898,-151.745377652999,-1693.934002538814,602.48735476809179,{"$f":"Q_d!$C$11","v":0},{"$f":"Q_d!$C$12","v":0},11233.589832572825,6052.604465817868,14029.420837352378,481.60352707387801,-13547.8173102785]
[53,63.8911768157,-151.378028962999,-1676.9758141735315,595.67925623416022,{"$f":"Q_d!$C$11","v":0},{"$f":"Q_d!$C$12","v":0},11233.589832572825,6052.604465817868,14016.445271963123,481.64808370115998,-13534.797188261962]
[53,63.876378308200003,-151.562601704,-1685.4113040862201,599.22054786717081,{"$f":"Q_d!$C$11","v":0},{"$f":"Q_d!$C$12","v":0},11233.589832572825,6052.604465817868,14022.838033920272,481.682441191289,-13541.155592728983]
[53,63.861020954799898,-151.73156228100001,-1693.2379046372514,602.31862055514512,{"$f":"Q_d!$C$11","v":0},{"$f":"Q_d!$C$12","v":0},11233.589832572825,6052.604465817868,14028.844968227961,481.69512929237698,-13547.149838935584]
[53,63.8790956174999,-151.53324651899899,-1684.0480805591201,598.68923467316608,{"$f":"Q_d!$C$11","v":0},{"$f":"Q_d!$C$12","v":0},11233.589832572825,6052.604465817868,14021.788780440816,481.70319302450099,-13540.085587416315]
[53,63.879218567800002,-151.534922483,-1684.1090659611757,598.74534090577936,{"$f":"Q_d!$C$11","v":0},{"$f":"Q_d!$C$12","v":0},11233.589832572825,6052.604465817868,14021.823140646633,481.73202030278202,-13540.091120343852]
[53,63.878614077500004,-151.543296400999,-1684.4876082151491,598.91266728503706,{"$f":"Q_d!$C$11","v":0},{"$f":"Q_d!$C$12","v":0},11233.589832572825,6052.604465817868,14022.106796041009,481.744169924245,-13540.362626116765]
[53,63.859142715300003,-151.757129786999,-1694.3947059792556,602.83070801474923,{"$f":"Q_d!$C$11","v":0},{"$f":"Q_d!$C$12","v":0},11233.589832572825,6052.604465817868,14029.711979947457,481.75993472371601,-13547.952045223741]
[53,63.859853473999898,-151.750549882999,-1694.0831631428189,602.7199128670236,{"$f":"Q_d!$C$11","v":0},{"$f":"Q_d!$C$12","v":0},11233.589832572825,6052.604465817868,14029.467941609466,481.76706264023397,-13547.700878969232]
[53,63.858421612900003,-151.76613200899899,-1694.8056209271522,603.0056034062236,{"$f":"Q_d!$C$11","v":0},{"$f":"Q_d!$C$12","v":0},11233.589832572825,6052.604465817868,14030.02269289958,481.77732439893799,-13548.245368500642]
[53,63.860027392299898,-151.749894788999,-1694.0458634651536,602.71843000774697,{"$f":"Q_d!$C$11","v":0},{"$f":"Q_d!$C$12","v":0},11233.589832572825,6052.604465817868,14029.434147277412,481.77968496813901,-13547.654462309274]
[53,63.8622478606,-151.72861504400001,-1693.0430454467971,602.3531453423484,{"$f":"Q_d!$C$11","v":0},{"$f":"Q_d!$C$12","v":0},11233.589832572825,6052.604465817868,14028.652002934672,481.79738592586801,-13546.854617008805]
[53,63.877467750500003,-151.56521432700001,-1685.4519097351229,599.39130052949986,{"$f":"Q_d!$C$11","v":0},{"$f":"Q_d!$C$12","v":0},11233.589832572825,6052.604465817868,14022.809039759813,481.82599682976797,-13540.983042930045]
[53,63.893025878899898,-151.377677841999,-1676.8498620190644,595.84169906793841,{"$f":"Q_d!$C$11","v":0},{"$f":"Q_d!$C$12","v":0},11233.589832572825,6052.604465817868,14016.266014894347,481.84653134478401,-13534.419483549564]
[53,63.877712538700003,-151.56685086799899,-1685.5038741298981,599.45768394571769,{"$f":"Q_d!$C$11","v":0},{"$f":"Q_d!$C$12","v":0},11233.589832572825,6052.604465817868,14022.831098861901,481.86771844252002,-13540.963380419382]
[53,63.8945280067,-151.362345027,-1676.1324079939159,595.57411936311883,{"$f":"Q_d!$C$11","v":0},{"$f":"Q_d!$C$12","v":0},11233.589832572825,6052.604465817868,14015.709348110484,481.88292271982402,-13533.82642539066]
[53,63.8946867282,-151.36290245800001,-1676.1456211361601,595.60366437573748,{"$f":"Q_d!$C$11","v":0},{"$f":"Q_d!$C$12","v":0},11233.589832572825,6052.604465817868,14015.710015253984,481.904458490477,-13533.805556763507]
[53,63.8945836519,-151.366114514999,-1676.283153792529,595.6793631861392,{"$f":"Q_d!$C$11","v":0},{"$f":"Q_d!$C$12","v":0},11233.589832572825,6052.604465817868,14015.80722255476,481.91999212006101,-13533.887230434699]
[53,63.8940691337,-151.37427417999899,-1676.6477645315294,595.8482228790449,{"$f":"Q_d!$C$11","v":0},{"$f":"Q_d!$C$12","v":0},11233.589832572825,6052.604465817868,14016.07732243721,481.93227418798102,-13534.145048249229]
[53,63.894564290300004,-151.370342977999,-1676.4571816191599,595.78983430340168,{"$f":"Q_d!$C$11","v":0},{"$f":"Q_d!$C$12","v":0},11233.589832572825,6052.604465817868,14015.924508620819,481.95268320551901,-13533.971825415299]
[53,63.8954693146,-151.35985811200001,-1675.9739485296675,595.59555942713723,{"$f":"Q_d!$C$11","v":0},{"$f":"Q_d!$C$12","v":0},11233.589832572825,6052.604465817868,14015.555045119725,481.964872057082,-13533.590173062643]
[53,63.896523952800003,-151.357960496,-1675.8327483251285,595.64317928601304,{"$f":"Q_d!$C$11","v":0},{"$f":"Q_d!$C$12","v":0},11233.589832572825,6052.604465817868,14015.406446297067,482.06457351064398,-13533.341872786423]
[53,63.897218614499899,-151.356619717999,-1675.736031131546,595.67213677474092,{"$f":"Q_d!$C$11","v":0},{"$f":"Q_d!$C$12","v":0},11233.589832572825,6052.604465817868,14015.30608652778,482.12908756576797,-13533.176998962012]
[53,63.879277040399899,-151.585809275999,-1686.1827971524228,600.10893036702373,{"$f":"Q_d!$C$11","v":0},{"$f":"Q_d!$C$12","v":0},11233.589832572825,6052.604465817868,14023.203356149017,482.21789832916801,-13540.985457819848]
[53,63.879925931199899,-151.58749568900001,-1686.2122569551668,600.21411785380678,{"$f":"Q_d!$C$11","v":0},{"$f":"Q_d!$C$12","v":0},11233.589832572825,6052.604465817868,14023.189599343777,482.30508005721799,-13540.884519286559]
[53,63.867258457299897,-151.730903251999,-1692.8313353836227,602.87827070902995,{"$f":"Q_d!$C$11","v":0},{"$f":"Q_d!$C$12","v":0},11233.589832572825,6052.604465817868,14028.252913782528,482.36349474229399,-13545.889419040233]
[53,63.9003585926,-151.345419977999,-1675.0887882723318,595.66671006222941,{"$f":"Q_d!$C$11","v":0},{"$f":"Q_d!$C$12","v":0},11233.589832572825,6052.604465817868,14014.712034375027,482.37958207307997,-13532.332452301947]
[53,63.900006044400001,-151.351188186999,-1675.3458556624416,595.78699663962789,{"$f":"Q_d!$C$11","v":0},{"$f":"Q_d!$C$12","v":0},11233.589832572825,6052.604465817868,14014.901979497499,482.38911300422097,-13532.512866493278]
[53,63.901848695699897,-151.343130123999,-1674.9053181572569,595.74443222329273,{"$f":"Q_d!$C$11","v":0},{"$f":"Q_d!$C$12","v":0},11233.589832572825,6052.604465817868,14014.512780780637,482.523639449923,-13531.989141330714]
[53,63.902857527199899,-151.34188735800001,-1674.7936803076798,595.80521445287832,{"$f":"Q_d!$C$11","v":0},{"$f":"Q_d!$C$12","v":0},11233.589832572825,6052.604465817868,14014.386286430909,482.62400273608398,-13531.762283694825]
[53,63.9041009419999,-151.34149814099899,-1674.702791231402,595.91043966253574,{"$f":"Q_d!$C$11","v":0},{"$f":"Q_d!$C$12","v":0},11233.589832572825,6052.604465817868,14014.261598701443,482.75645922245297,-13531.50513947899]
[53,63.9044640981,-151.34182692600001,-1674.6943324301872,595.95290826351766,{"$f":"Q_d!$C$11","v":0},{"$f":"Q_d!$C$12","v":0},11233.589832572825,6052.604465817868,14014.237271611602,482.79819250386498,-13531.439079107737]
[53,63.905400086699899,-151.34396130299899,-1674.7251336568545,596.09650133321929,{"$f":"Q_d!$C$11","v":0},{"$f":"Q_d!$C$12","v":0},11233.589832572825,6052.604465817868,14014.209732763155,482.918141556102,-13531.291591207053]
[53,63.905936263999898,-151.34183187100001,-1674.6057618474322,596.08984606563263,{"$f":"Q_d!$C$11","v":0},{"$f":"Q_d!$C$12","v":0},11233.589832572825,6052.604465817868,14014.102372231353,482.95924100590503,-13531.143131225448]
[53,63.9059908491,-151.34232410000001,{"$f":"lcpx(B13432,C13432,63,-115,70,60)","v":-1674.6225897851302},{"$f":"lcpy(B13432,C13432,63,-115,70,60)","v":596.10797405852236},{"$f":"Q_d!$C$11","v":0},{"$f":"Q_d!$C$12","v":0},{"$f":"lcpx(F13432,G13432,63,-115,70,60)","v":11233.589832572825},{"$f":"lcpy(F13432,G13432,63,-115,70,60)","v":6052.604465817868},{"$f":"SQRT((H13432-D13432)^2+(I13432-E13432)^2)","v":14014.110813936726},482.969952138846,-13531.14086179788]
[53,63.9063538123999,-151.34340713399899,-1674.6449697645287,596.17042928055707,{"$f":"Q_d!$C$11","v":0},{"$f":"Q_d!$C$12","v":0},11233.589832572825,6052.604465817868,14014.107110599523,483.01777176414498,-13531.089338835378]
[53,63.906378971300001,-151.34566919100001,-1674.7359087141665,596.2327668782591,{"$f":"Q_d!$C$11","v":0},{"$f":"Q_d!$C$12","v":0},11233.589832572825,6052.604465817868,14014.166602412057,483.03907109052699,-13531.12753132153]
[53,63.906669847400003,-151.34596539500001,-1674.7304733671876,596.26765336047492,{"$f":"Q_d!$C$11","v":0},{"$f":"Q_d!$C$12","v":0},11233.589832572825,6052.604465817868,14014.148013051703,483.07319164904999,-13531.074821402653]
[53,63.906928162500002,-151.346129781,-1674.7216138520316,596.29601755396743,{"$f":"Q_d!$C$11","v":0},{"$f":"Q_d!$C$12","v":0},11233.589832572825,6052.604465817868,14014.128809187498,483.10338557704102,-13531.025423610457]
[53,63.8733708372,-151.741247754,-1692.8808534695293,603.72133972309348,{"$f":"Q_d!$C$11","v":0},{"$f":"Q_d!$C$12","v":0},11233.589832572825,6052.604465817868,14027.971047836983,483.13288117659698,-13544.838166660387]
[53,63.907591369000002,-151.34842824200001,-1674.7755551194446,596.41861244044685,{"$f":"Q_d!$C$11","v":0},{"$f":"Q_d!$C$12","v":0},11233.589832572825,6052.604465817868,14014.130763224941,483.19405856032603,-13530.936704664615]
[53,63.876333894200002,-151.725035394999,-1692.0397427584833,603.56099780265049,{"$f":"Q_d!$C$11","v":0},{"$f":"Q_d!$C$12","v":0},11233.589832572825,6052.604465817868,14027.258272199837,483.28547632739799,-13543.97279587244]
[53,63.908643644800001,-151.34902115700001,-1674.736322893149,596.53211947624595,{"$f":"Q_d!$C$11","v":0},{"$f":"Q_d!$C$12","v":0},11233.589832572825,6052.604465817868,14014.050434631692,483.31418704296198,-13530.736247588729]
[53,63.909417750300001,-151.34059687800001,-1674.3453522319921,596.38062500099431,{"$f":"Q_d!$C$11","v":0},{"$f":"Q_d!$C$12","v":0},11233.589832572825,6052.604465817868,14013.749296181255,483.32944998210002,-13530.419846199155]
[53,63.8764162599999,-151.72972317,-1692.2257795287107,603.69425696827466,{"$f":"Q_d!$C$11","v":0},{"$f":"Q_d!$C$12","v":0},11233.589832572825,6052.604465817868,14027.377933960186,483.34269131538503,-13544.035242644801]
[53,63.909881343499897,-151.33905602600001,-1674.2544243955915,596.38284636155322,{"$f":"Q_d!$C$11","v":0},{"$f":"Q_d!$C$12","v":0},11233.589832572825,6052.604465817868,14013.664678547686,483.36736565990799,-13530.297312887778]
[53,63.909354389800001,-151.348728507999,-1674.6814974670001,596.59040087393123,{"$f":"Q_d!$C$11","v":0},{"$f":"Q_d!$C$12","v":0},11233.589832572825,6052.604465817868,14013.977244408319,483.38921447628502,{"$f":"K13508-J13508","v":-13530.588029932034}]
[53,63.9096406403999,-151.34748345099899,-1674.6133526112544,596.58397651984797,{"$f":"Q_d!$C$11","v":0},{"$f":"Q_d!$C$12","v":0},11233.589832572825,6052.604465817868,14013.91697740629,483.41061306098698,-13530.506364345303]
[53,63.876099408000002,-151.74021519799899,-1692.6726395472767,603.94617721851273,{"$f":"Q_d!$C$11","v":0},{"$f":"Q_d!$C$12","v":0},11233.589832572825,6052.604465817868,14027.691850196272,483.41746992118499,-13544.274380275087]
[53,63.876512337900003,-151.739292930999,-1692.6099157152687,603.95966825215874,{"$f":"Q_d!$C$11","v":0},{"$f":"Q_d!$C$12","v":0},11233.589832572825,6052.604465817868,14027.628811124248,483.45218952136298,-13544.176621602885]
[53,63.876685239399897,-151.73817342300001,-1692.5537689457451,603.94565859860859,{"$f":"Q_d!$C$11","v":0},{"$f":"Q_d!$C$12","v":0},11233.589832572825,6052.604465817868,14027.582514623375,483.459200819469,-13544.123313803906]
[53,63.880039965599899,-151.71141737900001,-1691.2591936575784,603.53919637619083,{"$f":"Q_d!$C$11","v":0},{"$f":"Q_d!$C$12","v":0},11233.589832572825,6052.604465817868,14026.547496140473,483.54617270018701,-13543.001323440285]
[53,63.888616925000001,-151.62351152599899,-1687.1540789349017,601.98171147631638,{"$f":"Q_d!$C$11","v":0},{"$f":"Q_d!$C$12","v":0},11233.589832572825,6052.604465817868,14023.370195388477,483.5962192925,-13539.773976095978]
[53,63.882390831899897,-151.69218215800001,-1690.3321867654545,603.24174081139836,{"$f":"Q_d!$C$11","v":0},{"$f":"Q_d!$C$12","v":0},11233.589832572825,6052.604465817868,14025.808870458301,483.604146022343,-13542.204724435958]
[53,63.881428809600003,-151.706073677999,-1690.9569053784537,603.52464441837765,{"$f":"Q_d!$C$11","v":0},{"$f":"Q_d!$C$12","v":0},11233.589832572825,6052.604465817868,14026.274604522405,483.64172818833498,-13542.63287633407]
[53,63.881809144100004,-151.702239093999,-1690.7774815568746,603.45716410805835,{"$f":"Q_d!$C$11","v":0},{"$f":"Q_d!$C$12","v":0},11233.589832572825,6052.604465817868,14026.135490086906,483.644066769147,-13542.491423317759]
[53,63.884215125600001,-151.68745017800001,-1690.0283677702296,603.28398900308412,{"$f":"Q_d!$C$11","v":0},{"$f":"Q_d!$C$12","v":0},11233.589832572825,6052.604465817868,14025.512505690163,483.75467266477102,-13541.757833025393]
[53,63.914929989500003,-151.322704780999,-1673.2818030955148,596.4185947146625,{"$f":"Q_d!$C$11","v":0},{"$f":"Q_d!$C$12","v":0},11233.589832572825,6052.604465817868,14012.754892584333,483.78706299362699,-13528.967829590705]
[53,63.9544746312,-149.20935798400001,-1583.730859076564,545.61956136463687,{"$f":"Q_d!$C$11","v":0},{"$f":"Q_d!$C$12","v":0},11233.589832572825,6052.604465817868,13950.290048972434,483.80633478490103,-13466.483714187534]
[53,63.915302831600002,-151.325034832,-1673.3545558300063,596.51500129159149,{"$f":"Q_d!$C$11","v":0},{"$f":"Q_d!$C$12","v":0},11233.589832572825,6052.604465817868,14012.784366079355,483.84698102809301,-13528.937385051262]
[53,63.915401828999897,-151.32664217000001,-1673.414276009484,596.56680288820189,{"$f":"Q_d!$C$11","v":0},{"$f":"Q_d!$C$12","v":0},11233.589832572825,6052.604465817868,14012.819203795774,483.869891529737,-13528.949312266037]
[53,63.890954014899897,-151.631175982999,-1687.3247082010748,602.40307461126758,{"$f":"Q_d!$C$11","v":0},{"$f":"Q_d!$C$12","v":0},11233.589832572825,6052.604465817868,14023.363639822393,483.92557570147,-13539.438064120923]
[53,63.9171686364,-151.312608600999,-1672.7342640274485,596.35915439770133,{"$f":"Q_d!$C$11","v":0},{"$f":"Q_d!$C$12","v":0},11233.589832572825,6052.604465817868,14012.27371217389,483.95105700680102,-13528.322655167089]
[53,63.915756116799898,-151.335991884999,-1673.7749900410581,596.84756305969586,{"$f":"Q_d!$C$11","v":0},{"$f":"Q_d!$C$12","v":0},11233.589832572825,6052.604465817868,14013.042141021477,483.98425867480398,-13529.057882346673]
[53,63.916383486900003,-151.32887609599899,-1673.4463926447588,596.71724896129126,{"$f":"Q_d!$C$11","v":0},{"$f":"Q_d!$C$12","v":0},11233.589832572825,6052.604465817868,14012.790209024681,483.99570052015901,-13528.794508504521]
[53,63.919026580000001,-151.296472676999,-1671.9628217142113,596.10447922355934,{"$f":"Q_d!$C$11","v":0},{"$f":"Q_d!$C$12","v":0},11233.589832572825,6052.604465817868,14011.662335935691,484.02613399381602,-13527.636201941876]
[53,63.9161201095,-151.33681262100001,-1673.7865808580727,596.90314791910214,{"$f":"Q_d!$C$11","v":0},{"$f":"Q_d!$C$12","v":0},11233.589832572825,6052.604465817868,14013.031176305667,484.03128912292402,-13528.999887182743]
[53,63.889250023400002,-151.66489141599899,-1688.8027548272173,603.1466465214653,{"$f":"Q_d!$C$11","v":0},{"$f":"Q_d!$C$12","v":0},11233.589832572825,6052.604465817868,14024.43655578299,484.07340169131299,-13540.363154091676]
[53,63.920194993300001,-151.28745352300001,-1671.5237922261242,595.97430698313974,{"$f":"Q_d!$C$11","v":0},{"$f":"Q_d!$C$12","v":0},11233.589832572825,6052.604465817868,14011.308659767517,484.083173617922,-13527.225486149595]
[53,63.920473619200003,-151.28705953100001,-1671.4909085077982,595.9897831932758,{"$f":"Q_d!$C$11","v":0},{"$f":"Q_d!$C$12","v":0},11233.589832572825,6052.604465817868,14011.272345095726,484.11016458859802,-13527.162180507128]
[53,63.917114406499898,-151.33779980200001,-1673.7669676321782,597.02172075677572,{"$f":"Q_d!$C$11","v":0},{"$f":"Q_d!$C$12","v":0},11233.589832572825,6052.604465817868,14012.966946939063,484.14713623546299,-13528.819810703601]
[53,63.889737001,-151.668793147,-1688.9321970589353,603.29611640648682,{"$f":"Q_d!$C$11","v":0},{"$f":"Q_d!$C$12","v":0},11233.589832572825,6052.604465817868,14024.497748343174,484.165459863671,-13540.332288479503]
[53,63.917676328299898,-151.338982307999,-1673.7814022733887,597.10528918315686,{"$f":"Q_d!$C$11","v":0},{"$f":"Q_d!$C$12","v":0},11233.589832572825,6052.604465817868,14012.947707759331,484.21868098721598,-13528.729026772115]
[53,63.918024748100002,-151.34006531099899,-1673.8046427011702,597.16637863770848,{"$f":"Q_d!$C$11","v":0},{"$f":"Q_d!$C$12","v":0},11233.589832572825,6052.604465817868,14012.945331492219,484.26554708031802,-13528.679784411901]
[53,63.921915937000001,-151.286832583999,-1671.3947762717194,596.11788288604748,{"$f":"Q_d!$C$11","v":0},{"$f":"Q_d!$C$12","v":0},11233.589832572825,6052.604465817868,14011.133915005936,484.26594624235099,-13526.867968763585]
[53,63.922262775500002,-151.28693114500001,-1671.3779183858421,596.15274127892553,{"$f":"Q_d!$C$11","v":0},{"$f":"Q_d!$C$12","v":0},11233.589832572825,6052.604465817868,14011.10481280856,484.30482718634897,-13526.799985622212]
[53,63.8896062878,-151.687292466,-1689.6941096156418,603.77897901446886,{"$f":"Q_d!$C$11","v":0},{"$f":"Q_d!$C$12","v":0},11233.589832572825,6052.604465817868,14025.012193793793,484.33725722682101,-13540.674936566971]
[53,63.894160473500001,-151.639122162999,-1687.4539416996208,602.91251274350816,{"$f":"Q_d!$C$11","v":0},{"$f":"Q_d!$C$12","v":0},11233.589832572825,6052.604465817868,14023.284729337423,484.35112161736498,-13538.933607720059]
[53,63.893317944099898,-151.65276885200001,-1688.0614177720756,603.19925720817309,{"$f":"Q_d!$C$11","v":0},{"$f":"Q_d!$C$12","v":0},11233.589832572825,6052.604465817868,14023.733032369179,484.394340579036,-13539.338691790143]
[53,63.890386882500003,-151.687176558999,-1689.6419193164086,603.84815872428089,{"$f":"Q_d!$C$11","v":0},{"$f":"Q_d!$C$12","v":0},11233.589832572825,6052.604465817868,14024.937226495176,484.42081336375298,-13540.516413131423]
[53,63.921852670299899,-151.30900943200001,-1672.3049399311567,596.69923054979654,{"$f":"Q_d!$C$11","v":0},{"$f":"Q_d!$C$12","v":0},11233.589832572825,6052.604465817868,14011.745851790602,484.43452137311601,-13527.311330417486]
[53,63.920307487899898,-151.33361028300001,-1673.4032762173576,597.20741615303359,{"$f":"Q_d!$C$11","v":0},{"$f":"Q_d!$C$12","v":0},11233.589832572825,6052.604465817868,14012.559654818568,484.46240708335603,-13528.097247735212]
[53,63.894982075100003,-151.64391499600001,-1687.5994148232787,603.11672886352289,{"$f":"Q_d!$C$11","v":0},{"$f":"Q_d!$C$12","v":0},11233.589832572825,6052.604465817868,14023.339408366342,484.48701029439297,-13538.852398071949]
[53,63.920799701200004,-151.33426807999899,-1673.4004763353944,597.27059464103604,{"$f":"Q_d!$C$11","v":0},{"$f":"Q_d!$C$12","v":0},11233.589832572825,6052.604465817868,14012.532479186621,484.52141102844899,-13528.011068158172]
[53,63.924369012,-151.287490859999,-1671.2739574644547,596.36339610841378,{"$f":"Q_d!$C$11","v":0},{"$f":"Q_d!$C$12","v":0},11233.589832572825,6052.604465817868,14010.927023227247,484.539832196487,-13526.387191030759]
[53,63.891624274400002,-151.686700492,-1689.5472757861558,603.9499993779591,{"$f":"Q_d!$C$11","v":0},{"$f":"Q_d!$C$12","v":0},11233.589832572825,6052.604465817868,14024.810452056045,484.55003097306599,-13540.260421082978]
[53,63.924673391699898,-151.28772077299899,{"$f":"lcpx(B13752,C13752,63,-115,70,60)","v":-1671.2650240596643},{"$f":"lcpy(B13752,C13752,63,-115,70,60)","v":596.39778314955083},{"$f":"Q_d!$C$11","v":0},{"$f":"Q_d!$C$12","v":0},{"$f":"lcpx(F13752,G13752,63,-115,70,60)","v":11233.589832572825},{"$f":"lcpy(F13752,G13752,63,-115,70,60)","v":6052.604465817868},{"$f":"SQRT((H13752-D13752)^2+(I13752-E13752)^2)","v":14010.905403818326},484.574181715245,-13526.331222103081]
[53,63.925383328999899,-151.288575049,-1671.2571839549701,596.48640542347675,{"$f":"Q_d!$C$11","v":0},{"$f":"Q_d!$C$12","v":0},11233.589832572825,6052.604465817868,14010.863671057119,484.65889860808198,{"$f":"K13764-J13764","v":-13526.204772449037}]
[53,63.962474630700001,-149.20935799200001,-1583.2738419561977,546.3788434341518,{"$f":"Q_d!$C$11","v":0},{"$f":"Q_d!$C$12","v":0},11233.589832572825,6052.604465817868,13949.57042550259,484.68941057134703,-13464.881014931243]
[53,63.923052194900002,-151.337357811,-1673.3908959583314,597.56181773266326,{"$f":"Q_d!$C$11","v":0},{"$f":"Q_d!$C$12","v":0},11233.589832572825,6052.604465817868,14012.410278717331,484.79243438197301,-13527.617844335358]
[53,63.922234472900001,-151.35179057100001,-1674.029766638535,597.86842650421795,{"$f":"Q_d!$C$11","v":0},{"$f":"Q_d!$C$12","v":0},11233.589832572825,6052.604465817868,14012.879396345792,484.82090481743802,-13528.058491528354]
[53,63.924351279600003,-151.339494873999,-1673.3998654951085,597.73918399028344,{"$f":"Q_d!$C$11","v":0},{"$f":"Q_d!$C$12","v":0},11233.589832572825,6052.604465817868,14012.349492819527,484.95222454691299,-13527.397268272614]
[53,63.923980530100003,-151.349073812,-1673.8134893268293,597.95864283025685,{"$f":"Q_d!$C$11","v":0},{"$f":"Q_d!$C$12","v":0},11233.589832572825,6052.604465817868,14012.64505967458,484.98908103172698,-13527.655978642853]
[53,63.924709073300001,-151.341366585,-1673.4547460411634,597.82204211987755,{"$f":"Q_d!$C$11","v":0},{"$f":"Q_d!$C$12","v":0},11233.589832572825,6052.604465817868,14012.367788643474,485.00657342452502,-13527.361215218949]
[53,63.929686596300002,-151.28319889400001,-1670.7783480627274,596.74424294510072,{"$f":"Q_d!$C$11","v":0},{"$f":"Q_d!$C$12","v":0},11233.589832572825,6052.604465817868,14010.322227305287,485.08769195373299,-13525.234535351554]
[53,63.931012490199898,-151.285661296,-1670.7991283852991,596.93268972891701,{"$f":"Q_d!$C$11","v":0},{"$f":"Q_d!$C$12","v":0},11233.589832572825,6052.604465817868,14010.267984021984,485.25136665443802,-13525.016617367546]
[53,63.932199450799899,-151.28618799700001,-1670.7491731811929,597.05699258565301,{"$f":"Q_d!$C$11","v":0},{"$f":"Q_d!$C$12","v":0},11233.589832572825,6052.604465817868,14010.173568093829,485.38592095877601,-13524.787647135054]
[53,63.932674736000003,-151.28389078199899,-1670.6266908246266,597.04039900214457,{"$f":"Q_d!$C$11","v":0},{"$f":"Q_d!$C$12","v":0},11233.589832572825,6052.604465817868,14010.067215037005,485.41983267785798,-13524.647382359146]
[53,63.932978232899899,-151.281824446,-1670.5239867652963,597.01394578431245,{"$f":"Q_d!$C$11","v":0},{"$f":"Q_d!$C$12","v":0},11233.589832572825,6052.604465817868,14009.982918787342,485.43616599713698,-13524.546752790206]
[53,63.936057028199897,-151.27989023500001,-1670.259583733457,597.2490585849423,{"$f":"Q_d!$C$11","v":0},{"$f":"Q_d!$C$12","v":0},11233.589832572825,6052.604465817868,14009.647832045368,485.75889831581998,-13523.888933729548]
[53,63.936808061699899,-151.28153256300001,-1670.2814614448705,597.36234101993568,{"$f":"Q_d!$C$11","v":0},{"$f":"Q_d!$C$12","v":0},11233.589832572825,6052.604465817868,14009.623871208812,485.85346658431899,-13523.770404624494]
[53,63.937081896899898,-151.282681357,-1670.3119058163466,597.41819462520425,{"$f":"Q_d!$C$11","v":0},{"$f":"Q_d!$C$12","v":0},11233.589832572825,6052.604465817868,14009.630163834163,485.89264643540298,-13523.73751739876]
[53,63.939351336400001,-151.256257339999,-1669.0956891741064,596.93045119704357,{"$f":"Q_d!$C$11","v":0},{"$f":"Q_d!$C$12","v":0},11233.589832572825,6052.604465817868,14008.699890671753,485.93728568612602,-13522.762604985626]
[53,63.939913871400002,-151.25527351599899,-1669.0216397263314,596.95676486453249,{"$f":"Q_d!$C$11","v":0},{"$f":"Q_d!$C$12","v":0},11233.589832572825,6052.604465817868,14008.621439742856,485.99103608605702,-13522.630403656798]
[53,63.940160279300002,-151.255207154,-1669.0041011695985,596.97792907848361,{"$f":"Q_d!$C$11","v":0},{"$f":"Q_d!$C$12","v":0},11233.589832572825,6052.604465817868,14008.597043509451,486.01712320657998,-13522.579920302871]
[53,63.9394506167,-151.27017694099899,-1669.6584420705867,597.30772201636091,{"$f":"Q_d!$C$11","v":0},{"$f":"Q_d!$C$12","v":0},11233.589832572825,6052.604465817868,14009.071296842611,486.05437017066299,-13523.016926671948]
[53,63.940751200900003,-151.255109253,-1668.9645438049686,597.03030295981898,{"$f":"Q_d!$C$11","v":0},{"$f":"Q_d!$C$12","v":0},11233.589832572825,6052.604465817868,14008.540212378663,486.08178548984898,-13522.458426888814]
[53,63.939897215999899,-151.272638954,-1669.7321421039726,597.41436205212403,{"$f":"Q_d!$C$11","v":0},{"$f":"Q_d!$C$12","v":0},11233.589832572825,6052.604465817868,14009.097652968261,486.12238772658799,-13522.975265241674]
[53,63.939085654000003,-151.287082196,-1670.3710255962528,597.72093448728947,{"$f":"Q_d!$C$11","v":0},{"$f":"Q_d!$C$12","v":0},11233.589832572825,6052.604465817868,14009.5667373956,486.14496380400698,-13523.421773591594]
[53,63.939273577999899,-151.287378015999,-1670.3717926398224,597.74623382579375,{"$f":"Q_d!$C$11","v":0},{"$f":"Q_d!$C$12","v":0},11233.589832572825,6052.604465817868,14009.557593160904,486.16876735964797,-13523.388825801256]
[53,63.942094027000003,-151.25409070000001,-1668.8421271873458,597.12827715818548,{"$f":"Q_d!$C$11","v":0},{"$f":"Q_d!$C$12","v":0},11233.589832572825,6052.604465817868,14008.389305029807,486.22082159138301,-13522.168483438423]
[53,63.940936843400003,-151.27549558000001,-1669.7862552876061,597.58658651924407,{"$f":"Q_d!$C$11","v":0},{"$f":"Q_d!$C$12","v":0},11233.589832572825,6052.604465817868,14009.080431214465,486.25797515413501,-13522.82245606033]
[53,63.940299211800003,-151.289907067999,-1670.4133310549028,597.90850501679552,{"$f":"Q_d!$C$11","v":0},{"$f":"Q_d!$C$12","v":0},11233.589832572825,6052.604465817868,14009.532671423909,486.30019866333498,-13523.232472760574]
[53,63.943218785200003,-151.253959643,-1668.7690951641875,597.22942839976849,{"$f":"Q_d!$C$11","v":0},{"$f":"Q_d!$C$12","v":0},11233.589832572825,6052.604465817868,14008.282646314627,486.34274345671002,-13521.939902857917]
[53,63.943493898900002,-151.25399342,-1668.7539214198282,597.25590983392976,{"$f":"Q_d!$C$11","v":0},{"$f":"Q_d!$C$12","v":0},11233.589832572825,6052.604465817868,14008.258357607103,486.37299754098098,-13521.885360066122]
[53,63.941207648599899,-151.29302727300001,-1670.4860621123873,598.07551949513481,{"$f":"Q_d!$C$11","v":0},{"$f":"Q_d!$C$12","v":0},11233.589832572825,6052.604465817868,14009.534636170773,486.42377351646701,-13523.110862654306]
[53,63.942886497499899,-151.275629291,-1669.6743434734924,597.77142251941814,{"$f":"Q_d!$C$11","v":0},{"$f":"Q_d!$C$12","v":0},11233.589832572825,6052.604465817868,14008.905379332849,486.47243580083699,-13522.432943532012]
[53,63.942548402900002,-151.292569372999,-1670.3866099247614,598.18806061286523,{"$f":"Q_d!$C$11","v":0},{"$f":"Q_d!$C$12","v":0},11233.589832572825,6052.604465817868,14009.399214452493,486.56743352283598,-13522.831780929657]
[53,63.944559580499899,-151.275958868999,-1669.5870814898515,597.9357188239851,{"$f":"Q_d!$C$11","v":0},{"$f":"Q_d!$C$12","v":0},11233.589832572825,6052.604465817868,14008.761030691894,486.65759628408102,-13522.103434407813]
[53,63.9451795162,-151.27753589400001,-1669.6141714047401,598.03506887255298,{"$f":"Q_d!$C$11","v":0},{"$f":"Q_d!$C$12","v":0},11233.589832572825,6052.604465817868,14008.747298540118,486.73820648270402,-13522.009092057415]
[53,63.944556699400003,-151.290471478999,-1670.1799803893134,598.31928412714933,{"$f":"Q_d!$C$11","v":0},{"$f":"Q_d!$C$12","v":0},11233.589832572825,6052.604465817868,14009.157798708811,486.77019832565702,-13522.387600383154]
[53,63.945731781100001,-151.27865255500001,-1669.6265294267566,598.11595210963196,{"$f":"Q_d!$C$11","v":0},{"$f":"Q_d!$C$12","v":0},11233.589832572825,6052.604465817868,14008.727188104878,486.80657214339197,-13521.920615961486]
[53,63.947739468999899,-151.25852459000001,-1668.6835556533308,597.7705443493146,{"$f":"Q_d!$C$11","v":0},{"$f":"Q_d!$C$12","v":0},11233.589832572825,6052.604465817868,14007.993135896835,486.87217613250402,-13521.120959764332]
[53,63.946221851200001,-151.287419349,-1669.9550572824639,598.39337408108031,{"$f":"Q_d!$C$11","v":0},{"$f":"Q_d!$C$12","v":0},11233.589832572825,6052.604465817868,14008.921777129572,486.92846736764102,-13521.993309761931]
[53,63.946493240499898,-151.285745499999,-1669.8703579187013,598.37433674052181,{"$f":"Q_d!$C$11","v":0},{"$f":"Q_d!$C$12","v":0},11233.589832572825,6052.604465817868,14008.851173045372,486.94529310077502,-13521.905879944597]
[53,63.983347069099899,-149.20935801100001,-1582.0814652059844,548.35984187958502,{"$f":"Q_d!$C$11","v":0},{"$f":"Q_d!$C$12","v":0},11233.589832572825,6052.604465817868,13947.692988192171,486.99384709152099,-13460.699141100651]
[53,63.950138428800003,-151.250807417,-1668.2239788093032,597.7897417746176,{"$f":"Q_d!$C$11","v":0},{"$f":"Q_d!$C$12","v":0},11233.589832572825,6052.604465817868,14007.562360996635,487.07568284405198,-13520.486678152583]
[53,63.950485909999898,-151.252482498999,-1668.271493727693,597.86632175048499,{"$f":"Q_d!$C$11","v":0},{"$f":"Q_d!$C$12","v":0},11233.589832572825,6052.604465817868,14007.57630368054,487.12698134675298,-13520.449322333787]
[53,63.950698772099898,-151.252975574,-1668.278826252005,597.89914895161246,{"$f":"Q_d!$C$11","v":0},{"$f":"Q_d!$C$12","v":0},11233.589832572825,6052.604465817868,14007.570274084488,487.15430234167002,-13520.415971742817]
[53,63.951034196000002,-151.254419546999,-1668.3176231194864,597.96850148844032,{"$f":"Q_d!$C$11","v":0},{"$f":"Q_d!$C$12","v":0},11233.589832572825,6052.604465817868,14007.579002047602,487.20154770279601,-13520.377454344805]
[53,63.952072553000001,-151.24305661400001,-1667.7910198677898,597.76488481875003,{"$f":"Q_d!$C$11","v":0},{"$f":"Q_d!$C$12","v":0},11233.589832572825,6052.604465817868,14007.173260660265,487.22876684366599,-13519.9444938166]
[53,63.997783126000002,-149.924318384999,-1610.9032925851805,567.80386554662664,{"$f":"Q_d!$C$11","v":0},{"$f":"Q_d!$C$12","v":0},11233.589832572825,6052.604465817868,13966.532900722606,487.234723521425,-13479.298177201181]
[53,63.997783124800002,-149.93320406800001,-1611.2704542140445,568.03060149664816,{"$f":"Q_d!$C$11","v":0},{"$f":"Q_d!$C$12","v":0},11233.589832572825,6052.604465817868,13966.781528336078,487.23623463880398,-13479.545293697274]
[53,63.997783135399899,-149.87143270799899,-1608.7173654723674,566.45545126431307,{"$f":"Q_d!$C$11","v":0},{"$f":"Q_d!$C$12","v":0},11233.589832572825,6052.604465817868,13965.052279846657,487.23712592637997,-13477.815153920277]
[53,63.997783122000001,-149.94920406700001,-1611.9315031124054,568.43900365232957,{"$f":"Q_d!$C$11","v":0},{"$f":"Q_d!$C$12","v":0},11233.589832572825,6052.604465817868,13967.229116827497,487.240050575689,-13479.989066251808]
[53,63.997783118900003,-149.966089745999,-1612.6290321125639,568.87019456765893,{"$f":"Q_d!$C$11","v":0},{"$f":"Q_d!$C$12","v":0},11233.589832572825,6052.604465817868,13967.701338340636,487.24466240278002,-13480.456675937856]
[53,63.997783140099898,-149.842547029,-1607.5229551580076,565.71973281089276,{"$f":"Q_d!$C$11","v":0},{"$f":"Q_d!$C$12","v":0},11233.589832572825,6052.604465817868,13964.242969116847,487.24492357950697,-13476.998045537341]
[53,63.997783143299898,-149.825661349,{"$f":"lcpx(B14072,C14072,63,-115,70,60)","v":-1606.8245837285317},{"$f":"lcpy(B14072,C14072,63,-115,70,60)","v":565.28990757115525},{"$f":"Q_d!$C$11","v":0},{"$f":"Q_d!$C$12","v":0},{"$f":"lcpx(F14072,G14072,63,-115,70,60)","v":11233.589832572825},{"$f":"lcpy(F14072,G14072,63,-115,70,60)","v":6052.604465817868},{"$f":"SQRT((H14072-D14072)^2+(I14072-E14072)^2)","v":13963.769671671975},487.25126189472297,-13476.518409777253]
[53,63.997783114900002,-149.990089745999,-1613.6202474495074,569.48337703841798,{"$f":"Q_d!$C$11","v":0},{"$f":"Q_d!$C$12","v":0},11233.589832572825,6052.604465817868,13968.372264313597,487.25450542606501,-13481.117758887533]
[53,63.9977831267,-150.00002523699899,-1614.0305205610293,569.73733311223759,{"$f":"Q_d!$C$11","v":0},{"$f":"Q_d!$C$12","v":0},11233.589832572825,6052.604465817868,13968.649925213349,487.25972430522,-13481.390200908128]
[53,63.952430431899899,-151.24295878300001,-1667.7654957904849,597.79559104863301,{"$f":"Q_d!$C$11","v":0},{"$f":"Q_d!$C$12","v":0},11233.589832572825,6052.604465817868,14007.13779360186,487.26766133717501,-13519.870132264685]
[53,63.997783150399897,-149.781988638999,-1605.0178001043871,564.17908434347646,{"$f":"Q_d!$C$11","v":0},{"$f":"Q_d!$C$12","v":0},11233.589832572825,6052.604465817868,13962.544865240359,487.27677606161302,-13475.268089178746]
[53,63.997783107099899,-150.034647858,-1615.4599075930585,570.62280316872693,{"$f":"Q_d!$C$11","v":0},{"$f":"Q_d!$C$12","v":0},11233.589832572825,6052.604465817868,13969.617109100678,487.28140233339502,-13482.335706767282]
[53,63.997783105499899,-150.04664785700001,-1615.9552111795958,570.92988532474783,{"$f":"Q_d!$C$11","v":0},{"$f":"Q_d!$C$12","v":0},11233.589832572825,6052.604465817868,13969.952184522566,487.29012755544301,-13482.662056967123]
[53,63.997783154700002,-149.757102959999,-1603.9879111793393,563.54667170256471,{"$f":"Q_d!$C$11","v":0},{"$f":"Q_d!$C$12","v":0},11233.589832572825,6052.604465817868,13961.84650374079,487.29520057148102,-13474.551303169308]
[53,63.997783156700002,-149.745102959999,-1603.4912044872672,563.241864204585,{"$f":"Q_d!$C$11","v":0},{"$f":"Q_d!$C$12","v":0},11233.589832572825,6052.604465817868,13961.509636283548,487.30499375750202,-13474.204642526047]
[53,63.9977831008,-150.07553353700001,-1617.1472369968517,571.66946103693726,{"$f":"Q_d!$C$11","v":0},{"$f":"Q_d!$C$12","v":0},11233.589832572825,6052.604465817868,13970.758453206654,487.315850992967,-13483.442602213687]
[53,63.9977830995999,-150.07953353900001,-1617.3122784995749,571.77191818900019,{"$f":"Q_d!$C$11","v":0},{"$f":"Q_d!$C$12","v":0},11233.589832572825,6052.604465817868,13970.870068951075,487.31935755723799,-13483.550711393837]
[53,63.953011473399897,-151.24305646400001,-1667.7345336809331,597.85222057420287,{"$f":"Q_d!$C$11","v":0},{"$f":"Q_d!$C$12","v":0},11233.589832572825,6052.604465817868,14007.08722255572,487.33234208802497,-13519.754880467695]
[53,63.9977830967999,-150.09641921599899,-1618.0089158470714,572.20454800694915,{"$f":"Q_d!$C$11","v":0},{"$f":"Q_d!$C$12","v":0},11233.589832572825,6052.604465817868,13971.34115428901,487.33736200398101,-13484.00379228503]
[53,63.9977830951999,-150.108419217999,-1618.5039188841304,572.51211467736493,{"$f":"Q_d!$C$11","v":0},{"$f":"Q_d!$C$12","v":0},11233.589832572825,6052.604465817868,13971.67584698656,487.35104628183501,-13484.324800704724]
[53,63.9521574207999,-151.25970855700001,-1668.4660505093912,598.21273062967794,{"$f":"Q_d!$C$11","v":0},{"$f":"Q_d!$C$12","v":0},11233.589832572825,6052.604465817868,14007.620612047775,487.36419256752902,-13520.256419480245]
[53,63.997783092100001,-150.12441921600001,-1619.1638318486703,572.92234969771562,{"$f":"Q_d!$C$11","v":0},{"$f":"Q_d!$C$12","v":0},11233.589832572825,6052.604465817868,13972.12198816011,487.36980133364801,-13484.752186826461]
[53,63.9977830905,-150.13330489699899,-1619.5302729878563,573.15024805400753,{"$f":"Q_d!$C$11","v":0},{"$f":"Q_d!$C$12","v":0},11233.589832572825,6052.604465817868,13972.369697819278,487.38077892444602,-13484.988918894833]
[53,63.9977831693,-149.6713316,-1600.4363718754225,561.37010023092444,{"$f":"Q_d!$C$11","v":0},{"$f":"Q_d!$C$12","v":0},11233.589832572825,6052.604465817868,13959.437075837526,487.38700144443698,-13472.05007439309]
[53,63.997783088200002,-150.14930489599899,-1620.1900242019394,573.56074324739075,{"$f":"Q_d!$C$11","v":0},{"$f":"Q_d!$C$12","v":0},11233.589832572825,6052.604465817868,13972.815633231108,487.40146019990499,-13485.414173031204]
[53,63.997783085800002,-150.162190576999,-1620.7212826102325,573.89145913366428,{"$f":"Q_d!$C$11","v":0},{"$f":"Q_d!$C$12","v":0},11233.589832572825,6052.604465817868,13973.174673478085,487.41997977206398,-13485.75469370602]
[53,63.997783175199899,-149.63844592199899,-1599.073889164752,560.53685879809564,{"$f":"Q_d!$C$11","v":0},{"$f":"Q_d!$C$12","v":0},11233.589832572825,6052.604465817868,13958.512270126628,487.432709813364,-13471.079560313265]
[53,63.997783176399899,-149.629560241999,-1598.705673150846,560.31183948029593,{"$f":"Q_d!$C$11","v":0},{"$f":"Q_d!$C$12","v":0},11233.589832572825,6052.604465817868,13958.2622929768,487.44609348008902,-13470.816199496712]
[53,63.997783179499898,-149.613560239999,-1598.0425649988331,559.90678915063336,{"$f":"Q_d!$C$11","v":0},{"$f":"Q_d!$C$12","v":0},11233.589832572825,6052.604465817868,13957.812069005522,487.47147467826198,-13470.340594327259]
[53,63.997783079500003,-150.197863286,-1622.1916657483896,574.80757824484499,{"$f":"Q_d!$C$11","v":0},{"$f":"Q_d!$C$12","v":0},11233.589832572825,6052.604465817868,13974.168192564548,487.47515058410897,-13486.693041980439]
[53,63.997783181899898,-149.59788753000001,-1597.3929217594923,559.51018730056967,{"$f":"Q_d!$C$11","v":0},{"$f":"Q_d!$C$12","v":0},11233.589832572825,6052.604465817868,13957.370927028227,487.49844258315301,-13469.872484445073]
[53,63.954670154900001,-151.24295741500001,-1667.6307114124522,598.00389728421624,{"$f":"Q_d!$C$11","v":0},{"$f":"Q_d!$C$12","v":0},11233.589832572825,6052.604465817868,14006.932529529633,487.51258824567799,-13519.419941283955]
[53,63.997783185800003,-149.577887529999,-1596.5637667635006,559.00431658903426,{"$f":"Q_d!$C$11","v":0},{"$f":"Q_d!$C$12","v":0},11233.589832572825,6052.604465817868,13956.807800574239,487.53376912784199,-13469.274031446397]
[53,63.997783070799898,-150.24674896600001,-1624.2058293809162,576.06437174155371,{"$f":"Q_d!$C$11","v":0},{"$f":"Q_d!$C$12","v":0},11233.589832572825,6052.604465817868,13975.528637106429,487.56247040558799,-13487.96616670084]
[53,63.997783189800003,-149.553001851,-1595.5318388848125,558.37523647039279,{"$f":"Q_d!$C$11","v":0},{"$f":"Q_d!$C$12","v":0},11233.589832572825,6052.604465817868,13956.106824099625,487.58119967549999,-13468.525624424125]
[53,63.997783190200003,-149.54900185100001,-1595.365948828306,558.27415918906263,{"$f":"Q_d!$C$11","v":0},{"$f":"Q_d!$C$12","v":0},11233.589832572825,6052.604465817868,13955.994122938189,487.58925497594697,-13468.404867962243]
[53,63.997783065699899,-150.27963464600001,-1625.5602211261728,576.9107013179555,{"$f":"Q_d!$C$11","v":0},{"$f":"Q_d!$C$12","v":0},11233.589832572825,6052.604465817868,13976.443120698848,487.62797686863701,-13488.815143830212]
[53,63.997783194100002,-149.52811617200001,-1594.499663117876,557.7465631622963,{"$f":"Q_d!$C$11","v":0},{"$f":"Q_d!$C$12","v":0},11233.589832572825,6052.604465817868,13955.40552903521,487.63162104605101,-13467.773907989158]
[53,63.997783196500002,-149.512116171,-1593.8359051058669,557.34257873674187,{"$f":"Q_d!$C$11","v":0},{"$f":"Q_d!$C$12","v":0},11233.589832572825,6052.604465817868,13954.954470125231,487.666228910717,-13467.288241214514]
[53,63.9977831976,-149.508116172,-1593.6699496314629,557.24160899237677,{"$f":"Q_d!$C$11","v":0},{"$f":"Q_d!$C$12","v":0},11233.589832572825,6052.604465817868,13954.841684817957,487.67507404931001,-13467.166610768647]
[53,63.997783198800001,-149.499230490999,-1593.3012698734574,557.01735020442902,{"$f":"Q_d!$C$11","v":0},{"$f":"Q_d!$C$12","v":0},11233.589832572825,6052.604465817868,13954.59111186394,487.69487811232898,-13466.896233751611]
[53,63.9977830574,-150.32940600500001,-1627.6092081251215,578.19293378896236,{"$f":"Q_d!$C$11","v":0},{"$f":"Q_d!$C$12","v":0},11233.589832572825,6052.604465817868,13977.826096588153,487.73930916012898,-13490.086787428023]
[53,63.9977832042999,-149.47034481099899,-1592.1025431334836,556.28868569181304,{"$f":"Q_d!$C$11","v":0},{"$f":"Q_d!$C$12","v":0},11233.589832572825,6052.604465817868,13953.776265624787,487.76272037641399,-13466.013545248374]
[53,63.9977832038999,-149.466344813999,-1591.9365210640804,556.18782567259132,{"$f":"Q_d!$C$11","v":0},{"$f":"Q_d!$C$12","v":0},11233.589832572825,6052.604465817868,13953.663394603607,487.772371790367,-13465.891022813241]
[53,63.997783052300001,-150.35829168500001,-1628.7979098859255,578.93784043666619,{"$f":"Q_d!$C$11","v":0},{"$f":"Q_d!$C$12","v":0},11233.589832572825,6052.604465817868,13978.628143103499,487.81082017622299,-13490.817322927276]
[53,63.997783049200002,-150.37029168500001,-1629.2916330010178,579.24745735638044,{"$f":"Q_d!$C$11","v":0},{"$f":"Q_d!$C$12","v":0},11233.589832572825,6052.604465817868,13978.961211029866,487.84192369762502,-13491.119287332242]
[53,63.9977832095,-149.433459131999,-1590.5713401409855,555.35901201231582,{"$f":"Q_d!$C$11","v":0},{"$f":"Q_d!$C$12","v":0},11233.589832572825,6052.604465817868,13952.735121227173,487.85673545109501,-13464.878385776079]
[53,63.997783210599898,-149.429459129999,-1590.4052588827826,555.25824901809483,{"$f":"Q_d!$C$11","v":0},{"$f":"Q_d!$C$12","v":0},11233.589832572825,6052.604465817868,13952.62217409474,487.867098263451,-13464.75507583129]
[53,63.997783212999899,-149.417459132999,-1589.9069772361242,554.95602331073633,{"$f":"Q_d!$C$11","v":0},{"$f":"Q_d!$C$12","v":0},11233.589832572825,6052.604465817868,13952.283283698815,487.899474277232,-13464.383809421583]
[53,63.997783215399899,-149.401786420999,-1589.256105234585,554.56144106324427,{"$f":"Q_d!$C$11","v":0},{"$f":"Q_d!$C$12","v":0},11233.589832572825,6052.604465817868,13951.840561259183,487.942663625553,-13463.897897633629]
[53,63.997783217699897,-149.389786420999,-1588.7576910542134,554.25943369233119,{"$f":"Q_d!$C$11","v":0},{"$f":"Q_d!$C$12","v":0},11233.589832572825,6052.604465817868,13951.501500159902,487.97720660805402,-13463.524293551849]
[53,63.997783217699897,-149.381786419999,-1588.4253830956081,554.05814790414342,{"$f":"Q_d!$C$11","v":0},{"$f":"Q_d!$C$12","v":0},11233.589832572825,6052.604465817868,13951.275418436673,488.00051627841498,-13463.274902158259]
[53,63.997783220899898,-149.36890073999899,-1587.8900776107464,553.7340237502026,{"$f":"Q_d!$C$11","v":0},{"$f":"Q_d!$C$12","v":0},11233.589832572825,6052.604465817868,13950.911196975141,488.03864391357303,-13462.872553061568]
[53,63.997783037700003,-150.44285007400001,-1632.2756909385628,581.12156532517429,{"$f":"Q_d!$C$11","v":0},{"$f":"Q_d!$C$12","v":0},11233.589832572825,6052.604465817868,13980.973528315648,488.04585426883801,-13492.92767404681]
[53,63.997783035799898,-150.45573575500001,-1632.8054059910726,581.45474764520804,{"$f":"Q_d!$C$11","v":0},{"$f":"Q_d!$C$12","v":0},11233.589832572825,6052.604465817868,13981.330611697889,488.08485972010999,-13493.24575197778]
[53,63.997783225600003,-149.344900741999,-1586.8928775167997,553.1306231184376,{"$f":"Q_d!$C$11","v":0},{"$f":"Q_d!$C$12","v":0},11233.589832572825,6052.604465817868,13950.232595417263,488.11222713736601,-13462.120368279897]
[53,63.997783226000003,-149.340900742,-1586.7266552130286,553.0300931564293,{"$f":"Q_d!$C$11","v":0},{"$f":"Q_d!$C$12","v":0},11233.589832572825,6052.604465817868,13950.119466421364,488.12511713391598,-13461.994349287448]
[53,63.9977830306999,-150.47973575500001,-1633.791836283154,582.07559857233309,{"$f":"Q_d!$C$11","v":0},{"$f":"Q_d!$C$12","v":0},11233.589832572825,6052.604465817868,13981.995461999606,488.16086626951102,-13493.834595730095]
[53,63.997783029099899,-150.48862143599899,-1634.1569890975484,582.30555550798636,{"$f":"Q_d!$C$11","v":0},{"$f":"Q_d!$C$12","v":0},11233.589832572825,6052.604465817868,13982.241538277955,488.18933282180501,-13494.05220545615]
[53,63.997783231100001,-149.31201506400001,-1585.5261050886706,552.30443697638975,{"$f":"Q_d!$C$11","v":0},{"$f":"Q_d!$C$12","v":0},11233.589832572825,6052.604465817868,13949.302270381861,488.21803109369,-13461.084239288171]
[53,63.997783027899899,-150.500621434999,-1634.6500718932473,582.61619106917942,{"$f":"Q_d!$C$11","v":0},{"$f":"Q_d!$C$12","v":0},11233.589832572825,6052.604465817868,13982.573796150018,488.22932856291999,{"$f":"K14404-J14404","v":-13494.344467587098}]
[53,63.997783231100001,-149.308015060999,-1585.3598303439708,552.20399349260197,{"$f":"Q_d!$C$11","v":0},{"$f":"Q_d!$C$12","v":0},11233.589832572825,6052.604465817868,13949.189073790298,488.232126603729,-13460.956947186569]
[53,63.997783231500001,-149.30712938100001,-1585.3230129342885,552.18175477553041,{"$f":"Q_d!$C$11","v":0},{"$f":"Q_d!$C$12","v":0},11233.589832572825,6052.604465817868,13949.164008672979,488.23399433161097,-13460.930014341367]
[53,63.997783027499899,-150.504621434,-1634.8144196767971,582.7197570640069,{"$f":"Q_d!$C$11","v":0},{"$f":"Q_d!$C$12","v":0},11233.589832572825,6052.604465817868,13982.684532176769,488.242384946247,-13494.442147230522]
[53,63.960749898400003,-151.251726313999,-1667.6230532774052,598.80102649802257,{"$f":"Q_d!$C$11","v":0},{"$f":"Q_d!$C$12","v":0},11233.589832572825,6052.604465817868,14006.615075769199,488.244535679612,-13518.370540089587]
[53,63.997783231100001,-149.303129382999,-1585.1567306484044,552.08132424620544,{"$f":"Q_d!$C$11","v":0},{"$f":"Q_d!$C$12","v":0},11233.589832572825,6052.604465817868,13949.050802225271,488.24818400686303,-13460.802618218408]
[53,63.997783026299899,-150.50862143500001,-1634.9787610281326,582.82333344743165,{"$f":"Q_d!$C$11","v":0},{"$f":"Q_d!$C$12","v":0},11233.589832572825,6052.604465817868,13982.795260041841,488.25639884183801,-13494.538861200002]
[53,63.997783233500002,-149.29912938199899,-1584.9904417152168,551.9809044418771,{"$f":"Q_d!$C$11","v":0},{"$f":"Q_d!$C$12","v":0},11233.589832572825,6052.604465817868,13948.937587226175,488.26105759624102,-13460.676529629935]
[53,63.9609700265,-151.251693364,-1667.6084634776814,598.82063096606089,{"$f":"Q_d!$C$11","v":0},{"$f":"Q_d!$C$12","v":0},11233.589832572825,6052.604465817868,14006.594003943548,488.26799046937299,-13518.326013474176]
[53,63.997783025899899,-150.51262143400001,-1635.1430956877887,582.92692026543227,{"$f":"Q_d!$C$11","v":0},{"$f":"Q_d!$C$12","v":0},11233.589832572825,6052.604465817868,13982.905979488653,488.26913565778398,-13494.636843830869]
[53,63.997783234300002,-149.29512938299899,-1584.8241465951844,551.88049507122514,{"$f":"Q_d!$C$11","v":0},{"$f":"Q_d!$C$12","v":0},11233.589832572825,6052.604465817868,13948.824364213515,488.274825815339,-13460.549538398176]
[53,63.997783025499899,-150.51662143600001,-1635.3074239077721,583.03051757210642,{"$f":"Q_d!$C$11","v":0},{"$f":"Q_d!$C$12","v":0},11233.589832572825,6052.604465817868,13983.016690728169,488.283303376226,-13494.733387351944]
[53,63.997783024699899,-150.51750711400001,-1635.3438085163921,583.05345736558002,{"$f":"Q_d!$C$11","v":0},{"$f":"Q_d!$C$12","v":0},11233.589832572825,6052.604465817868,13983.041203286903,488.28657413961298,-13494.75462914729]
[53,63.997783234300002,-149.291129380999,-1584.6578450352756,551.78009608499406,{"$f":"Q_d!$C$11","v":0},{"$f":"Q_d!$C$12","v":0},11233.589832572825,6052.604465817868,13948.711132973991,488.28924661106299,-13460.421886362928]
[53,63.961213416600003,-151.251398655999,-1667.581786305027,598.835485592429,{"$f":"Q_d!$C$11","v":0},{"$f":"Q_d!$C$12","v":0},11233.589832572825,6052.604465817868,14006.563648140416,488.29266475854399,-13518.270983381872]
[53,63.9977830244,-150.52150711300001,-1635.5081285902477,583.15706731954288,{"$f":"Q_d!$C$11","v":0},{"$f":"Q_d!$C$12","v":0},11233.589832572825,6052.604465817868,13983.15190430797,488.30036367178701,-13494.851540636182]
[53,63.997783235100002,-149.28712938199899,-1584.4915371940058,551.67970778591825,{"$f":"Q_d!$C$11","v":0},{"$f":"Q_d!$C$12","v":0},11233.589832572825,6052.604465817868,13948.597893533686,488.30235101318101,-13460.295542520505]
[53,63.997783024,-150.52550711500001,-1635.6724422288687,583.26068775189242,{"$f":"Q_d!$C$11","v":0},{"$f":"Q_d!$C$12","v":0},11233.589832572825,6052.604465817868,13983.262597130293,488.31382042801101,-13494.948776702282]
[53,63.961445426300003,-151.25097076399899,-1667.5503560260183,598.84576431094001,{"$f":"Q_d!$C$11","v":0},{"$f":"Q_d!$C$12","v":0},11233.589832572825,6052.604465817868,14006.530696076839,488.31439602985199,-13518.216300046988]
[53,63.9977832354,-149.283129381999,-1584.3252229801631,551.57932995071906,{"$f":"Q_d!$C$11","v":0},{"$f":"Q_d!$C$12","v":0},11233.589832572825,6052.604465817868,13948.484645896635,488.31634934026101,-13460.168296556374]
[53,63.9953470690999,-149.20935801900001,-1581.3959467882339,549.49875253838627,{"$f":"Q_d!$C$11","v":0},{"$f":"Q_d!$C$12","v":0},11233.589832572825,6052.604465817868,13946.613675611561,488.31921902378502,-13458.294456587777]
[53,63.9977830224,-150.529507112999,-1635.836749209011,583.36431837779583,{"$f":"Q_d!$C$11","v":0},{"$f":"Q_d!$C$12","v":0},11233.589832572825,6052.604465817868,13983.373281660017,488.32823564176499,-13495.045046018251]
[53,63.9977832366,-149.279129382999,-1584.1589023974377,551.47896276276606,{"$f":"Q_d!$C$11","v":0},{"$f":"Q_d!$C$12","v":0},11233.589832572825,6052.604465817868,13948.371389993708,488.33018447050699,-13460.041205523201]
[53,63.9616477914999,-151.250576354999,-1667.522076658892,598.8541702961752,{"$f":"Q_d!$C$11","v":0},{"$f":"Q_d!$C$12","v":0},11233.589832572825,6052.604465817868,14006.50137544788,488.33399583584099,-13518.167379612039]
[53,63.9977830228,-150.53350711300001,-1636.0010495874949,583.46795965217416,{"$f":"Q_d!$C$11","v":0},{"$f":"Q_d!$C$12","v":0},11233.589832572825,6052.604465817868,13983.483957771694,488.341374590562,-13495.142583181132]
[53,63.9977832378,-149.275129380999,-1583.9925753316913,551.37860603674926,{"$f":"Q_d!$C$11","v":0},{"$f":"Q_d!$C$12","v":0},11233.589832572825,6052.604465817868,13948.258125792907,488.34433635396999,-13459.913789438937]
[53,63.997783237,-149.27424370099899,-1583.9557464124703,551.35638638542059,{"$f":"Q_d!$C$11","v":0},{"$f":"Q_d!$C$12","v":0},11233.589832572825,6052.604465817868,13948.233045831455,488.34773719553499,-13459.885308635921]
[53,63.961832537699898,-151.24995217099899,-1667.4854756674708,598.85486927580132,{"$f":"Q_d!$C$11","v":0},{"$f":"Q_d!$C$12","v":0},11233.589832572825,6052.604465817868,14006.467390840211,488.34903047717802,-13518.118360363032]
[53,63.9977830212,-150.537507113999,-1636.1653435588153,583.57161117384112,{"$f":"Q_d!$C$11","v":0},{"$f":"Q_d!$C$12","v":0},11233.589832572825,6052.604465817868,13983.594625801441,488.35594355858899,-13495.238682242853]
[53,63.9977832378,-149.27024370199899,-1583.7894117291312,551.25604256762244,{"$f":"Q_d!$C$11","v":0},{"$f":"Q_d!$C$12","v":0},11233.589832572825,6052.604465817868,13948.119771720507,488.36198255392401,-13459.757789166582]
[53,63.962987116900003,-151.23483869,-1666.7988971358984,598.56320124934973,{"$f":"Q_d!$C$11","v":0},{"$f":"Q_d!$C$12","v":0},11233.589832572825,6052.604465817868,14005.948575273724,488.36288987800799,-13517.585685395716]
[53,63.963030780799897,-151.234345751999,-1666.7761418661771,598.55425008674001,{"$f":"Q_d!$C$11","v":0},{"$f":"Q_d!$C$12","v":0},11233.589832572825,6052.604465817868,14005.931101864679,488.363643594606,-13517.567458270072]
[53,63.962974833600001,-151.23533216000001,-1666.8197867791741,598.57508594299452,{"$f":"Q_d!$C$11","v":0},{"$f":"Q_d!$C$12","v":0},11233.589832572825,6052.604465817868,14005.963187999883,488.365284356904,-13517.59790364298]
[53,63.9620780371,-151.249033255999,-1667.4331857160107,598.8534359831815,{"$f":"Q_d!$C$11","v":0},{"$f":"Q_d!$C$12","v":0},11233.589832572825,6052.604465817868,14006.419785721164,488.36925053180801,-13518.050535189355]
[53,63.962715093299899,-151.239767389999,-1667.0165184845423,598.66801903666965,{"$f":"Q_d!$C$11","v":0},{"$f":"Q_d!$C$12","v":0},11233.589832572825,6052.604465817868,14006.108202868847,488.369930201481,-13517.738272667366]
[53,63.9977830212,-150.541507115,-1636.3296308686208,583.67527325385618,{"$f":"Q_d!$C$11","v":0},{"$f":"Q_d!$C$12","v":0},11233.589832572825,6052.604465817868,13983.705285393704,488.37058931205098,-13495.334696081653]
[53,63.962687326400001,-151.240457321999,-1667.0463609326061,598.68365238230081,{"$f":"Q_d!$C$11","v":0},{"$f":"Q_d!$C$12","v":0},11233.589832572825,6052.604465817868,14006.129602299414,488.37141117186599,-13517.758191127548]
[53,63.963015646899898,-151.235726599,-1666.8334390222831,598.5892958584127,{"$f":"Q_d!$C$11","v":0},{"$f":"Q_d!$C$12","v":0},11233.589832572825,6052.604465817868,14005.97022917229,488.37236005429298,-13517.597869117997]
[53,63.962197640200003,-151.24778387500001,-1667.3749769713816,598.8315661041056,{"$f":"Q_d!$C$11","v":0},{"$f":"Q_d!$C$12","v":0},11233.589832572825,6052.604465817868,14006.374686504365,488.372728629476,-13518.001957874889]
[53,63.962786261799899,-151.23930733700001,-1666.9934521703372,598.66249282260833,{"$f":"Q_d!$C$11","v":0},{"$f":"Q_d!$C$12","v":0},11233.589832572825,6052.604465817868,14006.089109076598,488.37381931467201,-13517.715289761925]
[53,63.962265260700001,-151.247127274999,-1667.3440992302199,598.82051627902047,{"$f":"Q_d!$C$11","v":0},{"$f":"Q_d!$C$12","v":0},11233.589832572825,6052.604465817868,14006.350548268978,488.375283900608,-13517.97526436837]
[53,63.9977832374,-149.266243701999,-1583.6230707160662,551.15570914900491,{"$f":"Q_d!$C$11","v":0},{"$f":"Q_d!$C$12","v":0},11233.589832572825,6052.604465817868,13948.006489476862,488.375488407229,-13459.631001069632]
[53,63.962670402500002,-151.241312133999,-1667.082283561678,598.70464818374057,{"$f":"Q_d!$C$11","v":0},{"$f":"Q_d!$C$12","v":0},11233.589832572825,6052.604465817868,14006.154513955637,488.37593141861498,-13517.778582537021]
[53,63.962325630099897,-151.246503321999,-1667.3149906786039,598.80965446315895,{"$f":"Q_d!$C$11","v":0},{"$f":"Q_d!$C$12","v":0},11233.589832572825,6052.604465817868,14006.32796642116,488.37702797428898,-13517.950938446871]
[53,63.963075569200001,-151.23618603200001,-1666.8485958633012,598.6069993621004,{"$f":"Q_d!$C$11","v":0},{"$f":"Q_d!$C$12","v":0},11233.589832572825,6052.604465817868,14005.977295782594,488.38268134936902,-13517.594614433225]
[53,63.9624542488,-151.24531955699899,-1667.2589183670448,598.79035853202959,{"$f":"Q_d!$C$11","v":0},{"$f":"Q_d!$C$12","v":0},11233.589832572825,6052.604465817868,14006.283833032116,488.38285573615298,-13517.900977295963]
[53,63.9632905028,-151.23322902000001,-1666.7149199134935,598.54893189092718,{"$f":"Q_d!$C$11","v":0},{"$f":"Q_d!$C$12","v":0},11233.589832572825,6052.604465817868,14005.876783485573,488.38345317281102,-13517.493330312762]
[53,63.9977830208,-150.545507114,-1636.4939115522059,583.77894565251017,{"$f":"Q_d!$C$11","v":0},{"$f":"Q_d!$C$12","v":0},11233.589832572825,6052.604465817868,13983.815936674913,488.38442907201699,-13495.431507602896]
[53,63.9629743027999,-151.23819012000001,-1666.9365218149549,598.65048857655938,{"$f":"Q_d!$C$11","v":0},{"$f":"Q_d!$C$12","v":0},11233.589832572825,6052.604465817868,14006.041346723203,488.38608294770199,-13517.655263775501]
[53,63.962684600000003,-151.24246128799899,-1667.1283526148832,598.73631141790383,{"$f":"Q_d!$C$11","v":0},{"$f":"Q_d!$C$12","v":0},11233.589832572825,6052.604465817868,14006.184617489907,488.38643161025601,-13517.798185879652]
[53,63.963062927400003,-151.237335836,-1666.896307609145,598.63617880581614,{"$f":"Q_d!$C$11","v":0},{"$f":"Q_d!$C$12","v":0},11233.589832572825,6052.604465817868,14006.009878932697,488.38959835463299,-13517.620280578063]
[53,63.963117052800001,-151.23667887100001,-1666.8662256316368,598.6238695829411,{"$f":"Q_d!$C$11","v":0},{"$f":"Q_d!$C$12","v":0},11233.589832572825,6052.604465817868,14005.986964643773,488.38995441143101,-13517.597010232343]
[53,63.9630899649,-151.23697522800001,{"$f":"lcpx(B14456,C14456,63,-115,70,60)","v":-1666.87995632821},{"$f":"lcpy(B14456,C14456,63,-115,70,60)","v":598.62917367130194},{"$f":"Q_d!$C$11","v":0},{"$f":"Q_d!$C$12","v":0},{"$f":"lcpx(F14456,G14456,63,-115,70,60)","v":11233.589832572825},{"$f":"lcpy(F14456,G14456,63,-115,70,60)","v":6052.604465817868},{"$f":"SQRT((H14456-D14456)^2+(I14456-E14456)^2)","v":14005.997546111934},488.39013468025701,-13517.607411431676]
[53,63.9977832394,-149.26224370200001,-1583.4567232096035,551.05538649656819,{"$f":"Q_d!$C$11","v":0},{"$f":"Q_d!$C$12","v":0},11233.589832572825,6052.604465817868,13947.893198805159,488.39046534714402,-13459.502733458015]
[53,63.962600513700004,-151.24436714800001,-1667.2112310887489,598.77881440026295,{"$f":"Q_d!$C$11","v":0},{"$f":"Q_d!$C$12","v":0},11233.589832572825,6052.604465817868,14006.244404558714,488.391015990261,-13517.853388568454]
[53,63.962684759299897,-151.243578205999,-1667.1739492739543,598.76581843088161,{"$f":"Q_d!$C$11","v":0},{"$f":"Q_d!$C$12","v":0},11233.589832572825,6052.604465817868,14006.215125676941,488.39460465590702,-13517.820521021034]
[53,63.9977830192,-150.54950711500001,-1636.6581858205418,583.8826283981507,{"$f":"Q_d!$C$11","v":0},{"$f":"Q_d!$C$12","v":0},11233.589832572825,6052.604465817868,13983.926579828345,488.39875873818499,-13495.52782109016]
[53,63.9977830192,-150.550392794,-1636.69455846967,583.90558724051925,{"$f":"Q_d!$C$11","v":0},{"$f":"Q_d!$C$12","v":0},11233.589832572825,6052.604465817868,13983.95107724799,488.40216843294201,-13495.548908815048]
[53,63.9977832402,-149.25824370199899,-1583.2903694162476,550.95507426915492,{"$f":"Q_d!$C$11","v":0},{"$f":"Q_d!$C$12","v":0},11233.589832572825,6052.604465817868,13947.779900029529,488.40494068958799,-13459.374959339941]
[53,63.963563457299898,-151.232407674,-1666.6649647335332,598.55264344900661,{"$f":"Q_d!$C$11","v":0},{"$f":"Q_d!$C$12","v":0},11233.589832572825,6052.604465817868,14005.829326266645,488.40750338728401,-13517.421822879362]
[53,63.9977830188,-150.554392793999,-1636.858824602351,584.00928278406036,{"$f":"Q_d!$C$11","v":0},{"$f":"Q_d!$C$12","v":0},11233.589832572825,6052.604465817868,13984.06171013568,488.417061546789,-13495.644648588892]
[53,63.9977832406,-149.25424370299899,-1583.1240093326085,550.8547725681974,{"$f":"Q_d!$C$11","v":0},{"$f":"Q_d!$C$12","v":0},11233.589832572825,6052.604465817868,13947.666593106647,488.41867719508798,-13459.247915911559]
[53,63.997783018100002,-150.558392795,-1637.0230842241158,584.11298873211354,{"$f":"Q_d!$C$11","v":0},{"$f":"Q_d!$C$12","v":0},11233.589832572825,6052.604465817868,13984.172334785488,488.43156274446397,-13495.740772041023]
[53,63.997783241,-149.250243702999,-1582.9576428532475,550.75448138186721,{"$f":"Q_d!$C$11","v":0},{"$f":"Q_d!$C$12","v":0},11233.589832572825,6052.604465817868,13947.553277944087,488.43388504893801,-13459.119392895149]
[53,63.997783018100002,-150.56239279299899,-1637.1873371107424,584.21670507411091,{"$f":"Q_d!$C$11","v":0},{"$f":"Q_d!$C$12","v":0},11233.589832572825,6052.604465817868,13984.282950995374,488.44572615593597,{"$f":"K14468-J14468","v":-13495.837224839437}]
[53,63.997783241699899,-149.246243700999,-1582.7912699200854,550.65420071395874,{"$f":"Q_d!$C$11","v":0},{"$f":"Q_d!$C$12","v":0},11233.589832572825,6052.604465817868,13947.439954486787,488.448590314272,-13458.991364172514]
[53,63.997783016500001,-150.56639279300001,-1637.3515836030958,584.32043172395925,{"$f":"Q_d!$C$11","v":0},{"$f":"Q_d!$C$12","v":0},11233.589832572825,6052.604465817868,13984.393559112923,488.46084968193702,-13495.932709430987]
[53,63.997783242499899,-149.242243701999,-1582.6248907531874,550.55393067126761,{"$f":"Q_d!$C$11","v":0},{"$f":"Q_d!$C$12","v":0},11233.589832572825,6052.604465817868,13947.326622894634,488.46313741980498,-13458.863485474829]
[53,63.997783242499899,-149.24135802199899,-1582.5880502199909,550.53173028142191,{"$f":"Q_d!$C$11","v":0},{"$f":"Q_d!$C$12","v":0},11233.589832572825,6052.604465817868,13947.30152791289,488.46609813373902,-13458.835429779152]
[53,63.964258155899898,-151.23014015800001,-1666.530593132383,598.55741900496969,{"$f":"Q_d!$C$11","v":0},{"$f":"Q_d!$C$12","v":0},11233.589832572825,6052.604465817868,14005.703701940336,488.46675584936099,-13517.236946090976]
[53,63.997783015700001,-150.57039279400001,-1637.5158235173706,584.4241688800339,{"$f":"Q_d!$C$11","v":0},{"$f":"Q_d!$C$12","v":0},11233.589832572825,6052.604465817868,13984.50415889159,488.476049943085,-13496.028108948505]
[53,63.964429296600002,-151.229450259999,-1666.4921294825531,598.55513110193033,{"$f":"Q_d!$C$11","v":0},{"$f":"Q_d!$C$12","v":0},11233.589832572825,6052.604465817868,14005.669165493731,488.48044413875903,-13517.188721354973]
[53,63.997783243699899,-149.23735802300001,-1582.4216632717496,550.43147315164151,{"$f":"Q_d!$C$11","v":0},{"$f":"Q_d!$C$12","v":0},11233.589832572825,6052.604465817868,13947.188186256248,488.48155387998003,-13458.706632376268]
[53,63.964547345200003,-151.22843069300001,-1666.4433963655399,598.53920308370152,{"$f":"Q_d!$C$11","v":0},{"$f":"Q_d!$C$12","v":0},11233.589832572825,6052.604465817868,14005.630481983932,488.48584778373998,-13517.144634200191]
[53,63.964517758900001,-151.22895717500001,-1666.4666746227906,598.55034647155344,{"$f":"Q_d!$C$11","v":0},{"$f":"Q_d!$C$12","v":0},11233.589832572825,6052.604465817868,14005.647583228647,488.48649628930298,-13517.161086939344]
[53,63.997783015300001,-150.574392794999,-1637.6800568354959,584.52791647851882,{"$f":"Q_d!$C$11","v":0},{"$f":"Q_d!$C$12","v":0},11233.589832572825,6052.604465817868,13984.614750339897,488.48997554709302,-13496.124774792805]
[53,63.964750885400001,-151.22632814100001,-1666.3452977805566,598.50264700557682,{"$f":"Q_d!$C$11","v":0},{"$f":"Q_d!$C$12","v":0},11233.589832572825,6052.604465817868,14005.554363083844,488.49210761280398,-13517.062255471039]
[53,63.964689813900002,-151.227215373999,-1666.3852010692667,598.52038144842027,{"$f":"Q_d!$C$11","v":0},{"$f":"Q_d!$C$12","v":0},11233.589832572825,6052.604465817868,14005.584210162795,488.49219500417797,-13517.092015158618]
[53,63.964820320199898,-151.225408458,-1666.3035663115545,598.48483487170779,{"$f":"Q_d!$C$11","v":0},{"$f":"Q_d!$C$12","v":0},11233.589832572825,6052.604465817868,14005.522862472972,488.49284150333199,-13517.03002096964]
[53,63.964892301900001,-151.224750360999,-1666.2723638393793,598.47416387606563,{"$f":"Q_d!$C$11","v":0},{"$f":"Q_d!$C$12","v":0},11233.589832572825,6052.604465817868,14005.498278782676,488.49638464271101,-13517.001894139965]
[53,63.997783243299899,-149.23335802099899,-1582.2552699387847,550.33122633621315,{"$f":"Q_d!$C$11","v":0},{"$f":"Q_d!$C$12","v":0},11233.589832572825,6052.604465817868,13947.074836448206,488.49650597419799,-13458.578330474009]
[53,63.9649493091,-151.224192477,-1666.2461540593092,598.46474471927559,{"$f":"Q_d!$C$11","v":0},{"$f":"Q_d!$C$12","v":0},11233.589832572825,6052.604465817868,14005.477806175513,488.49788597802501,-13516.979920197487]
[53,63.997783014900001,-150.578392793999,-1637.8442834984455,584.63167442970462,{"$f":"Q_d!$C$11","v":0},{"$f":"Q_d!$C$12","v":0},11233.589832572825,6052.604465817868,13984.72533343879,488.50532942231001,-13496.220004016479]
[53,63.965081961099898,-151.22366605100001,-1666.2166807148162,598.46319396145736,{"$f":"Q_d!$C$11","v":0},{"$f":"Q_d!$C$12","v":0},11233.589832572825,6052.604465817868,14005.451263476867,488.509237712041,-13516.942025764825]
[53,63.9977832448999,-149.22935802200001,-1582.0888702657332,550.23099032760001,{"$f":"Q_d!$C$11","v":0},{"$f":"Q_d!$C$12","v":0},11233.589832572825,6052.604465817868,13946.961478335295,488.51211553655401,-13458.449362798741]
[53,63.965178866199899,-151.223206656,-1666.1920940645296,598.46008655686637,{"$f":"Q_d!$C$11","v":0},{"$f":"Q_d!$C$12","v":0},11233.589832572825,6052.604465817868,14005.429827914033,488.51631254339901,-13516.913515370634]
[53,63.997783014100001,-150.58206549900001,-1637.9950667944129,584.72695166156655,{"$f":"Q_d!$C$11","v":0},{"$f":"Q_d!$C$12","v":0},11233.589832572825,6052.604465817868,13984.826860974532,488.51886531023501,-13496.307995664298]
[53,63.9977832456999,-149.225358024,-1581.9224643300017,550.13076481031248,{"$f":"Q_d!$C$11","v":0},{"$f":"Q_d!$C$12","v":0},11233.589832572825,6052.604465817868,13946.848112112906,488.52640714806802,-13458.321704964837]
[53,63.9653115095999,-151.22267990399899,-1666.1626080787598,598.4585269702261,{"$f":"Q_d!$C$11","v":0},{"$f":"Q_d!$C$12","v":0},11233.589832572825,6052.604465817868,14005.403277033643,488.52675460920199,-13516.876522424442]
[53,63.966434295100001,-151.20598627000001,-1665.413355690325,598.12256568941802,{"$f":"Q_d!$C$11","v":0},{"$f":"Q_d!$C$12","v":0},11233.589832572825,6052.604465817868,14004.844020896904,488.527114039742,-13516.316906857162]
[53,63.966418132900003,-151.20644662199899,-1665.4331287711391,598.13320468452866,{"$f":"Q_d!$C$11","v":0},{"$f":"Q_d!$C$12","v":0},11233.589832572825,6052.604465817868,14004.858089099238,488.52893587278902,-13516.329153226448]
[53,63.966504160600003,-151.205460969,-1665.3877023817654,598.11521113354502,{"$f":"Q_d!$C$11","v":0},{"$f":"Q_d!$C$12","v":0},11233.589832572825,6052.604465817868,14004.823257604145,488.53140376131398,-13516.291853842831]
[53,63.997783013300001,-150.586065499,-1638.1592809118813,584.83072955783291,{"$f":"Q_d!$C$11","v":0},{"$f":"Q_d!$C$12","v":0},11233.589832572825,6052.604465817868,13984.937428227175,488.53436638582502,-13496.403061841349]
[53,63.9977832464999,-149.22135802099899,-1581.756051836911,550.03054971033862,{"$f":"Q_d!$C$11","v":0},{"$f":"Q_d!$C$12","v":0},11233.589832572825,6052.604465817868,13946.734737539267,488.54158903515997,-13458.193148504108]
[53,63.966650806799898,-151.204967608,-1665.3587392192046,598.11584429565346,{"$f":"Q_d!$C$11","v":0},{"$f":"Q_d!$C$12","v":0},11233.589832572825,6052.604465817868,14004.796334829396,488.54330944349198,-13516.253025385904]
[53,63.965540274399899,-151.221956933999,-1666.1193301484195,598.46073298033753,{"$f":"Q_d!$C$11","v":0},{"$f":"Q_d!$C$12","v":0},11233.589832572825,6052.604465817868,14005.362556579725,488.54616539278999,-13516.816391186934]
[53,63.9665658212,-151.207103528,-1665.4510818284766,598.16427570240148,{"$f":"Q_d!$C$11","v":0},{"$f":"Q_d!$C$12","v":0},11233.589832572825,6052.604465817868,14004.86252338614,488.54981784870199,-13516.312705537439]
[53,63.997783012900001,-150.59006550000001,-1638.3234884717065,584.93451792084124,{"$f":"Q_d!$C$11","v":0},{"$f":"Q_d!$C$12","v":0},11233.589832572825,6052.604465817868,13985.047987176158,488.54994416129,-13496.498043014868]
[53,63.9977832464999,-149.217358023,-1581.5896332489961,549.93034520277479,{"$f":"Q_d!$C$11","v":0},{"$f":"Q_d!$C$12","v":0},11233.589832572825,6052.604465817868,13946.621354970111,488.55742933661298,-13458.063925633498]
[53,63.966864589700002,-151.20440863600001,-1665.3230617513166,598.12099478020036,{"$f":"Q_d!$C$11","v":0},{"$f":"Q_d!$C$12","v":0},11233.589832572825,6052.604465817868,14004.76146855721,488.56315110843099,-13516.19831744878]
[53,63.965732324500003,-151.221431523999,-1666.0863275602103,598.46473686376976,{"$f":"Q_d!$C$11","v":0},{"$f":"Q_d!$C$12","v":0},11233.589832572825,6052.604465817868,14005.330600141506,488.56331352753,-13516.767286613976]
[53,63.997783012100001,-150.594065499999,-1638.4876894384297,585.03831662334369,{"$f":"Q_d!$C$11","v":0},{"$f":"Q_d!$C$12","v":0},11233.589832572825,6052.604465817868,13985.158537838792,488.56559862929299,-13496.592939209499]
[53,63.9977832472999,-149.213358021999,-1581.4232081424977,549.83015123934365,{"$f":"Q_d!$C$11","v":0},{"$f":"Q_d!$C$12","v":0},11233.589832572825,6052.604465817868,13946.507964034901,488.57276433710399,-13457.935199697797]
[53,63.966781444399899,-151.207859745999,-1665.4690073921206,598.20428814891193,{"$f":"Q_d!$C$11","v":0},{"$f":"Q_d!$C$12","v":0},11233.589832572825,6052.604465817868,14004.863450067371,488.57890906996698,-13516.284540997403]
[53,63.997783011400003,-150.598065499999,-1638.6518838229347,585.14212573774057,{"$f":"Q_d!$C$11","v":0},{"$f":"Q_d!$C$12","v":0},11233.589832572825,6052.604465817868,13985.26908019698,488.581329782463,-13496.687750414518]
[53,63.997783247999898,-149.209358022999,-1581.2567767776677,549.72996786036038,{"$f":"Q_d!$C$11","v":0},{"$f":"Q_d!$C$12","v":0},11233.589832572825,6052.604465817868,13946.394564956669,488.587945665875,-13457.806619290794]
[53,63.967139999499899,-151.203849808,-1665.2836868467607,598.13188438427505,{"$f":"Q_d!$C$11","v":0},{"$f":"Q_d!$C$12","v":0},11233.589832572825,6052.604465817868,14004.720961575586,488.58869506057903,-13516.132266515007]
[53,63.9660179615,-151.22093840700001,-1666.0490173204626,598.47830076852506,{"$f":"Q_d!$C$11","v":0},{"$f":"Q_d!$C$12","v":0},11233.589832572825,6052.604465817868,14005.290953134536,488.59122461214901,-13516.699728522386]
[53,63.997783010600003,-150.60206550000001,-1638.8160716364032,585.24594524489021,{"$f":"Q_d!$C$11","v":0},{"$f":"Q_d!$C$12","v":0},11233.589832572825,6052.604465817868,13985.379614268701,488.59578737643602,-13496.783826892264]
[53,63.966951613900001,-151.208581651,-1665.4882627960476,598.23916588559223,{"$f":"Q_d!$C$11","v":0},{"$f":"Q_d!$C$12","v":0},11233.589832572825,6052.604465817868,14004.8676014995,488.603032379046,-13516.264569120454]
[53,63.997783009800003,-150.60606549900001,-1638.9802528311286,585.34977512772639,{"$f":"Q_d!$C$11","v":0},{"$f":"Q_d!$C$12","v":0},11233.589832572825,6052.604465817868,13985.490140016906,488.61167204437498,-13496.87846797253]
[53,63.967385244200003,-151.20335653800001,-1665.2488025612874,598.14169643360265,{"$f":"Q_d!$C$11","v":0},{"$f":"Q_d!$C$12","v":0},11233.589832572825,6052.604465817868,14004.685010303785,488.61218747182301,-13516.072822831962]
[53,63.9663779754,-151.22034641100001,-1666.0031979625621,598.49617620619483,{"$f":"Q_d!$C$11","v":0},{"$f":"Q_d!$C$12","v":0},11233.589832572825,6052.604465817868,14005.241789710304,488.62646966368902,-13516.615320046614]
[53,63.967140382700002,-151.208975336999,-1665.4929953207675,598.26711641647398,{"$f":"Q_d!$C$11","v":0},{"$f":"Q_d!$C$12","v":0},11233.589832572825,6052.604465817868,14004.86107471025,488.62651665356799,-13516.234558056682]
[53,63.997783009000003,-150.610065499999,-1639.1444275295858,585.45361546370896,{"$f":"Q_d!$C$11","v":0},{"$f":"Q_d!$C$12","v":0},11233.589832572825,6052.604465817868,13985.600657524243,488.62763337535398,-13496.973024148889]
[53,63.997783008600003,-150.614065498999,-1639.3085955433341,585.55746618607964,{"$f":"Q_d!$C$11","v":0},{"$f":"Q_d!$C$12","v":0},11233.589832572825,6052.604465817868,13985.711166643561,488.643671361862,-13497.067495281699]
[53,63.997783008600003,-150.61495117800001,{"$f":"lcpx(B14520,C14520,63,-115,70,60)","v":-1639.3449446980833},{"$f":"lcpy(B14520,C14520,63,-115,70,60)","v":585.58046220752294},{"$f":"Q_d!$C$11","v":0},{"$f":"Q_d!$C$12","v":0},{"$f":"lcpx(F14520,G14520,63,-115,70,60)","v":11233.589832572825},{"$f":"lcpy(F14520,G14520,63,-115,70,60)","v":6052.604465817868},{"$f":"SQRT((H14520-D14520)^2+(I14520-E14520)^2)","v":13985.735634421326},488.64735342064398,-13497.088281000682]
[53,63.967298997999897,-151.209435229999,-1665.5022437764808,598.29400749456636,{"$f":"Q_d!$C$11","v":0},{"$f":"Q_d!$C$12","v":0},11233.589832572825,6052.604465817868,14004.859119959485,488.647448708166,-13516.211671251318]
[53,63.967759761899899,-151.20276449299899,-1665.2021157857309,598.16093380497296,{"$f":"Q_d!$C$11","v":0},{"$f":"Q_d!$C$12","v":0},11233.589832572825,6052.604465817868,14004.634517578701,488.64840572849499,-13515.986111850207]
[53,63.966769286800002,-151.21926191,-1665.9353855460568,598.50396911181224,{"$f":"Q_d!$C$11","v":0},{"$f":"Q_d!$C$12","v":0},11233.589832572825,6052.604465817868,14005.176295964797,488.66159678042999,-13516.514699184367]
[53,63.997783007800003,-150.618951178,-1639.5091047399762,585.68432562163161,{"$f":"Q_d!$C$11","v":0},{"$f":"Q_d!$C$12","v":0},11233.589832572825,6052.604465817868,13985.846133471054,488.66302154756897,-13497.183111923485]
[53,63.967472289600003,-151.21038802300001,-1665.5307393073711,598.33526652115415,{"$f":"Q_d!$C$11","v":0},{"$f":"Q_d!$C$12","v":0},11233.589832572825,6052.604465817868,14004.869297008798,488.67335754059599,-13516.195939468202]
[53,63.966984578800002,-151.21853824799899,-1665.8928909922108,598.50490663155369,{"$f":"Q_d!$C$11","v":0},{"$f":"Q_d!$C$12","v":0},11233.589832572825,6052.604465817868,14005.136791087374,488.67919762253001,-13516.457593464844]
[53,63.997783007000002,-150.622951177999,-1639.6732582013908,585.7881994356253,{"$f":"Q_d!$C$11","v":0},{"$f":"Q_d!$C$12","v":0},11233.589832572825,6052.604465817868,13985.956624223856,488.67923002722301,-13497.277394196633]
[53,63.968120925800001,-151.202238303999,-1665.1589216418745,598.18066596483459,{"$f":"Q_d!$C$11","v":0},{"$f":"Q_d!$C$12","v":0},11233.589832572825,6052.604465817868,14004.587048990714,488.68471635298698,-13515.902332637726]
[53,63.9675624009,-151.211144176,-1665.5562032613789,598.36359847840504,{"$f":"Q_d!$C$11","v":0},{"$f":"Q_d!$C$12","v":0},11233.589832572825,6052.604465817868,14004.881716484906,488.688233181442,-13516.193483303465]
[53,63.9671723863,-151.217782352999,-1665.8507326868744,598.50243704223021,{"$f":"Q_d!$C$11","v":0},{"$f":"Q_d!$C$12","v":0},11233.589832572825,6052.604465817868,14005.098922783873,488.69456750101,-13516.404355282863]
[53,63.997783006600002,-150.626951179,-1639.8374050991279,585.89208371258201,{"$f":"Q_d!$C$11","v":0},{"$f":"Q_d!$C$12","v":0},11233.589832572825,6052.604465817868,13986.067106670745,488.695515138004,-13497.371591532741]
[53,63.967587940999898,-151.211801331999,-1665.5815051811687,598.38331073088511,{"$f":"Q_d!$C$11","v":0},{"$f":"Q_d!$C$12","v":0},11233.589832572825,6052.604465817868,14004.897343762736,488.69622456593601,{"$f":"K14532-J14532","v":-13516.201119196799}]
[53,63.967331318299898,-151.21679676900001,-1665.8009307834802,598.49122131171043,{"$f":"Q_d!$C$11","v":0},{"$f":"Q_d!$C$12","v":0},11233.589832572825,6052.604465817868,14005.057420434214,488.70500590233303,-13516.352414531881]
[53,63.967401378700004,-151.215975071999,-1665.7631639346127,598.47606110255083,{"$f":"Q_d!$C$11","v":0},{"$f":"Q_d!$C$12","v":0},11233.589832572825,6052.604465817868,14005.028539193621,488.70647547991399,-13516.322063713707]
[53,63.967633063500003,-151.21285308500001,-1665.6217441984725,598.4152550905842,{"$f":"Q_d!$C$11","v":0},{"$f":"Q_d!$C$12","v":0},11233.589832572825,6052.604465817868,14004.921965106572,488.709014871835,-13516.212950234738]
[53,63.968380903000003,-151.201875637999,-1665.128487008918,598.19529477331162,{"$f":"Q_d!$C$11","v":0},{"$f":"Q_d!$C$12","v":0},11233.589832572825,6052.604465817868,14004.553320013054,488.71071799378399,-13515.842602019269]
[53,63.997783005499898,-150.630951178999,-1640.0015454154648,585.99597829706272,{"$f":"Q_d!$C$11","v":0},{"$f":"Q_d!$C$12","v":0},11233.589832572825,6052.604465817868,13986.177580856356,488.71187687225199,-13497.465703984104]
[53,63.967548204700002,-151.214758184,-1665.7046440467479,598.45761828129662,{"$f":"Q_d!$C$11","v":0},{"$f":"Q_d!$C$12","v":0},11233.589832572825,6052.604465817868,14004.981821803314,488.71331269978702,-13516.268509103527]
[53,63.997783005099897,-150.63495118,-1640.1656791490207,586.09988337176492,{"$f":"Q_d!$C$11","v":0},{"$f":"Q_d!$C$12","v":0},11233.589832572825,6052.604465817868,13986.288046708205,488.72742832073499,-13497.56061838747]
[53,63.997783004699897,-150.63895117800001,-1640.3298061763605,586.20379876674633,{"$f":"Q_d!$C$11","v":0},{"$f":"Q_d!$C$12","v":0},11233.589832572825,6052.604465817868,13986.398504179297,488.74394309597301,-13497.654561083324]
[53,63.968726663200002,-151.201546911999,-1665.0942838009169,598.2188019278733,{"$f":"Q_d!$C$11","v":0},{"$f":"Q_d!$C$12","v":0},11233.589832572825,6052.604465817868,14004.51266215433,488.74565761037701,-13515.767004543952]
[53,63.997783003099897,-150.642951178999,-1640.4939268141359,586.30772452515976,{"$f":"Q_d!$C$11","v":0},{"$f":"Q_d!$C$12","v":0},11233.589832572825,6052.604465817868,13986.508953544424,488.76053447163599,-13497.748419072788]
[53,63.997783002699897,-150.646951177999,-1640.6580407143849,586.41166074135026,{"$f":"Q_d!$C$11","v":0},{"$f":"Q_d!$C$12","v":0},11233.589832572825,6052.604465817868,13986.619394446627,488.776741535437,-13497.842652911189]
[53,63.997783003099897,-150.64783685800001,-1640.694377903915,586.43467575577188,{"$f":"Q_d!$C$11","v":0},{"$f":"Q_d!$C$12","v":0},11233.589832572825,6052.604465817868,13986.64384711065,488.78056220864499,-13497.863284902005]
[53,63.969074216099898,-151.201315214999,-1665.0639358471199,598.24503503261622,{"$f":"Q_d!$C$11","v":0},{"$f":"Q_d!$C$12","v":0},11233.589832572825,6052.604465817868,14004.474493452801,488.78301185393002,-13515.691481598871]
[53,63.997783001499897,-150.65183685900001,-1640.8584839141454,586.53862461067229,{"$f":"Q_d!$C$11","v":0},{"$f":"Q_d!$C$12","v":0},11233.589832572825,6052.604465817868,13986.75427804129,488.79732395441698,-13497.956954086872]
[53,63.969362195000002,-151.20131595000001,-1665.0466605243087,598.27185391193507,{"$f":"Q_d!$C$11","v":0},{"$f":"Q_d!$C$12","v":0},11233.589832572825,6052.604465817868,14004.44813701553,488.81370122573202,-13515.634435789798]
[53,63.997783001899897,-150.65583685799899,-1641.0225831378661,586.64258399721075,{"$f":"Q_d!$C$11","v":0},{"$f":"Q_d!$C$12","v":0},11233.589832572825,6052.604465817868,13986.864700435488,488.81416227539802,-13498.050538160091]
[53,63.997783000699897,-150.659836858999,-1641.1866759520169,586.74655368210006,{"$f":"Q_d!$C$11","v":0},{"$f":"Q_d!$C$12","v":0},11233.589832572825,6052.604465817868,13986.975114731571,488.83107716367601,-13498.144037567896]
[53,63.997782999899897,-150.66383686,-1641.3507621553181,586.85053380010049,{"$f":"Q_d!$C$11","v":0},{"$f":"Q_d!$C$12","v":0},11233.589832572825,6052.604465817868,13987.085520691806,488.84806861130102,-13498.237452080504]
[53,63.997782998799899,-150.667836859999,-1641.5148417474754,586.95452425921758,{"$f":"Q_d!$C$11","v":0},{"$f":"Q_d!$C$12","v":0},11233.589832572825,6052.604465817868,13987.195918352059,488.86513661029198,-13498.330781741768]
[53,63.969840989300003,-151.201577466,-1665.0285686992518,598.32330731213051,{"$f":"Q_d!$C$11","v":0},{"$f":"Q_d!$C$12","v":0},11233.589832572825,6052.604465817868,14004.411434175494,488.86850441606401,-13515.542929759429]
[53,63.997782998799899,-150.67183686000001,-1641.6789146859899,587.05852521612042,{"$f":"Q_d!$C$11","v":0},{"$f":"Q_d!$C$12","v":0},11233.589832572825,6052.604465817868,13987.306307612193,488.88228115263001,-13498.424026459563]
[53,63.997782997999899,-150.67583685899899,-1641.8429810417008,587.16253646651194,{"$f":"Q_d!$C$11","v":0},{"$f":"Q_d!$C$12","v":0},11233.589832572825,6052.604465817868,13987.416688617435,488.89904386488598,-13498.51764475255]
[53,63.970172506600001,-151.20187299099899,-1665.0207156914321,598.36195175847797,{"$f":"Q_d!$C$11","v":0},{"$f":"Q_d!$C$12","v":0},11233.589832572825,6052.604465817868,14004.38915047589,488.90643492799302,-13515.482715547898]
[53,63.997782997199899,-150.67983685799899,-1642.0070408076504,587.2665581109045,{"$f":"Q_d!$C$11","v":0},{"$f":"Q_d!$C$12","v":0},11233.589832572825,6052.604465817868,13987.527061322306,488.91634182137898,-13498.610719500926]
[53,63.997782997599899,-150.680722537999,-1642.0433660047102,587.28959204862394,{"$f":"Q_d!$C$11","v":0},{"$f":"Q_d!$C$12","v":0},11233.589832572825,6052.604465817868,13987.551498877683,488.92030095405102,-13498.631197923632]
[53,63.997782996399899,-150.68472253799899,-1642.2074177855889,587.39362637644672,{"$f":"Q_d!$C$11","v":0},{"$f":"Q_d!$C$12","v":0},11233.589832572825,6052.604465817868,13987.661861507995,488.93769225638499,-13498.724169251611]
[53,63.970577108199898,-151.202364222,-1665.0164626284261,598.41255826258885,{"$f":"Q_d!$C$11","v":0},{"$f":"Q_d!$C$12","v":0},11233.589832572825,6052.604465817868,14004.365523758897,488.95457355157203,-13515.410950207326]
[53,63.997782995999899,-150.68872253999899,-1642.3714630097575,587.49767122418552,{"$f":"Q_d!$C$11","v":0},{"$f":"Q_d!$C$12","v":0},11233.589832572825,6052.604465817868,13987.772215819601,488.95516006787301,-13498.817055751728]
[53,63.997782995199898,-150.692722535999,-1642.5355014196709,587.60172627105976,{"$f":"Q_d!$C$11","v":0},{"$f":"Q_d!$C$12","v":0},11233.589832572825,6052.604465817868,13987.882561700946,488.97270438031597,-13498.90985732063]
[53,63.970806256099898,-151.202759151999,-1665.018820056609,598.44429739870202,{"$f":"Q_d!$C$11","v":0},{"$f":"Q_d!$C$12","v":0},11233.589832572825,6052.604465817868,14004.355333840153,488.98292543298402,-13515.372408407169]
[53,63.997782994799898,-150.69672253799899,-1642.6995334593169,587.70579190365106,{"$f":"Q_d!$C$11","v":0},{"$f":"Q_d!$C$12","v":0},11233.589832572825,6052.604465817868,13987.992899409901,488.99032518547801,-13499.002574224423]
[53,63.997782993599898,-150.70072253800001,-1642.8635588712195,587.80986780120747,{"$f":"Q_d!$C$11","v":0},{"$f":"Q_d!$C$12","v":0},11233.589832572825,6052.604465817868,13988.103228834954,489.00802247509102,-13499.095206359863]
[53,63.971023741099899,-151.20325081799899,-1665.0258284034542,598.47750217866587,{"$f":"Q_d!$C$11","v":0},{"$f":"Q_d!$C$12","v":0},11233.589832572825,6052.604465817868,14004.348856875806,489.01013517615303,-13515.338721699653]
[53,63.997782993599898,-150.70472253899899,-1643.0275776589153,587.91395422835421,{"$f":"Q_d!$C$11","v":0},{"$f":"Q_d!$C$12","v":0},11233.589832572825,6052.604465817868,13988.213549876182,489.025796240852,-13499.187753635329]
[53,63.971270048400001,-151.203907920999,-1665.0378600094441,598.51775187663816,{"$f":"Q_d!$C$11","v":0},{"$f":"Q_d!$C$12","v":0},11233.589832572825,6052.604465817868,14004.344262943569,489.04167372627802,-13515.30258921729]
[53,63.997782992799898,-150.708722537,-1643.1915897766055,588.01805089361915,{"$f":"Q_d!$C$11","v":0},{"$f":"Q_d!$C$12","v":0},11233.589832572825,6052.604465817868,13988.323862605486,489.04453672441701,-13499.279325881069]
[53,63.9977829920999,-150.71272253800001,-1643.3555954161072,588.12215803683057,{"$f":"Q_d!$C$11","v":0},{"$f":"Q_d!$C$12","v":0},11233.589832572825,6052.604465817868,13988.434167105946,489.06246359744199,-13499.371703508505]
[53,63.9977829920999,-150.713608217999,-1643.3919086345893,588.14521085418983,{"$f":"Q_d!$C$11","v":0},{"$f":"Q_d!$C$12","v":0},11233.589832572825,6052.604465817868,13988.458589585462,489.06656102927298,-13499.392028556189]
[53,63.971528529099899,-151.20486061700001,-1665.0612299716795,598.56692968326342,{"$f":"Q_d!$C$11","v":0},{"$f":"Q_d!$C$12","v":0},11233.589832572825,6052.604465817868,14004.346635200291,489.07649072103197,-13515.270144479258]
[53,63.9977829908999,-150.71760821800001,-1643.5559062063903,588.24933061529509,{"$f":"Q_d!$C$11","v":0},{"$f":"Q_d!$C$12","v":0},11233.589832572825,6052.604465817868,13988.568883962876,489.084581164648,-13499.484302798228]
[53,63.9977829904999,-150.721608218,-1643.7198971339672,588.35346084080584,{"$f":"Q_d!$C$11","v":0},{"$f":"Q_d!$C$12","v":0},11233.589832572825,6052.604465817868,13988.679169964335,489.10267774057399,-13499.576492223761]
[53,63.971761313099897,-151.205878476999,-1665.0888041069654,598.61543489117184,{"$f":"Q_d!$C$11","v":0},{"$f":"Q_d!$C$12","v":0},11233.589832572825,6052.604465817868,14004.353141855867,489.11007939113199,-13515.243062464735]
[53,63.9977829900999,-150.725608217,-1643.8838814232054,588.4576014294762,{"$f":"Q_d!$C$11","v":0},{"$f":"Q_d!$C$12","v":0},11233.589832572825,6052.604465817868,13988.789447634997,489.12085074856498,-13499.668596886433]
[53,63.9977829888999,-150.72960821500001,-1644.0478591209667,588.56175230607687,{"$f":"Q_d!$C$11","v":0},{"$f":"Q_d!$C$12","v":0},11233.589832572825,6052.604465817868,13988.899717047581,489.13910018010199,-13499.760616867479]
[53,63.9977829888999,-150.73360821700001,-1644.2118303127706,588.66591378740259,{"$f":"Q_d!$C$11","v":0},{"$f":"Q_d!$C$12","v":0},11233.589832572825,6052.604465817868,13989.009978157274,489.15742602663198,-13499.852552130642]
[53,63.972222013,-151.207225577,-1665.1161231617739,598.69383200759285,{"$f":"Q_d!$C$11","v":0},{"$f":"Q_d!$C$12","v":0},11233.589832572825,6052.604465817868,14004.3477725345,489.16970495933202,-13515.178067575169]
[53,63.9977829876999,-150.73760821600001,-1644.375794853561,588.77008546634761,{"$f":"Q_d!$C$11","v":0},{"$f":"Q_d!$C$12","v":0},11233.589832572825,6052.604465817868,13989.120230989751,489.17671982628099,-13499.94351116347]
[53,63.997782986200001,-150.741608216999,-1644.5397528941412,588.87426755684692,{"$f":"Q_d!$C$11","v":0},{"$f":"Q_d!$C$12","v":0},11233.589832572825,6052.604465817868,13989.230475600472,489.195198655914,-13500.035276944558]
[53,63.997782985800001,-150.745608218,-1644.7037042688257,588.97846013734761,{"$f":"Q_d!$C$11","v":0},{"$f":"Q_d!$C$12","v":0},11233.589832572825,6052.604465817868,13989.340711806468,489.21375387452002,-13500.126957931949]
[53,63.997782986200001,-150.746493899,-1644.7400054924524,589.00153192901416,{"$f":"Q_d!$C$11","v":0},{"$f":"Q_d!$C$12","v":0},11233.589832572825,6052.604465817868,13989.365119161102,489.217537332831,-13500.147581828271]
[53,63.997782985000001,-150.75049389700001,-1644.9039487286338,589.10573704300077,{"$f":"Q_d!$C$11","v":0},{"$f":"Q_d!$C$12","v":0},11233.589832572825,6052.604465817868,13989.475345213807,489.23663787271698,-13500.23870734109]
[53,63.997782984600001,-150.754493897,{"$f":"lcpx(B14584,C14584,63,-115,70,60)","v":-1645.0678853971542},{"$f":"lcpy(B14584,C14584,63,-115,70,60)","v":589.20995267005674},{"$f":"Q_d!$C$11","v":0},{"$f":"Q_d!$C$12","v":0},{"$f":"lcpx(F14584,G14584,63,-115,70,60)","v":11233.589832572825},{"$f":"lcpy(F14584,G14584,63,-115,70,60)","v":6052.604465817868},{"$f":"SQRT((H14584-D14584)^2+(I14584-E14584)^2)","v":13989.585562943648},489.25536263693601,-13500.330200306713]
[53,63.9728874284,-151.20916354100001,-1665.1552614556501,598.80686158259277,{"$f":"Q_d!$C$11","v":0},{"$f":"Q_d!$C$12","v":0},11233.589832572825,6052.604465817868,14004.339802671386,489.25673947734202,-13515.083063194044]
[53,63.997782984200001,-150.75849389800001,-1645.2318155039031,589.31417870893029,{"$f":"Q_d!$C$11","v":0},{"$f":"Q_d!$C$12","v":0},11233.589832572825,6052.604465817868,13989.695772395789,489.27505624137399,-13500.420716154415]
[53,63.9977829834,-150.762493898,-1645.3957389900329,589.41841506969831,{"$f":"Q_d!$C$11","v":0},{"$f":"Q_d!$C$12","v":0},11233.589832572825,6052.604465817868,13989.805973551373,489.29393389658901,-13500.512039654783]
[53,63.9977829826,-150.766493897,-1645.5596558311186,589.5226617893295,{"$f":"Q_d!$C$11","v":0},{"$f":"Q_d!$C$12","v":0},11233.589832572825,6052.604465817868,13989.916166373667,489.312887894852,-13500.603278478815]
[53,63.9977829818,-150.770493896,-1645.7235660674846,589.62691889346161,{"$f":"Q_d!$C$11","v":0},{"$f":"Q_d!$C$12","v":0},11233.589832572825,6052.604465817868,13990.026350889981,489.33191822728998,-13500.694432662691]
[53,63.997782981,-150.77449389500001,-1645.8874696984717,589.73118638167762,{"$f":"Q_d!$C$11","v":0},{"$f":"Q_d!$C$12","v":0},11233.589832572825,6052.604465817868,13990.136527100063,489.35191807634698,-13500.784609023716]
[53,63.9977829806,-150.778166607999,-1646.03795664787,589.8269317207355,{"$f":"Q_d!$C$11","v":0},{"$f":"Q_d!$C$12","v":0},11233.589832572825,6052.604465817868,13990.237681179769,489.36935171708399,-13500.868329462686]
[53,63.973942501899899,-151.211331881999,-1665.1803793650802,598.96222514604233,{"$f":"Q_d!$C$11","v":0},{"$f":"Q_d!$C$12","v":0},11233.589832572825,6052.604465817868,14004.302434238438,489.38874619774401,-13514.913688040693]
[53,63.997782979900002,-150.782166609,-1646.2018476827575,589.93121918782253,{"$f":"Q_d!$C$11","v":0},{"$f":"Q_d!$C$12","v":0},11233.589832572825,6052.604465817868,13990.347841502318,489.38949817195697,-13500.958343330361]
[53,63.997782979500002,-150.786166608,-1646.3657320105149,590.03551701363813,{"$f":"Q_d!$C$11","v":0},{"$f":"Q_d!$C$12","v":0},11233.589832572825,6052.604465817868,13990.457993435435,489.40882757159102,-13501.049165863844]
[53,63.997782979100002,-150.790166607999,-1646.5296097712398,590.13982524794619,{"$f":"Q_d!$C$11","v":0},{"$f":"Q_d!$C$12","v":0},11233.589832572825,6052.604465817868,13990.568137088867,489.42823326101598,-13501.139903827851]
[53,63.997782978300002,-150.79416660800001,-1646.6934809472214,590.24414382695613,{"$f":"Q_d!$C$11","v":0},{"$f":"Q_d!$C$12","v":0},11233.589832572825,6052.604465817868,13990.678272471408,489.448609294172,{"$f":"K14596-J14596","v":-13501.229663177237}]
[53,63.997782977500002,-150.79816660700001,-1646.8573454729221,590.34847276146684,{"$f":"Q_d!$C$11","v":0},{"$f":"Q_d!$C$12","v":0},11233.589832572825,6052.604465817868,13990.788399518706,489.468167712671,-13501.320231806034]
[53,63.974650081900002,-151.213006640999,-1665.2062250174183,599.07223559438489,{"$f":"Q_d!$C$11","v":0},{"$f":"Q_d!$C$12","v":0},11233.589832572825,6052.604465817868,14004.283399067299,489.47840385148697,-13514.804995215813]
[53,63.997782976700002,-150.80216660900001,-1647.0212035115851,590.452812155424,{"$f":"Q_d!$C$11","v":0},{"$f":"Q_d!$C$12","v":0},11233.589832572825,6052.604465817868,13990.89851834066,489.48780239348099,-13501.410715947179]
[53,63.997782975900002,-150.80616660800001,-1647.1850548167661,590.55716185189749,{"$f":"Q_d!$C$11","v":0},{"$f":"Q_d!$C$12","v":0},11233.589832572825,6052.604465817868,13991.008628771846,489.50840792064002,-13501.500220851205]
[53,63.997782975100002,-150.81016660700001,-1647.3488995107025,590.66152192872141,{"$f":"Q_d!$C$11","v":0},{"$f":"Q_d!$C$12","v":0},11233.589832572825,6052.604465817868,13991.11873089461,489.528641803521,-13501.590089091089]
[53,63.997782975100002,-150.811052289,-1647.3851771892198,590.68463081506616,{"$f":"Q_d!$C$11","v":0},{"$f":"Q_d!$C$12","v":0},11233.589832572825,6052.604465817868,13991.143108628092,489.53270181674202,-13501.610406811349]
[53,63.975256706300001,-151.21418872300001,-1665.2180207997183,599.15985777824426,{"$f":"Q_d!$C$11","v":0},{"$f":"Q_d!$C$12","v":0},11233.589832572825,6052.604465817868,14004.260142227495,489.55283282808199,-13514.707309399413]
[53,63.997782974300002,-150.81505228699899,-1647.5490137661538,590.78900354397274,{"$f":"Q_d!$C$11","v":0},{"$f":"Q_d!$C$12","v":0},11233.589832572825,6052.604465817868,13991.253200574896,489.55347715341497,-13501.699723421481]
[53,63.997782973600003,-150.81905228700001,-1647.7128438064303,590.89338671388214,{"$f":"Q_d!$C$11","v":0},{"$f":"Q_d!$C$12","v":0},11233.589832572825,6052.604465817868,13991.363284258707,489.57387964841399,-13501.789404610292]
[53,63.977024469299899,-151.19134151,-1664.1789544379942,598.72197144148868,{"$f":"Q_d!$C$11","v":0},{"$f":"Q_d!$C$12","v":0},11233.589832572825,6052.604465817868,14003.473638553245,489.58195622081399,-13513.891682332431]
[53,63.977086509499898,-151.190880061999,-1664.1563850553373,598.71558280862428,{"$f":"Q_d!$C$11","v":0},{"$f":"Q_d!$C$12","v":0},11233.589832572825,6052.604465817868,14003.455339399394,489.58464510439802,-13513.870694294996]
[53,63.977026260199899,-151.191800946999,-1664.1976068442514,598.73424798351971,{"$f":"Q_d!$C$11","v":0},{"$f":"Q_d!$C$12","v":0},11233.589832572825,6052.604465817868,14003.486036889721,489.58506037664102,-13513.90097651308]
[53,63.975577337200001,-151.214746781,-1665.2215300868356,599.20441024816137,{"$f":"Q_d!$C$11","v":0},{"$f":"Q_d!$C$12","v":0},11233.589832572825,6052.604465817868,14004.246025244118,489.592647024033,-13514.653378220084]
[53,63.977072363399898,-151.19229352400001,-1664.2149501066294,598.75152228070419,{"$f":"Q_d!$C$11","v":0},{"$f":"Q_d!$C$12","v":0},11233.589832572825,6052.604465817868,14003.495283029804,489.59354545786198,-13513.901737571943]
[53,63.997782973200003,-150.823052286999,-1647.8766672153972,590.99778029076833,{"$f":"Q_d!$C$11","v":0},{"$f":"Q_d!$C$12","v":0},11233.589832572825,6052.604465817868,13991.473359605863,489.59391225994602,-13501.879447345917]
[53,63.977215297199898,-151.190453098999,-1664.1312138532735,598.71631553233283,{"$f":"Q_d!$C$11","v":0},{"$f":"Q_d!$C$12","v":0},11233.589832572825,6052.604465817868,14003.431870339775,489.59586041550602,-13513.836009924269]
[53,63.9772003677,-151.19285239600001,-1664.2300795559427,598.77816655178322,{"$f":"Q_d!$C$11","v":0},{"$f":"Q_d!$C$12","v":0},11233.589832572825,6052.604465817868,14003.498840942279,489.61155549374001,-13513.887285448538]
[53,63.9774168922999,-151.190024851,-1664.1016163211955,598.72379087443778,{"$f":"Q_d!$C$11","v":0},{"$f":"Q_d!$C$12","v":0},11233.589832572825,6052.604465817868,14003.401698422971,489.61460438287497,-13513.787094040095]
[53,63.997782972400003,-150.827052288,-1648.0404840751874,591.10218423502693,{"$f":"Q_d!$C$11","v":0},{"$f":"Q_d!$C$12","v":0},11233.589832572825,6052.604465817868,13991.583426707633,489.61491658751498,-13501.968510120118]
[53,63.997782971200003,-150.831052287999,-1648.2042943030779,591.20659849393678,{"$f":"Q_d!$C$11","v":0},{"$f":"Q_d!$C$12","v":0},11233.589832572825,6052.604465817868,13991.693485508638,489.635101773759,-13502.058383734879]
[53,63.977416561600002,-151.193575154,-1664.2466018460618,598.81733836523836,{"$f":"Q_d!$C$11","v":0},{"$f":"Q_d!$C$12","v":0},11233.589832572825,6052.604465817868,14003.498802820362,489.64050151309903,-13513.858301307264]
[53,63.976023378299899,-151.215239424999,-1665.2148294805131,599.25890637841758,{"$f":"Q_d!$C$11","v":0},{"$f":"Q_d!$C$12","v":0},11233.589832572825,6052.604465817868,14004.218632271739,489.64477049489602,-13514.573861776842]
[53,63.997782970800003,-150.835052286999,-1648.3680978270843,591.3110231792416,{"$f":"Q_d!$C$11","v":0},{"$f":"Q_d!$C$12","v":0},11233.589832572825,6052.604465817868,13991.803535899178,489.65625900829599,-13502.147276890882]
[53,63.977547836600003,-151.19406879300001,-1664.2588704501463,598.84256766474437,{"$f":"Q_d!$C$11","v":0},{"$f":"Q_d!$C$12","v":0},11233.589832572825,6052.604465817868,14003.500276995681,489.65833951542101,-13513.84193748026]
[53,63.977288076699899,-151.198440521999,-1664.4529759725081,598.93363492679009,{"$f":"Q_d!$C$11","v":0},{"$f":"Q_d!$C$12","v":0},11233.589832572825,6052.604465817868,14003.643590965181,489.66099357106202,-13513.982597394119]
[53,63.977259208900001,-151.199000468999,-1664.4775727986746,598.94570997553274,{"$f":"Q_d!$C$11","v":0},{"$f":"Q_d!$C$12","v":0},11233.589832572825,6052.604465817868,14003.661543277974,489.66205591305499,-13513.999487364919]
[53,63.977933569400001,-151.189366860999,-1664.0437095852378,598.75453660840913,{"$f":"Q_d!$C$11","v":0},{"$f":"Q_d!$C$12","v":0},11233.589832572825,6052.604465817868,14003.336389522989,489.66675903107802,-13513.669630491911]
[53,63.977274512000001,-151.199525453999,-1664.4980878688855,598.96097418927002,{"$f":"Q_d!$C$11","v":0},{"$f":"Q_d!$C$12","v":0},11233.589832572825,6052.604465817868,14003.674494118583,489.66799971613398,-13514.006494402449]
[53,63.977377155299898,-151.198046527999,-1664.4315369282861,598.93153837492537,{"$f":"Q_d!$C$11","v":0},{"$f":"Q_d!$C$12","v":0},11233.589832572825,6052.604465817868,14003.624661052274,489.66822365863197,-13513.956437393643]
[53,63.977633567300003,-151.194462883,-1664.2698105347556,598.86093428758795,{"$f":"Q_d!$C$11","v":0},{"$f":"Q_d!$C$12","v":0},11233.589832572825,6052.604465817868,14003.503200307114,489.670211489324,-13513.83298881779]
[53,63.977478967499898,-151.19755342900001,-1664.4052864040818,598.92801446931117,{"$f":"Q_d!$C$11","v":0},{"$f":"Q_d!$C$12","v":0},11233.589832572825,6052.604465817868,14003.601855420837,489.676189484438,-13513.925665936398]
[53,63.997782970400003,-150.839052288,-1648.531894817032,591.41545829411371,{"$f":"Q_d!$C$11","v":0},{"$f":"Q_d!$C$12","v":0},11233.589832572825,6052.604465817868,13991.913578034568,489.67704070846497,-13502.236537326104]
[53,63.977662343200002,-151.19498849300001,-1664.2895424465621,598.87746717904793,{"$f":"Q_d!$C$11","v":0},{"$f":"Q_d!$C$12","v":0},11233.589832572825,6052.604465817868,14003.514935480753,489.67746656855599,-13513.837468912197]
[53,63.977333915400003,-151.20031485600001,-1664.5267485561242,598.98731352025516,{"$f":"Q_d!$C$11","v":0},{"$f":"Q_d!$C$12","v":0},11233.589832572825,6052.604465817868,14003.690634408782,489.68018052806599,-13514.010453880715]
[53,63.977691733599897,-151.195547306999,-1664.3105929946205,598.89493266596583,{"$f":"Q_d!$C$11","v":0},{"$f":"Q_d!$C$12","v":0},11233.589832572825,6052.604465817868,14003.527522015473,489.68431119753001,-13513.843210817942]
[53,63.977622315399898,-151.19712508699899,-1664.3791842042949,598.93006337372071,{"$f":"Q_d!$C$11","v":0},{"$f":"Q_d!$C$12","v":0},11233.589832572825,6052.604465817868,14003.577016091891,489.68871338841302,-13513.888302703477]
[53,63.976428475799899,-151.215272255,-1665.1918181888382,599.29746539794087,{"$f":"Q_d!$C$11","v":0},{"$f":"Q_d!$C$12","v":0},11233.589832572825,6052.604465817868,14004.182422221396,489.68977150538802,-13514.492650716009]
[53,63.977738904600002,-151.19640122499899,-1664.3426239964283,598.92183213985254,{"$f":"Q_d!$C$11","v":0},{"$f":"Q_d!$C$12","v":0},11233.589832572825,6052.604465817868,14003.546548039312,489.69574191532399,-13513.850806123988]
[53,63.977721549199899,-151.19679567,-1664.3597717708992,598.93061478149139,{"$f":"Q_d!$C$11","v":0},{"$f":"Q_d!$C$12","v":0},11233.589832572825,6052.604465817868,14003.558921562346,489.69694581444901,-13513.861975747897]
[53,63.997782969200003,-150.84305228700001,-1648.6956851560342,591.51990365892652,{"$f":"Q_d!$C$11","v":0},{"$f":"Q_d!$C$12","v":0},11233.589832572825,6052.604465817868,13992.023611877497,489.69745424394398,-13502.326157633554]
[53,63.977465702799897,-151.20120155999899,-1664.5550317922039,599.02295451313512,{"$f":"Q_d!$C$11","v":0},{"$f":"Q_d!$C$12","v":0},11233.589832572825,6052.604465817868,14003.702804708146,489.70015652437701,-13514.002648183769]
[53,63.997782969200003,-150.84393796699899,-1648.7319507113039,591.54303138533442,{"$f":"Q_d!$C$11","v":0},{"$f":"Q_d!$C$12","v":0},11233.589832572825,6052.604465817868,13992.047974429017,489.70299472741601,-13502.3449797016]
[53,63.978353551600001,-151.188872371999,-1663.9982885263955,598.78059270903032,{"$f":"Q_d!$C$11","v":0},{"$f":"Q_d!$C$12","v":0},11233.589832572825,6052.604465817868,14003.28440689582,489.70900101693002,-13513.57540587889]
[53,63.9766761749,-151.21533711800001,-1665.1795762159147,599.32222375930041,{"$f":"Q_d!$C$11","v":0},{"$f":"Q_d!$C$12","v":0},11233.589832572825,6052.604465817868,14004.161505518832,489.71749360217802,-13514.444011916654]
[53,63.997782967600003,-150.847937967999,-1648.895733073427,591.64748943901577,{"$f":"Q_d!$C$11","v":0},{"$f":"Q_d!$C$12","v":0},11233.589832572825,6052.604465817868,13992.157998212602,489.72350134029699,-13502.434496872305]
[53,63.977711221500002,-151.20248320900001,-1664.5926043198895,599.07959204099916,{"$f":"Q_d!$C$11","v":0},{"$f":"Q_d!$C$12","v":0},11233.589832572825,6052.604465817868,14003.715354300468,489.73690131947302,-13513.978452980995]
[53,63.997782967200003,-150.85193796600001,-1649.0595086231642,591.75195790242469,{"$f":"Q_d!$C$11","v":0},{"$f":"Q_d!$C$12","v":0},11233.589832572825,6052.604465817868,13992.26801349316,489.744084098011,-13502.523929395149]
[53,63.977839189000001,-151.203042138999,-1664.6077335238183,599.10623651549213,{"$f":"Q_d!$C$11","v":0},{"$f":"Q_d!$C$12","v":0},11233.589832572825,6052.604465817868,14003.718912884018,489.75534759714401,-13513.963565286875]
[53,63.977033434299898,-151.21520566000001,-1665.1527338527687,599.35199869334974,{"$f":"Q_d!$C$11","v":0},{"$f":"Q_d!$C$12","v":0},11233.589832572825,6052.604465817868,14004.125187426709,489.755925600701,-13514.369261826008]
[53,63.997782967600003,-150.855937968999,-1649.223277711091,591.85643694664395,{"$f":"Q_d!$C$11","v":0},{"$f":"Q_d!$C$12","v":0},11233.589832572825,6052.604465817868,13992.378020526894,489.76563976661299,-13502.612380760282]
[53,63.997782966499898,-150.85993796700001,-1649.387040064338,591.96092609535708,{"$f":"Q_d!$C$11","v":0},{"$f":"Q_d!$C$12","v":0},11233.589832572825,6052.604465817868,13992.488019248656,489.786374959532,-13502.701644289124]
[53,63.9791031846,-151.18814829900001,{"$f":"lcpx(B14648,C14648,63,-115,70,60)","v":-1663.9236907100651},{"$f":"lcpy(B14648,C14648,63,-115,70,60)","v":598.83128037792449},{"$f":"Q_d!$C$11","v":0},{"$f":"Q_d!$C$12","v":0},{"$f":"lcpx(F14648,G14648,63,-115,70,60)","v":11233.589832572825},{"$f":"lcpy(F14648,G14648,63,-115,70,60)","v":6052.604465817868},{"$f":"SQRT((H14648-D14648)^2+(I14648-E14648)^2)","v":14003.195958119304},489.78639264581398,-13513.40956547349]
[53,63.978116191399899,-151.204026843999,-1664.6312886817657,599.1579754964273,{"$f":"Q_d!$C$11","v":0},{"$f":"Q_d!$C$12","v":0},11233.589832572825,6052.604465817868,14003.720459777011,489.79288661637298,-13513.927573160638]
[53,63.977454793,-151.214842887999,-1665.1125957119523,599.38163759808822,{"$f":"Q_d!$C$11","v":0},{"$f":"Q_d!$C$12","v":0},11233.589832572825,6052.604465817868,14004.076676013201,489.79877587637901,-13514.277900136822]
[53,63.997782965699898,-150.863937966999,-1649.550795861418,592.06542569900785,{"$f":"Q_d!$C$11","v":0},{"$f":"Q_d!$C$12","v":0},11233.589832572825,6052.604465817868,13992.598009686237,489.80852517080501,-13502.789484515431]
[53,63.9793342981,-151.187982640999,-1663.9030431594877,598.84842508186648,{"$f":"Q_d!$C$11","v":0},{"$f":"Q_d!$C$12","v":0},11233.589832572825,6052.604465817868,14003.170263602102,489.81012847837201,-13513.36013512373]
[53,63.977698783800001,-151.214218203999,-1665.0724280480474,599.38786599888772,{"$f":"Q_d!$C$11","v":0},{"$f":"Q_d!$C$12","v":0},11233.589832572825,6052.604465817868,14004.037253524659,489.82065014247797,-13514.216603382181]
[53,63.978344003399897,-151.205078670999,-1664.6605391160783,599.20690678679875,{"$f":"Q_d!$C$11","v":0},{"$f":"Q_d!$C$12","v":0},11233.589832572825,6052.604465817868,14003.728345966261,489.824728172231,-13513.903617794031]
[53,63.997782965699898,-150.86793796800001,-1649.7145450310954,592.16993577784115,{"$f":"Q_d!$C$11","v":0},{"$f":"Q_d!$C$12","v":0},11233.589832572825,6052.604465817868,13992.707991766347,489.829412405992,-13502.878579360355]
[53,63.979651813899899,-151.18788410600001,-1663.8799459789743,598.87538050916964,{"$f":"Q_d!$C$11","v":0},{"$f":"Q_d!$C$12","v":0},11233.589832572825,6052.604465817868,14003.138491945263,489.84462414626898,-13513.293867798993]
[53,63.978474485100001,-151.20583537100001,-1664.6835894733451,599.23899987635195,{"$f":"Q_d!$C$11","v":0},{"$f":"Q_d!$C$12","v":0},11233.589832572825,6052.604465817868,14003.73707890098,489.84536352302001,-13513.89171537796]
[53,63.978019049700002,-151.21323244499899,-1665.0129359494456,599.39167024390417,{"$f":"Q_d!$C$11","v":0},{"$f":"Q_d!$C$12","v":0},11233.589832572825,6052.604465817868,14003.980975920453,489.848905939372,-13514.13206998108]
[53,63.997782964499898,-150.871937965,-1649.8782874871056,592.27445601395675,{"$f":"Q_d!$C$11","v":0},{"$f":"Q_d!$C$12","v":0},11233.589832572825,6052.604465817868,13992.817965533808,489.851273209532,-13502.966692324277]
[53,63.978549846100002,-151.20645887699899,-1664.7045145288373,599.26245204567704,{"$f":"Q_d!$C$11","v":0},{"$f":"Q_d!$C$12","v":0},11233.589832572825,6052.604465817868,14003.747219356954,489.85770560949601,{"$f":"K14660-J14660","v":-13513.889513747457}]
[53,63.9781740662999,-151.21270518399899,-1664.9820941129808,599.39219009062799,{"$f":"Q_d!$C$11","v":0},{"$f":"Q_d!$C$12","v":0},11233.589832572825,6052.604465817868,14003.95236610113,489.86212401144002,-13514.090242089689]
[53,63.978608602100003,-151.20721512200001,-1664.7318561588334,599.28785907976635,{"$f":"Q_d!$C$11","v":0},{"$f":"Q_d!$C$12","v":0},11233.589832572825,6052.604465817868,14003.762508673555,489.86940843147102,-13513.893100242085]
[53,63.979900751800002,-151.18801483600001,-1663.8703293771841,598.90199504493239,{"$f":"Q_d!$C$11","v":0},{"$f":"Q_d!$C$12","v":0},11233.589832572825,6052.604465817868,14003.119269248635,489.87293252944602,-13513.246336719189]
[53,63.997782963699898,-150.875937964999,-1650.0420234199876,592.37898673924519,{"$f":"Q_d!$C$11","v":0},{"$f":"Q_d!$C$12","v":0},11233.589832572825,6052.604465817868,13992.927931034741,489.87321044735597,-13503.054720587385]
[53,63.978622601600001,-151.20761007600001,-1664.7471382265394,599.29957546196783,{"$f":"Q_d!$C$11","v":0},{"$f":"Q_d!$C$12","v":0},11233.589832572825,6052.604465817868,14003.77202183288,489.87377813983801,-13513.898243693042]
[53,63.978377277699899,-151.211752372999,-1664.9309836647478,599.38597306453494,{"$f":"Q_d!$C$11","v":0},{"$f":"Q_d!$C$12","v":0},11233.589832572825,6052.604465817868,14003.907710943433,489.87757617184297,-13514.03013477159]
[53,63.997782963699898,-150.87682364700001,-1650.0782770060798,592.40213340397167,{"$f":"Q_d!$C$11","v":0},{"$f":"Q_d!$C$12","v":0},11233.589832572825,6052.604465817868,13992.952278510729,489.877992378714,-13503.074286132016]
[53,63.978449731700003,-151.2110619,-1664.8984420024321,599.37450749467189,{"$f":"Q_d!$C$11","v":0},{"$f":"Q_d!$C$12","v":0},11233.589832572825,6052.604465817868,14003.882202721823,489.880174639676,-13514.002028082146]
[53,63.978591590100002,-151.209089820999,-1664.8094100917792,599.3357067505749,{"$f":"Q_d!$C$11","v":0},{"$f":"Q_d!$C$12","v":0},11233.589832572825,6052.604465817868,14003.815308043382,489.88114385532299,-13513.93416418806]
[53,63.9785362914999,-151.21004221800001,-1664.8516132926354,599.35567409554369,{"$f":"Q_d!$C$11","v":0},{"$f":"Q_d!$C$12","v":0},11233.589832572825,6052.604465817868,14003.846404357657,489.88213896507801,-13513.964265392578]
[53,63.997782962899898,-150.88082364600001,-1650.2420048088632,592.50667677293859,{"$f":"Q_d!$C$11","v":0},{"$f":"Q_d!$C$12","v":0},11233.589832572825,6052.604465817868,13993.062233830853,489.89912494818702,-13503.163108882665]
[53,63.997782962099897,-150.884823646999,-1650.4057260699497,592.61123056668339,{"$f":"Q_d!$C$11","v":0},{"$f":"Q_d!$C$12","v":0},11233.589832572825,6052.604465817868,13993.172180892918,489.92167154454302,-13503.250509348374]
[53,63.997782961699897,-150.888823645,-1650.569440560306,592.71579469151175,{"$f":"Q_d!$C$11","v":0},{"$f":"Q_d!$C$12","v":0},11233.589832572825,6052.604465817868,13993.282119522795,489.94295605202802,-13503.339163470768]
[53,63.980604880800001,-151.188341116999,-1663.8413521893315,598.97612868960687,{"$f":"Q_d!$C$11","v":0},{"$f":"Q_d!$C$12","v":0},11233.589832572825,6052.604465817868,14003.06370781779,489.95230596048799,-13513.111401857303]
[53,63.997782960899897,-150.89282364799899,-1650.7331486542364,592.82036928134903,{"$f":"Q_d!$C$11","v":0},{"$f":"Q_d!$C$12","v":0},11233.589832572825,6052.604465817868,13993.392050013066,489.96521498163497,-13503.426835031431]
[53,63.997782960599899,-150.896823646999,-1650.8968499291909,592.92495418458248,{"$f":"Q_d!$C$11","v":0},{"$f":"Q_d!$C$12","v":0},11233.589832572825,6052.604465817868,13993.501972034022,489.98709061055803,-13503.514881423464]
[53,63.981008848400002,-151.188735156999,-1663.8331724922448,599.02411086011261,{"$f":"Q_d!$C$11","v":0},{"$f":"Q_d!$C$12","v":0},11233.589832572825,6052.604465817868,14003.037486901292,489.99933234648302,-13513.03815455481]
[53,63.997782959799899,-150.900823645999,-1651.0605446078209,593.02954941198641,{"$f":"Q_d!$C$11","v":0},{"$f":"Q_d!$C$12","v":0},11233.589832572825,6052.604465817868,13993.611885786659,490.00950176297602,-13503.602384023683]
[53,63.997782959399899,-150.904823644999,-1651.2242326357907,593.13415504715249,{"$f":"Q_d!$C$11","v":0},{"$f":"Q_d!$C$12","v":0},11233.589832572825,6052.604465817868,13993.721791188527,490.03198927519003,-13503.689801913337]
[53,63.997782958599899,-150.908823646,-1651.3879141420439,593.23877106732516,{"$f":"Q_d!$C$11","v":0},{"$f":"Q_d!$C$12","v":0},11233.589832572825,6052.604465817868,13993.831688367431,490.05409187558001,-13503.777596491851]
[53,63.997782957799899,-150.909709327999,-1651.4241557147932,593.26193653709061,{"$f":"Q_d!$C$11","v":0},{"$f":"Q_d!$C$12","v":0},11233.589832572825,6052.604465817868,13993.85602078217,490.05857343178798,-13503.797447350382]
[53,63.981504158100002,-151.18952311300001,-1663.8355873404391,599.09097480536775,{"$f":"Q_d!$C$11","v":0},{"$f":"Q_d!$C$12","v":0},11233.589832572825,6052.604465817868,14003.013670595348,490.05954375871499,-13512.954126836634]
[53,63.981660395399899,-151.18985156700001,-1663.8396110640222,599.11417159420762,{"$f":"Q_d!$C$11","v":0},{"$f":"Q_d!$C$12","v":0},11233.589832572825,6052.604465817868,14003.008342594898,490.078847358259,-13512.929495236638]
[53,63.997782957399899,-150.913709326,-1651.587828978621,593.36656518170366,{"$f":"Q_d!$C$11","v":0},{"$f":"Q_d!$C$12","v":0},11233.589832572825,6052.604465817868,13993.96590768631,490.08166758204698,-13503.884240104264]
[53,63.981793498599899,-151.19008053600001,-1663.84096279907,599.13259355840955,{"$f":"Q_d!$C$11","v":0},{"$f":"Q_d!$C$12","v":0},11233.589832572825,6052.604465817868,14003.002413158843,490.094833277193,-13512.90757988165]
[53,63.997782955399899,-150.917709325,-1651.7514957498847,593.47120407219018,{"$f":"Q_d!$C$11","v":0},{"$f":"Q_d!$C$12","v":0},11233.589832572825,6052.604465817868,13994.075786449037,490.10440032813398,-13503.971386120904]
[53,63.981966233999898,-151.190573744999,-1663.8507212847378,599.1616675096534,{"$f":"Q_d!$C$11","v":0},{"$f":"Q_d!$C$12","v":0},11233.589832572825,6052.604465817868,14003.000078365687,490.11712966800002,-13512.882948697687]
[53,63.997782956599899,-150.921709324999,-1651.9151557414898,593.57585365611703,{"$f":"Q_d!$C$11","v":0},{"$f":"Q_d!$C$12","v":0},11233.589832572825,6052.604465817868,13994.185656631606,490.126309766166,-13504.059346865439]
[53,63.982096176600002,-151.190934502999,-1663.8576429237933,599.1832682690233,{"$f":"Q_d!$C$11","v":0},{"$f":"Q_d!$C$12","v":0},11233.589832572825,6052.604465817868,14002.998041172083,490.13428646545401,-13512.863754706628]
[53,63.982182026899899,-151.19139517100001,-1663.8712921524464,599.2033982921821,{"$f":"Q_d!$C$11","v":0},{"$f":"Q_d!$C$12","v":0},11233.589832572825,6052.604465817868,14003.002773230102,490.14673578939602,-13512.856037440706]
[53,63.997782954999899,-150.925709326,-1652.0788093109509,593.6805133731873,{"$f":"Q_d!$C$11","v":0},{"$f":"Q_d!$C$12","v":0},11233.589832572825,6052.604465817868,13994.29551878197,490.14963127293998,-13504.14588750903]
[53,63.9823278548999,-151.191887796999,-1663.8826424995129,599.22995264892143,{"$f":"Q_d!$C$11","v":0},{"$f":"Q_d!$C$12","v":0},11233.589832572825,6052.604465817868,14003.00288602874,490.16588917834702,-13512.836996850394]
[53,63.997782954599899,-150.929709325,-1652.2424560960376,593.78518351770344,{"$f":"Q_d!$C$11","v":0},{"$f":"Q_d!$C$12","v":0},11233.589832572825,6052.604465817868,13994.405372451989,490.17259240598099,-13504.232780046008]
[53,63.982499361099897,-151.192314925999,-1663.88977595299,599.25717079670721,{"$f":"Q_d!$C$11","v":0},{"$f":"Q_d!$C$12","v":0},11233.589832572825,6052.604465817868,14002.998856404076,490.18851437482698,-13512.810342029248]
[53,63.9977829535,-150.93370932400001,-1652.4060962913582,593.88986396430073,{"$f":"Q_d!$C$11","v":0},{"$f":"Q_d!$C$12","v":0},11233.589832572825,6052.604465817868,13994.515217869952,490.19472968402999,-13504.320488185922]
[53,63.982660682199899,-151.192676183,-1663.8948318849216,599.28170505899834,{"$f":"Q_d!$C$11","v":0},{"$f":"Q_d!$C$12","v":0},11233.589832572825,6052.604465817868,14002.993958540919,490.20832007831098,-13512.785638462608]
[53,63.9977829527,-150.937709323999,-1652.5697298774446,593.99455483200427,{"$f":"Q_d!$C$11","v":0},{"$f":"Q_d!$C$12","v":0},11233.589832572825,6052.604465817868,13994.625054971699,490.21827845154797,-13504.406776520151]
[53,63.982873273000003,-151.192841189999,-1663.8887957218699,599.30583901612954,{"$f":"Q_d!$C$11","v":0},{"$f":"Q_d!$C$12","v":0},11233.589832572825,6052.604465817868,14002.979000212637,490.232659746369,-13512.746340466269]
[53,63.9977829527,-150.941709325999,-1652.7333568647573,594.09925619329033,{"$f":"Q_d!$C$11","v":0},{"$f":"Q_d!$C$12","v":0},11233.589832572825,6052.604465817868,13994.734883738793,490.24146787578002,-13504.493415863013]
[53,63.9977829519,-150.942595003999,-1652.7695862031446,594.12244043187593,{"$f":"Q_d!$C$11","v":0},{"$f":"Q_d!$C$12","v":0},11233.589832572825,6052.604465817868,13994.759200905821,490.246524515982,-13504.512676389839]
[53,63.983165793799898,-151.19290538499899,-1663.8738418191892,599.33475514487918,{"$f":"Q_d!$C$11","v":0},{"$f":"Q_d!$C$12","v":0},11233.589832572825,6052.604465817868,14002.9539658461,490.26526436205899,-13512.688701484041]
[53,63.9977829519,-150.94659500399899,-1652.9332050062396,594.22715440215552,{"$f":"Q_d!$C$11","v":0},{"$f":"Q_d!$C$12","v":0},11233.589832572825,6052.604465817868,13994.869019459731,490.26980691961802,-13504.599212540114]
[53,63.9977829511,-150.950595004999,-1653.0968172636876,594.33187868959749,{"$f":"Q_d!$C$11","v":0},{"$f":"Q_d!$C$12","v":0},11233.589832572825,6052.604465817868,13994.978829797154,490.29269880959799,-13504.686130987555]
[53,63.9834410214999,-151.193003881999,-1663.8613271215968,599.36296575766164,{"$f":"Q_d!$C$11","v":0},{"$f":"Q_d!$C$12","v":0},11233.589832572825,6052.604465817868,14002.931452902349,490.29572140902798,-13512.635731493321]
[53,63.9977829503,-150.954595003999,-1653.2604228043551,594.43661328988037,{"$f":"Q_d!$C$11","v":0},{"$f":"Q_d!$C$12","v":0},11233.589832572825,6052.604465817868,13995.08863176239,490.31613315186701,-13504.772498610522]
[53,63.9977829486999,-150.958595005999,-1653.4240218798841,594.5413582588626,{"$f":"Q_d!$C$11","v":0},{"$f":"Q_d!$C$12","v":0},11233.589832572825,6052.604465817868,13995.198425565559,490.339643710357,-13504.858781855202]
[53,63.9840010526,-151.192870765999,-1663.8222465221218,599.41157885229086,{"$f":"Q_d!$C$11","v":0},{"$f":"Q_d!$C$12","v":0},11233.589832572825,6052.604465817868,14002.876525929814,490.35644020447,-13512.520085725344]
[53,63.9977829482999,-150.962595002,-1653.5876140020905,594.64611354706403,{"$f":"Q_d!$C$11","v":0},{"$f":"Q_d!$C$12","v":0},11233.589832572825,6052.604465817868,13995.308210776631,490.36366351922902,-13504.944547257403]
[53,63.9977829482999,-150.966595003999,-1653.7511997087545,594.75087939360083,{"$f":"Q_d!$C$11","v":0},{"$f":"Q_d!$C$12","v":0},11233.589832572825,6052.604465817868,13995.417987797746,490.38642457963698,-13505.031563218108]
[53,63.984291775099898,-151.192837881999,-1663.8034376542087,599.43776930551121,{"$f":"Q_d!$C$11","v":0},{"$f":"Q_d!$C$12","v":0},11233.589832572825,6052.604465817868,14002.849002501209,490.38796033038898,-13512.46104217082]
[53,63.997782947200001,-150.970595003,-1653.914778720921,594.85565542253335,{"$f":"Q_d!$C$11","v":0},{"$f":"Q_d!$C$12","v":0},11233.589832572825,6052.604465817868,13995.527756518839,490.41059553194799,-13505.117160986891]
[53,63.9846098891,-151.192771319,{"$f":"lcpx(B14712,C14712,63,-115,70,60)","v":-1663.7816083407301},{"$f":"lcpy(B14712,C14712,63,-115,70,60)","v":599.46562155680613},{"$f":"Q_d!$C$11","v":0},{"$f":"Q_d!$C$12","v":0},{"$f":"lcpx(F14712,G14712,63,-115,70,60)","v":11233.589832572825},{"$f":"lcpy(F14712,G14712,63,-115,70,60)","v":6052.604465817868},{"$f":"SQRT((H14712-D14712)^2+(I14712-E14712)^2)","v":14002.818049938429},490.42253934438997,-13512.395510594039]
[53,63.997782947600001,-150.974267435999,-1654.0649560696693,594.95186043948206,{"$f":"Q_d!$C$11","v":0},{"$f":"Q_d!$C$12","v":0},11233.589832572825,6052.604465817868,13995.628528658985,490.43234105633701,-13505.196187602647]
[53,63.997782946400001,-150.978267434,-1654.2285223134552,595.05665631005058,{"$f":"Q_d!$C$11","v":0},{"$f":"Q_d!$C$12","v":0},11233.589832572825,6052.604465817868,13995.738281405782,490.45622514246799,-13505.282056263313]
[53,63.997782945600001,-150.982267436999,-1654.3920820981905,595.16146271117668,{"$f":"Q_d!$C$11","v":0},{"$f":"Q_d!$C$12","v":0},11233.589832572825,6052.604465817868,13995.84802593417,490.48018537959302,-13505.367840554578]
[53,63.985274955900003,-151.19244088400001,-1663.7281631309172,599.51881090334746,{"$f":"Q_d!$C$11","v":0},{"$f":"Q_d!$C$12","v":0},11233.589832572825,6052.604465817868,14002.748110358129,490.49267483317198,-13512.255435524956]
[53,63.997782945200001,-150.98626743400001,-1654.55563497359,595.26627935431816,{"$f":"Q_d!$C$11","v":0},{"$f":"Q_d!$C$12","v":0},11233.589832572825,6052.604465817868,13995.957761942213,490.50465270372302,-13505.45310923849]
[53,63.997782944000001,-150.99026743600001,-1654.7191814603759,595.3711064153008,{"$f":"Q_d!$C$11","v":0},{"$f":"Q_d!$C$12","v":0},11233.589832572825,6052.604465817868,13996.067489841054,490.528764853805,-13505.538724987249]
[53,63.997782943200001,-150.994267436999,-1654.8827212408335,595.47594384839567,{"$f":"Q_d!$C$11","v":0},{"$f":"Q_d!$C$12","v":0},11233.589832572825,6052.604465817868,13996.177209356158,490.55248064401798,-13505.62472871214]
[53,63.985909393199897,-151.191848166,-1663.6658524930538,599.56223895182347,{"$f":"Q_d!$C$11","v":0},{"$f":"Q_d!$C$12","v":0},11233.589832572825,6052.604465817868,14002.673806596664,490.558735565885,-13512.115071030779]
[53,63.997782942800001,-150.998267435,-1655.0462542326627,595.58079160082207,{"$f":"Q_d!$C$11","v":0},{"$f":"Q_d!$C$12","v":0},11233.589832572825,6052.604465817868,13996.286920432503,490.576744492643,-13505.710175939861]
[53,63.986138073600003,-151.191550914999,-1663.6399802963244,599.57568962282085,{"$f":"Q_d!$C$11","v":0},{"$f":"Q_d!$C$12","v":0},11233.589832572825,6052.604465817868,14002.644738761748,490.58088757105003,-13512.063851190698]
[53,63.986339679499899,-151.191122860999,-1663.6103955748881,599.58317414430712,{"$f":"Q_d!$C$11","v":0},{"$f":"Q_d!$C$12","v":0},11233.589832572825,6052.604465817868,14002.614574870602,490.60054718477397,-13512.014027685827]
[53,63.997782942400001,-151.002267437999,-1655.2097807860152,595.6856498444522,{"$f":"Q_d!$C$11","v":0},{"$f":"Q_d!$C$12","v":0},11233.589832572825,6052.604465817868,13996.396623325723,490.60151396525401,{"$f":"K14724-J14724","v":-13505.79510936047}]
[53,63.989601373699898,-151.141293241,-1661.3801673261953,598.57474084335763,{"$f":"Q_d!$C$11","v":0},{"$f":"Q_d!$C$12","v":0},11233.589832572825,6052.604465817868,14000.953236805031,490.60712126201298,-13510.346115543018]
[53,63.9896466265999,-151.14060305000001,-1661.3492679839662,598.56079345092076,{"$f":"Q_d!$C$11","v":0},{"$f":"Q_d!$C$12","v":0},11233.589832572825,6052.604465817868,14000.930211495031,490.60732275415501,-13510.322888740877]
[53,63.9864856899,-151.19059715700001,-1663.5801650302953,599.58291173870248,{"$f":"Q_d!$C$11","v":0},{"$f":"Q_d!$C$12","v":0},11233.589832572825,6052.604465817868,14002.586833022177,490.612009173236,-13511.974823848941]
[53,63.989732812600003,-151.139944348,-1661.3171983565376,598.55148660503119,{"$f":"Q_d!$C$11","v":0},{"$f":"Q_d!$C$12","v":0},11233.589832572825,6052.604465817868,14000.904300664723,490.61248804428101,-13510.291812620442]
[53,63.986930224200002,-151.18447960399899,-1663.3037426187723,599.46311149353733,{"$f":"Q_d!$C$11","v":0},{"$f":"Q_d!$C$12","v":0},11233.589832572825,6052.604465817868,14002.378887891175,490.61794651744998,-13511.760941373725]
[53,63.989618944699899,-151.142641545999,-1661.4341706434241,598.61185629230704,{"$f":"Q_d!$C$11","v":0},{"$f":"Q_d!$C$12","v":0},11233.589832572825,6052.604465817868,14000.988516111378,490.61824082885403,-13510.370275282525]
[53,63.986917380500003,-151.184874067999,-1663.3206164710818,599.47230788333536,{"$f":"Q_d!$C$11","v":0},{"$f":"Q_d!$C$12","v":0},11233.589832572825,6052.604465817868,14002.390848085823,490.61912209472598,-13511.771725991097]
[53,63.989863842299897,-151.13899003,-1661.270366437338,598.53857771748517,{"$f":"Q_d!$C$11","v":0},{"$f":"Q_d!$C$12","v":0},11233.589832572825,6052.604465817868,14000.86619690927,490.62027735612298,-13510.245919553146]
[53,63.986914915,-151.185465574999,-1663.3449102843801,599.48766136235781,{"$f":"Q_d!$C$11","v":0},{"$f":"Q_d!$C$12","v":0},11233.589832572825,6052.604465817868,14002.407244633057,490.62287240812498,-13511.784372224933]
[53,63.997782940900002,-151.00626743500001,-1655.3733005164893,595.7905181880401,{"$f":"Q_d!$C$11","v":0},{"$f":"Q_d!$C$12","v":0},11233.589832572825,6052.604465817868,13996.506317834564,490.62592963682602,-13505.880388197738]
[53,63.987043601499899,-151.183887265999,-1663.2727525925975,599.45805980701243,{"$f":"Q_d!$C$11","v":0},{"$f":"Q_d!$C$12","v":0},11233.589832572825,6052.604465817868,14002.352311880632,490.62619739369802,-13511.726114486934]
[53,63.989648616799897,-151.143562113,-1661.4699807628704,598.63884367626042,{"$f":"Q_d!$C$11","v":0},{"$f":"Q_d!$C$12","v":0},11233.589832572825,6052.604465817868,14001.010984818478,490.62777963849499,-13510.383205179984]
[53,63.986685469599898,-151.189707902999,-1663.5318646182477,599.57807527398927,{"$f":"Q_d!$C$11","v":0},{"$f":"Q_d!$C$12","v":0},11233.589832572825,6052.604465817868,14002.544229107963,490.62857790797301,-13511.91565119999]
[53,63.997782940500002,-151.007153114999,-1655.4095061879605,595.8137395485719,{"$f":"Q_d!$C$11","v":0},{"$f":"Q_d!$C$12","v":0},11233.589832572825,6052.604465817868,13996.53060529196,490.63125529566503,-13505.899349996296]
[53,63.986975615799899,-151.185958816999,-1663.3613983858036,599.50630545608556,{"$f":"Q_d!$C$11","v":0},{"$f":"Q_d!$C$12","v":0},11233.589832572825,6052.604465817868,14002.41517025782,490.63315764020598,-13511.782012617614]
[53,63.987162066099899,-151.18332770500001,-1663.2427950401948,599.45434543292913,{"$f":"Q_d!$C$11","v":0},{"$f":"Q_d!$C$12","v":0},11233.589832572825,6052.604465817868,14002.326166038198,490.63494768411999,-13511.691218354077]
[53,63.986829564600001,-151.18865605400001,-1663.480272564653,599.5637731019392,{"$f":"Q_d!$C$11","v":0},{"$f":"Q_d!$C$12","v":0},11233.589832572825,6052.604465817868,14002.502279708675,490.63595642594299,-13511.866323282731]
[53,63.987003122200001,-151.186354174999,-1663.3758846605131,599.51928133328784,{"$f":"Q_d!$C$11","v":0},{"$f":"Q_d!$C$12","v":0},11233.589832572825,6052.604465817868,14002.423459556465,490.63921772826097,-13511.784241828203]
[53,63.986901913600001,-151.187965321999,-1663.4477310615425,599.55230837325462,{"$f":"Q_d!$C$11","v":0},{"$f":"Q_d!$C$12","v":0},11233.589832572825,6052.604465817868,14002.476771971709,490.63955500550497,-13511.837216966203]
[53,63.9897064532,-151.144253042999,-1661.4947234605181,598.66241104312758,{"$f":"Q_d!$C$11","v":0},{"$f":"Q_d!$C$12","v":0},11233.589832572825,6052.604465817868,14001.024592653574,490.63959532940203,-13510.384997324172]
[53,63.987005634600003,-151.186912245999,-1663.3985141613762,599.53421775531751,{"$f":"Q_d!$C$11","v":0},{"$f":"Q_d!$C$12","v":0},11233.589832572825,6052.604465817868,14002.438485710363,490.64338481732301,-13511.795100893039]
[53,63.9870056181,-151.187273790999,-1663.4132733257334,599.54374136079286,{"$f":"Q_d!$C$11","v":0},{"$f":"Q_d!$C$12","v":0},11233.589832572825,6052.604465817868,14002.448370844771,490.64539046545599,-13511.802980379316]
[53,63.987292563399897,-151.18293334699899,-1663.2188585788649,599.45610324635845,{"$f":"Q_d!$C$11","v":0},{"$f":"Q_d!$C$12","v":0},11233.589832572825,6052.604465817868,14002.303434806077,490.64668455111303,-13511.656750254964]
[53,63.989764166299899,-151.14487807200001,-1661.5167822875962,598.68423292692751,{"$f":"Q_d!$C$11","v":0},{"$f":"Q_d!$C$12","v":0},11233.589832572825,6052.604465817868,14001.036408614691,490.65042819200698,-13510.385980422685]
[53,63.9897942517999,-151.145107107999,-1661.5243291640993,598.6930615588235,{"$f":"Q_d!$C$11","v":0},{"$f":"Q_d!$C$12","v":0},11233.589832572825,6052.604465817868,14001.039920296458,490.65527692872098,-13510.384643367737]
[53,63.997782941300002,-151.011153113999,-1655.5730177472626,595.91862081207864,{"$f":"Q_d!$C$11","v":0},{"$f":"Q_d!$C$12","v":0},11233.589832572825,6052.604465817868,13996.640289482259,490.655763728502,-13505.984525753756]
[53,63.990252206800001,-151.13813387299899,-1661.2121032102514,598.5522154059795,{"$f":"Q_d!$C$11","v":0},{"$f":"Q_d!$C$12","v":0},11233.589832572825,6052.604465817868,14000.807223631715,490.65719852153399,-13510.150025110181]
[53,63.989838552599899,-151.145436504,-1661.5351209421569,598.70585491691008,{"$f":"Q_d!$C$11","v":0},{"$f":"Q_d!$C$12","v":0},11233.589832572825,6052.604465817868,14001.04487617807,490.66160343458699,-13510.383272743484]
[53,63.989836657399898,-151.145633484999,-1661.5432779773087,598.71086221950009,{"$f":"Q_d!$C$11","v":0},{"$f":"Q_d!$C$12","v":0},11233.589832572825,6052.604465817868,14001.050438384171,490.66281633317101,-13510.387622050999]
[53,63.989868725199898,-151.146027441999,-1661.5574399319385,598.72421561842884,{"$f":"Q_d!$C$11","v":0},{"$f":"Q_d!$C$12","v":0},11233.589832572825,6052.604465817868,14001.058280112349,490.66971221382698,-13510.388567898523]
[53,63.989926475700003,-151.146357120999,-1661.5674359139953,598.73826888936992,{"$f":"Q_d!$C$11","v":0},{"$f":"Q_d!$C$12","v":0},11233.589832572825,6052.604465817868,14001.062012326343,490.67827480335802,-13510.383737522985]
[53,63.997782939700002,-151.015153115,-1655.7365228869894,596.0235122631093,{"$f":"Q_d!$C$11","v":0},{"$f":"Q_d!$C$12","v":0},11233.589832572825,6052.604465817868,13996.749965625861,490.68077660531998,-13506.06918902054]
[53,63.9877220987999,-151.18210939900001,-1663.1594245300887,599.47437887872047,{"$f":"Q_d!$C$11","v":0},{"$f":"Q_d!$C$12","v":0},11233.589832572825,6052.604465817868,14002.241575750131,490.687455380713,-13511.554120369417]
[53,63.990010355099898,-151.146586635999,-1661.5717738478186,598.75211912578106,{"$f":"Q_d!$C$11","v":0},{"$f":"Q_d!$C$12","v":0},11233.589832572825,6052.604465817868,14001.060612511603,490.68933674169,-13510.371275769912]
[53,63.9906104302,-151.137343383999,-1661.1583306178325,598.56477515923325,{"$f":"Q_d!$C$11","v":0},{"$f":"Q_d!$C$12","v":0},11233.589832572825,6052.604465817868,14000.752806166836,490.69063733170998,-13510.062168835126]
[53,63.997782939300002,-151.019153114999,-1655.9000212684082,596.12841415816638,{"$f":"Q_d!$C$11","v":0},{"$f":"Q_d!$C$12","v":0},11233.589832572825,6052.604465817868,13996.859633311036,490.70543678769201,-13506.154196523345]
[53,63.990786358900003,-151.137046685,-1661.135659619747,598.5733516827213,{"$f":"Q_d!$C$11","v":0},{"$f":"Q_d!$C$12","v":0},11233.589832572825,6052.604465817868,14000.72858507568,490.70841498083098,-13510.020170094849]
[53,63.990211497799898,-151.146914393,-1661.5730859419136,598.77947334867122,{"$f":"Q_d!$C$11","v":0},{"$f":"Q_d!$C$12","v":0},11233.589832572825,6052.604465817868,14001.051165663213,490.71305075879098,-13510.338114904422]
[53,63.9909579179999,-151.13681537400001,-1661.1159210131975,598.5832417753727,{"$f":"Q_d!$C$11","v":0},{"$f":"Q_d!$C$12","v":0},11233.589832572825,6052.604465817868,14000.706553023332,490.72584979089902,-13509.980703232433]
[53,63.990357392200004,-151.147045343999,-1661.5696774945222,598.7965039972978,{"$f":"Q_d!$C$11","v":0},{"$f":"Q_d!$C$12","v":0},11233.589832572825,6052.604465817868,14001.041392499981,490.73017221687098,-13510.311220283111]
[53,63.997782938900002,-151.023153113999,-1656.0635129627649,596.23332638501097,{"$f":"Q_d!$C$11","v":0},{"$f":"Q_d!$C$12","v":0},11233.589832572825,6052.604465817868,13996.969292647342,490.73060068126898,-13506.238691966073]
[53,63.988184341299899,-151.18141759900001,-1663.1034211104454,599.49918085094623,{"$f":"Q_d!$C$11","v":0},{"$f":"Q_d!$C$12","v":0},11233.589832572825,6052.604465817868,14002.18033480978,490.73336463399301,-13511.446970175788]
[53,63.990545027400003,-151.14701251700001,-1661.5570767774341,598.8131111130383,{"$f":"Q_d!$C$11","v":0},{"$f":"Q_d!$C$12","v":0},11233.589832572825,6052.604465817868,14001.023318114239,490.75062535772599,-13510.272692756513]
[53,63.997782938100002,-151.02715311399899,-1656.2269980750411,596.33824895836187,{"$f":"Q_d!$C$11","v":0},{"$f":"Q_d!$C$12","v":0},11233.589832572825,6052.604465817868,13997.078943725914,490.75541256719703,-13506.323531158716]
[53,63.988474954600001,-151.180956807999,-1663.0671565976043,599.51409338747862,{"$f":"Q_d!$C$11","v":0},{"$f":"Q_d!$C$12","v":0},11233.589832572825,6052.604465817868,14002.141125778282,490.76190390453002,-13511.379221873753]
[53,63.990807349999898,-151.146780355999,-1661.5318549637313,598.83142682142261,{"$f":"Q_d!$C$11","v":0},{"$f":"Q_d!$C$12","v":0},11233.589832572825,6052.604465817868,14000.992953975092,490.77781842805399,-13510.215135547038]
[53,63.991464767300002,-151.136418851,-1661.0693199592329,598.62000817692524,{"$f":"Q_d!$C$11","v":0},{"$f":"Q_d!$C$12","v":0},11233.589832572825,6052.604465817868,14000.649310805829,490.778673232649,-13509.87063757318]
[53,63.997782936500002,-151.031153114999,-1656.3904766285211,596.44318184052145,{"$f":"Q_d!$C$11","v":0},{"$f":"Q_d!$C$12","v":0},11233.589832572825,6052.604465817868,13997.188586583083,490.780727431304,-13506.407859151779]
[53,63.988879540900001,-151.18029808399899,-1663.0159674479808,599.53440143095713,{"$f":"Q_d!$C$11","v":0},{"$f":"Q_d!$C$12","v":0},11233.589832572825,6052.604465817868,14002.086069162799,490.80119884226002,-13511.284870320538]
[53,63.997782937300002,-151.03515311500001,-1656.5539483493544,596.54812527693457,{"$f":"Q_d!$C$11","v":0},{"$f":"Q_d!$C$12","v":0},11233.589832572825,6052.604465817868,13997.298220871186,490.80611758615998,-13506.492103285025]
[53,63.991080634200003,-151.14671383500001,-1661.5127386717779,598.85512225417278,{"$f":"Q_d!$C$11","v":0},{"$f":"Q_d!$C$12","v":0},11233.589832572825,6052.604465817868,14000.966117569909,490.80755119089099,-13510.158566379017]
[53,63.991809874799898,-151.13641747200001,{"$f":"lcpx(B14776,C14776,63,-115,70,60)","v":-1661.0485584997316},{"$f":"lcpy(B14776,C14776,63,-115,70,60)","v":598.65210886295927},{"$f":"Q_d!$C$11","v":0},{"$f":"Q_d!$C$12","v":0},{"$f":"lcpx(F14776,G14776,63,-115,70,60)","v":11233.589832572825},{"$f":"lcpy(F14776,G14776,63,-115,70,60)","v":6052.604465817868},{"$f":"SQRT((H14776-D14776)^2+(I14776-E14776)^2)","v":14000.617684532932},490.816518015643,-13509.801166517289]
[53,63.989125334100002,-151.180199036,-1662.9971617780336,599.55467100903979,{"$f":"Q_d!$C$11","v":0},{"$f":"Q_d!$C$12","v":0},11233.589832572825,6052.604465817868,14002.060854300138,490.82726499655598,-13511.233589303582]
[53,63.991282947000002,-151.146746446999,-1661.5019291489796,598.87481817173875,{"$f":"Q_d!$C$11","v":0},{"$f":"Q_d!$C$12","v":0},11233.589832572825,6052.604465817868,14000.948489757397,490.82940629102399,-13510.119083466372]
[53,63.997782936500002,-151.039153115,-1656.7174135170403,596.65307892047531,{"$f":"Q_d!$C$11","v":0},{"$f":"Q_d!$C$12","v":0},11233.589832572825,6052.604465817868,13997.407846983115,490.83115676268898,-13506.576690220425]
[53,63.997782935700002,-151.04003879499899,-1656.7536071125623,596.67631909851571,{"$f":"Q_d!$C$11","v":0},{"$f":"Q_d!$C$12","v":0},11233.589832572825,6052.604465817868,13997.432119328336,490.83661920846902,-13506.595500119867]
[53,63.991454602700003,-151.146876789999,-1661.4969497402794,598.8942313690236,{"$f":"Q_d!$C$11","v":0},{"$f":"Q_d!$C$12","v":0},11233.589832572825,6052.604465817868,14000.936341713657,490.84967147284499,-13510.086670240813]
[53,63.989411466200004,-151.18009990900001,-1662.9759301701226,599.57869330790891,{"$f":"Q_d!$C$11","v":0},{"$f":"Q_d!$C$12","v":0},11233.589832572825,6052.604465817868,14002.031943557744,490.85821381331601,-13511.173729744429]
[53,63.997782934999897,-151.04403879500001,-1656.917064152384,596.78128540022908,{"$f":"Q_d!$C$11","v":0},{"$f":"Q_d!$C$12","v":0},11233.589832572825,6052.604465817868,13997.541735265611,490.86175103077602,-13506.679984234836]
[53,63.991674303000003,-151.14723794400001,-1661.4985109176996,598.92419191859199,{"$f":"Q_d!$C$11","v":0},{"$f":"Q_d!$C$12","v":0},11233.589832572825,6052.604465817868,14000.926109238035,490.87611268526803,-13510.049996552767]
[53,63.997782934599897,-151.04803879599899,-1657.0805145647091,596.88626211147721,{"$f":"Q_d!$C$11","v":0},{"$f":"Q_d!$C$12","v":0},11233.589832572825,6052.604465817868,13997.651342879783,490.88738428380901,-13506.763958595973]
[53,63.992446273200002,-151.13670996299899,-1661.022320224245,598.71906609408825,{"$f":"Q_d!$C$11","v":0},{"$f":"Q_d!$C$12","v":0},11233.589832572825,6052.604465817868,14000.567435799954,490.88825465068902,-13509.679181149266]
[53,63.9897873197,-151.180065347999,-1662.9519454208032,599.61276752150798,{"$f":"Q_d!$C$11","v":0},{"$f":"Q_d!$C$12","v":0},11233.589832572825,6052.604465817868,14001.996582388674,490.89909487795899,-13511.097487510715]
[53,63.991872839800003,-151.14766550600001,-1661.5040532604264,598.95392940670945,{"$f":"Q_d!$C$11","v":0},{"$f":"Q_d!$C$12","v":0},11233.589832572825,6052.604465817868,14000.919630429704,490.89997936239502,{"$f":"K14788-J14788","v":-13510.019651067309}]
[53,63.992645966200001,-151.136841011,-1661.0156903197494,598.74110934545206,{"$f":"Q_d!$C$11","v":0},{"$f":"Q_d!$C$12","v":0},11233.589832572825,6052.604465817868,14000.552742734275,490.91116824635299,-13509.641574487921]
[53,63.997782934200004,-151.05203879600001,-1657.2439582852783,596.99124915149469,{"$f":"Q_d!$C$11","v":0},{"$f":"Q_d!$C$12","v":0},11233.589832572825,6052.604465817868,13997.76094214335,490.91309277814099,-13506.847849365209]
[53,63.9920623808,-151.14809139600001,-1661.510066880986,598.98278524723264,{"$f":"Q_d!$C$11","v":0},{"$f":"Q_d!$C$12","v":0},11233.589832572825,6052.604465817868,14000.913929157759,490.92384666565101,-13509.990082492108]
[53,63.990088226700003,-151.180097896999,-1662.9352013466187,599.6416332767858,{"$f":"Q_d!$C$11","v":0},{"$f":"Q_d!$C$12","v":0},11233.589832572825,6052.604465817868,14001.969918678777,490.93211549968902,-13511.037803179088]
[53,63.997782933000003,-151.05603879399899,-1657.4073953203306,597.09624641891742,{"$f":"Q_d!$C$11","v":0},{"$f":"Q_d!$C$12","v":0},11233.589832572825,6052.604465817868,13997.870533101759,490.93845174318898,-13506.932081358571]
[53,63.992222534,-151.148682742999,-1661.5245991650779,599.0132588844358,{"$f":"Q_d!$C$11","v":0},{"$f":"Q_d!$C$12","v":0},11233.589832572825,6052.604465817868,14000.915443639989,490.94620199977101,-13509.969241640218]
[53,63.990304584100002,-151.180163295,-1662.9248761775764,599.6634943047161,{"$f":"Q_d!$C$11","v":0},{"$f":"Q_d!$C$12","v":0},11233.589832572825,6052.604465817868,14001.951895068853,490.95669509438397,-13510.995199974468]
[53,63.993049446400001,-151.137201274999,-1661.0061929812109,598.78815955037999,{"$f":"Q_d!$C$11","v":0},{"$f":"Q_d!$C$12","v":0},11233.589832572825,6052.604465817868,14000.525667443459,490.95763455210601,-13509.568032891353]
[53,63.992336512999898,-151.149142621999,-1661.5365346439548,599.03597359219293,{"$f":"Q_d!$C$11","v":0},{"$f":"Q_d!$C$12","v":0},11233.589832572825,6052.604465817868,14000.917588711322,490.96211758240503,-13509.955471128917]
[53,63.997782932600003,-151.06003879299899,-1657.5708256961095,597.20125414127733,{"$f":"Q_d!$C$11","v":0},{"$f":"Q_d!$C$12","v":0},11233.589832572825,6052.604465817868,13997.980115690692,490.96431103899999,-13507.015804651692]
[53,63.992423717599898,-151.149668493999,-1661.5527710844656,599.0579320883694,{"$f":"Q_d!$C$11","v":0},{"$f":"Q_d!$C$12","v":0},11233.589832572825,6052.604465817868,14000.923989659052,490.97455040561903,-13509.949439253433]
[53,63.991781485600001,-151.160590081999,-1662.0372002132731,599.28559561837437,{"$f":"Q_d!$C$11","v":0},{"$f":"Q_d!$C$12","v":0},11233.589832572825,6052.604465817868,14001.281486663907,490.980250438854,-13510.301236225054]
[53,63.9918121985,-151.16019571000001,-1662.0192567002862,599.27807356804942,{"$f":"Q_d!$C$11","v":0},{"$f":"Q_d!$C$12","v":0},11233.589832572825,6052.604465817868,14001.267889864535,490.98135824896599,-13510.286531615569]
[53,63.992529368699898,-151.150162475999,-1661.5665982069413,599.08076896725697,{"$f":"Q_d!$C$11","v":0},{"$f":"Q_d!$C$12","v":0},11233.589832572825,6052.604465817868,14000.927829483013,490.98963532543098,-13509.938194157581]
[53,63.997782932200003,-151.064038793999,-1657.7342495006646,597.30627226982779,{"$f":"Q_d!$C$11","v":0},{"$f":"Q_d!$C$12","v":0},11233.589832572825,6052.604465817868,13998.089690010434,490.98982149225799,-13507.099868518177]
[53,63.9918404237999,-151.160984974999,-1662.049782990523,599.30147786789712,{"$f":"Q_d!$C$11","v":0},{"$f":"Q_d!$C$12","v":0},11233.589832572825,6052.604465817868,14001.28688988519,490.98982226620501,-13510.297067618985]
[53,63.991927316400002,-151.15970124,-1661.9921598764963,599.2757747842752,{"$f":"Q_d!$C$11","v":0},{"$f":"Q_d!$C$12","v":0},11233.589832572825,6052.604465817868,14001.24382819017,490.98984375035701,-13510.253984439814]
[53,63.991912688500001,-151.161313602999,-1662.0588604515819,599.31685645995185,{"$f":"Q_d!$C$11","v":0},{"$f":"Q_d!$C$12","v":0},11233.589832572825,6052.604465817868,14001.289260788761,490.99973069340803,-13510.289530095353]
[53,63.9926261751,-151.150424356999,-1661.5714799908242,599.09667426398846,{"$f":"Q_d!$C$11","v":0},{"$f":"Q_d!$C$12","v":0},11233.589832572825,6052.604465817868,14000.926130423555,491.00210229285102,-13509.924028130705]
[53,63.9907263935999,-151.18049098399899,-1662.9129172861237,599.71138694491765,{"$f":"Q_d!$C$11","v":0},{"$f":"Q_d!$C$12","v":0},11233.589832572825,6052.604465817868,14001.922228991987,491.00536132510803,-13510.91686766688]
[53,63.9921269917999,-151.159174497999,-1661.9586696800582,599.28049907625018,{"$f":"Q_d!$C$11","v":0},{"$f":"Q_d!$C$12","v":0},11233.589832572825,6052.604465817868,14001.211142618882,491.00851560538098,-13510.202627013501]
[53,63.991599672900001,-151.16746494399899,-1662.3287644354698,599.44965930873877,{"$f":"Q_d!$C$11","v":0},{"$f":"Q_d!$C$12","v":0},11233.589832572825,6052.604465817868,14001.486128422868,491.00870225485801,-13510.47742616801]
[53,63.991959512100003,-151.16183960500001,-1662.0775225151378,599.33506235348659,{"$f":"Q_d!$C$11","v":0},{"$f":"Q_d!$C$12","v":0},11233.589832572825,6052.604465817868,14001.299358268221,491.009126514976,-13510.290231753244]
[53,63.9916560489999,-151.167003757999,-1662.3065533494157,599.44276519034565,{"$f":"Q_d!$C$11","v":0},{"$f":"Q_d!$C$12","v":0},11233.589832572825,6052.604465817868,14001.468356198688,491.01145585108299,-13510.456900347604]
[53,63.991601037800002,-151.167957940999,-1662.3488071396432,599.46276636827088,{"$f":"Q_d!$C$11","v":0},{"$f":"Q_d!$C$12","v":0},11233.589832572825,6052.604465817868,14001.499483751915,491.01223892791103,-13510.487244824004]
[53,63.997782931400003,-151.06803879399899,-1657.8976666347273,597.41130068811344,{"$f":"Q_d!$C$11","v":0},{"$f":"Q_d!$C$12","v":0},11233.589832572825,6052.604465817868,13998.199256015147,491.01583154212,-13507.183424473027]
[53,63.992745911999897,-151.150654226999,-1661.5736785499503,599.11387214754768,{"$f":"Q_d!$C$11","v":0},{"$f":"Q_d!$C$12","v":0},11233.589832572825,6052.604465817868,14000.921456598595,491.01672739836403,-13509.904729200231]
[53,63.991746166799899,-151.166609362999,-1662.2850428738336,599.44077083960838,{"$f":"Q_d!$C$11","v":0},{"$f":"Q_d!$C$12","v":0},11233.589832572825,6052.604465817868,14001.449320959788,491.01834542102398,-13510.430975538764]
[53,63.992287571200002,-151.158714293,-1661.9302428662277,599.28333529549127,{"$f":"Q_d!$C$11","v":0},{"$f":"Q_d!$C$12","v":0},11233.589832572825,6052.604465817868,14001.183855969233,491.02287708211702,-13510.160978887116]
[53,63.991842784100001,-151.16608312599899,-1662.2577602394269,599.4359106440711,{"$f":"Q_d!$C$11","v":0},{"$f":"Q_d!$C$12","v":0},11233.589832572825,6052.604465817868,14001.426085516356,491.02540964903199,-13510.400675867324]
[53,63.991673413500003,-151.168713459,-1662.3753022654957,599.48939604254156,{"$f":"Q_d!$C$11","v":0},{"$f":"Q_d!$C$12","v":0},11233.589832572825,6052.604465817868,14001.513515444547,491.02561490516899,-13510.487900539378]
[53,63.992059486800002,-151.162990519,-1662.118503945215,599.37466743326786,{"$f":"Q_d!$C$11","v":0},{"$f":"Q_d!$C$12","v":0},11233.589832572825,6052.604465817868,14001.321678132055,491.027586541733,-13510.294091590322]
[53,63.9920756377999,-151.16361424300001,-1662.1429960925923,599.3925908501792,{"$f":"Q_d!$C$11","v":0},{"$f":"Q_d!$C$12","v":0},11233.589832572825,6052.604465817868,14001.337255476978,491.03358637877301,-13510.303669098204]
[53,63.991972773100002,-151.165424024999,-1662.2230503313817,599.43065951944891,{"$f":"Q_d!$C$11","v":0},{"$f":"Q_d!$C$12","v":0},11233.589832572825,6052.604465817868,14001.396161546794,491.034964592135,-13510.36119695466]
[53,63.992046942000002,-151.16453643700001,-1662.1823646029743,599.41419705591079,{"$f":"Q_d!$C$11","v":0},{"$f":"Q_d!$C$12","v":0},11233.589832572825,6052.604465817868,14001.365100188355,491.03741797239798,-13510.327682215957]
[53,63.991031669000002,-151.18081879299899,-1662.9079620818334,599.74843562089745,{"$f":"Q_d!$C$11","v":0},{"$f":"Q_d!$C$12","v":0},11233.589832572825,6052.604465817868,14001.903236831338,491.04111773251702,-13510.862119098821]
[53,63.997782931000003,-151.07203879400001,-1658.0610770906274,597.51633949654342,{"$f":"Q_d!$C$11","v":0},{"$f":"Q_d!$C$12","v":0},11233.589832572825,6052.604465817868,13998.308813658829,491.041493436145,-13507.267320222683]
[53,63.991803931500002,-151.16904218600001,-1662.3808841851298,599.51020123892386,{"$f":"Q_d!$C$11","v":0},{"$f":"Q_d!$C$12","v":0},11233.589832572825,6052.604465817868,14001.510553717497,491.04265267387899,-13510.467901043618]
[53,63.9938176844,-151.13788884900001,-1660.9881746294202,598.87778660017057,{"$f":"Q_d!$C$11","v":0},{"$f":"Q_d!$C$12","v":0},11233.589832572825,6052.604465817868,14000.474158950286,491.04602428082001,-13509.428134669466]
[53,63.997782929400003,-151.072924473999,-1658.0972586243852,597.53959844853944,{"$f":"Q_d!$C$11","v":0},{"$f":"Q_d!$C$12","v":0},11233.589832572825,6052.604465817868,13998.333070924837,491.047092496228,-13507.285978428608]
[53,63.993135142900002,-151.15121225799899,-1661.5731000542869,599.16479806704046,{"$f":"Q_d!$C$11","v":0},{"$f":"Q_d!$C$12","v":0},11233.589832572825,6052.604465817868,14000.901087744263,491.06310065000798,-13509.837987094255]
[53,63.991989674099898,-151.169568101999,-1662.3911991870455,599.5413391884972,{"$f":"Q_d!$C$11","v":0},{"$f":"Q_d!$C$12","v":0},11233.589832572825,6052.604465817868,14001.50792716682,491.066304220723,-13510.441622946097]
[53,63.997782930200003,-151.076924472999,-1658.2606608389904,597.644649987094,{"$f":"Q_d!$C$11","v":0},{"$f":"Q_d!$C$12","v":0},11233.589832572825,6052.604465817868,13998.442618263325,491.07326982131701,-13507.369348442007]
[53,63.9940770056999,-151.13815133200001,-1660.983332900814,598.90883982882724,{"$f":"Q_d!$C$11","v":0},{"$f":"Q_d!$C$12","v":0},11233.589832572825,6052.604465817868,14000.457603260147,491.076282017366,-13509.381321242781]
[53,63.993294036199899,-151.151737201999,-1661.5849946022299,599.19340699139275,{"$f":"Q_d!$C$11","v":0},{"$f":"Q_d!$C$12","v":0},11233.589832572825,6052.604465817868,14000.900899582859,491.08447655469598,-13509.816423028164]
[53,63.992179291500001,-151.170061645,-1662.3999596802551,599.57198546096561,{"$f":"Q_d!$C$11","v":0},{"$f":"Q_d!$C$12","v":0},11233.589832572825,6052.604465817868,14001.504060411617,491.09120020623402,-13510.412860205382]
[53,63.9914619288,-151.18154088200001,-1662.9115924657281,599.80750203642583,{"$f":"Q_d!$C$11","v":0},{"$f":"Q_d!$C$12","v":0},11233.589832572825,6052.604465817868,14001.883578084969,491.093185247973,-13510.790392836996]
[53,63.997782928699898,-151.08092447499899,-1658.4240566582318,597.74971174202847,{"$f":"Q_d!$C$11","v":0},{"$f":"Q_d!$C$12","v":0},11233.589832572825,6052.604465817868,13998.552157569378,491.09909975278902,-13507.453057816589]
[53,63.994307566499899,-151.138314882,-1660.9761771843816,598.93461215252637,{"$f":"Q_d!$C$11","v":0},{"$f":"Q_d!$C$12","v":0},11233.589832572825,6052.604465817868,14000.440973510944,491.10283084604498,-13509.338142664899]
[53,63.993453447699899,-151.15223009600001,-1661.5955492539556,599.22122072262346,{"$f":"Q_d!$C$11","v":0},{"$f":"Q_d!$C$12","v":0},11233.589832572825,6052.604465817868,14000.89978714099,491.10577637511,-13509.79401076588]
[53,63.992296949699899,-151.17042203700001,-1662.4076056259196,599.59242724086062,{"$f":"Q_d!$C$11","v":0},{"$f":"Q_d!$C$12","v":0},11233.589832572825,6052.604465817868,14001.503141409295,491.10608611174803,-13510.397055297548]
[53,63.992396911699899,-151.170915038999,{"$f":"lcpx(B14840,C14840,63,-115,70,60)","v":-1662.4217269448277},{"$f":"lcpy(B14840,C14840,63,-115,70,60)","v":599.61471332859128},{"$f":"Q_d!$C$11","v":0},{"$f":"Q_d!$C$12","v":0},{"$f":"lcpx(F14840,G14840,63,-115,70,60)","v":11233.589832572825},{"$f":"lcpy(F14840,G14840,63,-115,70,60)","v":6052.604465817868},{"$f":"SQRT((H14840-D14840)^2+(I14840-E14840)^2)","v":14001.50746826805},491.120306320152,-13510.387161947898]
[53,63.993324885200003,-151.15660530700001,-1661.7818793509603,599.32439980440131,{"$f":"Q_d!$C$11","v":0},{"$f":"Q_d!$C$12","v":0},11233.589832572825,6052.604465817868,14001.031214416458,491.12209074729998,-13509.909123669158]
[53,63.9935688971999,-151.152888281,-1661.6154900826566,599.24929133688056,{"$f":"Q_d!$C$11","v":0},{"$f":"Q_d!$C$12","v":0},11233.589832572825,6052.604465817868,14000.907219622621,491.12291668481498,-13509.784302937805]
[53,63.997782928299898,-151.08492447500001,-1658.5874456735485,597.85478389845048,{"$f":"Q_d!$C$11","v":0},{"$f":"Q_d!$C$12","v":0},11233.589832572825,6052.604465817868,13998.66168839479,491.12542773104298,-13507.536260663746]
[53,63.994595640199897,-151.138378993999,-1660.9615106798849,598.96312408274571,{"$f":"Q_d!$C$11","v":0},{"$f":"Q_d!$C$12","v":0},11233.589832572825,6052.604465817868,14000.416359096707,491.13544472477201,-13509.280914371935]
[53,63.993654806400002,-151.153644415999,-1661.6412022602649,599.27718954540751,{"$f":"Q_d!$C$11","v":0},{"$f":"Q_d!$C$12","v":0},11233.589832572825,6052.604465817868,14000.920034906982,491.13756298719397,-13509.782471919787]
[53,63.992583191999898,-151.171770541999,-1662.4454613530152,599.65457947550613,{"$f":"Q_d!$C$11","v":0},{"$f":"Q_d!$C$12","v":0},11233.589832572825,6052.604465817868,14001.513802626561,491.14676638251399,-13510.367036244048]
[53,63.993712476200002,-151.15426922500001,-1661.6632478246213,599.29900253525966,{"$f":"Q_d!$C$11","v":0},{"$f":"Q_d!$C$12","v":0},11233.589832572825,6052.604465817868,14000.93184339413,491.14841899877803,-13509.783424395351]
[53,63.9936123333,-151.15597935700001,-1661.7390719412535,599.33468723452143,{"$f":"Q_d!$C$11","v":0},{"$f":"Q_d!$C$12","v":0},11233.589832572825,6052.604465817868,14000.987780639149,491.148646081815,-13509.839134557335]
[53,63.997782927499898,-151.088924472999,-1658.7508279740459,597.95986631606957,{"$f":"Q_d!$C$11","v":0},{"$f":"Q_d!$C$12","v":0},11233.589832572825,6052.604465817868,13998.771210876483,491.15183084052501,-13507.619380035958]
[53,63.993729180800003,-151.154860925999,-1661.6864004153633,599.31613033496069,{"$f":"Q_d!$C$11","v":0},{"$f":"Q_d!$C$12","v":0},11233.589832572825,6052.604465817868,14000.946496397448,491.15431373551002,-13509.792182661939]
[53,63.991956066199897,-151.18262544300001,-1662.9261790577502,599.88206055894216,{"$f":"Q_d!$C$11","v":0},{"$f":"Q_d!$C$12","v":0},11233.589832572825,6052.604465817868,14001.867977775553,491.15527668650702,-13510.712701089047]
[53,63.993712661300002,-151.155354114,-1661.7075254801173,599.32757232090671,{"$f":"Q_d!$C$11","v":0},{"$f":"Q_d!$C$12","v":0},11233.589832572825,6052.604465817868,14000.961496617118,491.15558498402498,{"$f":"K14852-J14852","v":-13509.805911633093}]
[53,63.992701058400002,-151.17226245200001,-1662.4584622732743,599.67850365247477,{"$f":"Q_d!$C$11","v":0},{"$f":"Q_d!$C$12","v":0},11233.589832572825,6052.604465817868,14001.516459721795,491.16322385231501,-13510.353235869481]
[53,63.994945228699898,-151.13837751899899,-1660.9404754774275,598.99563883703058,{"$f":"Q_d!$C$11","v":0},{"$f":"Q_d!$C$12","v":0},11233.589832572825,6052.604465817868,14000.384319830289,491.17328898261502,-13509.211030847675]
[53,63.997782927099898,-151.092924474,-1658.9142037155195,598.06495920046291,{"$f":"Q_d!$C$11","v":0},{"$f":"Q_d!$C$12","v":0},11233.589832572825,6052.604465817868,13998.880725078034,491.17788758554599,-13507.702837492488]
[53,63.992317760399899,-151.18393984599899,-1662.9580995149449,599.95034514064946,{"$f":"Q_d!$C$11","v":0},{"$f":"Q_d!$C$12","v":0},11233.589832572825,6052.604465817868,14001.870786590469,491.20397276182501,-13510.666813828644]
[53,63.997782926299898,-151.096924473,-1659.077572740912,598.17006234523569,{"$f":"Q_d!$C$11","v":0},{"$f":"Q_d!$C$12","v":0},11233.589832572825,6052.604465817868,13998.990230935413,491.20534827707201,-13507.784882658341]
[53,63.9952895971999,-151.13827766099899,-1660.9157367067219,599.02507941604063,{"$f":"Q_d!$C$11","v":0},{"$f":"Q_d!$C$12","v":0},11233.589832572825,6052.604465817868,14000.350067050758,491.21098534641902,-13509.139081704339]
[53,63.993046798999899,-151.174399493999,-1662.5249276107581,599.76695826268679,{"$f":"Q_d!$C$11","v":0},{"$f":"Q_d!$C$12","v":0},11233.589832572825,6052.604465817868,14001.54322893107,491.21598403248203,-13510.327244898588]
[53,63.992445707199899,-151.184433702999,-1662.9705699786325,599.97526147237659,{"$f":"Q_d!$C$11","v":0},{"$f":"Q_d!$C$12","v":0},11233.589832572825,6052.604465817868,14001.872569650801,491.22178018691301,-13510.650789463887]
[53,63.997782925899898,-151.100924474999,-1659.2409352058298,598.27517595587688,{"$f":"Q_d!$C$11","v":0},{"$f":"Q_d!$C$12","v":0},11233.589832572825,6052.604465817868,13999.099728512056,491.23197722664497,-13507.86775128541]
[53,63.995594238700001,-151.1382102,-1660.8947042932934,599.0516729239007,{"$f":"Q_d!$C$11","v":0},{"$f":"Q_d!$C$12","v":0},11233.589832572825,6052.604465817868,14000.320336919474,491.24337743525803,-13509.076959484217]
[53,63.993249754300003,-151.175188767999,-1662.5449544411049,599.80663342799426,{"$f":"Q_d!$C$11","v":0},{"$f":"Q_d!$C$12","v":0},11233.589832572825,6052.604465817868,14001.546223390704,491.244112482785,-13510.302110907918]
[53,63.992635848100001,-151.185682525999,-1663.0101161091802,600.02585174498518,{"$f":"Q_d!$C$11","v":0},{"$f":"Q_d!$C$12","v":0},11233.589832572825,6052.604465817868,14001.889293198603,491.250788263998,-13510.638504934604]
[53,63.997782924699898,-151.104924474,-1659.4042909366267,598.38029976258758,{"$f":"Q_d!$C$11","v":0},{"$f":"Q_d!$C$12","v":0},11233.589832572825,6052.604465817868,13999.209217753363,491.258260841484,-13507.95095691188]
[53,63.997782923899898,-151.10581015400001,-1659.4404603030018,598.40357763134898,{"$f":"Q_d!$C$11","v":0},{"$f":"Q_d!$C$12","v":0},11233.589832572825,6052.604465817868,13999.233459790159,491.26399629730599,-13507.969463492853]
[53,63.992734324700002,-151.18670215,-1663.0458132929416,600.06187394319068,{"$f":"Q_d!$C$11","v":0},{"$f":"Q_d!$C$12","v":0},11233.589832572825,6052.604465817868,14001.908144907355,491.26911758118803,-13510.639027326166]
[53,63.9928386976,-151.187556720999,-1663.0744195815826,600.09409783476622,{"$f":"Q_d!$C$11","v":0},{"$f":"Q_d!$C$12","v":0},11233.589832572825,6052.604465817868,14001.921944710328,491.28719652866999,-13510.634748181657]
[53,63.997782923899898,-151.109810151,-1659.6038077450485,598.50871413760251,{"$f":"Q_d!$C$11","v":0},{"$f":"Q_d!$C$12","v":0},11233.589832572825,6052.604465817868,13999.342938696444,491.29079230126001,-13508.052146395183]
[53,63.996057004900003,-151.13820877500001,-1660.8668807044844,599.09472812072408,{"$f":"Q_d!$C$11","v":0},{"$f":"Q_d!$C$12","v":0},11233.589832572825,6052.604465817868,14000.277939731763,491.29413974217101,-13508.983799989592]
[53,63.992880250900001,-151.18798472,-1663.0893903887595,600.10923903363846,{"$f":"Q_d!$C$11","v":0},{"$f":"Q_d!$C$12","v":0},11233.589832572825,6052.604465817868,14001.929837635731,491.29466460872499,-13510.635173027005]
[53,63.993670394799899,-151.17653613799899,-1662.5746859321014,599.88126764397703,{"$f":"Q_d!$C$11","v":0},{"$f":"Q_d!$C$12","v":0},11233.589832572825,6052.604465817868,14001.544542094243,491.29996437410801,-13510.244577720136]
[53,63.9929544974,-151.18818170399899,-1663.0929692621792,600.1213380279919,{"$f":"Q_d!$C$11","v":0},{"$f":"Q_d!$C$12","v":0},11233.589832572825,6052.604465817868,14001.928422541663,491.30394254575202,-13510.624479995911]
[53,63.993054306200001,-151.188246606999,-1663.0896222097847,600.13233705285666,{"$f":"Q_d!$C$11","v":0},{"$f":"Q_d!$C$12","v":0},11233.589832572825,6052.604465817868,14001.921056568315,491.31561271752798,-13510.605443850787]
[53,63.997782923899898,-151.11381015200001,-1659.7671486893416,598.61386109742625,{"$f":"Q_d!$C$11","v":0},{"$f":"Q_d!$C$12","v":0},11233.589832572825,6052.604465817868,13999.452409385185,491.31724373259999,-13508.135165652586]
[53,63.9931388458999,-151.188213141999,-1663.0831779741532,600.13932386870283,{"$f":"Q_d!$C$11","v":0},{"$f":"Q_d!$C$12","v":0},11233.589832572825,6052.604465817868,14001.912400280955,491.32446546554098,-13510.587934815414]
[53,63.993213026299898,-151.18798355000001,-1663.0693520780981,600.14018046413867,{"$f":"Q_d!$C$11","v":0},{"$f":"Q_d!$C$12","v":0},11233.589832572825,6052.604465817868,14001.899332165583,491.331156614355,-13510.568175551229]
[53,63.993947486899899,-151.177456172999,-1662.5955951209114,599.9312871650327,{"$f":"Q_d!$C$11","v":0},{"$f":"Q_d!$C$12","v":0},11233.589832572825,6052.604465817868,14001.544321204725,491.336788963537,-13510.207532241187]
[53,63.993284852999899,-151.18768761800001,-1663.0529602513895,600.13907065894728,{"$f":"Q_d!$C$11","v":0},{"$f":"Q_d!$C$12","v":0},11233.589832572825,6052.604465817868,14001.884666397957,491.33726530154399,-13510.547401096414]
[53,63.993387851999898,-151.186897434999,-1663.0145253515063,600.12784386928797,{"$f":"Q_d!$C$11","v":0},{"$f":"Q_d!$C$12","v":0},11233.589832572825,6052.604465817868,14001.853637205633,491.342028825135,-13510.511608380499]
[53,63.997782923099898,-151.117810152,-1659.930482979016,598.7190183044645,{"$f":"Q_d!$C$11","v":0},{"$f":"Q_d!$C$12","v":0},11233.589832572825,6052.604465817868,13999.561871792506,491.34509805023998,-13508.216773742266]
[53,63.9935293521999,-151.186370737999,-1662.98453067527,600.12714104146426,{"$f":"Q_d!$C$11","v":0},{"$f":"Q_d!$C$12","v":0},11233.589832572825,6052.604465817868,14001.826283881288,491.35441950795501,-13510.471864373332]
[53,63.996618490300001,-151.138272516999,-1660.8357945954899,599.14869023242136,{"$f":"Q_d!$C$11","v":0},{"$f":"Q_d!$C$12","v":0},11233.589832572825,6052.604465817868,14000.228289240189,491.35615026984198,-13508.872138970348]
[53,63.994120977500003,-151.178048012,-1662.6093306615955,599.96302091475854,{"$f":"Q_d!$C$11","v":0},{"$f":"Q_d!$C$12","v":0},11233.589832572825,6052.604465817868,14001.544614237502,491.36012666169802,-13510.184487575803]
[53,63.9977829223999,-151.121810151999,-1660.0938106002484,598.82418586838639,{"$f":"Q_d!$C$11","v":0},{"$f":"Q_d!$C$12","v":0},11233.589832572825,6052.604465817868,13999.671325863144,491.37211970155499,-13508.29920616159]
[53,63.9939628184,-151.184791337999,-1662.8940369318452,600.12588715815582,{"$f":"Q_d!$C$11","v":0},{"$f":"Q_d!$C$12","v":0},11233.589832572825,6052.604465817868,14001.743421700643,491.38977939106502,-13510.353642309577]
[53,63.996952624400002,-151.138402192,-1660.8210409648777,599.18321575181199,{"$f":"Q_d!$C$11","v":0},{"$f":"Q_d!$C$12","v":0},11233.589832572825,6052.604465817868,14000.201252349174,491.39379913161298,-13508.807453217561]
[53,63.997782920799899,-151.125810153,-1660.2571316533151,598.9293637220112,{"$f":"Q_d!$C$11","v":0},{"$f":"Q_d!$C$12","v":0},11233.589832572825,6052.604465817868,13999.780771715818,491.398797809884,-13508.381973905933]
[53,63.994450735199898,-151.17933003900001,-1662.6418486514647,600.02747520299999,{"$f":"Q_d!$C$11","v":0},{"$f":"Q_d!$C$12","v":0},11233.589832572825,6052.604465817868,14001.549464769811,491.40515135374801,-13510.144313416062]
[53,63.994209318000003,-151.18406626199899,-1662.8496397947031,600.12973385369605,{"$f":"Q_d!$C$11","v":0},{"$f":"Q_d!$C$12","v":0},11233.589832572825,6052.604465817868,14001.701031201424,491.412017591145,-13510.28901361028]
[53,63.997782920799899,-151.12981015400001,-1660.4204459466548,599.03455207137722,{"$f":"Q_d!$C$11","v":0},{"$f":"Q_d!$C$12","v":0},11233.589832572825,6052.604465817868,13999.89020909403,491.42596983981201,-13508.464239254217]
[53,63.997240201799897,-151.138499327999,-1660.8077521663618,599.2125499405206,{"$f":"Q_d!$C$11","v":0},{"$f":"Q_d!$C$12","v":0},11233.589832572825,6052.604465817868,14000.177586783826,491.42599570637202,-13508.751591077455]
[53,63.994640799499898,-151.18015071900001,-1662.6639267195535,600.06677801740261,{"$f":"Q_d!$C$11","v":0},{"$f":"Q_d!$C$12","v":0},11233.589832572825,6052.604465817868,14001.554494446224,491.43155726509798,-13510.122937181126]
[53,63.994512783700003,-151.183210836999,-1662.79650169966,600.1354505776244,{"$f":"Q_d!$C$11","v":0},{"$f":"Q_d!$C$12","v":0},11233.589832572825,6052.604465817868,14001.649861532926,491.43938690544502,-13510.21047462748]
[53,63.997782920399899,-151.133810151999,-1660.5837534770885,599.13975065089198,{"$f":"Q_d!$C$11","v":0},{"$f":"Q_d!$C$12","v":0},11233.589832572825,6052.604465817868,13999.999638098514,491.453216863009,-13508.546421235505]
[53,63.9946695500999,-151.182782787999,-1662.7696167549311,600.13876894901159,{"$f":"Q_d!$C$11","v":0},{"$f":"Q_d!$C$12","v":0},11233.589832572825,6052.604465817868,14001.623806608892,491.453279862898,-13510.170526745993]
[53,63.994796466399897,-151.181170610999,-1662.6962000141125,600.10812540790766,{"$f":"Q_d!$C$11","v":0},{"$f":"Q_d!$C$12","v":0},11233.589832572825,6052.604465817868,14001.568118481619,491.456148120053,-13510.111970361566]
[53,63.997556433600003,-151.138630452,-1660.7941315783653,599.24544638859925,{"$f":"Q_d!$C$11","v":0},{"$f":"Q_d!$C$12","v":0},11233.589832572825,6052.604465817868,14000.152228092018,491.461409726135,-13508.690818365883]
[53,63.994786087900003,-151.18242104300001,-1662.7478541005628,600.14008930505224,{"$f":"Q_d!$C$11","v":0},{"$f":"Q_d!$C$12","v":0},11233.589832572825,6052.604465817868,14001.603247694658,491.46419618930503,-13510.139051505354]
[53,63.9948284638999,-151.181927594,-1662.7251710462706,600.13103857099441,{"$f":"Q_d!$C$11","v":0},{"$f":"Q_d!$C$12","v":0},11233.589832572825,6052.604465817868,14001.585879728205,491.46509761019598,-13510.120782118009]
[53,63.997782919199899,-151.137810153,-1660.7470545130532,599.24495958076841,{"$f":"Q_d!$C$11","v":0},{"$f":"Q_d!$C$12","v":0},11233.589832572825,6052.604465817868,14000.109058929864,491.48012137216699,-13508.628937557696]
[53,63.997782919199899,-151.13869583100001,-1660.7832116204652,599.26825630729309,{"$f":"Q_d!$C$11","v":0},{"$f":"Q_d!$C$12","v":0},11233.589832572825,6052.604465817868,14000.133285679021,491.48690175832701,-13508.646383920694]
[53,63.997782920399899,-151.13874905700001,-1660.7853844476226,599.26965648302712,{"$f":"Q_d!$C$11","v":0},{"$f":"Q_d!$C$12","v":0},11233.589832572825,6052.604465817868,14000.134741494961,491.48697564940602,-13508.647765845555]

{"sheet":"TUXE_distance","index":3,"n_rows":96,"n_cols":10,"rows_kept":96,"cut":false,"hidden":true,"merged":[]}
["TUXE"]
["Boundary_pt","Lat","Lon","lcpx","lcpy","facility_lat","facility_lon","facility_x","facility_y","distance"]
[1,60.150731415700001,-152.54762969199899,{"$f":"lcpx(B3,C3,63,-115,70,60)","v":-1956.9665864005035},{"$f":"lcpy(B3,C3,63,-115,70,60)","v":283.49030756390539},{"$f":"Q_d!$C$11","v":0},{"$f":"Q_d!$C$12","v":0},{"$f":"lcpx(F3,G3,63,-115,70,60)","v":11233.589832572825},{"$f":"lcpy(F3,G3,63,-115,70,60)","v":6052.604465817868},{"$f":"SQRT((H3-D3)^2+(I3-E3)^2)","v":14396.994714630022}]
[2,60.150311799000001,-152.54860625200001,{"$f":"lcpx(B4,C4,63,-115,70,60)","v":-1957.0374694195289},{"$f":"lcpy(B4,C4,63,-115,70,60)","v":283.48194254493364},{"$f":"Q_d!$C$11","v":0},{"$f":"Q_d!$C$12","v":0},{"$f":"lcpx(F4,G4,63,-115,70,60)","v":11233.589832572825},{"$f":"lcpy(F4,G4,63,-115,70,60)","v":6052.604465817868},{"$f":"SQRT((H4-D4)^2+(I4-E4)^2)","v":14397.063009815618}]
[3,60.150346132099898,-152.54952178100001,-1957.0772856875415,283.51348187922076,{"$f":"Q_d!$C$11","v":0},{"$f":"Q_d!$C$12","v":0},11233.589832572825,6052.604465817868,14397.086851363974]
[4,60.149895996300003,-152.54959807500001,-1957.1088150929706,283.47440326830656,{"$f":"Q_d!$C$11","v":0},{"$f":"Q_d!$C$12","v":0},11233.589832572825,6052.604465817868,14397.131398030142]
[5,60.149476380099898,-152.55057463700001,-1957.179699653615,283.46604132647826,{"$f":"Q_d!$C$11","v":0},{"$f":"Q_d!$C$12","v":0},11233.589832572825,6052.604465817868,14397.199693456238]
[6,60.149091096100001,-152.55248198499899,-1957.2911006400884,283.48969608185598,{"$f":"Q_d!$C$11","v":0},{"$f":"Q_d!$C$12","v":0},11233.589832572825,6052.604465817868,14397.292280862612]
[7,60.149224609800001,-152.55614409500001,-1957.4505990327489,283.61551915878226,{"$f":"Q_d!$C$11","v":0},{"$f":"Q_d!$C$12","v":0},11233.589832572825,6052.604465817868,14397.387996957215]
[8,60.149258941299898,-152.557059621999,-1957.4904129911181,283.64706402384809,{"$f":"Q_d!$C$11","v":0},{"$f":"Q_d!$C$12","v":0},11233.589832572825,6052.604465817868,14397.411835070263]
[9,60.148873657000003,-152.558951710999,-1957.6011129713311,283.67025748303149,{"$f":"Q_d!$C$11","v":0},{"$f":"Q_d!$C$12","v":0},11233.589832572825,6052.604465817868,14397.503966379103]
[10,60.149815887300001,-152.55972990999899,-1957.5780784016479,283.78112669996153,{"$f":"Q_d!$C$11","v":0},{"$f":"Q_d!$C$12","v":0},11233.589832572825,6052.604465817868,14397.438437912284]
[11,60.150300353799899,-152.56058440199899,-1957.5870527442387,283.8522194139955,{"$f":"Q_d!$C$11","v":0},{"$f":"Q_d!$C$12","v":0},11233.589832572825,6052.604465817868,14397.418174801789]
[12,60.1507848197,-152.561423636,-1957.5953264790871,283.92283867888,{"$f":"Q_d!$C$11","v":0},{"$f":"Q_d!$C$12","v":0},11233.589832572825,6052.604465817868,14397.397459807878]
[13,60.151727049400002,-152.562201834999,-1957.5722855954923,284.03370523788999,{"$f":"Q_d!$C$11","v":0},{"$f":"Q_d!$C$12","v":0},11233.589832572825,6052.604465817868,14397.331928090603]
[14,60.1520780022,-152.559394217999,-1957.4217861975369,283.97896690908374,{"$f":"Q_d!$C$11","v":0},{"$f":"Q_d!$C$12","v":0},11233.589832572825,6052.604465817868,14397.215969526724]
[15,60.154206604000002,-152.55539641600001,-1957.1060312347486,284.05099622159833,{"$f":"Q_d!$C$11","v":0},{"$f":"Q_d!$C$12","v":0},11233.589832572825,6052.604465817868,14396.897808314867]
[16,60.1550115054999,-152.552497246999,-1956.9230690664765,284.03523618798044,{"$f":"Q_d!$C$11","v":0},{"$f":"Q_d!$C$12","v":0},11233.589832572825,6052.604465817868,14396.736490098916]
[17,60.1544927063999,-152.55074248700001,-1956.8749808524938,283.93308505449613,{"$f":"Q_d!$C$11","v":0},{"$f":"Q_d!$C$12","v":0},11233.589832572825,6052.604465817868,14396.733361893239]
[18,60.1535504764,-152.54996428800001,-1956.8980045424053,283.82221674827224,{"$f":"Q_d!$C$11","v":0},{"$f":"Q_d!$C$12","v":0},11233.589832572825,6052.604465817868,14396.798880941044]
[19,60.152577729199898,-152.548270561999,-1956.8809749078932,283.6801616415969,{"$f":"Q_d!$C$11","v":0},{"$f":"Q_d!$C$12","v":0},11233.589832572825,6052.604465817868,14396.840200207707]
[20,60.152123780700002,-152.54833159699899,-1956.912041425395,283.64025839095939,{"$f":"Q_d!$C$11","v":0},{"$f":"Q_d!$C$12","v":0},11233.589832572825,6052.604465817868,14396.884653095036]
[21,60.151185365000003,-152.547553397,-1956.9348208108818,283.52973825273648,{"$f":"Q_d!$C$11","v":0},{"$f":"Q_d!$C$12","v":0},11233.589832572825,6052.604465817868,14396.949810420056]
[22,60.150731415700001,-152.54762969199899,-1956.9665864005035,283.49030756390539,{"$f":"Q_d!$C$11","v":0},{"$f":"Q_d!$C$12","v":0},11233.589832572825,6052.604465817868,14396.994714630022]
[23,60.096845002800002,-152.56861049099899,-1961.2854500379099,279.18033633589084,{"$f":"Q_d!$C$11","v":0},{"$f":"Q_d!$C$12","v":0},11233.589832572825,6052.604465817868,14402.678914095684]
[24,60.0960057689,-152.570563614999,-1961.4273800158467,279.16375294026966,{"$f":"Q_d!$C$11","v":0},{"$f":"Q_d!$C$12","v":0},11233.589832572825,6052.604465817868,14402.815589516651]
[25,60.0961087656,-152.573294938999,-1961.5463110689598,279.2580876243519,{"$f":"Q_d!$C$11","v":0},{"$f":"Q_d!$C$12","v":0},11233.589832572825,6052.604465817868,14402.886733285171]
[26,60.096173615399898,-152.57512599399899,-1961.6263004936723,279.32094501822485,{"$f":"Q_d!$C$11","v":0},{"$f":"Q_d!$C$12","v":0},11233.589832572825,6052.604465817868,14402.934819330228]
[27,60.097115844500003,-152.57590419300001,-1961.6032930092226,279.43185516432686,{"$f":"Q_d!$C$11","v":0},{"$f":"Q_d!$C$12","v":0},11233.589832572825,6052.604465817868,14402.869284063087]
[28,60.099446624599899,-152.577384295999,-1961.5259542854185,279.6923848354968,{"$f":"Q_d!$C$11","v":0},{"$f":"Q_d!$C$12","v":0},11233.589832572825,6052.604465817868,14402.694002281234]
[29,60.101746886900003,-152.57796413099899,-1961.4092010472089,279.92213191355313,{"$f":"Q_d!$C$11","v":0},{"$f":"Q_d!$C$12","v":0},11233.589832572825,6052.604465817868,14402.494951410488]
[30,60.104565947700003,-152.580298728,-1961.3406143207765,280.25413899682189,{"$f":"Q_d!$C$11","v":0},{"$f":"Q_d!$C$12","v":0},11233.589832572825,6052.604465817868,14402.299045427115]
[31,60.108392088499897,-152.585242577999,-1961.328920664087,280.75988151342472,{"$f":"Q_d!$C$11","v":0},{"$f":"Q_d!$C$12","v":0},11233.589832572825,6052.604465817868,14402.085640971856]
[32,60.109364835100003,-152.58693630400001,-1961.3459724556953,280.90202598395672,{"$f":"Q_d!$C$11","v":0},{"$f":"Q_d!$C$12","v":0},11233.589832572825,6052.604465817868,14402.044297696364]
[33,60.111863461200002,-152.59299404500001,-1961.4680360254422,281.3201717995903,{"$f":"Q_d!$C$11","v":0},{"$f":"Q_d!$C$12","v":0},11233.589832572825,6052.604465817868,14401.988562627006]
[34,60.1124127767999,-152.595679593,-1961.5569443607887,281.45415754032592,{"$f":"Q_d!$C$11","v":0},{"$f":"Q_d!$C$12","v":0},11233.589832572825,6052.604465817868,14402.016329165632]
[35,60.1134198564,-152.598273586999,-1961.613104346344,281.62742707073085,{"$f":"Q_d!$C$11","v":0},{"$f":"Q_d!$C$12","v":0},11233.589832572825,6052.604465817868,14401.998351903354]
[36,60.114358271999897,-152.599051785999,-1961.5902758590919,281.73796246153597,{"$f":"Q_d!$C$11","v":0},{"$f":"Q_d!$C$12","v":0},11233.589832572825,6052.604465817868,14401.933144321891]
[37,60.116273250200003,-152.601538968,-1961.5849090923909,281.99145788122951,{"$f":"Q_d!$C$11","v":0},{"$f":"Q_d!$C$12","v":0},11233.589832572825,6052.604465817868,14401.826653256427]
[38,60.119611108900003,-152.60562832700001,-1961.5642439147841,282.42565574723039,{"$f":"Q_d!$C$11","v":0},{"$f":"Q_d!$C$12","v":0},11233.589832572825,6052.604465817868,14401.633747684175]
[39,60.1243413316,-152.61045010800001,-1961.4902630631479,283.01070671482285,{"$f":"Q_d!$C$11","v":0},{"$f":"Q_d!$C$12","v":0},11233.589832572825,6052.604465817868,14401.33156605074]
[40,60.129071555099898,-152.615256627999,-1961.4155069010999,283.595252568452,{"$f":"Q_d!$C$11","v":0},{"$f":"Q_d!$C$12","v":0},11233.589832572825,6052.604465817868,14401.028894190234]
[41,60.134320577700002,-152.62183316900001,-1961.3894022228933,284.28248257826453,{"$f":"Q_d!$C$11","v":0},{"$f":"Q_d!$C$12","v":0},11233.589832572825,6052.604465817868,14400.729686686556]
[42,60.139050800500002,-152.626654948999,-1961.3151739510629,284.86743538870178,{"$f":"Q_d!$C$11","v":0},{"$f":"Q_d!$C$12","v":0},11233.589832572825,6052.604465817868,14400.427375025125]
[43,60.147157030199899,-152.636512132999,-1961.2607790864722,285.91931789589444,{"$f":"Q_d!$C$11","v":0},{"$f":"Q_d!$C$12","v":0},11233.589832572825,6052.604465817868,14399.956258935985]
[44,60.150456742700001,-152.63970122200001,-1961.2008644955606,286.3218926714967,{"$f":"Q_d!$C$11","v":0},{"$f":"Q_d!$C$12","v":0},11233.589832572825,6052.604465817868,14399.740145322552]
[45,60.151982621000002,-152.644080494999,-1961.3061079808861,286.59827300372626,{"$f":"Q_d!$C$11","v":0},{"$f":"Q_d!$C$12","v":0},11233.589832572825,6052.604465817868,14399.725910503013]
[46,60.1576512595,-152.64969573299899,-1961.2092925993927,287.29405706147463,{"$f":"Q_d!$C$11","v":0},{"$f":"Q_d!$C$12","v":0},11233.589832572825,6052.604465817868,14399.358599012678]
[47,60.161309554699898,-152.650077205,-1960.9983893445415,287.64235421338026,{"$f":"Q_d!$C$11","v":0},{"$f":"Q_d!$C$12","v":0},11233.589832572825,6052.604465817868,14399.025886989568]
[48,60.164128614699898,-152.652427058999,-1960.929933829183,287.97459722579379,{"$f":"Q_d!$C$11","v":0},{"$f":"Q_d!$C$12","v":0},11233.589832572825,6052.604465817868,14398.830139557769]
[49,60.164578749599897,-152.652350764999,-1960.8983430204573,288.01362459735583,{"$f":"Q_d!$C$11","v":0},{"$f":"Q_d!$C$12","v":0},11233.589832572825,6052.604465817868,14398.785566239758]
[50,60.165452315099898,-152.651313168999,-1960.7963371652304,288.06173864977109,{"$f":"Q_d!$C$11","v":0},{"$f":"Q_d!$C$12","v":0},11233.589832572825,6052.604465817868,14398.672829449299]
[51,60.165906264500002,-152.65123687600001,-1960.7645091737313,288.1011174387304,{"$f":"Q_d!$C$11","v":0},{"$f":"Q_d!$C$12","v":0},11233.589832572825,6052.604465817868,14398.627898138089]
[52,60.1668103473,-152.651114804999,-1960.7024878445029,288.1804718340627,{"$f":"Q_d!$C$11","v":0},{"$f":"Q_d!$C$12","v":0},11233.589832572825,6052.604465817868,14398.53929463124]
[53,60.167683912900003,-152.650061950999,-1960.5997884088986,288.22811612755186,{"$f":"Q_d!$C$11","v":0},{"$f":"Q_d!$C$12","v":0},11233.589832572825,6052.604465817868,14398.426110352857]
[54,60.170300795400003,-152.646903382,-1960.2919410667198,288.3707131290962,{"$f":"Q_d!$C$11","v":0},{"$f":"Q_d!$C$12","v":0},11233.589832572825,6052.604465817868,14398.086921963428]
[55,60.172955824399899,-152.64467560099899,-1960.0243121353792,288.54573597524359,{"$f":"Q_d!$C$11","v":0},{"$f":"Q_d!$C$12","v":0},11233.589832572825,6052.604465817868,14397.771606763297]
[56,60.179456070400001,-152.635413518999,-1959.1949779008389,288.85613616782757,{"$f":"Q_d!$C$11","v":0},{"$f":"Q_d!$C$12","v":0},11233.589832572825,6052.604465817868,14396.887367171012]
[57,60.182847336099897,-152.628470773999,-1958.6658223124043,288.95266925360784,{"$f":"Q_d!$C$11","v":0},{"$f":"Q_d!$C$12","v":0},11233.589832572825,6052.604465817868,14396.363822017342]
[58,60.181905107200002,-152.62767731599899,-1958.6883142582969,288.84138135693411,{"$f":"Q_d!$C$11","v":0},{"$f":"Q_d!$C$12","v":0},11233.589832572825,6052.604465817868,14396.42898767443]
[59,60.180901842600001,-152.625068061999,-1958.6315517111332,288.66814772572161,{"$f":"Q_d!$C$11","v":0},{"$f":"Q_d!$C$12","v":0},11233.589832572825,6052.604465817868,14396.446329944782]
[60,60.178887682899898,-152.619834295999,-1958.5177718924749,288.32050408008581,{"$f":"Q_d!$C$11","v":0},{"$f":"Q_d!$C$12","v":0},11233.589832572825,6052.604465817868,14396.481258951391]
[61,60.178170521299897,-152.612571113,-1958.2302029417419,288.02924000049234,{"$f":"Q_d!$C$11","v":0},{"$f":"Q_d!$C$12","v":0},11233.589832572825,6052.604465817868,14396.334373148986]
[62,60.176926931399898,-152.60355316900001,-1957.89512221984,287.63515085800509,{"$f":"Q_d!$C$11","v":0},{"$f":"Q_d!$C$12","v":0},11233.589832572825,6052.604465817868,14396.185137561617]
[63,60.1752675396,-152.59551178500001,-1957.6305839650377,287.23311428028092,{"$f":"Q_d!$C$11","v":0},{"$f":"Q_d!$C$12","v":0},11233.589832572825,6052.604465817868,14396.103740207476]
[64,60.170922600600001,-152.58878265800001,-1957.5934369572733,286.62463668540477,{"$f":"Q_d!$C$11","v":0},{"$f":"Q_d!$C$12","v":0},11233.589832572825,6052.604465817868,14396.313397543594]
[65,60.165639245999898,-152.581290588999,-1957.5797363655022,285.90610973748153,{"$f":"Q_d!$C$11","v":0},{"$f":"Q_d!$C$12","v":0},11233.589832572825,6052.604465817868,14396.588641984074]
[66,60.163724269100001,-152.57881866400001,{"$f":"lcpx(B68,C68,63,-115,70,60)","v":-1957.5858910702523},{"$f":"lcpy(B68,C68,63,-115,70,60)","v":285.65321923951706},{"$f":"Q_d!$C$11","v":0},{"$f":"Q_d!$C$12","v":0},{"$f":"lcpx(F68,G68,63,-115,70,60)","v":11233.589832572825},{"$f":"lcpy(F68,G68,63,-115,70,60)","v":6052.604465817868},{"$f":"SQRT((H68-D68)^2+(I68-E68)^2)","v":14396.695581015876}]
[67,60.162785853800003,-152.57804046499899,-1957.6087360465642,285.54272050006966,{"$f":"Q_d!$C$11","v":0},{"$f":"Q_d!$C$12","v":0},11233.589832572825,6052.604465817868,14396.760776336259]
[68,60.161843623700001,-152.57726226400001,-1957.631816307214,285.43186946811102,{"$f":"Q_d!$C$11","v":0},{"$f":"Q_d!$C$12","v":0},11233.589832572825,6052.604465817868,14396.826328950732]
[69,60.159581508000002,-152.57759795800001,-1957.7881579209077,285.23407310936364,{"$f":"Q_d!$C$11","v":0},{"$f":"Q_d!$C$12","v":0},11233.589832572825,6052.604465817868,14397.048813377454]
[70,60.157349909799898,-152.578849176999,-1957.9845320258371,285.06747782315006,{"$f":"Q_d!$C$11","v":0},{"$f":"Q_d!$C$12","v":0},11233.589832572825,6052.604465817868,14397.295479520582]
[71,60.154595699600002,-152.578345635999,-1958.1331082724228,284.79836564613788,{"$f":"Q_d!$C$11","v":0},{"$f":"Q_d!$C$12","v":0},11233.589832572825,6052.604465817868,14397.539420234314]
[72,60.152749385900002,-152.577704764999,-1958.2188117157873,284.60855407970348,{"$f":"Q_d!$C$11","v":0},{"$f":"Q_d!$C$12","v":0},11233.589832572825,6052.604465817868,14397.693987071538]
[73,60.150380458800001,-152.575293875,-1958.2559916560392,284.31573845729736,{"$f":"Q_d!$C$11","v":0},{"$f":"Q_d!$C$12","v":0},11233.589832572825,6052.604465817868,14397.845362845774]
[74,60.148049679300001,-152.573798511999,-1958.3327219990074,284.05482282645789,{"$f":"Q_d!$C$11","v":0},{"$f":"Q_d!$C$12","v":0},11233.589832572825,6052.604465817868,14398.020199648192]
[75,60.144776670299898,-152.57154020900001,-1958.4331930502142,283.68350634361059,{"$f":"Q_d!$C$11","v":0},{"$f":"Q_d!$C$12","v":0},11233.589832572825,6052.604465817868,14398.261025041525]
[76,60.143418638100002,-152.571723313999,-1958.5262024142812,283.56418207989827,{"$f":"Q_d!$C$11","v":0},{"$f":"Q_d!$C$12","v":0},11233.589832572825,6052.604465817868,14398.394051975221]
[77,60.140218107499898,-152.571280806,-1958.7053485836673,283.25585139636132,{"$f":"Q_d!$C$11","v":0},{"$f":"Q_d!$C$12","v":0},11233.589832572825,6052.604465817868,14398.681730682576]
[78,60.1361707139,-152.57280668300001,-1959.0274794858092,282.93063657499397,{"$f":"Q_d!$C$11","v":0},{"$f":"Q_d!$C$12","v":0},11233.589832572825,6052.604465817868,14399.10718198456]
[79,60.133454649800001,-152.57321866999899,-1959.2156088312256,282.69341265474168,{"$f":"Q_d!$C$11","v":0},{"$f":"Q_d!$C$12","v":0},11233.589832572825,6052.604465817868,14399.374603647006]
[80,60.130669921100001,-152.571799599999,-1959.3240807806394,282.39304615310493,{"$f":"Q_d!$C$11","v":0},{"$f":"Q_d!$C$12","v":0},11233.589832572825,6052.604465817868,14399.594346813561]
[81,60.127431242699899,-152.57044156500001,-1959.4636246464611,282.05277985795647,{"$f":"Q_d!$C$11","v":0},{"$f":"Q_d!$C$12","v":0},11233.589832572825,6052.604465817868,14399.858550880996]
[82,60.1245435181999,-152.56627591399899,-1959.4525486920447,281.6576752248443,{"$f":"Q_d!$C$11","v":0},{"$f":"Q_d!$C$12","v":0},11233.589832572825,6052.604465817868,14400.006740752135]
[83,60.121274323000002,-152.56401761199899,-1959.5526673135789,281.28663551907403,{"$f":"Q_d!$C$11","v":0},{"$f":"Q_d!$C$12","v":0},11233.589832572825,6052.604465817868,14400.247168734073]
[84,60.119393678000002,-152.562461213999,-1959.5984514072268,281.06519953563429,{"$f":"Q_d!$C$11","v":0},{"$f":"Q_d!$C$12","v":0},11233.589832572825,6052.604465817868,14400.377863055752]
[85,60.116608949400003,-152.56102688600001,-1959.7061466645148,280.76431619409323,{"$f":"Q_d!$C$11","v":0},{"$f":"Q_d!$C$12","v":0},11233.589832572825,6052.604465817868,14400.597123333782]
[86,60.1147969676,-152.561316801999,-1959.8323264170817,280.60650053203926,{"$f":"Q_d!$C$11","v":0},{"$f":"Q_d!$C$12","v":0},11233.589832572825,6052.604465817868,14400.775978279422]
[87,60.113019318900001,-152.56249172700001,-1959.9969673903277,280.4793195187176,{"$f":"Q_d!$C$11","v":0},{"$f":"Q_d!$C$12","v":0},11233.589832572825,6052.604465817868,14400.977791549465]
[88,60.110822053600003,-152.56467373300001,-1960.2339570349011,280.34477969335649,{"$f":"Q_d!$C$11","v":0},{"$f":"Q_d!$C$12","v":0},11233.589832572825,6052.604465817868,14401.24883735008]
[89,60.109494538900002,-152.56578762300001,-1960.367766721869,280.25715454274041,{"$f":"Q_d!$C$11","v":0},{"$f":"Q_d!$C$12","v":0},11233.589832572825,6052.604465817868,14401.406549846837]
[90,60.104512543399899,-152.56653530099899,-1960.7124745724004,279.82173805821458,{"$f":"Q_d!$C$11","v":0},{"$f":"Q_d!$C$12","v":0},11233.589832572825,6052.604465817868,14401.896881808938]
[91,60.101796480200001,-152.566947287,-1960.9006068528092,279.5844971692195,{"$f":"Q_d!$C$11","v":0},{"$f":"Q_d!$C$12","v":0},11233.589832572825,6052.604465817868,14402.164334380805]
[92,60.099042269199899,-152.56644374499899,-1961.0491050586259,279.31530937457637,{"$f":"Q_d!$C$11","v":0},{"$f":"Q_d!$C$12","v":0},11233.589832572825,6052.604465817868,14402.408283976876]
[93,60.097298951200003,-152.56853419800001,-1961.2536633451698,279.21975557373889,{"$f":"Q_d!$C$11","v":0},{"$f":"Q_d!$C$12","v":0},11233.589832572825,6052.604465817868,14402.633991539537]
[94,60.096845002800002,-152.56861049099899,-1961.2854500379099,279.18033633589084,{"$f":"Q_d!$C$11","v":0},{"$f":"Q_d!$C$12","v":0},11233.589832572825,6052.604465817868,14402.678914095684]